{"text_format":"1","workbook":"xlsx","n_sheets":7,"sheets":["Accueil","Stabilo","Résultats élèves","Synthèse classe","Synthèse par élève","Groupes besoin","Tri items"],"not_rendered":{"charts":2,"images":0,"macros":1,"external_links":0,"defined_names":48,"comments":0,"pivot_tables":0},"unopened":[],"bounds":{"document_bytes":16777216,"sheet_cells":100000,"rows_first":2000,"rows_last":500,"rows_between":2000,"halvings":0,"cell_chars":16384,"cell_head_chars":4096},"cells_cut":0,"cells_raw":0,"read":"whole","date_system":"1900"}

{"sheet":"Accueil","index":0,"n_rows":126,"n_cols":38,"rows_kept":126,"cut":false,"hidden":false,"merged":[[1,0,1,5],[5,2,5,5],[4,2,4,5],[6,2,6,5],[3,2,3,5],[3,0,3,1],[4,0,4,1],[6,0,6,1],[13,29,24,29],[13,30,24,30],[33,26,33,32],[5,0,5,1],[23,13,25,13],[13,26,24,26],[13,31,24,31],[26,26,26,31],[13,27,24,27],[13,28,24,28]]}
[]
["Évaluations mathématiques CM1",null,null,null,null,null,{"$f":"IF(A2=\"\",\"Saisir le titre de l'évaluation\",\"\")","v":""}]
[]
["Enseignant :",null,null,null,null,null,{"$f":"IF(C4=\"\",\"Saisir le nom de l'enseignant\",\"\")","v":"Saisir le nom de l'enseignant"}]
["École. :",null,null,null,null,null,{"$f":"IF(C5=\"\",\"Saisir le nom de l'école\",\"\")","v":"Saisir le nom de l'école"}]
["Commune :",null,null,null,null,null,{"$f":"IF(C6=\"\",\"Saisir le nom de la commune\",\"\")","v":"Saisir le nom de la commune"}]
["Réseau :",null,null,null,null,null,{"$f":"IF(C7=\"\",\"Saisir le nom du réseau d'éducation prioritaire\",\"\")","v":"Saisir le nom du réseau d'éducation prioritaire"}]
[]
[null,null,{"$f":"C5&IF(C6=\"\",\"\",IF(C5=\"\",C6,\" à \"&C6))","v":""}]
[]
[null,null,"NOM","Prénom","Classe",null,{"$f":"IF(C13=\"\",\"Coller la liste des élèves\",\"\")","v":"Coller la liste des élèves"},null,null,null,null,null,"Compétences"]
[]
[null,1,null,null,null,{"$f":"C13&IF(D13=\"\",\"\",IF(C13=\"\",D13,\" \"&D13))","v":""},null,null,null,null,null,{"$f":"IF(M13=\"\",\"\",MAX($L$11:L11)+1)","v":1},"Nommer, lire, écrire, représenter des nombres entiers",{"$f":"IF(L13=\"\",\"\",\"CP \"&L13&\" : \"&M13)","v":"CP 1 : Nommer, lire, écrire, représenter des nombres entiers"},null,null,null,null,null,null,null,null,null,null,null,null,null,null,null,null,null,null,null,null,null,null,null,{"$f":"CONCATENATE(C13,D13)","v":""}]
[null,2,null,null,null,{"$f":"C14&IF(D14=\"\",\"\",IF(C14=\"\",D14,\" \"&D14))","v":""},null,null,null,null,null,{"$f":"IF(M14=\"\",\"\",MAX($L$11:L13)+1)","v":2},"Comprendre et utiliser des nombres entiers pour dénombrer, ordonner, repérer, comparer",{"$f":"IF(L14=\"\",\"\",\"CP \"&L14&\" : \"&M14)","v":"CP 2 : Comprendre et utiliser des nombres entiers pour dénombrer, ordonner, repérer, comparer"},null,null,null,null,null,null,null,null,null,null,null,null,"Réponse(s) attendue(s)","Réussite partielle sans erreur","Réussite partielle avec erreur","Autres réponses","Absence de réponse","Élève absent",null,null,null,null,null,{"$f":"CONCATENATE(C14,D14)","v":""}]
[null,3,null,null,null,"",null,null,null,null,null,{"$f":"IF(M15=\"\",\"\",MAX($L$11:L14)+1)","v":3},"Résoudre des problèmes en utilisant des nombres entiers et le calcul","CP 3 : Résoudre des problèmes en utilisant des nombres entiers et le calcul",null,null,null,null,null,null,null,null,null,null,null,null,null,null,null,null,null,null,null,null,null,null,null,""]
[null,4,null,null,null,"",null,null,null,null,null,{"$f":"IF(M16=\"\",\"\",MAX($L$11:L15)+1)","v":4},"Calculer avec des nombres entiers","CP 4 : Calculer avec des nombres entiers",null,null,null,null,null,null,null,null,null,null,null,null,null,null,null,null,null,null,null,null,null,null,null,""]
[null,5,null,null,null,"",null,null,null,null,null,{"$f":"IF(M17=\"\",\"\",MAX($L$11:L16)+1)","v":""},null,"",null,null,null,null,null,null,null,{"$f":"Y35","v":1},{"$f":"Y42","v":""},{"$f":"Y49","v":""},{"$f":"Y56","v":""},{"$f":"Y63","v":""},null,null,null,null,null,null,null,null,null,null,null,""]
[null,6,null,null,null,"",null,null,null,null,null,{"$f":"IF(M18=\"\",\"\",MAX($L$11:L17)+1)","v":""},null,"",null,null,null,null,null,null,null,3,"","","","",null,null,null,null,null,null,null,null,null,null,null,""]
[null,7,null,null,null,"",null,null,null,null,null,{"$f":"IF(M19=\"\",\"\",MAX($L$11:L18)+1)","v":""},null,"",null,null,null,null,null,null,null,4,"","","","",null,null,null,null,null,null,null,null,null,null,null,""]
[null,8,null,null,null,"",null,null,null,null,null,{"$f":"IF(M20=\"\",\"\",MAX($L$11:L19)+1)","v":""},null,"",null,null,null,null,null,null,null,9,"","","","",null,null,null,null,null,null,null,null,null,null,null,""]
[null,9,null,null,null,"",null,null,null,null,null,{"$f":"IF(M21=\"\",\"\",MAX($L$11:L20)+1)","v":""},null,"",null,null,null,null,null,null,null,0,"","","","",null,null,null,null,null,null,null,null,null,null,null,""]
[null,10,null,null,null,"",null,null,null,null,null,{"$f":"IF(M22=\"\",\"\",MAX($L$11:L21)+1)","v":""},null,"",null,null,null,null,null,null,null,"A","","","","",null,null,null,null,null,null,null,null,null,null,null,""]
[null,11,null,null,null,"",null,null,null,null,null,null,null,null,null,null,null,null,null,null,null,null,null,null,null,null,null,null,null,null,null,null,null,null,null,null,null,""]
[null,12,null,null,null,"",null,null,null,null,null,null,null,"Appartient à la comp. n°",null,null,null,null,null,null,null,{"$f":"COUNTIF(V17:V22,\">=0\")+COUNTIF(V17:V22,\">=A\")","v":6},{"$f":"COUNTIF(W17:W22,\">=0\")+COUNTIF(W17:W22,\">=A\")","v":0},{"$f":"COUNTIF(X17:X22,\">=0\")+COUNTIF(X17:X22,\">=A\")","v":0},{"$f":"COUNTIF(Y17:Y22,\">=0\")+COUNTIF(Y17:Y22,\">=A\")","v":0},{"$f":"COUNTIF(Z17:Z22,\">=0\")+COUNTIF(Z17:Z22,\">=A\")","v":0},null,null,null,null,null,null,null,null,null,null,null,""]
[null,13,null,null,null,"",null,null,null,null,null,null,"Composantes",null,null,null,null,"Items","Code de saisie :",null,null,null,null,null,null,null,null,"Réussite partielle sans erreur","Réussite partielle sans erreur",null,null,null,null,null,null,null,null,""]
[null,14,null,null,null,"",null,null,null,null,null,null,null,null,null,null,null,null,null,null,null,"Codes",null,null,null,null,1,3,4,9,0,"A",null,null,null,null,null,""]
[null,15,null,null,null,"",null,null,null,null,null,{"$f":"IF(M27=\"\",\"\",MAX($L$25:L25)+1)","v":1},"Écrire des nombres entiers jusqu’à 10 000 ",1,null,{"$f":"IF(R27=\"\",\"\",Q27)","v":1},1,"Écrire des nombres entiers jusqu’à 10 000 ","1 / 3 / 4 / 9 / 0 / A",{"$f":"IF(S27=\"\",0,IF(ISERROR(VLOOKUP(S27,$AG$28:$AH$32,2,0)),0,VLOOKUP(S27,$AG$28:$AH$32,2,0)))","v":0},{"$f":"IF(S27=\"\",\"VV\",IF(ISERROR(VLOOKUP(S27,$AG$28:$AH$32,2,0)),\"V\",VLOOKUP(S27,$AG$28:$AH$32,2,0)))","v":0},null,null,null,null,null,"Saisies possibles",null,null,null,null,null,null,null,null,null,null,""]
[null,16,null,null,null,"",null,null,null,null,null,{"$f":"IF(M28=\"\",\"\",MAX($L$25:L27)+1)","v":2},"Associer un nombre entendu à l’oral à son écriture chiffrée ",1,null,{"$f":"IF(R28=\"\",\"\",Q28)","v":2},2,"Écrire des nombres entiers jusqu’à 10 000 ","1 / 3 / 4 / 9 / 0 / A",{"$f":"IF(S28=\"\",0,IF(ISERROR(VLOOKUP(S28,$AG$28:$AH$32,2,0)),0,VLOOKUP(S28,$AG$28:$AH$32,2,0)))","v":0},{"$f":"IF(S28=\"\",\"VV\",IF(ISERROR(VLOOKUP(S28,$AG$28:$AH$32,2,0)),\"V\",VLOOKUP(S28,$AG$28:$AH$32,2,0)))","v":0},{"$f":"IF(AA28=\"\",\"\",AA28)","v":1},{"$f":"IF(AA29=\"\",\"\",AA29)","v":""},{"$f":"IF(AA30=\"\",\"\",AA30)","v":""},{"$f":"IF(AA31=\"\",\"\",AA31)","v":""},{"$f":"IF(AA32=\"\",\"\",AA32)","v":""},{"$f":"IF(AA26=\"\",\"\",AA26)","v":1},3,4,9,0,"A",{"$f":"AA28&IF(AA28=\"\",AB28,IF(AB28=\"\",\"\",\" / \"&AB28))&IF(COUNTA(AA28:AB28)=0,AC28,IF(AC28=\"\",\"\",\" / \"&AC28))&IF(COUNTA(AA28:AC28)=0,AD28,IF(AD28=\"\",\"\",\" / \"&AD28)&IF(COUNTA(AA28:AD28)=0,AE28,IF(AE28=\"\",\"\",\" / \"&AE28))&IF(COUNTA(AA28:AE28)=0,AF28,IF(AF28=\"\",\"\",\" / \"&AF28)))","v":"1 / 3 / 4 / 9 / 0 / A"},0,"(par défaut)",null,null,""]
[null,17,null,null,null,"",null,null,null,null,null,{"$f":"IF(M29=\"\",\"\",MAX($L$25:L28)+1)","v":3},"Associer un nombre écrit en chiffre avec différentes représentations",1,null,3,3,"Écrire des nombres entiers jusqu’à 10 000 ","1 / 3 / 4 / 9 / 0 / A",0,0,{"$f":"IF(AB28=\"\",\"\",AB28)","v":3},{"$f":"IF(AB29=\"\",\"\",AB29)","v":""},{"$f":"IF(AB30=\"\",\"\",AB30)","v":""},{"$f":"IF(AB31=\"\",\"\",AB31)","v":""},{"$f":"IF(AB32=\"\",\"\",AB32)","v":""},null,null,null,null,null,null,{"$f":"AA29&IF(AA29=\"\",AB29,IF(AB29=\"\",\"\",\" / \"&AB29))&IF(COUNTA(AA29:AB29)=0,AC29,IF(AC29=\"\",\"\",\" / \"&AC29))&IF(COUNTA(AA29:AC29)=0,AD29,IF(AD29=\"\",\"\",\" / \"&AD29)&IF(COUNTA(AA29:AD29)=0,AE29,IF(AE29=\"\",\"\",\" / \"&AE29))&IF(COUNTA(AA29:AE29)=0,AF29,IF(AF29=\"\",\"\",\" / \"&AF29)))","v":""},1,null,null,null,""]
[null,18,null,null,null,"",null,null,null,null,null,{"$f":"IF(M30=\"\",\"\",MAX($L$25:L29)+1)","v":4},"Associer un nombre entier à une position sur une demi-droite graduée ",1,null,4,4,"Résoudre des problèmes issus de situations de la vie quotidienne : problèmes relevant des structures additives","1 / 3 / 4 / 9 / 0 / A",0,0,{"$f":"IF(AC28=\"\",\"\",AC28)","v":4},{"$f":"IF(AC29=\"\",\"\",AC29)","v":""},{"$f":"IF(AC30=\"\",\"\",AC30)","v":""},{"$f":"IF(AC31=\"\",\"\",AC31)","v":""},{"$f":"IF(AC32=\"\",\"\",AC32)","v":""},null,null,null,null,null,null,{"$f":"AA30&IF(AA30=\"\",AB30,IF(AB30=\"\",\"\",\" / \"&AB30))&IF(COUNTA(AA30:AB30)=0,AC30,IF(AC30=\"\",\"\",\" / \"&AC30))&IF(COUNTA(AA30:AC30)=0,AD30,IF(AD30=\"\",\"\",\" / \"&AD30)&IF(COUNTA(AA30:AD30)=0,AE30,IF(AE30=\"\",\"\",\" / \"&AE30))&IF(COUNTA(AA30:AE30)=0,AF30,IF(AF30=\"\",\"\",\" / \"&AF30)))","v":""},2,null,null,null,""]
[null,19,null,null,null,"",null,null,null,null,null,{"$f":"IF(M31=\"\",\"\",MAX($L$25:L30)+1)","v":5},"Comparer, ranger, encadrer, ordonner, intercaler des nombres entiers",2,null,5,5,"Associer un nombre entier à une position sur une demi-droite graduée ","1 / 3 / 4 / 9 / 0 / A",0,0,{"$f":"IF(AD28=\"\",\"\",AD28)","v":9},{"$f":"IF(AD29=\"\",\"\",AD29)","v":""},{"$f":"IF(AD30=\"\",\"\",AD30)","v":""},{"$f":"IF(AD31=\"\",\"\",AD31)","v":""},{"$f":"IF(AD32=\"\",\"\",AD32)","v":""},null,null,null,null,null,null,{"$f":"AA31&IF(AA31=\"\",AB31,IF(AB31=\"\",\"\",\" / \"&AB31))&IF(COUNTA(AA31:AB31)=0,AC31,IF(AC31=\"\",\"\",\" / \"&AC31))&IF(COUNTA(AA31:AC31)=0,AD31,IF(AD31=\"\",\"\",\" / \"&AD31)&IF(COUNTA(AA31:AD31)=0,AE31,IF(AE31=\"\",\"\",\" / \"&AE31))&IF(COUNTA(AA31:AE31)=0,AF31,IF(AF31=\"\",\"\",\" / \"&AF31)))","v":""},3,null,null,null,""]
[null,20,null,null,null,"",null,null,null,null,null,{"$f":"IF(M32=\"\",\"\",MAX($L$25:L31)+1)","v":6},"Dénombrer, constituer et comparer des collections en utilisant diverses stratégies de dénombrement",2,null,6,6,"Associer un nombre entier à une position sur une demi-droite graduée ","1 / 3 / 4 / 9 / 0 / A",0,0,{"$f":"IF(AE28=\"\",\"\",AE28)","v":0},{"$f":"IF(AE29=\"\",\"\",AE29)","v":""},{"$f":"IF(AE30=\"\",\"\",AE30)","v":""},{"$f":"IF(AE31=\"\",\"\",AE31)","v":""},{"$f":"IF(AE32=\"\",\"\",AE32)","v":""},null,null,null,null,null,null,{"$f":"AA32&IF(AA32=\"\",AB32,IF(AB32=\"\",\"\",\" / \"&AB32))&IF(COUNTA(AA32:AB32)=0,AC32,IF(AC32=\"\",\"\",\" / \"&AC32))&IF(COUNTA(AA32:AC32)=0,AD32,IF(AD32=\"\",\"\",\" / \"&AD32)&IF(COUNTA(AA32:AD32)=0,AE32,IF(AE32=\"\",\"\",\" / \"&AE32))&IF(COUNTA(AA32:AE32)=0,AF32,IF(AF32=\"\",\"\",\" / \"&AF32)))","v":""},4,null,null,null,""]
[null,21,null,null,null,"",null,null,null,null,null,{"$f":"IF(M33=\"\",\"\",MAX($L$25:L32)+1)","v":7},"Résoudre des problèmes issus de situations de la vie quotidienne : problèmes relevant des structures additives",3,null,7,7,"Associer un nombre entier à une position sur une demi-droite graduée ","1 / 3 / 4 / 9 / 0 / A",0,0,{"$f":"IF(AF28=\"\",\"\",AF28)","v":"A"},{"$f":"IF(AF29=\"\",\"\",AF29)","v":""},{"$f":"IF(AF30=\"\",\"\",AF30)","v":""},{"$f":"IF(AF31=\"\",\"\",AF31)","v":""},{"$f":"IF(AF32=\"\",\"\",AF32)","v":""},null,null,null,null,null,null,null,null,null,null,null,""]
[null,22,null,null,null,"",null,null,null,null,null,8,"Exploiter des données numériques d'un graphique pour répondre à des questions",3,null,8,8,"Mémoriser des faits numériques","1 / 3 / 4 / 9 / 0 / A",0,0,null,null,null,null,null,"Couleurs des chiffres",null,null,null,null,null,null,null,null,null,null,""]
[null,23,null,null,null,"",null,null,null,null,null,{"$f":"IF(M35=\"\",\"\",MAX($L$25:L34)+1)","v":9},"Mémoriser des faits numériques",4,null,9,9,"Mémoriser des faits numériques","1 / 3 / 4 / 9 / 0 / A",0,0,1,{"$f":"IF(X35=\"\",\"\",V35)","v":1},{"$f":"V28","v":1},{"$f":"IF(ISERROR(INDEX($W$35:$X$40,MATCH(SMALL($W$35:$W$40,V35),$W$35:$W$40,0),2)),\"\",INDEX($W$35:$X$40,MATCH(SMALL($W$35:$W$40,V35),$W$35:$W$40,0),2))","v":1},null,null,null,null,null,null,null,null,null,null,null,null,""]
[null,24,null,null,null,"",null,null,null,null,null,{"$f":"IF(M36=\"\",\"\",MAX($L$25:L35)+1)","v":10},"Calculer en utilisant des écritures en ligne additives, soustractives, multiplicatives, mixtes",4,null,10,10,"Mémoriser des faits numériques","1 / 3 / 4 / 9 / 0 / A",0,0,2,{"$f":"IF(X36=\"\",\"\",V36)","v":2},3,3,null,null,null,null,null,null,{"$f":"\"Moins de \"&IF(AG36=\"\",AJ36*100&\" %\",\"\")","v":"Moins de "},0.33,null,1,{"$f":"IF(AG36=\"\",0.33,AG36)","v":0.33},{"$f":"IF(AG36=\"\",AJ36,AG36)","v":0.33},""]
[null,25,null,null,null,"",null,null,null,null,null,{"$f":"IF(M37=\"\",\"\",MAX($L$25:L36)+1)","v":11},"Calculer mentalement pour évaluer un ordre de grandeur",4,null,11,11,"Mémoriser des faits numériques","1 / 3 / 4 / 9 / 0 / A",0,0,3,3,4,4,null,null,null,null,null,null,{"$f":"\"De \"&IF(AG36=\"\",AJ36*100&\" %\",AG36*100&\" %\")&\" à \"&IF(AG37=\"\",AJ37*100&\" %\",\"\")","v":"De 33 % à "},0.5,null,2,{"$f":"IF(AG37=\"\",0.5,AG37)","v":0.5},{"$f":"IF(AG37=\"\",AJ37,AG37)","v":0.5},""]
[null,26,null,null,null,"",null,null,null,null,null,{"$f":"IF(M38=\"\",\"\",MAX($L$25:L37)+1)","v":""},null,4,null,12,12,"Dénombrer, constituer et comparer des collections en utilisant diverses stratégies de dénombrement","1 / 3 / 4 / 9 / 0 / A",0,0,4,4,9,9,null,null,null,null,null,null,{"$f":"\"De \"&IF(AG37=\"\",AJ37*100&\" %\",AG37*100&\" %\")&\" à \"&IF(AG38=\"\",AJ38*100&\" %\",\"\")","v":"De 50 % à "},0.66,null,3,{"$f":"IF(AG38=\"\",0.66,AG38)","v":0.66},{"$f":"IF(AG38=\"\",AJ38,AG38)","v":0.66},""]
[null,27,null,null,null,"",null,null,null,null,null,{"$f":"IF(M39=\"\",\"\",MAX($L$25:L38)+1)","v":""},null,null,null,13,13,"Dénombrer, constituer et comparer des collections en utilisant diverses stratégies de dénombrement","1 / 3 / 4 / 9 / 0 / A",0,0,5,5,0,0,null,null,null,null,null,null,{"$f":"\"Plus de \"&IF(AG38=\"\",AJ39*100&\" %\",\"\")","v":"Plus de "},0.66000009999999998,null,4,{"$f":"IF(AG39=\"\",0.66,AG39)","v":0.66000009999999998},{"$f":"IF(AG39=\"\",AJ39,AG39)","v":0.66000009999999998},""]
[null,28,null,null,null,"",null,null,null,null,null,{"$f":"IF(M40=\"\",\"\",MAX($L$25:L39)+1)","v":""},null,null,null,14,14,"Associer un nombre entendu à l’oral à son écriture chiffrée ","1 / 3 / 4 / 9 / 0 / A",0,0,6,6,"A","A",null,null,null,null,null,null,null,null,null,null,null,null,""]
[null,29,null,null,null,"",null,null,null,null,null,{"$f":"IF(M41=\"\",\"\",MAX($L$25:L40)+1)","v":""},null,null,null,15,15,"Calculer en utilisant des écritures en ligne additives, soustractives, multiplicatives, mixtes","1 / 3 / 4 / 9 / 0 / A",0,0,null,null,null,null,null,null,null,null,null,null,null,null,null,null,null,null,""]
[null,30,null,null,null,"",null,null,null,null,null,{"$f":"IF(M42=\"\",\"\",MAX($L$25:L41)+1)","v":""},null,null,null,16,16,"Calculer en utilisant des écritures en ligne additives, soustractives, multiplicatives, mixtes","1 / 3 / 4 / 9 / 0 / A",0,0,1,"",{"$f":"W28","v":""},{"$f":"IF(ISERROR(INDEX($W$42:$X$47,MATCH(SMALL($W$42:$W$47,V42),$W$42:$W$47,0),2)),\"\",INDEX($W$42:$X$47,MATCH(SMALL($W$42:$W$47,V42),$W$42:$W$47,0),2))","v":""},null,null,null,null,null,null,null,null,null,null,null,null,""]
[null,31,null,null,null,"",null,null,null,null,null,{"$f":"IF(M43=\"\",\"\",MAX($L$25:L42)+1)","v":""},null,null,null,17,17,"Calculer en utilisant des écritures en ligne additives, soustractives, multiplicatives, mixtes","1 / 3 / 4 / 9 / 0 / A",0,0,2,"","","",null,null,null,null,null,null,null,null,null,null,null,null,""]
[null,32,null,null,null,"",null,null,null,null,null,{"$f":"IF(M44=\"\",\"\",MAX($L$25:L43)+1)","v":""},null,null,null,18,18,"Calculer mentalement pour évaluer un ordre de grandeur","1 / 3 / 4 / 9 / 0 / A",0,0,3,"","","",null,null,null,null,null,null,null,null,null,null,null,null,""]
[null,33,null,null,null,"",null,null,null,null,null,{"$f":"IF(M45=\"\",\"\",MAX($L$25:L44)+1)","v":""},null,null,null,19,19,"Calculer mentalement pour évaluer un ordre de grandeur","1 / 3 / 4 / 9 / 0 / A",0,0,4,"","","",null,null,null,null,null,null,null,null,null,null,null,null,""]
[null,34,null,null,null,"",null,null,null,null,null,{"$f":"IF(M46=\"\",\"\",MAX($L$25:L45)+1)","v":""},null,null,null,20,20,"Comparer, ranger, encadrer, ordonner, intercaler des nombres entiers","1 / 3 / 4 / 9 / 0 / A",0,0,5,"","","",null,null,null,null,null,null,null,null,null,null,null,null,""]
[null,35,null,null,null,"",null,null,null,null,null,{"$f":"IF(M47=\"\",\"\",MAX($L$25:L46)+1)","v":""},null,null,null,21,21,"Comparer, ranger, encadrer, ordonner, intercaler des nombres entiers","1 / 3 / 4 / 9 / 0 / A",0,0,6,"","","",null,null,null,null,null,null,null,null,null,null,null,null,""]
[null,36,null,null,null,"",null,null,null,null,null,{"$f":"IF(M48=\"\",\"\",MAX($L$25:L47)+1)","v":""},null,null,null,22,22,"Comparer, ranger, encadrer, ordonner, intercaler des nombres entiers","1 / 3 / 4 / 9 / 0 / A",0,0,null,null,null,null,null,null,null,null,null,null,null,null,null,null,null,null,""]
[null,37,null,null,null,"",null,null,null,null,null,{"$f":"IF(M49=\"\",\"\",MAX($L$25:L48)+1)","v":""},null,null,null,23,23,"Exploiter des données numériques d'un graphique pour répondre à des questions","1 / 3 / 4 / 9 / 0 / A",0,0,1,"",{"$f":"X28","v":""},{"$f":"IF(ISERROR(INDEX($W$49:$X$54,MATCH(SMALL($W$49:$W$54,V49),$W$49:$W$54,0),2)),\"\",INDEX($W$49:$X$54,MATCH(SMALL($W$49:$W$54,V49),$W$49:$W$54,0),2))","v":""},null,null,null,null,null,null,null,null,null,null,null,null,""]
[null,38,null,null,null,"",null,null,null,null,null,{"$f":"IF(M50=\"\",\"\",MAX($L$25:L49)+1)","v":""},null,null,null,24,24,"Exploiter des données numériques d'un graphique pour répondre à des questions","1 / 3 / 4 / 9 / 0 / A",0,0,2,"","","",null,null,null,null,null,null,null,null,null,null,null,null,""]
[null,39,null,null,null,"",null,null,null,null,null,{"$f":"IF(M51=\"\",\"\",MAX($L$25:L50)+1)","v":""},null,null,null,25,25,"Exploiter des données numériques d'un graphique pour répondre à des questions","1 / 3 / 4 / 9 / 0 / A",0,0,3,"","","",null,null,null,null,null,null,null,null,null,null,null,null,""]
[null,40,null,null,null,"",null,null,null,null,null,{"$f":"IF(M52=\"\",\"\",MAX($L$25:L51)+1)","v":""},null,null,null,26,26,"Associer un nombre écrit en chiffre avec différentes représentations","1 / 3 / 4 / 9 / 0 / A",0,0,4,"","","",null,null,null,null,null,null,null,null,null,null,null,null,""]
[null,null,null,null,null,null,null,null,null,null,null,{"$f":"IF(M53=\"\",\"\",MAX($L$25:L52)+1)","v":""},null,null,null,27,27,"Associer un nombre écrit en chiffre avec différentes représentations","1 / 3 / 4 / 9 / 0 / A",0,0,5,"","","",null,null,null,null,null,null,null,null,null,null,null,null,""]
[null,null,null,null,null,null,null,null,null,null,null,{"$f":"IF(M54=\"\",\"\",MAX($L$25:L53)+1)","v":""},null,null,null,28,28,"Associer un nombre écrit en chiffre avec différentes représentations","1 / 3 / 4 / 9 / 0 / A",0,0,6,"","","",null,null,null,null,null,null,null,null,null,null,null,null,""]
[null,null,null,null,null,null,null,null,null,null,null,{"$f":"IF(M55=\"\",\"\",MAX($L$25:L54)+1)","v":""},null,null,null,29,29,"Résoudre des problèmes issus de situations de la vie quotidienne : problèmes relevant des structures additives","1 / 3 / 4 / 9 / 0 / A",0,0,null,null,null,null,null,null,null,null,null,null,null,null,null,null,null,null,""]
[null,null,null,null,null,null,null,null,null,null,null,{"$f":"IF(M56=\"\",\"\",MAX($L$25:L55)+1)","v":""},null,null,null,30,30,"Calculer en utilisant des écritures en ligne additives, soustractives, multiplicatives, mixtes","1 / 3 / 4 / 9 / 0 / A",0,0,1,"",{"$f":"Y28","v":""},{"$f":"IF(ISERROR(INDEX($W$56:$X$61,MATCH(SMALL($W$56:$W$61,V56),$W$56:$W$61,0),2)),\"\",INDEX($W$56:$X$61,MATCH(SMALL($W$56:$W$61,V56),$W$56:$W$61,0),2))","v":""},null,null,null,null,null,null,null,null,null,null,null,null,""]
[null,null,null,null,null,null,null,null,null,null,null,null,null,null,null,"",31,null,null,0,"VV",2,"","",""]
[null,null,null,null,null,null,null,null,null,null,null,null,null,null,null,"",32,null,null,0,"VV",3,"","",""]
[null,null,null,null,null,null,null,null,null,null,null,null,null,null,null,"",33,null,null,0,"VV",4,"","",""]
[null,null,null,null,null,null,null,null,null,null,null,null,null,null,null,"",34,null,null,0,"VV",5,"","",""]
[null,null,null,null,null,null,null,null,null,null,null,null,null,null,null,"",35,null,null,0,"VV",6,"","",""]
[null,null,null,null,null,null,null,null,null,null,null,null,null,null,null,"",36,null,null,0,"VV"]
[null,null,null,null,null,null,null,null,null,null,null,null,null,null,null,"",37,null,null,0,"VV",1,"",{"$f":"Z28","v":""},{"$f":"IF(ISERROR(INDEX($W$63:$X$68,MATCH(SMALL($W$63:$W$68,V63),$W$63:$W$68,0),2)),\"\",INDEX($W$63:$X$68,MATCH(SMALL($W$63:$W$68,V63),$W$63:$W$68,0),2))","v":""}]
[null,null,null,null,null,null,null,null,null,null,null,null,null,null,null,"",38,null,null,0,"VV",2,"","",""]
[null,null,null,null,null,null,null,null,null,null,null,null,null,null,null,"",39,null,null,0,"VV",3,"","",""]
[null,null,null,null,null,null,null,null,null,null,null,null,null,null,null,"",40,null,null,0,"VV",4,"","",""]
[null,null,null,null,null,null,null,null,null,null,null,null,null,null,null,"",41,null,null,0,"VV",5,"","",""]
[null,null,null,null,null,null,null,null,null,null,null,null,null,null,null,"",42,null,null,0,"VV",6,"","",""]
[null,null,null,null,null,null,null,null,null,null,null,null,null,null,null,"",43,null,null,0,"VV"]
[null,null,null,null,null,null,null,null,null,null,null,null,null,null,null,"",44,null,null,0,"VV"]
[null,null,null,null,null,null,null,null,null,null,null,null,null,null,null,"",45,null,null,0,"VV"]
[null,null,null,null,null,null,null,null,null,null,null,null,null,null,null,"",46,null,null,0,"VV"]
[null,null,null,null,null,null,null,null,null,null,null,null,null,null,null,"",47,null,null,0,"VV"]
[null,null,null,null,null,null,null,null,null,null,null,null,null,null,null,"",48,null,null,0,"VV"]
[null,null,null,null,null,null,null,null,null,null,null,null,null,null,null,"",49,null,null,0,"VV"]
[null,null,null,null,null,null,null,null,null,null,null,null,null,null,null,"",50,null,null,0,"VV"]
[null,null,null,null,null,null,null,null,null,null,null,null,null,null,null,"",51,null,null,0,"VV"]
[null,null,null,null,null,null,null,null,null,null,null,null,null,null,null,"",52,null,null,0,"VV"]
[null,null,null,null,null,null,null,null,null,null,null,null,null,null,null,"",53,null,null,0,"VV"]
[null,null,null,null,null,null,null,null,null,null,null,null,null,null,null,"",54,null,null,0,"VV"]
[null,null,null,null,null,null,null,null,null,null,null,null,null,null,null,"",55,null,null,0,"VV"]
[null,null,null,null,null,null,null,null,null,null,null,null,null,null,null,"",56,null,null,0,"VV"]
[null,null,null,null,null,null,null,null,null,null,null,null,null,null,null,"",57,null,null,0,"VV"]
[null,null,null,null,null,null,null,null,null,null,null,null,null,null,null,"",58,null,null,0,"VV"]
[null,null,null,null,null,null,null,null,null,null,null,null,null,null,null,"",59,null,null,0,"VV"]
[null,null,null,null,null,null,null,null,null,null,null,null,null,null,null,"",60,null,null,0,"VV"]
[null,null,null,null,null,null,null,null,null,null,null,null,null,null,null,"",61,null,null,0,"VV"]
[null,null,null,null,null,null,null,null,null,null,null,null,null,null,null,"",62,null,null,0,"VV"]
[null,null,null,null,null,null,null,null,null,null,null,null,null,null,null,"",63,null,null,0,"VV"]
[null,null,null,null,null,null,null,null,null,null,null,null,null,null,null,"",64,null,null,0,"VV"]
[null,null,null,null,null,null,null,null,null,null,null,null,null,null,null,"",65,null,null,0,"VV"]
[null,null,null,null,null,null,null,null,null,null,null,null,null,null,null,{"$f":"IF(R92=\"\",\"\",Q92)","v":""},66,null,null,{"$f":"IF(S92=\"\",0,IF(ISERROR(VLOOKUP(S92,$AG$28:$AH$32,2,0)),0,VLOOKUP(S92,$AG$28:$AH$32,2,0)))","v":0},{"$f":"IF(S92=\"\",\"VV\",IF(ISERROR(VLOOKUP(S92,$AG$28:$AH$32,2,0)),\"V\",VLOOKUP(S92,$AG$28:$AH$32,2,0)))","v":"VV"}]
[null,null,null,null,null,null,null,null,null,null,null,null,null,null,null,"",67,null,null,0,"VV"]
[null,null,null,null,null,null,null,null,null,null,null,null,null,null,null,"",68,null,null,0,"VV"]
[null,null,null,null,null,null,null,null,null,null,null,null,null,null,null,"",69,null,null,0,"VV"]
[null,null,null,null,null,null,null,null,null,null,null,null,null,null,null,"",70,null,null,0,"VV"]
[null,null,null,null,null,null,null,null,null,null,null,null,null,null,null,"",71,null,null,0,"VV"]
[null,null,null,null,null,null,null,null,null,null,null,null,null,null,null,"",72,null,null,0,"VV"]
[null,null,null,null,null,null,null,null,null,null,null,null,null,null,null,"",73,null,null,0,"VV"]
[null,null,null,null,null,null,null,null,null,null,null,null,null,null,null,"",74,null,null,0,"VV"]
[null,null,null,null,null,null,null,null,null,null,null,null,null,null,null,"",75,null,null,0,"VV"]
[null,null,null,null,null,null,null,null,null,null,null,null,null,null,null,"",76,null,null,0,"VV"]
[null,null,null,null,null,null,null,null,null,null,null,null,null,null,null,"",77,null,null,0,"VV"]
[null,null,null,null,null,null,null,null,null,null,null,null,null,null,null,"",78,null,null,0,"VV"]
[null,null,null,null,null,null,null,null,null,null,null,null,null,null,null,"",79,null,null,0,"VV"]
[null,null,null,null,null,null,null,null,null,null,null,null,null,null,null,"",80,null,null,0,"VV"]
[null,null,null,null,null,null,null,null,null,null,null,null,null,null,null,"",81,null,null,0,"VV"]
[null,null,null,null,null,null,null,null,null,null,null,null,null,null,null,"",82,null,null,0,"VV"]
[null,null,null,null,null,null,null,null,null,null,null,null,null,null,null,"",83,null,null,0,"VV"]
[null,null,null,null,null,null,null,null,null,null,null,null,null,null,null,"",84,null,null,0,"VV"]
[null,null,null,null,null,null,null,null,null,null,null,null,null,null,null,"",85,null,null,0,"VV"]
[null,null,null,null,null,null,null,null,null,null,null,null,null,null,null,"",86,null,null,0,"VV"]
[null,null,null,null,null,null,null,null,null,null,null,null,null,null,null,"",87,null,null,0,"VV"]
[null,null,null,null,null,null,null,null,null,null,null,null,null,null,null,"",88,null,null,0,"VV"]
[null,null,null,null,null,null,null,null,null,null,null,null,null,null,null,"",89,null,null,0,"VV"]
[null,null,null,null,null,null,null,null,null,null,null,null,null,null,null,"",90,null,null,0,"VV"]
[null,null,null,null,null,null,null,null,null,null,null,null,null,null,null,"",91,null,null,0,"VV"]
[null,null,null,null,null,null,null,null,null,null,null,null,null,null,null,"",92,null,null,0,"VV"]
[null,null,null,null,null,null,null,null,null,null,null,null,null,null,null,"",93,null,null,0,"VV"]
[null,null,null,null,null,null,null,null,null,null,null,null,null,null,null,"",94,null,null,0,"VV"]
[null,null,null,null,null,null,null,null,null,null,null,null,null,null,null,"",95,null,null,0,"VV"]
[null,null,null,null,null,null,null,null,null,null,null,null,null,null,null,"",96,null,null,0,"VV"]
[null,null,null,null,null,null,null,null,null,null,null,null,null,null,null,"",97,null,null,0,"VV"]
[null,null,null,null,null,null,null,null,null,null,null,null,null,null,null,"",98,null,null,0,"VV"]
[null,null,null,null,null,null,null,null,null,null,null,null,null,null,null,"",99,null,null,0,"VV"]
[null,null,null,null,null,null,null,null,null,null,null,null,null,null,null,"",100,null,null,0,"VV"]

{"sheet":"Stabilo","index":1,"n_rows":58,"n_cols":212,"rows_kept":58,"cut":false,"hidden":false,"merged":[[8,0,47,0],[0,0,3,3],[48,2,48,3],[48,1,57,1]]}
["Si vous souhaitez mettre à jour les données de ce tableau (nom, prénom, classe, items…), faites-le dans l'onglet « Accueil ».",null,null,null,null,null,{"$f":"IF(H1=\"\",\"\",\"Code\")","v":"Code"},{"$f":"IF(Accueil!$AA$26=\"\",\"\",Accueil!$AA$26)","v":1},{"$f":"IF(H1=\"\",\"\",IF(Accueil!$AA$14=\"\",\"\",\": \"&Accueil!$AA$14))","v":": Réponse(s) attendue(s)"},null,null,null,null,null,null,null,null,{"$f":"IF(S1=\"\",\"\",\"Code\")","v":"Code"},{"$f":"IF(Accueil!$AE$26=\"\",\"\",Accueil!$AE$26)","v":0},{"$f":"IF(S1=\"\",\"\",IF(Accueil!$AE$14=\"\",\"\",\": \"&Accueil!$AE$14))","v":": Absence de réponse"},null,null,null,null,null,null,null,null,null,null,null,null,null,{"$f":"IF(AI1=\"\",\"\",\"Code\")","v":"Code"},{"$f":"IF(Accueil!$AA$26=\"\",\"\",Accueil!$AA$26)","v":1},{"$f":"IF(AI1=\"\",\"\",IF(Accueil!$AA$14=\"\",\"\",\": \"&Accueil!$AA$14))","v":": Réponse(s) attendue(s)"},null,null,null,null,null,null,null,null,{"$f":"IF(AT1=\"\",\"\",\"Code\")","v":"Code"},{"$f":"IF(Accueil!$AE$26=\"\",\"\",Accueil!$AE$26)","v":0},{"$f":"IF(AT1=\"\",\"\",IF(Accueil!$AE$14=\"\",\"\",\": \"&Accueil!$AE$14))","v":": Absence de réponse"},null,null,null,null,null,null,null,null,null,null,null,null,null,{"$f":"IF(BJ1=\"\",\"\",\"Code\")","v":"Code"},{"$f":"IF(Accueil!$AA$26=\"\",\"\",Accueil!$AA$26)","v":1},{"$f":"IF(BJ1=\"\",\"\",IF(Accueil!$AA$14=\"\",\"\",\": \"&Accueil!$AA$14))","v":": Réponse(s) attendue(s)"},null,null,null,null,null,null,null,null,{"$f":"IF(BU1=\"\",\"\",\"Code\")","v":"Code"},{"$f":"IF(Accueil!$AE$26=\"\",\"\",Accueil!$AE$26)","v":0},{"$f":"IF(BU1=\"\",\"\",IF(Accueil!$AE$14=\"\",\"\",\": \"&Accueil!$AE$14))","v":": Absence de réponse"},null,null,null,null,null,null,null,null,null,null,null,null,null,{"$f":"IF(CK1=\"\",\"\",\"Code\")","v":"Code"},{"$f":"IF(Accueil!$AA$26=\"\",\"\",Accueil!$AA$26)","v":1},{"$f":"IF(CK1=\"\",\"\",IF(Accueil!$AA$14=\"\",\"\",\": \"&Accueil!$AA$14))","v":": Réponse(s) attendue(s)"},null,null,null,null,null,null,null,null,{"$f":"IF(CV1=\"\",\"\",\"Code\")","v":"Code"},{"$f":"IF(Accueil!$AE$26=\"\",\"\",Accueil!$AE$26)","v":0},{"$f":"IF(CV1=\"\",\"\",IF(Accueil!$AE$14=\"\",\"\",\": \"&Accueil!$AE$14))","v":": Absence de réponse"}]
[null,null,null,null,null,null,{"$f":"IF(H2=\"\",\"\",\"Code\")","v":"Code"},{"$f":"IF(Accueil!$AB$26=\"\",\"\",Accueil!$AB$26)","v":3},{"$f":"IF(H2=\"\",\"\",IF(Accueil!$AB$14=\"\",\"\",\": \"&Accueil!$AB$14))","v":": Réussite partielle sans erreur"},null,null,null,null,null,null,null,null,{"$f":"IF(S2=\"\",\"\",\"Code\")","v":"Code"},{"$f":"IF(Accueil!AF26=\"\",\"\",Accueil!AF26)","v":"A"},{"$f":"IF(S2=\"\",\"\",IF(Accueil!$AF$14=\"\",\"\",\": \"&Accueil!$AF$14))","v":": Élève absent"},null,null,null,null,null,null,null,null,null,null,null,null,null,{"$f":"IF(AI2=\"\",\"\",\"Code\")","v":"Code"},{"$f":"IF(Accueil!$AB$26=\"\",\"\",Accueil!$AB$26)","v":3},{"$f":"IF(AI2=\"\",\"\",IF(Accueil!$AB$14=\"\",\"\",\": \"&Accueil!$AB$14))","v":": Réussite partielle sans erreur"},null,null,null,null,null,null,null,null,{"$f":"IF(AT2=\"\",\"\",\"Code\")","v":""},{"$f":"IF(Accueil!BG26=\"\",\"\",Accueil!BG26)","v":""},{"$f":"IF(AT2=\"\",\"\",IF(Accueil!$AF$14=\"\",\"\",\": \"&Accueil!$AF$14))","v":""},null,null,null,null,null,null,null,null,null,null,null,null,null,{"$f":"IF(BJ2=\"\",\"\",\"Code\")","v":"Code"},{"$f":"IF(Accueil!$AB$26=\"\",\"\",Accueil!$AB$26)","v":3},{"$f":"IF(BJ2=\"\",\"\",IF(Accueil!$AB$14=\"\",\"\",\": \"&Accueil!$AB$14))","v":": Réussite partielle sans erreur"},null,null,null,null,null,null,null,null,{"$f":"IF(BU2=\"\",\"\",\"Code\")","v":""},{"$f":"IF(Accueil!CH26=\"\",\"\",Accueil!CH26)","v":""},{"$f":"IF(BU2=\"\",\"\",IF(Accueil!$AF$14=\"\",\"\",\": \"&Accueil!$AF$14))","v":""},null,null,null,null,null,null,null,null,null,null,null,null,null,{"$f":"IF(CK2=\"\",\"\",\"Code\")","v":"Code"},{"$f":"IF(Accueil!$AB$26=\"\",\"\",Accueil!$AB$26)","v":3},{"$f":"IF(CK2=\"\",\"\",IF(Accueil!$AB$14=\"\",\"\",\": \"&Accueil!$AB$14))","v":": Réussite partielle sans erreur"},null,null,null,null,null,null,null,null,{"$f":"IF(CV2=\"\",\"\",\"Code\")","v":""},{"$f":"IF(Accueil!DI26=\"\",\"\",Accueil!DI26)","v":""},{"$f":"IF(CV2=\"\",\"\",IF(Accueil!$AF$14=\"\",\"\",\": \"&Accueil!$AF$14))","v":""}]
[null,null,null,null,null,null,{"$f":"IF(H3=\"\",\"\",\"Code\")","v":"Code"},{"$f":"IF(Accueil!$AC$26=\"\",\"\",Accueil!$AC$26)","v":4},{"$f":"IF(H3=\"\",\"\",IF(Accueil!$AC$14=\"\",\"\",\": \"&Accueil!$AC$14))","v":": Réussite partielle avec erreur"},null,null,null,null,null,null,null,null,null,null,null,null,null,null,null,null,null,null,null,null,null,null,null,null,{"$f":"IF(AI3=\"\",\"\",\"Code\")","v":"Code"},{"$f":"IF(Accueil!$AC$26=\"\",\"\",Accueil!$AC$26)","v":4},{"$f":"IF(AI3=\"\",\"\",IF(Accueil!$AC$14=\"\",\"\",\": \"&Accueil!$AC$14))","v":": Réussite partielle avec erreur"},null,null,null,null,null,null,null,null,null,null,null,null,null,null,null,null,null,null,null,null,null,null,null,null,{"$f":"IF(BJ3=\"\",\"\",\"Code\")","v":"Code"},{"$f":"IF(Accueil!$AC$26=\"\",\"\",Accueil!$AC$26)","v":4},{"$f":"IF(BJ3=\"\",\"\",IF(Accueil!$AC$14=\"\",\"\",\": \"&Accueil!$AC$14))","v":": Réussite partielle avec erreur"},null,null,null,null,null,null,null,null,null,null,null,null,null,null,null,null,null,null,null,null,null,null,null,null,{"$f":"IF(CK3=\"\",\"\",\"Code\")","v":"Code"},{"$f":"IF(Accueil!$AC$26=\"\",\"\",Accueil!$AC$26)","v":4},{"$f":"IF(CK3=\"\",\"\",IF(Accueil!$AC$14=\"\",\"\",\": \"&Accueil!$AC$14))","v":": Réussite partielle avec erreur"}]
[null,null,null,null,null,null,{"$f":"IF(H4=\"\",\"\",\"Code\")","v":"Code"},{"$f":"IF(Accueil!$AD$26=\"\",\"\",Accueil!$AD$26)","v":9},{"$f":"IF(H4=\"\",\"\",IF(Accueil!$AD$14=\"\",\"\",\": \"&Accueil!$AD$14))","v":": Autres réponses"},null,null,null,null,null,null,null,null,null,null,null,null,null,null,null,null,null,null,null,null,null,null,null,null,{"$f":"IF(AI4=\"\",\"\",\"Code\")","v":"Code"},{"$f":"IF(Accueil!$AD$26=\"\",\"\",Accueil!$AD$26)","v":9},{"$f":"IF(AI4=\"\",\"\",IF(Accueil!$AD$14=\"\",\"\",\": \"&Accueil!$AD$14))","v":": Autres réponses"},null,null,null,null,null,null,null,null,null,null,null,null,null,null,null,null,null,null,null,null,null,null,null,null,{"$f":"IF(BJ4=\"\",\"\",\"Code\")","v":"Code"},{"$f":"IF(Accueil!$AD$26=\"\",\"\",Accueil!$AD$26)","v":9},{"$f":"IF(BJ4=\"\",\"\",IF(Accueil!$AD$14=\"\",\"\",\": \"&Accueil!$AD$14))","v":": Autres réponses"},null,null,null,null,null,null,null,null,null,null,null,null,null,null,null,null,null,null,null,null,null,null,null,null,{"$f":"IF(CK4=\"\",\"\",\"Code\")","v":"Code"},{"$f":"IF(Accueil!$AD$26=\"\",\"\",Accueil!$AD$26)","v":9},{"$f":"IF(CK4=\"\",\"\",IF(Accueil!$AD$14=\"\",\"\",\": \"&Accueil!$AD$14))","v":": Autres réponses"}]
[null,null,null,"Compétence",null,{"$f":"IF(ISERROR(INDEX(Accueil!$M$27:$N$56,MATCH(VLOOKUP(F8,Accueil!$Q$27:$R$126,2),Accueil!$M$27:$M$56,0),2)),\"\",INDEX(Accueil!$M$27:$N$56,MATCH(VLOOKUP(F8,Accueil!$Q$27:$R$126,2),Accueil!$M$27:$M$56,0),2))","v":1},{"$f":"IF(ISERROR(INDEX(Accueil!$M$27:$N$56,MATCH(VLOOKUP(G8,Accueil!$Q$27:$R$126,2),Accueil!$M$27:$M$56,0),2)),\"\",INDEX(Accueil!$M$27:$N$56,MATCH(VLOOKUP(G8,Accueil!$Q$27:$R$126,2),Accueil!$M$27:$M$56,0),2))","v":1},{"$f":"IF(ISERROR(INDEX(Accueil!$M$27:$N$56,MATCH(VLOOKUP(H8,Accueil!$Q$27:$R$126,2),Accueil!$M$27:$M$56,0),2)),\"\",INDEX(Accueil!$M$27:$N$56,MATCH(VLOOKUP(H8,Accueil!$Q$27:$R$126,2),Accueil!$M$27:$M$56,0),2))","v":1},{"$f":"IF(ISERROR(INDEX(Accueil!$M$27:$N$56,MATCH(VLOOKUP(I8,Accueil!$Q$27:$R$126,2),Accueil!$M$27:$M$56,0),2)),\"\",INDEX(Accueil!$M$27:$N$56,MATCH(VLOOKUP(I8,Accueil!$Q$27:$R$126,2),Accueil!$M$27:$M$56,0),2))","v":3},{"$f":"IF(ISERROR(INDEX(Accueil!$M$27:$N$56,MATCH(VLOOKUP(J8,Accueil!$Q$27:$R$126,2),Accueil!$M$27:$M$56,0),2)),\"\",INDEX(Accueil!$M$27:$N$56,MATCH(VLOOKUP(J8,Accueil!$Q$27:$R$126,2),Accueil!$M$27:$M$56,0),2))","v":1},{"$f":"IF(ISERROR(INDEX(Accueil!$M$27:$N$56,MATCH(VLOOKUP(K8,Accueil!$Q$27:$R$126,2),Accueil!$M$27:$M$56,0),2)),\"\",INDEX(Accueil!$M$27:$N$56,MATCH(VLOOKUP(K8,Accueil!$Q$27:$R$126,2),Accueil!$M$27:$M$56,0),2))","v":1},{"$f":"IF(ISERROR(INDEX(Accueil!$M$27:$N$56,MATCH(VLOOKUP(L8,Accueil!$Q$27:$R$126,2),Accueil!$M$27:$M$56,0),2)),\"\",INDEX(Accueil!$M$27:$N$56,MATCH(VLOOKUP(L8,Accueil!$Q$27:$R$126,2),Accueil!$M$27:$M$56,0),2))","v":1},{"$f":"IF(ISERROR(INDEX(Accueil!$M$27:$N$56,MATCH(VLOOKUP(M8,Accueil!$Q$27:$R$126,2),Accueil!$M$27:$M$56,0),2)),\"\",INDEX(Accueil!$M$27:$N$56,MATCH(VLOOKUP(M8,Accueil!$Q$27:$R$126,2),Accueil!$M$27:$M$56,0),2))","v":4},{"$f":"IF(ISERROR(INDEX(Accueil!$M$27:$N$56,MATCH(VLOOKUP(N8,Accueil!$Q$27:$R$126,2),Accueil!$M$27:$M$56,0),2)),\"\",INDEX(Accueil!$M$27:$N$56,MATCH(VLOOKUP(N8,Accueil!$Q$27:$R$126,2),Accueil!$M$27:$M$56,0),2))","v":4},{"$f":"IF(ISERROR(INDEX(Accueil!$M$27:$N$56,MATCH(VLOOKUP(O8,Accueil!$Q$27:$R$126,2),Accueil!$M$27:$M$56,0),2)),\"\",INDEX(Accueil!$M$27:$N$56,MATCH(VLOOKUP(O8,Accueil!$Q$27:$R$126,2),Accueil!$M$27:$M$56,0),2))","v":4},{"$f":"IF(ISERROR(INDEX(Accueil!$M$27:$N$56,MATCH(VLOOKUP(P8,Accueil!$Q$27:$R$126,2),Accueil!$M$27:$M$56,0),2)),\"\",INDEX(Accueil!$M$27:$N$56,MATCH(VLOOKUP(P8,Accueil!$Q$27:$R$126,2),Accueil!$M$27:$M$56,0),2))","v":4},{"$f":"IF(ISERROR(INDEX(Accueil!$M$27:$N$56,MATCH(VLOOKUP(Q8,Accueil!$Q$27:$R$126,2),Accueil!$M$27:$M$56,0),2)),\"\",INDEX(Accueil!$M$27:$N$56,MATCH(VLOOKUP(Q8,Accueil!$Q$27:$R$126,2),Accueil!$M$27:$M$56,0),2))","v":2},{"$f":"IF(ISERROR(INDEX(Accueil!$M$27:$N$56,MATCH(VLOOKUP(R8,Accueil!$Q$27:$R$126,2),Accueil!$M$27:$M$56,0),2)),\"\",INDEX(Accueil!$M$27:$N$56,MATCH(VLOOKUP(R8,Accueil!$Q$27:$R$126,2),Accueil!$M$27:$M$56,0),2))","v":2},{"$f":"IF(ISERROR(INDEX(Accueil!$M$27:$N$56,MATCH(VLOOKUP(S8,Accueil!$Q$27:$R$126,2),Accueil!$M$27:$M$56,0),2)),\"\",INDEX(Accueil!$M$27:$N$56,MATCH(VLOOKUP(S8,Accueil!$Q$27:$R$126,2),Accueil!$M$27:$M$56,0),2))","v":1},{"$f":"IF(ISERROR(INDEX(Accueil!$M$27:$N$56,MATCH(VLOOKUP(T8,Accueil!$Q$27:$R$126,2),Accueil!$M$27:$M$56,0),2)),\"\",INDEX(Accueil!$M$27:$N$56,MATCH(VLOOKUP(T8,Accueil!$Q$27:$R$126,2),Accueil!$M$27:$M$56,0),2))","v":4},{"$f":"IF(ISERROR(INDEX(Accueil!$M$27:$N$56,MATCH(VLOOKUP(U8,Accueil!$Q$27:$R$126,2),Accueil!$M$27:$M$56,0),2)),\"\",INDEX(Accueil!$M$27:$N$56,MATCH(VLOOKUP(U8,Accueil!$Q$27:$R$126,2),Accueil!$M$27:$M$56,0),2))","v":4},{"$f":"IF(ISERROR(INDEX(Accueil!$M$27:$N$56,MATCH(VLOOKUP(V8,Accueil!$Q$27:$R$126,2),Accueil!$M$27:$M$56,0),2)),\"\",INDEX(Accueil!$M$27:$N$56,MATCH(VLOOKUP(V8,Accueil!$Q$27:$R$126,2),Accueil!$M$27:$M$56,0),2))","v":4},{"$f":"IF(ISERROR(INDEX(Accueil!$M$27:$N$56,MATCH(VLOOKUP(W8,Accueil!$Q$27:$R$126,2),Accueil!$M$27:$M$56,0),2)),\"\",INDEX(Accueil!$M$27:$N$56,MATCH(VLOOKUP(W8,Accueil!$Q$27:$R$126,2),Accueil!$M$27:$M$56,0),2))","v":4},{"$f":"IF(ISERROR(INDEX(Accueil!$M$27:$N$56,MATCH(VLOOKUP(X8,Accueil!$Q$27:$R$126,2),Accueil!$M$27:$M$56,0),2)),\"\",INDEX(Accueil!$M$27:$N$56,MATCH(VLOOKUP(X8,Accueil!$Q$27:$R$126,2),Accueil!$M$27:$M$56,0),2))","v":4},{"$f":"IF(ISERROR(INDEX(Accueil!$M$27:$N$56,MATCH(VLOOKUP(Y8,Accueil!$Q$27:$R$126,2),Accueil!$M$27:$M$56,0),2)),\"\",INDEX(Accueil!$M$27:$N$56,MATCH(VLOOKUP(Y8,Accueil!$Q$27:$R$126,2),Accueil!$M$27:$M$56,0),2))","v":2},{"$f":"IF(ISERROR(INDEX(Accueil!$M$27:$N$56,MATCH(VLOOKUP(Z8,Accueil!$Q$27:$R$126,2),Accueil!$M$27:$M$56,0),2)),\"\",INDEX(Accueil!$M$27:$N$56,MATCH(VLOOKUP(Z8,Accueil!$Q$27:$R$126,2),Accueil!$M$27:$M$56,0),2))","v":2},{"$f":"IF(ISERROR(INDEX(Accueil!$M$27:$N$56,MATCH(VLOOKUP(AA8,Accueil!$Q$27:$R$126,2),Accueil!$M$27:$M$56,0),2)),\"\",INDEX(Accueil!$M$27:$N$56,MATCH(VLOOKUP(AA8,Accueil!$Q$27:$R$126,2),Accueil!$M$27:$M$56,0),2))","v":2},{"$f":"IF(ISERROR(INDEX(Accueil!$M$27:$N$56,MATCH(VLOOKUP(AB8,Accueil!$Q$27:$R$126,2),Accueil!$M$27:$M$56,0),2)),\"\",INDEX(Accueil!$M$27:$N$56,MATCH(VLOOKUP(AB8,Accueil!$Q$27:$R$126,2),Accueil!$M$27:$M$56,0),2))","v":3},{"$f":"IF(ISERROR(INDEX(Accueil!$M$27:$N$56,MATCH(VLOOKUP(AC8,Accueil!$Q$27:$R$126,2),Accueil!$M$27:$M$56,0),2)),\"\",INDEX(Accueil!$M$27:$N$56,MATCH(VLOOKUP(AC8,Accueil!$Q$27:$R$126,2),Accueil!$M$27:$M$56,0),2))","v":3},{"$f":"IF(ISERROR(INDEX(Accueil!$M$27:$N$56,MATCH(VLOOKUP(AD8,Accueil!$Q$27:$R$126,2),Accueil!$M$27:$M$56,0),2)),\"\",INDEX(Accueil!$M$27:$N$56,MATCH(VLOOKUP(AD8,Accueil!$Q$27:$R$126,2),Accueil!$M$27:$M$56,0),2))","v":3},{"$f":"IF(ISERROR(INDEX(Accueil!$M$27:$N$56,MATCH(VLOOKUP(AE8,Accueil!$Q$27:$R$126,2),Accueil!$M$27:$M$56,0),2)),\"\",INDEX(Accueil!$M$27:$N$56,MATCH(VLOOKUP(AE8,Accueil!$Q$27:$R$126,2),Accueil!$M$27:$M$56,0),2))","v":1},{"$f":"IF(ISERROR(INDEX(Accueil!$M$27:$N$56,MATCH(VLOOKUP(AF8,Accueil!$Q$27:$R$126,2),Accueil!$M$27:$M$56,0),2)),\"\",INDEX(Accueil!$M$27:$N$56,MATCH(VLOOKUP(AF8,Accueil!$Q$27:$R$126,2),Accueil!$M$27:$M$56,0),2))","v":1},{"$f":"IF(ISERROR(INDEX(Accueil!$M$27:$N$56,MATCH(VLOOKUP(AG8,Accueil!$Q$27:$R$126,2),Accueil!$M$27:$M$56,0),2)),\"\",INDEX(Accueil!$M$27:$N$56,MATCH(VLOOKUP(AG8,Accueil!$Q$27:$R$126,2),Accueil!$M$27:$M$56,0),2))","v":1},{"$f":"IF(ISERROR(INDEX(Accueil!$M$27:$N$56,MATCH(VLOOKUP(AH8,Accueil!$Q$27:$R$126,2),Accueil!$M$27:$M$56,0),2)),\"\",INDEX(Accueil!$M$27:$N$56,MATCH(VLOOKUP(AH8,Accueil!$Q$27:$R$126,2),Accueil!$M$27:$M$56,0),2))","v":3},{"$f":"IF(ISERROR(INDEX(Accueil!$M$27:$N$56,MATCH(VLOOKUP(AI8,Accueil!$Q$27:$R$126,2),Accueil!$M$27:$M$56,0),2)),\"\",INDEX(Accueil!$M$27:$N$56,MATCH(VLOOKUP(AI8,Accueil!$Q$27:$R$126,2),Accueil!$M$27:$M$56,0),2))","v":4},{"$f":"IF(ISERROR(INDEX(Accueil!$M$27:$N$56,MATCH(VLOOKUP(AJ8,Accueil!$Q$27:$R$126,2),Accueil!$M$27:$M$56,0),2)),\"\",INDEX(Accueil!$M$27:$N$56,MATCH(VLOOKUP(AJ8,Accueil!$Q$27:$R$126,2),Accueil!$M$27:$M$56,0),2))","v":""},{"$f":"IF(ISERROR(INDEX(Accueil!$M$27:$N$56,MATCH(VLOOKUP(AK8,Accueil!$Q$27:$R$126,2),Accueil!$M$27:$M$56,0),2)),\"\",INDEX(Accueil!$M$27:$N$56,MATCH(VLOOKUP(AK8,Accueil!$Q$27:$R$126,2),Accueil!$M$27:$M$56,0),2))","v":""},{"$f":"IF(ISERROR(INDEX(Accueil!$M$27:$N$56,MATCH(VLOOKUP(AL8,Accueil!$Q$27:$R$126,2),Accueil!$M$27:$M$56,0),2)),\"\",INDEX(Accueil!$M$27:$N$56,MATCH(VLOOKUP(AL8,Accueil!$Q$27:$R$126,2),Accueil!$M$27:$M$56,0),2))","v":""},{"$f":"IF(ISERROR(INDEX(Accueil!$M$27:$N$56,MATCH(VLOOKUP(AM8,Accueil!$Q$27:$R$126,2),Accueil!$M$27:$M$56,0),2)),\"\",INDEX(Accueil!$M$27:$N$56,MATCH(VLOOKUP(AM8,Accueil!$Q$27:$R$126,2),Accueil!$M$27:$M$56,0),2))","v":""},{"$f":"IF(ISERROR(INDEX(Accueil!$M$27:$N$56,MATCH(VLOOKUP(AN8,Accueil!$Q$27:$R$126,2),Accueil!$M$27:$M$56,0),2)),\"\",INDEX(Accueil!$M$27:$N$56,MATCH(VLOOKUP(AN8,Accueil!$Q$27:$R$126,2),Accueil!$M$27:$M$56,0),2))","v":""},{"$f":"IF(ISERROR(INDEX(Accueil!$M$27:$N$56,MATCH(VLOOKUP(AO8,Accueil!$Q$27:$R$126,2),Accueil!$M$27:$M$56,0),2)),\"\",INDEX(Accueil!$M$27:$N$56,MATCH(VLOOKUP(AO8,Accueil!$Q$27:$R$126,2),Accueil!$M$27:$M$56,0),2))","v":""},{"$f":"IF(ISERROR(INDEX(Accueil!$M$27:$N$56,MATCH(VLOOKUP(AP8,Accueil!$Q$27:$R$126,2),Accueil!$M$27:$M$56,0),2)),\"\",INDEX(Accueil!$M$27:$N$56,MATCH(VLOOKUP(AP8,Accueil!$Q$27:$R$126,2),Accueil!$M$27:$M$56,0),2))","v":""},{"$f":"IF(ISERROR(INDEX(Accueil!$M$27:$N$56,MATCH(VLOOKUP(AQ8,Accueil!$Q$27:$R$126,2),Accueil!$M$27:$M$56,0),2)),\"\",INDEX(Accueil!$M$27:$N$56,MATCH(VLOOKUP(AQ8,Accueil!$Q$27:$R$126,2),Accueil!$M$27:$M$56,0),2))","v":""},{"$f":"IF(ISERROR(INDEX(Accueil!$M$27:$N$56,MATCH(VLOOKUP(AR8,Accueil!$Q$27:$R$126,2),Accueil!$M$27:$M$56,0),2)),\"\",INDEX(Accueil!$M$27:$N$56,MATCH(VLOOKUP(AR8,Accueil!$Q$27:$R$126,2),Accueil!$M$27:$M$56,0),2))","v":""},{"$f":"IF(ISERROR(INDEX(Accueil!$M$27:$N$56,MATCH(VLOOKUP(AS8,Accueil!$Q$27:$R$126,2),Accueil!$M$27:$M$56,0),2)),\"\",INDEX(Accueil!$M$27:$N$56,MATCH(VLOOKUP(AS8,Accueil!$Q$27:$R$126,2),Accueil!$M$27:$M$56,0),2))","v":""},{"$f":"IF(ISERROR(INDEX(Accueil!$M$27:$N$56,MATCH(VLOOKUP(AT8,Accueil!$Q$27:$R$126,2),Accueil!$M$27:$M$56,0),2)),\"\",INDEX(Accueil!$M$27:$N$56,MATCH(VLOOKUP(AT8,Accueil!$Q$27:$R$126,2),Accueil!$M$27:$M$56,0),2))","v":""},{"$f":"IF(ISERROR(INDEX(Accueil!$M$27:$N$56,MATCH(VLOOKUP(AU8,Accueil!$Q$27:$R$126,2),Accueil!$M$27:$M$56,0),2)),\"\",INDEX(Accueil!$M$27:$N$56,MATCH(VLOOKUP(AU8,Accueil!$Q$27:$R$126,2),Accueil!$M$27:$M$56,0),2))","v":""},{"$f":"IF(ISERROR(INDEX(Accueil!$M$27:$N$56,MATCH(VLOOKUP(AV8,Accueil!$Q$27:$R$126,2),Accueil!$M$27:$M$56,0),2)),\"\",INDEX(Accueil!$M$27:$N$56,MATCH(VLOOKUP(AV8,Accueil!$Q$27:$R$126,2),Accueil!$M$27:$M$56,0),2))","v":""},{"$f":"IF(ISERROR(INDEX(Accueil!$M$27:$N$56,MATCH(VLOOKUP(AW8,Accueil!$Q$27:$R$126,2),Accueil!$M$27:$M$56,0),2)),\"\",INDEX(Accueil!$M$27:$N$56,MATCH(VLOOKUP(AW8,Accueil!$Q$27:$R$126,2),Accueil!$M$27:$M$56,0),2))","v":""},{"$f":"IF(ISERROR(INDEX(Accueil!$M$27:$N$56,MATCH(VLOOKUP(AX8,Accueil!$Q$27:$R$126,2),Accueil!$M$27:$M$56,0),2)),\"\",INDEX(Accueil!$M$27:$N$56,MATCH(VLOOKUP(AX8,Accueil!$Q$27:$R$126,2),Accueil!$M$27:$M$56,0),2))","v":""},{"$f":"IF(ISERROR(INDEX(Accueil!$M$27:$N$56,MATCH(VLOOKUP(AY8,Accueil!$Q$27:$R$126,2),Accueil!$M$27:$M$56,0),2)),\"\",INDEX(Accueil!$M$27:$N$56,MATCH(VLOOKUP(AY8,Accueil!$Q$27:$R$126,2),Accueil!$M$27:$M$56,0),2))","v":""},{"$f":"IF(ISERROR(INDEX(Accueil!$M$27:$N$56,MATCH(VLOOKUP(AZ8,Accueil!$Q$27:$R$126,2),Accueil!$M$27:$M$56,0),2)),\"\",INDEX(Accueil!$M$27:$N$56,MATCH(VLOOKUP(AZ8,Accueil!$Q$27:$R$126,2),Accueil!$M$27:$M$56,0),2))","v":""},{"$f":"IF(ISERROR(INDEX(Accueil!$M$27:$N$56,MATCH(VLOOKUP(BA8,Accueil!$Q$27:$R$126,2),Accueil!$M$27:$M$56,0),2)),\"\",INDEX(Accueil!$M$27:$N$56,MATCH(VLOOKUP(BA8,Accueil!$Q$27:$R$126,2),Accueil!$M$27:$M$56,0),2))","v":""},{"$f":"IF(ISERROR(INDEX(Accueil!$M$27:$N$56,MATCH(VLOOKUP(BB8,Accueil!$Q$27:$R$126,2),Accueil!$M$27:$M$56,0),2)),\"\",INDEX(Accueil!$M$27:$N$56,MATCH(VLOOKUP(BB8,Accueil!$Q$27:$R$126,2),Accueil!$M$27:$M$56,0),2))","v":""},{"$f":"IF(ISERROR(INDEX(Accueil!$M$27:$N$56,MATCH(VLOOKUP(BC8,Accueil!$Q$27:$R$126,2),Accueil!$M$27:$M$56,0),2)),\"\",INDEX(Accueil!$M$27:$N$56,MATCH(VLOOKUP(BC8,Accueil!$Q$27:$R$126,2),Accueil!$M$27:$M$56,0),2))","v":""},{"$f":"IF(ISERROR(INDEX(Accueil!$M$27:$N$56,MATCH(VLOOKUP(BD8,Accueil!$Q$27:$R$126,2),Accueil!$M$27:$M$56,0),2)),\"\",INDEX(Accueil!$M$27:$N$56,MATCH(VLOOKUP(BD8,Accueil!$Q$27:$R$126,2),Accueil!$M$27:$M$56,0),2))","v":""},{"$f":"IF(ISERROR(INDEX(Accueil!$M$27:$N$56,MATCH(VLOOKUP(BE8,Accueil!$Q$27:$R$126,2),Accueil!$M$27:$M$56,0),2)),\"\",INDEX(Accueil!$M$27:$N$56,MATCH(VLOOKUP(BE8,Accueil!$Q$27:$R$126,2),Accueil!$M$27:$M$56,0),2))","v":""},{"$f":"IF(ISERROR(INDEX(Accueil!$M$27:$N$56,MATCH(VLOOKUP(BF8,Accueil!$Q$27:$R$126,2),Accueil!$M$27:$M$56,0),2)),\"\",INDEX(Accueil!$M$27:$N$56,MATCH(VLOOKUP(BF8,Accueil!$Q$27:$R$126,2),Accueil!$M$27:$M$56,0),2))","v":""},{"$f":"IF(ISERROR(INDEX(Accueil!$M$27:$N$56,MATCH(VLOOKUP(BG8,Accueil!$Q$27:$R$126,2),Accueil!$M$27:$M$56,0),2)),\"\",INDEX(Accueil!$M$27:$N$56,MATCH(VLOOKUP(BG8,Accueil!$Q$27:$R$126,2),Accueil!$M$27:$M$56,0),2))","v":""},{"$f":"IF(ISERROR(INDEX(Accueil!$M$27:$N$56,MATCH(VLOOKUP(BH8,Accueil!$Q$27:$R$126,2),Accueil!$M$27:$M$56,0),2)),\"\",INDEX(Accueil!$M$27:$N$56,MATCH(VLOOKUP(BH8,Accueil!$Q$27:$R$126,2),Accueil!$M$27:$M$56,0),2))","v":""},{"$f":"IF(ISERROR(INDEX(Accueil!$M$27:$N$56,MATCH(VLOOKUP(BI8,Accueil!$Q$27:$R$126,2),Accueil!$M$27:$M$56,0),2)),\"\",INDEX(Accueil!$M$27:$N$56,MATCH(VLOOKUP(BI8,Accueil!$Q$27:$R$126,2),Accueil!$M$27:$M$56,0),2))","v":""},{"$f":"IF(ISERROR(INDEX(Accueil!$M$27:$N$56,MATCH(VLOOKUP(BJ8,Accueil!$Q$27:$R$126,2),Accueil!$M$27:$M$56,0),2)),\"\",INDEX(Accueil!$M$27:$N$56,MATCH(VLOOKUP(BJ8,Accueil!$Q$27:$R$126,2),Accueil!$M$27:$M$56,0),2))","v":""},{"$f":"IF(ISERROR(INDEX(Accueil!$M$27:$N$56,MATCH(VLOOKUP(BK8,Accueil!$Q$27:$R$126,2),Accueil!$M$27:$M$56,0),2)),\"\",INDEX(Accueil!$M$27:$N$56,MATCH(VLOOKUP(BK8,Accueil!$Q$27:$R$126,2),Accueil!$M$27:$M$56,0),2))","v":""},{"$f":"IF(ISERROR(INDEX(Accueil!$M$27:$N$56,MATCH(VLOOKUP(BL8,Accueil!$Q$27:$R$126,2),Accueil!$M$27:$M$56,0),2)),\"\",INDEX(Accueil!$M$27:$N$56,MATCH(VLOOKUP(BL8,Accueil!$Q$27:$R$126,2),Accueil!$M$27:$M$56,0),2))","v":""},{"$f":"IF(ISERROR(INDEX(Accueil!$M$27:$N$56,MATCH(VLOOKUP(BM8,Accueil!$Q$27:$R$126,2),Accueil!$M$27:$M$56,0),2)),\"\",INDEX(Accueil!$M$27:$N$56,MATCH(VLOOKUP(BM8,Accueil!$Q$27:$R$126,2),Accueil!$M$27:$M$56,0),2))","v":""},{"$f":"IF(ISERROR(INDEX(Accueil!$M$27:$N$56,MATCH(VLOOKUP(BN8,Accueil!$Q$27:$R$126,2),Accueil!$M$27:$M$56,0),2)),\"\",INDEX(Accueil!$M$27:$N$56,MATCH(VLOOKUP(BN8,Accueil!$Q$27:$R$126,2),Accueil!$M$27:$M$56,0),2))","v":""},{"$f":"IF(ISERROR(INDEX(Accueil!$M$27:$N$56,MATCH(VLOOKUP(BO8,Accueil!$Q$27:$R$126,2),Accueil!$M$27:$M$56,0),2)),\"\",INDEX(Accueil!$M$27:$N$56,MATCH(VLOOKUP(BO8,Accueil!$Q$27:$R$126,2),Accueil!$M$27:$M$56,0),2))","v":""},{"$f":"IF(ISERROR(INDEX(Accueil!$M$27:$N$56,MATCH(VLOOKUP(BP8,Accueil!$Q$27:$R$126,2),Accueil!$M$27:$M$56,0),2)),\"\",INDEX(Accueil!$M$27:$N$56,MATCH(VLOOKUP(BP8,Accueil!$Q$27:$R$126,2),Accueil!$M$27:$M$56,0),2))","v":""},{"$f":"IF(ISERROR(INDEX(Accueil!$M$27:$N$56,MATCH(VLOOKUP(BQ8,Accueil!$Q$27:$R$126,2),Accueil!$M$27:$M$56,0),2)),\"\",INDEX(Accueil!$M$27:$N$56,MATCH(VLOOKUP(BQ8,Accueil!$Q$27:$R$126,2),Accueil!$M$27:$M$56,0),2))","v":""},{"$f":"IF(ISERROR(INDEX(Accueil!$M$27:$N$56,MATCH(VLOOKUP(BR8,Accueil!$Q$27:$R$126,2),Accueil!$M$27:$M$56,0),2)),\"\",INDEX(Accueil!$M$27:$N$56,MATCH(VLOOKUP(BR8,Accueil!$Q$27:$R$126,2),Accueil!$M$27:$M$56,0),2))","v":""},{"$f":"IF(ISERROR(INDEX(Accueil!$M$27:$N$56,MATCH(VLOOKUP(BS8,Accueil!$Q$27:$R$126,2),Accueil!$M$27:$M$56,0),2)),\"\",INDEX(Accueil!$M$27:$N$56,MATCH(VLOOKUP(BS8,Accueil!$Q$27:$R$126,2),Accueil!$M$27:$M$56,0),2))","v":""},{"$f":"IF(ISERROR(INDEX(Accueil!$M$27:$N$56,MATCH(VLOOKUP(BT8,Accueil!$Q$27:$R$126,2),Accueil!$M$27:$M$56,0),2)),\"\",INDEX(Accueil!$M$27:$N$56,MATCH(VLOOKUP(BT8,Accueil!$Q$27:$R$126,2),Accueil!$M$27:$M$56,0),2))","v":""},{"$f":"IF(ISERROR(INDEX(Accueil!$M$27:$N$56,MATCH(VLOOKUP(BU8,Accueil!$Q$27:$R$126,2),Accueil!$M$27:$M$56,0),2)),\"\",INDEX(Accueil!$M$27:$N$56,MATCH(VLOOKUP(BU8,Accueil!$Q$27:$R$126,2),Accueil!$M$27:$M$56,0),2))","v":""},{"$f":"IF(ISERROR(INDEX(Accueil!$M$27:$N$56,MATCH(VLOOKUP(BV8,Accueil!$Q$27:$R$126,2),Accueil!$M$27:$M$56,0),2)),\"\",INDEX(Accueil!$M$27:$N$56,MATCH(VLOOKUP(BV8,Accueil!$Q$27:$R$126,2),Accueil!$M$27:$M$56,0),2))","v":""},{"$f":"IF(ISERROR(INDEX(Accueil!$M$27:$N$56,MATCH(VLOOKUP(BW8,Accueil!$Q$27:$R$126,2),Accueil!$M$27:$M$56,0),2)),\"\",INDEX(Accueil!$M$27:$N$56,MATCH(VLOOKUP(BW8,Accueil!$Q$27:$R$126,2),Accueil!$M$27:$M$56,0),2))","v":""},{"$f":"IF(ISERROR(INDEX(Accueil!$M$27:$N$56,MATCH(VLOOKUP(BX8,Accueil!$Q$27:$R$126,2),Accueil!$M$27:$M$56,0),2)),\"\",INDEX(Accueil!$M$27:$N$56,MATCH(VLOOKUP(BX8,Accueil!$Q$27:$R$126,2),Accueil!$M$27:$M$56,0),2))","v":""},{"$f":"IF(ISERROR(INDEX(Accueil!$M$27:$N$56,MATCH(VLOOKUP(BY8,Accueil!$Q$27:$R$126,2),Accueil!$M$27:$M$56,0),2)),\"\",INDEX(Accueil!$M$27:$N$56,MATCH(VLOOKUP(BY8,Accueil!$Q$27:$R$126,2),Accueil!$M$27:$M$56,0),2))","v":""},{"$f":"IF(ISERROR(INDEX(Accueil!$M$27:$N$56,MATCH(VLOOKUP(BZ8,Accueil!$Q$27:$R$126,2),Accueil!$M$27:$M$56,0),2)),\"\",INDEX(Accueil!$M$27:$N$56,MATCH(VLOOKUP(BZ8,Accueil!$Q$27:$R$126,2),Accueil!$M$27:$M$56,0),2))","v":""},{"$f":"IF(ISERROR(INDEX(Accueil!$M$27:$N$56,MATCH(VLOOKUP(CA8,Accueil!$Q$27:$R$126,2),Accueil!$M$27:$M$56,0),2)),\"\",INDEX(Accueil!$M$27:$N$56,MATCH(VLOOKUP(CA8,Accueil!$Q$27:$R$126,2),Accueil!$M$27:$M$56,0),2))","v":""},{"$f":"IF(ISERROR(INDEX(Accueil!$M$27:$N$56,MATCH(VLOOKUP(CB8,Accueil!$Q$27:$R$126,2),Accueil!$M$27:$M$56,0),2)),\"\",INDEX(Accueil!$M$27:$N$56,MATCH(VLOOKUP(CB8,Accueil!$Q$27:$R$126,2),Accueil!$M$27:$M$56,0),2))","v":""},{"$f":"IF(ISERROR(INDEX(Accueil!$M$27:$N$56,MATCH(VLOOKUP(CC8,Accueil!$Q$27:$R$126,2),Accueil!$M$27:$M$56,0),2)),\"\",INDEX(Accueil!$M$27:$N$56,MATCH(VLOOKUP(CC8,Accueil!$Q$27:$R$126,2),Accueil!$M$27:$M$56,0),2))","v":""},{"$f":"IF(ISERROR(INDEX(Accueil!$M$27:$N$56,MATCH(VLOOKUP(CD8,Accueil!$Q$27:$R$126,2),Accueil!$M$27:$M$56,0),2)),\"\",INDEX(Accueil!$M$27:$N$56,MATCH(VLOOKUP(CD8,Accueil!$Q$27:$R$126,2),Accueil!$M$27:$M$56,0),2))","v":""},{"$f":"IF(ISERROR(INDEX(Accueil!$M$27:$N$56,MATCH(VLOOKUP(CE8,Accueil!$Q$27:$R$126,2),Accueil!$M$27:$M$56,0),2)),\"\",INDEX(Accueil!$M$27:$N$56,MATCH(VLOOKUP(CE8,Accueil!$Q$27:$R$126,2),Accueil!$M$27:$M$56,0),2))","v":""},{"$f":"IF(ISERROR(INDEX(Accueil!$M$27:$N$56,MATCH(VLOOKUP(CF8,Accueil!$Q$27:$R$126,2),Accueil!$M$27:$M$56,0),2)),\"\",INDEX(Accueil!$M$27:$N$56,MATCH(VLOOKUP(CF8,Accueil!$Q$27:$R$126,2),Accueil!$M$27:$M$56,0),2))","v":""},{"$f":"IF(ISERROR(INDEX(Accueil!$M$27:$N$56,MATCH(VLOOKUP(CG8,Accueil!$Q$27:$R$126,2),Accueil!$M$27:$M$56,0),2)),\"\",INDEX(Accueil!$M$27:$N$56,MATCH(VLOOKUP(CG8,Accueil!$Q$27:$R$126,2),Accueil!$M$27:$M$56,0),2))","v":""},{"$f":"IF(ISERROR(INDEX(Accueil!$M$27:$N$56,MATCH(VLOOKUP(CH8,Accueil!$Q$27:$R$126,2),Accueil!$M$27:$M$56,0),2)),\"\",INDEX(Accueil!$M$27:$N$56,MATCH(VLOOKUP(CH8,Accueil!$Q$27:$R$126,2),Accueil!$M$27:$M$56,0),2))","v":""},{"$f":"IF(ISERROR(INDEX(Accueil!$M$27:$N$56,MATCH(VLOOKUP(CI8,Accueil!$Q$27:$R$126,2),Accueil!$M$27:$M$56,0),2)),\"\",INDEX(Accueil!$M$27:$N$56,MATCH(VLOOKUP(CI8,Accueil!$Q$27:$R$126,2),Accueil!$M$27:$M$56,0),2))","v":""},{"$f":"IF(ISERROR(INDEX(Accueil!$M$27:$N$56,MATCH(VLOOKUP(CJ8,Accueil!$Q$27:$R$126,2),Accueil!$M$27:$M$56,0),2)),\"\",INDEX(Accueil!$M$27:$N$56,MATCH(VLOOKUP(CJ8,Accueil!$Q$27:$R$126,2),Accueil!$M$27:$M$56,0),2))","v":""},{"$f":"IF(ISERROR(INDEX(Accueil!$M$27:$N$56,MATCH(VLOOKUP(CK8,Accueil!$Q$27:$R$126,2),Accueil!$M$27:$M$56,0),2)),\"\",INDEX(Accueil!$M$27:$N$56,MATCH(VLOOKUP(CK8,Accueil!$Q$27:$R$126,2),Accueil!$M$27:$M$56,0),2))","v":""},{"$f":"IF(ISERROR(INDEX(Accueil!$M$27:$N$56,MATCH(VLOOKUP(CL8,Accueil!$Q$27:$R$126,2),Accueil!$M$27:$M$56,0),2)),\"\",INDEX(Accueil!$M$27:$N$56,MATCH(VLOOKUP(CL8,Accueil!$Q$27:$R$126,2),Accueil!$M$27:$M$56,0),2))","v":""},{"$f":"IF(ISERROR(INDEX(Accueil!$M$27:$N$56,MATCH(VLOOKUP(CM8,Accueil!$Q$27:$R$126,2),Accueil!$M$27:$M$56,0),2)),\"\",INDEX(Accueil!$M$27:$N$56,MATCH(VLOOKUP(CM8,Accueil!$Q$27:$R$126,2),Accueil!$M$27:$M$56,0),2))","v":""},{"$f":"IF(ISERROR(INDEX(Accueil!$M$27:$N$56,MATCH(VLOOKUP(CN8,Accueil!$Q$27:$R$126,2),Accueil!$M$27:$M$56,0),2)),\"\",INDEX(Accueil!$M$27:$N$56,MATCH(VLOOKUP(CN8,Accueil!$Q$27:$R$126,2),Accueil!$M$27:$M$56,0),2))","v":""},{"$f":"IF(ISERROR(INDEX(Accueil!$M$27:$N$56,MATCH(VLOOKUP(CO8,Accueil!$Q$27:$R$126,2),Accueil!$M$27:$M$56,0),2)),\"\",INDEX(Accueil!$M$27:$N$56,MATCH(VLOOKUP(CO8,Accueil!$Q$27:$R$126,2),Accueil!$M$27:$M$56,0),2))","v":""},{"$f":"IF(ISERROR(INDEX(Accueil!$M$27:$N$56,MATCH(VLOOKUP(CP8,Accueil!$Q$27:$R$126,2),Accueil!$M$27:$M$56,0),2)),\"\",INDEX(Accueil!$M$27:$N$56,MATCH(VLOOKUP(CP8,Accueil!$Q$27:$R$126,2),Accueil!$M$27:$M$56,0),2))","v":""},{"$f":"IF(ISERROR(INDEX(Accueil!$M$27:$N$56,MATCH(VLOOKUP(CQ8,Accueil!$Q$27:$R$126,2),Accueil!$M$27:$M$56,0),2)),\"\",INDEX(Accueil!$M$27:$N$56,MATCH(VLOOKUP(CQ8,Accueil!$Q$27:$R$126,2),Accueil!$M$27:$M$56,0),2))","v":""},{"$f":"IF(ISERROR(INDEX(Accueil!$M$27:$N$56,MATCH(VLOOKUP(CR8,Accueil!$Q$27:$R$126,2),Accueil!$M$27:$M$56,0),2)),\"\",INDEX(Accueil!$M$27:$N$56,MATCH(VLOOKUP(CR8,Accueil!$Q$27:$R$126,2),Accueil!$M$27:$M$56,0),2))","v":""},{"$f":"IF(ISERROR(INDEX(Accueil!$M$27:$N$56,MATCH(VLOOKUP(CS8,Accueil!$Q$27:$R$126,2),Accueil!$M$27:$M$56,0),2)),\"\",INDEX(Accueil!$M$27:$N$56,MATCH(VLOOKUP(CS8,Accueil!$Q$27:$R$126,2),Accueil!$M$27:$M$56,0),2))","v":""},{"$f":"IF(ISERROR(INDEX(Accueil!$M$27:$N$56,MATCH(VLOOKUP(CT8,Accueil!$Q$27:$R$126,2),Accueil!$M$27:$M$56,0),2)),\"\",INDEX(Accueil!$M$27:$N$56,MATCH(VLOOKUP(CT8,Accueil!$Q$27:$R$126,2),Accueil!$M$27:$M$56,0),2))","v":""},{"$f":"IF(ISERROR(INDEX(Accueil!$M$27:$N$56,MATCH(VLOOKUP(CU8,Accueil!$Q$27:$R$126,2),Accueil!$M$27:$M$56,0),2)),\"\",INDEX(Accueil!$M$27:$N$56,MATCH(VLOOKUP(CU8,Accueil!$Q$27:$R$126,2),Accueil!$M$27:$M$56,0),2))","v":""},{"$f":"IF(ISERROR(INDEX(Accueil!$M$27:$N$56,MATCH(VLOOKUP(CV8,Accueil!$Q$27:$R$126,2),Accueil!$M$27:$M$56,0),2)),\"\",INDEX(Accueil!$M$27:$N$56,MATCH(VLOOKUP(CV8,Accueil!$Q$27:$R$126,2),Accueil!$M$27:$M$56,0),2))","v":""},{"$f":"IF(ISERROR(INDEX(Accueil!$M$27:$N$56,MATCH(VLOOKUP(CW8,Accueil!$Q$27:$R$126,2),Accueil!$M$27:$M$56,0),2)),\"\",INDEX(Accueil!$M$27:$N$56,MATCH(VLOOKUP(CW8,Accueil!$Q$27:$R$126,2),Accueil!$M$27:$M$56,0),2))","v":""},{"$f":"IF(ISERROR(INDEX(Accueil!$M$27:$N$56,MATCH(VLOOKUP(CX8,Accueil!$Q$27:$R$126,2),Accueil!$M$27:$M$56,0),2)),\"\",INDEX(Accueil!$M$27:$N$56,MATCH(VLOOKUP(CX8,Accueil!$Q$27:$R$126,2),Accueil!$M$27:$M$56,0),2))","v":""},{"$f":"IF(ISERROR(INDEX(Accueil!$M$27:$N$56,MATCH(VLOOKUP(CY8,Accueil!$Q$27:$R$126,2),Accueil!$M$27:$M$56,0),2)),\"\",INDEX(Accueil!$M$27:$N$56,MATCH(VLOOKUP(CY8,Accueil!$Q$27:$R$126,2),Accueil!$M$27:$M$56,0),2))","v":""},{"$f":"IF(ISERROR(INDEX(Accueil!$M$27:$N$56,MATCH(VLOOKUP(CZ8,Accueil!$Q$27:$R$126,2),Accueil!$M$27:$M$56,0),2)),\"\",INDEX(Accueil!$M$27:$N$56,MATCH(VLOOKUP(CZ8,Accueil!$Q$27:$R$126,2),Accueil!$M$27:$M$56,0),2))","v":""},{"$f":"IF(ISERROR(INDEX(Accueil!$M$27:$N$56,MATCH(VLOOKUP(DA8,Accueil!$Q$27:$R$126,2),Accueil!$M$27:$M$56,0),2)),\"\",INDEX(Accueil!$M$27:$N$56,MATCH(VLOOKUP(DA8,Accueil!$Q$27:$R$126,2),Accueil!$M$27:$M$56,0),2))","v":""}]
[null,null,null,"Composante",null,{"$f":"IF(ISERROR(INDEX(Accueil!$L$27:$M$56,MATCH(VLOOKUP(F8,Accueil!$Q$27:$R$126,2),Accueil!$M$27:$M$56,0),1)),\"\",INDEX(Accueil!$L$27:$M$56,MATCH(VLOOKUP(F8,Accueil!$Q$27:$R$126,2),Accueil!$M$27:$M$56,0),1))","v":1},{"$f":"IF(ISERROR(INDEX(Accueil!$L$27:$M$56,MATCH(VLOOKUP(G8,Accueil!$Q$27:$R$126,2),Accueil!$M$27:$M$56,0),1)),\"\",INDEX(Accueil!$L$27:$M$56,MATCH(VLOOKUP(G8,Accueil!$Q$27:$R$126,2),Accueil!$M$27:$M$56,0),1))","v":1},{"$f":"IF(ISERROR(INDEX(Accueil!$L$27:$M$56,MATCH(VLOOKUP(H8,Accueil!$Q$27:$R$126,2),Accueil!$M$27:$M$56,0),1)),\"\",INDEX(Accueil!$L$27:$M$56,MATCH(VLOOKUP(H8,Accueil!$Q$27:$R$126,2),Accueil!$M$27:$M$56,0),1))","v":1},{"$f":"IF(ISERROR(INDEX(Accueil!$L$27:$M$56,MATCH(VLOOKUP(I8,Accueil!$Q$27:$R$126,2),Accueil!$M$27:$M$56,0),1)),\"\",INDEX(Accueil!$L$27:$M$56,MATCH(VLOOKUP(I8,Accueil!$Q$27:$R$126,2),Accueil!$M$27:$M$56,0),1))","v":7},{"$f":"IF(ISERROR(INDEX(Accueil!$L$27:$M$56,MATCH(VLOOKUP(J8,Accueil!$Q$27:$R$126,2),Accueil!$M$27:$M$56,0),1)),\"\",INDEX(Accueil!$L$27:$M$56,MATCH(VLOOKUP(J8,Accueil!$Q$27:$R$126,2),Accueil!$M$27:$M$56,0),1))","v":4},{"$f":"IF(ISERROR(INDEX(Accueil!$L$27:$M$56,MATCH(VLOOKUP(K8,Accueil!$Q$27:$R$126,2),Accueil!$M$27:$M$56,0),1)),\"\",INDEX(Accueil!$L$27:$M$56,MATCH(VLOOKUP(K8,Accueil!$Q$27:$R$126,2),Accueil!$M$27:$M$56,0),1))","v":4},{"$f":"IF(ISERROR(INDEX(Accueil!$L$27:$M$56,MATCH(VLOOKUP(L8,Accueil!$Q$27:$R$126,2),Accueil!$M$27:$M$56,0),1)),\"\",INDEX(Accueil!$L$27:$M$56,MATCH(VLOOKUP(L8,Accueil!$Q$27:$R$126,2),Accueil!$M$27:$M$56,0),1))","v":4},{"$f":"IF(ISERROR(INDEX(Accueil!$L$27:$M$56,MATCH(VLOOKUP(M8,Accueil!$Q$27:$R$126,2),Accueil!$M$27:$M$56,0),1)),\"\",INDEX(Accueil!$L$27:$M$56,MATCH(VLOOKUP(M8,Accueil!$Q$27:$R$126,2),Accueil!$M$27:$M$56,0),1))","v":9},{"$f":"IF(ISERROR(INDEX(Accueil!$L$27:$M$56,MATCH(VLOOKUP(N8,Accueil!$Q$27:$R$126,2),Accueil!$M$27:$M$56,0),1)),\"\",INDEX(Accueil!$L$27:$M$56,MATCH(VLOOKUP(N8,Accueil!$Q$27:$R$126,2),Accueil!$M$27:$M$56,0),1))","v":9},{"$f":"IF(ISERROR(INDEX(Accueil!$L$27:$M$56,MATCH(VLOOKUP(O8,Accueil!$Q$27:$R$126,2),Accueil!$M$27:$M$56,0),1)),\"\",INDEX(Accueil!$L$27:$M$56,MATCH(VLOOKUP(O8,Accueil!$Q$27:$R$126,2),Accueil!$M$27:$M$56,0),1))","v":9},{"$f":"IF(ISERROR(INDEX(Accueil!$L$27:$M$56,MATCH(VLOOKUP(P8,Accueil!$Q$27:$R$126,2),Accueil!$M$27:$M$56,0),1)),\"\",INDEX(Accueil!$L$27:$M$56,MATCH(VLOOKUP(P8,Accueil!$Q$27:$R$126,2),Accueil!$M$27:$M$56,0),1))","v":9},{"$f":"IF(ISERROR(INDEX(Accueil!$L$27:$M$56,MATCH(VLOOKUP(Q8,Accueil!$Q$27:$R$126,2),Accueil!$M$27:$M$56,0),1)),\"\",INDEX(Accueil!$L$27:$M$56,MATCH(VLOOKUP(Q8,Accueil!$Q$27:$R$126,2),Accueil!$M$27:$M$56,0),1))","v":6},{"$f":"IF(ISERROR(INDEX(Accueil!$L$27:$M$56,MATCH(VLOOKUP(R8,Accueil!$Q$27:$R$126,2),Accueil!$M$27:$M$56,0),1)),\"\",INDEX(Accueil!$L$27:$M$56,MATCH(VLOOKUP(R8,Accueil!$Q$27:$R$126,2),Accueil!$M$27:$M$56,0),1))","v":6},{"$f":"IF(ISERROR(INDEX(Accueil!$L$27:$M$56,MATCH(VLOOKUP(S8,Accueil!$Q$27:$R$126,2),Accueil!$M$27:$M$56,0),1)),\"\",INDEX(Accueil!$L$27:$M$56,MATCH(VLOOKUP(S8,Accueil!$Q$27:$R$126,2),Accueil!$M$27:$M$56,0),1))","v":2},{"$f":"IF(ISERROR(INDEX(Accueil!$L$27:$M$56,MATCH(VLOOKUP(T8,Accueil!$Q$27:$R$126,2),Accueil!$M$27:$M$56,0),1)),\"\",INDEX(Accueil!$L$27:$M$56,MATCH(VLOOKUP(T8,Accueil!$Q$27:$R$126,2),Accueil!$M$27:$M$56,0),1))","v":10},{"$f":"IF(ISERROR(INDEX(Accueil!$L$27:$M$56,MATCH(VLOOKUP(U8,Accueil!$Q$27:$R$126,2),Accueil!$M$27:$M$56,0),1)),\"\",INDEX(Accueil!$L$27:$M$56,MATCH(VLOOKUP(U8,Accueil!$Q$27:$R$126,2),Accueil!$M$27:$M$56,0),1))","v":10},{"$f":"IF(ISERROR(INDEX(Accueil!$L$27:$M$56,MATCH(VLOOKUP(V8,Accueil!$Q$27:$R$126,2),Accueil!$M$27:$M$56,0),1)),\"\",INDEX(Accueil!$L$27:$M$56,MATCH(VLOOKUP(V8,Accueil!$Q$27:$R$126,2),Accueil!$M$27:$M$56,0),1))","v":10},{"$f":"IF(ISERROR(INDEX(Accueil!$L$27:$M$56,MATCH(VLOOKUP(W8,Accueil!$Q$27:$R$126,2),Accueil!$M$27:$M$56,0),1)),\"\",INDEX(Accueil!$L$27:$M$56,MATCH(VLOOKUP(W8,Accueil!$Q$27:$R$126,2),Accueil!$M$27:$M$56,0),1))","v":11},{"$f":"IF(ISERROR(INDEX(Accueil!$L$27:$M$56,MATCH(VLOOKUP(X8,Accueil!$Q$27:$R$126,2),Accueil!$M$27:$M$56,0),1)),\"\",INDEX(Accueil!$L$27:$M$56,MATCH(VLOOKUP(X8,Accueil!$Q$27:$R$126,2),Accueil!$M$27:$M$56,0),1))","v":11},{"$f":"IF(ISERROR(INDEX(Accueil!$L$27:$M$56,MATCH(VLOOKUP(Y8,Accueil!$Q$27:$R$126,2),Accueil!$M$27:$M$56,0),1)),\"\",INDEX(Accueil!$L$27:$M$56,MATCH(VLOOKUP(Y8,Accueil!$Q$27:$R$126,2),Accueil!$M$27:$M$56,0),1))","v":5},{"$f":"IF(ISERROR(INDEX(Accueil!$L$27:$M$56,MATCH(VLOOKUP(Z8,Accueil!$Q$27:$R$126,2),Accueil!$M$27:$M$56,0),1)),\"\",INDEX(Accueil!$L$27:$M$56,MATCH(VLOOKUP(Z8,Accueil!$Q$27:$R$126,2),Accueil!$M$27:$M$56,0),1))","v":5},{"$f":"IF(ISERROR(INDEX(Accueil!$L$27:$M$56,MATCH(VLOOKUP(AA8,Accueil!$Q$27:$R$126,2),Accueil!$M$27:$M$56,0),1)),\"\",INDEX(Accueil!$L$27:$M$56,MATCH(VLOOKUP(AA8,Accueil!$Q$27:$R$126,2),Accueil!$M$27:$M$56,0),1))","v":5},{"$f":"IF(ISERROR(INDEX(Accueil!$L$27:$M$56,MATCH(VLOOKUP(AB8,Accueil!$Q$27:$R$126,2),Accueil!$M$27:$M$56,0),1)),\"\",INDEX(Accueil!$L$27:$M$56,MATCH(VLOOKUP(AB8,Accueil!$Q$27:$R$126,2),Accueil!$M$27:$M$56,0),1))","v":8},{"$f":"IF(ISERROR(INDEX(Accueil!$L$27:$M$56,MATCH(VLOOKUP(AC8,Accueil!$Q$27:$R$126,2),Accueil!$M$27:$M$56,0),1)),\"\",INDEX(Accueil!$L$27:$M$56,MATCH(VLOOKUP(AC8,Accueil!$Q$27:$R$126,2),Accueil!$M$27:$M$56,0),1))","v":8},{"$f":"IF(ISERROR(INDEX(Accueil!$L$27:$M$56,MATCH(VLOOKUP(AD8,Accueil!$Q$27:$R$126,2),Accueil!$M$27:$M$56,0),1)),\"\",INDEX(Accueil!$L$27:$M$56,MATCH(VLOOKUP(AD8,Accueil!$Q$27:$R$126,2),Accueil!$M$27:$M$56,0),1))","v":8},{"$f":"IF(ISERROR(INDEX(Accueil!$L$27:$M$56,MATCH(VLOOKUP(AE8,Accueil!$Q$27:$R$126,2),Accueil!$M$27:$M$56,0),1)),\"\",INDEX(Accueil!$L$27:$M$56,MATCH(VLOOKUP(AE8,Accueil!$Q$27:$R$126,2),Accueil!$M$27:$M$56,0),1))","v":3},{"$f":"IF(ISERROR(INDEX(Accueil!$L$27:$M$56,MATCH(VLOOKUP(AF8,Accueil!$Q$27:$R$126,2),Accueil!$M$27:$M$56,0),1)),\"\",INDEX(Accueil!$L$27:$M$56,MATCH(VLOOKUP(AF8,Accueil!$Q$27:$R$126,2),Accueil!$M$27:$M$56,0),1))","v":3},{"$f":"IF(ISERROR(INDEX(Accueil!$L$27:$M$56,MATCH(VLOOKUP(AG8,Accueil!$Q$27:$R$126,2),Accueil!$M$27:$M$56,0),1)),\"\",INDEX(Accueil!$L$27:$M$56,MATCH(VLOOKUP(AG8,Accueil!$Q$27:$R$126,2),Accueil!$M$27:$M$56,0),1))","v":3},{"$f":"IF(ISERROR(INDEX(Accueil!$L$27:$M$56,MATCH(VLOOKUP(AH8,Accueil!$Q$27:$R$126,2),Accueil!$M$27:$M$56,0),1)),\"\",INDEX(Accueil!$L$27:$M$56,MATCH(VLOOKUP(AH8,Accueil!$Q$27:$R$126,2),Accueil!$M$27:$M$56,0),1))","v":7},{"$f":"IF(ISERROR(INDEX(Accueil!$L$27:$M$56,MATCH(VLOOKUP(AI8,Accueil!$Q$27:$R$126,2),Accueil!$M$27:$M$56,0),1)),\"\",INDEX(Accueil!$L$27:$M$56,MATCH(VLOOKUP(AI8,Accueil!$Q$27:$R$126,2),Accueil!$M$27:$M$56,0),1))","v":10},{"$f":"IF(ISERROR(INDEX(Accueil!$L$27:$M$56,MATCH(VLOOKUP(AJ8,Accueil!$Q$27:$R$126,2),Accueil!$M$27:$M$56,0),1)),\"\",INDEX(Accueil!$L$27:$M$56,MATCH(VLOOKUP(AJ8,Accueil!$Q$27:$R$126,2),Accueil!$M$27:$M$56,0),1))","v":""},{"$f":"IF(ISERROR(INDEX(Accueil!$L$27:$M$56,MATCH(VLOOKUP(AK8,Accueil!$Q$27:$R$126,2),Accueil!$M$27:$M$56,0),1)),\"\",INDEX(Accueil!$L$27:$M$56,MATCH(VLOOKUP(AK8,Accueil!$Q$27:$R$126,2),Accueil!$M$27:$M$56,0),1))","v":""},{"$f":"IF(ISERROR(INDEX(Accueil!$L$27:$M$56,MATCH(VLOOKUP(AL8,Accueil!$Q$27:$R$126,2),Accueil!$M$27:$M$56,0),1)),\"\",INDEX(Accueil!$L$27:$M$56,MATCH(VLOOKUP(AL8,Accueil!$Q$27:$R$126,2),Accueil!$M$27:$M$56,0),1))","v":""},{"$f":"IF(ISERROR(INDEX(Accueil!$L$27:$M$56,MATCH(VLOOKUP(AM8,Accueil!$Q$27:$R$126,2),Accueil!$M$27:$M$56,0),1)),\"\",INDEX(Accueil!$L$27:$M$56,MATCH(VLOOKUP(AM8,Accueil!$Q$27:$R$126,2),Accueil!$M$27:$M$56,0),1))","v":""},{"$f":"IF(ISERROR(INDEX(Accueil!$L$27:$M$56,MATCH(VLOOKUP(AN8,Accueil!$Q$27:$R$126,2),Accueil!$M$27:$M$56,0),1)),\"\",INDEX(Accueil!$L$27:$M$56,MATCH(VLOOKUP(AN8,Accueil!$Q$27:$R$126,2),Accueil!$M$27:$M$56,0),1))","v":""},{"$f":"IF(ISERROR(INDEX(Accueil!$L$27:$M$56,MATCH(VLOOKUP(AO8,Accueil!$Q$27:$R$126,2),Accueil!$M$27:$M$56,0),1)),\"\",INDEX(Accueil!$L$27:$M$56,MATCH(VLOOKUP(AO8,Accueil!$Q$27:$R$126,2),Accueil!$M$27:$M$56,0),1))","v":""},{"$f":"IF(ISERROR(INDEX(Accueil!$L$27:$M$56,MATCH(VLOOKUP(AP8,Accueil!$Q$27:$R$126,2),Accueil!$M$27:$M$56,0),1)),\"\",INDEX(Accueil!$L$27:$M$56,MATCH(VLOOKUP(AP8,Accueil!$Q$27:$R$126,2),Accueil!$M$27:$M$56,0),1))","v":""},{"$f":"IF(ISERROR(INDEX(Accueil!$L$27:$M$56,MATCH(VLOOKUP(AQ8,Accueil!$Q$27:$R$126,2),Accueil!$M$27:$M$56,0),1)),\"\",INDEX(Accueil!$L$27:$M$56,MATCH(VLOOKUP(AQ8,Accueil!$Q$27:$R$126,2),Accueil!$M$27:$M$56,0),1))","v":""},{"$f":"IF(ISERROR(INDEX(Accueil!$L$27:$M$56,MATCH(VLOOKUP(AR8,Accueil!$Q$27:$R$126,2),Accueil!$M$27:$M$56,0),1)),\"\",INDEX(Accueil!$L$27:$M$56,MATCH(VLOOKUP(AR8,Accueil!$Q$27:$R$126,2),Accueil!$M$27:$M$56,0),1))","v":""},{"$f":"IF(ISERROR(INDEX(Accueil!$L$27:$M$56,MATCH(VLOOKUP(AS8,Accueil!$Q$27:$R$126,2),Accueil!$M$27:$M$56,0),1)),\"\",INDEX(Accueil!$L$27:$M$56,MATCH(VLOOKUP(AS8,Accueil!$Q$27:$R$126,2),Accueil!$M$27:$M$56,0),1))","v":""},{"$f":"IF(ISERROR(INDEX(Accueil!$L$27:$M$56,MATCH(VLOOKUP(AT8,Accueil!$Q$27:$R$126,2),Accueil!$M$27:$M$56,0),1)),\"\",INDEX(Accueil!$L$27:$M$56,MATCH(VLOOKUP(AT8,Accueil!$Q$27:$R$126,2),Accueil!$M$27:$M$56,0),1))","v":""},{"$f":"IF(ISERROR(INDEX(Accueil!$L$27:$M$56,MATCH(VLOOKUP(AU8,Accueil!$Q$27:$R$126,2),Accueil!$M$27:$M$56,0),1)),\"\",INDEX(Accueil!$L$27:$M$56,MATCH(VLOOKUP(AU8,Accueil!$Q$27:$R$126,2),Accueil!$M$27:$M$56,0),1))","v":""},{"$f":"IF(ISERROR(INDEX(Accueil!$L$27:$M$56,MATCH(VLOOKUP(AV8,Accueil!$Q$27:$R$126,2),Accueil!$M$27:$M$56,0),1)),\"\",INDEX(Accueil!$L$27:$M$56,MATCH(VLOOKUP(AV8,Accueil!$Q$27:$R$126,2),Accueil!$M$27:$M$56,0),1))","v":""},{"$f":"IF(ISERROR(INDEX(Accueil!$L$27:$M$56,MATCH(VLOOKUP(AW8,Accueil!$Q$27:$R$126,2),Accueil!$M$27:$M$56,0),1)),\"\",INDEX(Accueil!$L$27:$M$56,MATCH(VLOOKUP(AW8,Accueil!$Q$27:$R$126,2),Accueil!$M$27:$M$56,0),1))","v":""},{"$f":"IF(ISERROR(INDEX(Accueil!$L$27:$M$56,MATCH(VLOOKUP(AX8,Accueil!$Q$27:$R$126,2),Accueil!$M$27:$M$56,0),1)),\"\",INDEX(Accueil!$L$27:$M$56,MATCH(VLOOKUP(AX8,Accueil!$Q$27:$R$126,2),Accueil!$M$27:$M$56,0),1))","v":""},{"$f":"IF(ISERROR(INDEX(Accueil!$L$27:$M$56,MATCH(VLOOKUP(AY8,Accueil!$Q$27:$R$126,2),Accueil!$M$27:$M$56,0),1)),\"\",INDEX(Accueil!$L$27:$M$56,MATCH(VLOOKUP(AY8,Accueil!$Q$27:$R$126,2),Accueil!$M$27:$M$56,0),1))","v":""},{"$f":"IF(ISERROR(INDEX(Accueil!$L$27:$M$56,MATCH(VLOOKUP(AZ8,Accueil!$Q$27:$R$126,2),Accueil!$M$27:$M$56,0),1)),\"\",INDEX(Accueil!$L$27:$M$56,MATCH(VLOOKUP(AZ8,Accueil!$Q$27:$R$126,2),Accueil!$M$27:$M$56,0),1))","v":""},{"$f":"IF(ISERROR(INDEX(Accueil!$L$27:$M$56,MATCH(VLOOKUP(BA8,Accueil!$Q$27:$R$126,2),Accueil!$M$27:$M$56,0),1)),\"\",INDEX(Accueil!$L$27:$M$56,MATCH(VLOOKUP(BA8,Accueil!$Q$27:$R$126,2),Accueil!$M$27:$M$56,0),1))","v":""},{"$f":"IF(ISERROR(INDEX(Accueil!$L$27:$M$56,MATCH(VLOOKUP(BB8,Accueil!$Q$27:$R$126,2),Accueil!$M$27:$M$56,0),1)),\"\",INDEX(Accueil!$L$27:$M$56,MATCH(VLOOKUP(BB8,Accueil!$Q$27:$R$126,2),Accueil!$M$27:$M$56,0),1))","v":""},{"$f":"IF(ISERROR(INDEX(Accueil!$L$27:$M$56,MATCH(VLOOKUP(BC8,Accueil!$Q$27:$R$126,2),Accueil!$M$27:$M$56,0),1)),\"\",INDEX(Accueil!$L$27:$M$56,MATCH(VLOOKUP(BC8,Accueil!$Q$27:$R$126,2),Accueil!$M$27:$M$56,0),1))","v":""},{"$f":"IF(ISERROR(INDEX(Accueil!$L$27:$M$56,MATCH(VLOOKUP(BD8,Accueil!$Q$27:$R$126,2),Accueil!$M$27:$M$56,0),1)),\"\",INDEX(Accueil!$L$27:$M$56,MATCH(VLOOKUP(BD8,Accueil!$Q$27:$R$126,2),Accueil!$M$27:$M$56,0),1))","v":""},{"$f":"IF(ISERROR(INDEX(Accueil!$L$27:$M$56,MATCH(VLOOKUP(BE8,Accueil!$Q$27:$R$126,2),Accueil!$M$27:$M$56,0),1)),\"\",INDEX(Accueil!$L$27:$M$56,MATCH(VLOOKUP(BE8,Accueil!$Q$27:$R$126,2),Accueil!$M$27:$M$56,0),1))","v":""},{"$f":"IF(ISERROR(INDEX(Accueil!$L$27:$M$56,MATCH(VLOOKUP(BF8,Accueil!$Q$27:$R$126,2),Accueil!$M$27:$M$56,0),1)),\"\",INDEX(Accueil!$L$27:$M$56,MATCH(VLOOKUP(BF8,Accueil!$Q$27:$R$126,2),Accueil!$M$27:$M$56,0),1))","v":""},{"$f":"IF(ISERROR(INDEX(Accueil!$L$27:$M$56,MATCH(VLOOKUP(BG8,Accueil!$Q$27:$R$126,2),Accueil!$M$27:$M$56,0),1)),\"\",INDEX(Accueil!$L$27:$M$56,MATCH(VLOOKUP(BG8,Accueil!$Q$27:$R$126,2),Accueil!$M$27:$M$56,0),1))","v":""},{"$f":"IF(ISERROR(INDEX(Accueil!$L$27:$M$56,MATCH(VLOOKUP(BH8,Accueil!$Q$27:$R$126,2),Accueil!$M$27:$M$56,0),1)),\"\",INDEX(Accueil!$L$27:$M$56,MATCH(VLOOKUP(BH8,Accueil!$Q$27:$R$126,2),Accueil!$M$27:$M$56,0),1))","v":""},{"$f":"IF(ISERROR(INDEX(Accueil!$L$27:$M$56,MATCH(VLOOKUP(BI8,Accueil!$Q$27:$R$126,2),Accueil!$M$27:$M$56,0),1)),\"\",INDEX(Accueil!$L$27:$M$56,MATCH(VLOOKUP(BI8,Accueil!$Q$27:$R$126,2),Accueil!$M$27:$M$56,0),1))","v":""},{"$f":"IF(ISERROR(INDEX(Accueil!$L$27:$M$56,MATCH(VLOOKUP(BJ8,Accueil!$Q$27:$R$126,2),Accueil!$M$27:$M$56,0),1)),\"\",INDEX(Accueil!$L$27:$M$56,MATCH(VLOOKUP(BJ8,Accueil!$Q$27:$R$126,2),Accueil!$M$27:$M$56,0),1))","v":""},{"$f":"IF(ISERROR(INDEX(Accueil!$L$27:$M$56,MATCH(VLOOKUP(BK8,Accueil!$Q$27:$R$126,2),Accueil!$M$27:$M$56,0),1)),\"\",INDEX(Accueil!$L$27:$M$56,MATCH(VLOOKUP(BK8,Accueil!$Q$27:$R$126,2),Accueil!$M$27:$M$56,0),1))","v":""},{"$f":"IF(ISERROR(INDEX(Accueil!$L$27:$M$56,MATCH(VLOOKUP(BL8,Accueil!$Q$27:$R$126,2),Accueil!$M$27:$M$56,0),1)),\"\",INDEX(Accueil!$L$27:$M$56,MATCH(VLOOKUP(BL8,Accueil!$Q$27:$R$126,2),Accueil!$M$27:$M$56,0),1))","v":""},{"$f":"IF(ISERROR(INDEX(Accueil!$L$27:$M$56,MATCH(VLOOKUP(BM8,Accueil!$Q$27:$R$126,2),Accueil!$M$27:$M$56,0),1)),\"\",INDEX(Accueil!$L$27:$M$56,MATCH(VLOOKUP(BM8,Accueil!$Q$27:$R$126,2),Accueil!$M$27:$M$56,0),1))","v":""},{"$f":"IF(ISERROR(INDEX(Accueil!$L$27:$M$56,MATCH(VLOOKUP(BN8,Accueil!$Q$27:$R$126,2),Accueil!$M$27:$M$56,0),1)),\"\",INDEX(Accueil!$L$27:$M$56,MATCH(VLOOKUP(BN8,Accueil!$Q$27:$R$126,2),Accueil!$M$27:$M$56,0),1))","v":""},{"$f":"IF(ISERROR(INDEX(Accueil!$L$27:$M$56,MATCH(VLOOKUP(BO8,Accueil!$Q$27:$R$126,2),Accueil!$M$27:$M$56,0),1)),\"\",INDEX(Accueil!$L$27:$M$56,MATCH(VLOOKUP(BO8,Accueil!$Q$27:$R$126,2),Accueil!$M$27:$M$56,0),1))","v":""},{"$f":"IF(ISERROR(INDEX(Accueil!$L$27:$M$56,MATCH(VLOOKUP(BP8,Accueil!$Q$27:$R$126,2),Accueil!$M$27:$M$56,0),1)),\"\",INDEX(Accueil!$L$27:$M$56,MATCH(VLOOKUP(BP8,Accueil!$Q$27:$R$126,2),Accueil!$M$27:$M$56,0),1))","v":""},{"$f":"IF(ISERROR(INDEX(Accueil!$L$27:$M$56,MATCH(VLOOKUP(BQ8,Accueil!$Q$27:$R$126,2),Accueil!$M$27:$M$56,0),1)),\"\",INDEX(Accueil!$L$27:$M$56,MATCH(VLOOKUP(BQ8,Accueil!$Q$27:$R$126,2),Accueil!$M$27:$M$56,0),1))","v":""},{"$f":"IF(ISERROR(INDEX(Accueil!$L$27:$M$56,MATCH(VLOOKUP(BR8,Accueil!$Q$27:$R$126,2),Accueil!$M$27:$M$56,0),1)),\"\",INDEX(Accueil!$L$27:$M$56,MATCH(VLOOKUP(BR8,Accueil!$Q$27:$R$126,2),Accueil!$M$27:$M$56,0),1))","v":""},{"$f":"IF(ISERROR(INDEX(Accueil!$L$27:$M$56,MATCH(VLOOKUP(BS8,Accueil!$Q$27:$R$126,2),Accueil!$M$27:$M$56,0),1)),\"\",INDEX(Accueil!$L$27:$M$56,MATCH(VLOOKUP(BS8,Accueil!$Q$27:$R$126,2),Accueil!$M$27:$M$56,0),1))","v":""},{"$f":"IF(ISERROR(INDEX(Accueil!$L$27:$M$56,MATCH(VLOOKUP(BT8,Accueil!$Q$27:$R$126,2),Accueil!$M$27:$M$56,0),1)),\"\",INDEX(Accueil!$L$27:$M$56,MATCH(VLOOKUP(BT8,Accueil!$Q$27:$R$126,2),Accueil!$M$27:$M$56,0),1))","v":""},{"$f":"IF(ISERROR(INDEX(Accueil!$L$27:$M$56,MATCH(VLOOKUP(BU8,Accueil!$Q$27:$R$126,2),Accueil!$M$27:$M$56,0),1)),\"\",INDEX(Accueil!$L$27:$M$56,MATCH(VLOOKUP(BU8,Accueil!$Q$27:$R$126,2),Accueil!$M$27:$M$56,0),1))","v":""},{"$f":"IF(ISERROR(INDEX(Accueil!$L$27:$M$56,MATCH(VLOOKUP(BV8,Accueil!$Q$27:$R$126,2),Accueil!$M$27:$M$56,0),1)),\"\",INDEX(Accueil!$L$27:$M$56,MATCH(VLOOKUP(BV8,Accueil!$Q$27:$R$126,2),Accueil!$M$27:$M$56,0),1))","v":""},{"$f":"IF(ISERROR(INDEX(Accueil!$L$27:$M$56,MATCH(VLOOKUP(BW8,Accueil!$Q$27:$R$126,2),Accueil!$M$27:$M$56,0),1)),\"\",INDEX(Accueil!$L$27:$M$56,MATCH(VLOOKUP(BW8,Accueil!$Q$27:$R$126,2),Accueil!$M$27:$M$56,0),1))","v":""},{"$f":"IF(ISERROR(INDEX(Accueil!$L$27:$M$56,MATCH(VLOOKUP(BX8,Accueil!$Q$27:$R$126,2),Accueil!$M$27:$M$56,0),1)),\"\",INDEX(Accueil!$L$27:$M$56,MATCH(VLOOKUP(BX8,Accueil!$Q$27:$R$126,2),Accueil!$M$27:$M$56,0),1))","v":""},{"$f":"IF(ISERROR(INDEX(Accueil!$L$27:$M$56,MATCH(VLOOKUP(BY8,Accueil!$Q$27:$R$126,2),Accueil!$M$27:$M$56,0),1)),\"\",INDEX(Accueil!$L$27:$M$56,MATCH(VLOOKUP(BY8,Accueil!$Q$27:$R$126,2),Accueil!$M$27:$M$56,0),1))","v":""},{"$f":"IF(ISERROR(INDEX(Accueil!$L$27:$M$56,MATCH(VLOOKUP(BZ8,Accueil!$Q$27:$R$126,2),Accueil!$M$27:$M$56,0),1)),\"\",INDEX(Accueil!$L$27:$M$56,MATCH(VLOOKUP(BZ8,Accueil!$Q$27:$R$126,2),Accueil!$M$27:$M$56,0),1))","v":""},{"$f":"IF(ISERROR(INDEX(Accueil!$L$27:$M$56,MATCH(VLOOKUP(CA8,Accueil!$Q$27:$R$126,2),Accueil!$M$27:$M$56,0),1)),\"\",INDEX(Accueil!$L$27:$M$56,MATCH(VLOOKUP(CA8,Accueil!$Q$27:$R$126,2),Accueil!$M$27:$M$56,0),1))","v":""},{"$f":"IF(ISERROR(INDEX(Accueil!$L$27:$M$56,MATCH(VLOOKUP(CB8,Accueil!$Q$27:$R$126,2),Accueil!$M$27:$M$56,0),1)),\"\",INDEX(Accueil!$L$27:$M$56,MATCH(VLOOKUP(CB8,Accueil!$Q$27:$R$126,2),Accueil!$M$27:$M$56,0),1))","v":""},{"$f":"IF(ISERROR(INDEX(Accueil!$L$27:$M$56,MATCH(VLOOKUP(CC8,Accueil!$Q$27:$R$126,2),Accueil!$M$27:$M$56,0),1)),\"\",INDEX(Accueil!$L$27:$M$56,MATCH(VLOOKUP(CC8,Accueil!$Q$27:$R$126,2),Accueil!$M$27:$M$56,0),1))","v":""},{"$f":"IF(ISERROR(INDEX(Accueil!$L$27:$M$56,MATCH(VLOOKUP(CD8,Accueil!$Q$27:$R$126,2),Accueil!$M$27:$M$56,0),1)),\"\",INDEX(Accueil!$L$27:$M$56,MATCH(VLOOKUP(CD8,Accueil!$Q$27:$R$126,2),Accueil!$M$27:$M$56,0),1))","v":""},{"$f":"IF(ISERROR(INDEX(Accueil!$L$27:$M$56,MATCH(VLOOKUP(CE8,Accueil!$Q$27:$R$126,2),Accueil!$M$27:$M$56,0),1)),\"\",INDEX(Accueil!$L$27:$M$56,MATCH(VLOOKUP(CE8,Accueil!$Q$27:$R$126,2),Accueil!$M$27:$M$56,0),1))","v":""},{"$f":"IF(ISERROR(INDEX(Accueil!$L$27:$M$56,MATCH(VLOOKUP(CF8,Accueil!$Q$27:$R$126,2),Accueil!$M$27:$M$56,0),1)),\"\",INDEX(Accueil!$L$27:$M$56,MATCH(VLOOKUP(CF8,Accueil!$Q$27:$R$126,2),Accueil!$M$27:$M$56,0),1))","v":""},{"$f":"IF(ISERROR(INDEX(Accueil!$L$27:$M$56,MATCH(VLOOKUP(CG8,Accueil!$Q$27:$R$126,2),Accueil!$M$27:$M$56,0),1)),\"\",INDEX(Accueil!$L$27:$M$56,MATCH(VLOOKUP(CG8,Accueil!$Q$27:$R$126,2),Accueil!$M$27:$M$56,0),1))","v":""},{"$f":"IF(ISERROR(INDEX(Accueil!$L$27:$M$56,MATCH(VLOOKUP(CH8,Accueil!$Q$27:$R$126,2),Accueil!$M$27:$M$56,0),1)),\"\",INDEX(Accueil!$L$27:$M$56,MATCH(VLOOKUP(CH8,Accueil!$Q$27:$R$126,2),Accueil!$M$27:$M$56,0),1))","v":""},{"$f":"IF(ISERROR(INDEX(Accueil!$L$27:$M$56,MATCH(VLOOKUP(CI8,Accueil!$Q$27:$R$126,2),Accueil!$M$27:$M$56,0),1)),\"\",INDEX(Accueil!$L$27:$M$56,MATCH(VLOOKUP(CI8,Accueil!$Q$27:$R$126,2),Accueil!$M$27:$M$56,0),1))","v":""},{"$f":"IF(ISERROR(INDEX(Accueil!$L$27:$M$56,MATCH(VLOOKUP(CJ8,Accueil!$Q$27:$R$126,2),Accueil!$M$27:$M$56,0),1)),\"\",INDEX(Accueil!$L$27:$M$56,MATCH(VLOOKUP(CJ8,Accueil!$Q$27:$R$126,2),Accueil!$M$27:$M$56,0),1))","v":""},{"$f":"IF(ISERROR(INDEX(Accueil!$L$27:$M$56,MATCH(VLOOKUP(CK8,Accueil!$Q$27:$R$126,2),Accueil!$M$27:$M$56,0),1)),\"\",INDEX(Accueil!$L$27:$M$56,MATCH(VLOOKUP(CK8,Accueil!$Q$27:$R$126,2),Accueil!$M$27:$M$56,0),1))","v":""},{"$f":"IF(ISERROR(INDEX(Accueil!$L$27:$M$56,MATCH(VLOOKUP(CL8,Accueil!$Q$27:$R$126,2),Accueil!$M$27:$M$56,0),1)),\"\",INDEX(Accueil!$L$27:$M$56,MATCH(VLOOKUP(CL8,Accueil!$Q$27:$R$126,2),Accueil!$M$27:$M$56,0),1))","v":""},{"$f":"IF(ISERROR(INDEX(Accueil!$L$27:$M$56,MATCH(VLOOKUP(CM8,Accueil!$Q$27:$R$126,2),Accueil!$M$27:$M$56,0),1)),\"\",INDEX(Accueil!$L$27:$M$56,MATCH(VLOOKUP(CM8,Accueil!$Q$27:$R$126,2),Accueil!$M$27:$M$56,0),1))","v":""},{"$f":"IF(ISERROR(INDEX(Accueil!$L$27:$M$56,MATCH(VLOOKUP(CN8,Accueil!$Q$27:$R$126,2),Accueil!$M$27:$M$56,0),1)),\"\",INDEX(Accueil!$L$27:$M$56,MATCH(VLOOKUP(CN8,Accueil!$Q$27:$R$126,2),Accueil!$M$27:$M$56,0),1))","v":""},{"$f":"IF(ISERROR(INDEX(Accueil!$L$27:$M$56,MATCH(VLOOKUP(CO8,Accueil!$Q$27:$R$126,2),Accueil!$M$27:$M$56,0),1)),\"\",INDEX(Accueil!$L$27:$M$56,MATCH(VLOOKUP(CO8,Accueil!$Q$27:$R$126,2),Accueil!$M$27:$M$56,0),1))","v":""},{"$f":"IF(ISERROR(INDEX(Accueil!$L$27:$M$56,MATCH(VLOOKUP(CP8,Accueil!$Q$27:$R$126,2),Accueil!$M$27:$M$56,0),1)),\"\",INDEX(Accueil!$L$27:$M$56,MATCH(VLOOKUP(CP8,Accueil!$Q$27:$R$126,2),Accueil!$M$27:$M$56,0),1))","v":""},{"$f":"IF(ISERROR(INDEX(Accueil!$L$27:$M$56,MATCH(VLOOKUP(CQ8,Accueil!$Q$27:$R$126,2),Accueil!$M$27:$M$56,0),1)),\"\",INDEX(Accueil!$L$27:$M$56,MATCH(VLOOKUP(CQ8,Accueil!$Q$27:$R$126,2),Accueil!$M$27:$M$56,0),1))","v":""},{"$f":"IF(ISERROR(INDEX(Accueil!$L$27:$M$56,MATCH(VLOOKUP(CR8,Accueil!$Q$27:$R$126,2),Accueil!$M$27:$M$56,0),1)),\"\",INDEX(Accueil!$L$27:$M$56,MATCH(VLOOKUP(CR8,Accueil!$Q$27:$R$126,2),Accueil!$M$27:$M$56,0),1))","v":""},{"$f":"IF(ISERROR(INDEX(Accueil!$L$27:$M$56,MATCH(VLOOKUP(CS8,Accueil!$Q$27:$R$126,2),Accueil!$M$27:$M$56,0),1)),\"\",INDEX(Accueil!$L$27:$M$56,MATCH(VLOOKUP(CS8,Accueil!$Q$27:$R$126,2),Accueil!$M$27:$M$56,0),1))","v":""},{"$f":"IF(ISERROR(INDEX(Accueil!$L$27:$M$56,MATCH(VLOOKUP(CT8,Accueil!$Q$27:$R$126,2),Accueil!$M$27:$M$56,0),1)),\"\",INDEX(Accueil!$L$27:$M$56,MATCH(VLOOKUP(CT8,Accueil!$Q$27:$R$126,2),Accueil!$M$27:$M$56,0),1))","v":""},{"$f":"IF(ISERROR(INDEX(Accueil!$L$27:$M$56,MATCH(VLOOKUP(CU8,Accueil!$Q$27:$R$126,2),Accueil!$M$27:$M$56,0),1)),\"\",INDEX(Accueil!$L$27:$M$56,MATCH(VLOOKUP(CU8,Accueil!$Q$27:$R$126,2),Accueil!$M$27:$M$56,0),1))","v":""},{"$f":"IF(ISERROR(INDEX(Accueil!$L$27:$M$56,MATCH(VLOOKUP(CV8,Accueil!$Q$27:$R$126,2),Accueil!$M$27:$M$56,0),1)),\"\",INDEX(Accueil!$L$27:$M$56,MATCH(VLOOKUP(CV8,Accueil!$Q$27:$R$126,2),Accueil!$M$27:$M$56,0),1))","v":""},{"$f":"IF(ISERROR(INDEX(Accueil!$L$27:$M$56,MATCH(VLOOKUP(CW8,Accueil!$Q$27:$R$126,2),Accueil!$M$27:$M$56,0),1)),\"\",INDEX(Accueil!$L$27:$M$56,MATCH(VLOOKUP(CW8,Accueil!$Q$27:$R$126,2),Accueil!$M$27:$M$56,0),1))","v":""},{"$f":"IF(ISERROR(INDEX(Accueil!$L$27:$M$56,MATCH(VLOOKUP(CX8,Accueil!$Q$27:$R$126,2),Accueil!$M$27:$M$56,0),1)),\"\",INDEX(Accueil!$L$27:$M$56,MATCH(VLOOKUP(CX8,Accueil!$Q$27:$R$126,2),Accueil!$M$27:$M$56,0),1))","v":""},{"$f":"IF(ISERROR(INDEX(Accueil!$L$27:$M$56,MATCH(VLOOKUP(CY8,Accueil!$Q$27:$R$126,2),Accueil!$M$27:$M$56,0),1)),\"\",INDEX(Accueil!$L$27:$M$56,MATCH(VLOOKUP(CY8,Accueil!$Q$27:$R$126,2),Accueil!$M$27:$M$56,0),1))","v":""},{"$f":"IF(ISERROR(INDEX(Accueil!$L$27:$M$56,MATCH(VLOOKUP(CZ8,Accueil!$Q$27:$R$126,2),Accueil!$M$27:$M$56,0),1)),\"\",INDEX(Accueil!$L$27:$M$56,MATCH(VLOOKUP(CZ8,Accueil!$Q$27:$R$126,2),Accueil!$M$27:$M$56,0),1))","v":""},{"$f":"IF(ISERROR(INDEX(Accueil!$L$27:$M$56,MATCH(VLOOKUP(DA8,Accueil!$Q$27:$R$126,2),Accueil!$M$27:$M$56,0),1)),\"\",INDEX(Accueil!$L$27:$M$56,MATCH(VLOOKUP(DA8,Accueil!$Q$27:$R$126,2),Accueil!$M$27:$M$56,0),1))","v":""}]
[null,null,null,"Codage",null,{"$f":"IF(ISERROR(VLOOKUP(F8,Accueil!$Q$27:$T$126,4,0)),0,VLOOKUP(F8,Accueil!$Q$27:$T$126,4,0))","v":0},{"$f":"IF(ISERROR(VLOOKUP(G8,Accueil!$Q$27:$T$126,4,0)),0,VLOOKUP(G8,Accueil!$Q$27:$T$126,4,0))","v":0},{"$f":"IF(ISERROR(VLOOKUP(H8,Accueil!$Q$27:$T$126,4,0)),0,VLOOKUP(H8,Accueil!$Q$27:$T$126,4,0))","v":0},{"$f":"IF(ISERROR(VLOOKUP(I8,Accueil!$Q$27:$T$126,4,0)),0,VLOOKUP(I8,Accueil!$Q$27:$T$126,4,0))","v":0},{"$f":"IF(ISERROR(VLOOKUP(J8,Accueil!$Q$27:$T$126,4,0)),0,VLOOKUP(J8,Accueil!$Q$27:$T$126,4,0))","v":0},{"$f":"IF(ISERROR(VLOOKUP(K8,Accueil!$Q$27:$T$126,4,0)),0,VLOOKUP(K8,Accueil!$Q$27:$T$126,4,0))","v":0},{"$f":"IF(ISERROR(VLOOKUP(L8,Accueil!$Q$27:$T$126,4,0)),0,VLOOKUP(L8,Accueil!$Q$27:$T$126,4,0))","v":0},{"$f":"IF(ISERROR(VLOOKUP(M8,Accueil!$Q$27:$T$126,4,0)),0,VLOOKUP(M8,Accueil!$Q$27:$T$126,4,0))","v":0},{"$f":"IF(ISERROR(VLOOKUP(N8,Accueil!$Q$27:$T$126,4,0)),0,VLOOKUP(N8,Accueil!$Q$27:$T$126,4,0))","v":0},{"$f":"IF(ISERROR(VLOOKUP(O8,Accueil!$Q$27:$T$126,4,0)),0,VLOOKUP(O8,Accueil!$Q$27:$T$126,4,0))","v":0},{"$f":"IF(ISERROR(VLOOKUP(P8,Accueil!$Q$27:$T$126,4,0)),0,VLOOKUP(P8,Accueil!$Q$27:$T$126,4,0))","v":0},{"$f":"IF(ISERROR(VLOOKUP(Q8,Accueil!$Q$27:$T$126,4,0)),0,VLOOKUP(Q8,Accueil!$Q$27:$T$126,4,0))","v":0},{"$f":"IF(ISERROR(VLOOKUP(R8,Accueil!$Q$27:$T$126,4,0)),0,VLOOKUP(R8,Accueil!$Q$27:$T$126,4,0))","v":0},{"$f":"IF(ISERROR(VLOOKUP(S8,Accueil!$Q$27:$T$126,4,0)),0,VLOOKUP(S8,Accueil!$Q$27:$T$126,4,0))","v":0},{"$f":"IF(ISERROR(VLOOKUP(T8,Accueil!$Q$27:$T$126,4,0)),0,VLOOKUP(T8,Accueil!$Q$27:$T$126,4,0))","v":0},{"$f":"IF(ISERROR(VLOOKUP(U8,Accueil!$Q$27:$T$126,4,0)),0,VLOOKUP(U8,Accueil!$Q$27:$T$126,4,0))","v":0},{"$f":"IF(ISERROR(VLOOKUP(V8,Accueil!$Q$27:$T$126,4,0)),0,VLOOKUP(V8,Accueil!$Q$27:$T$126,4,0))","v":0},{"$f":"IF(ISERROR(VLOOKUP(W8,Accueil!$Q$27:$T$126,4,0)),0,VLOOKUP(W8,Accueil!$Q$27:$T$126,4,0))","v":0},{"$f":"IF(ISERROR(VLOOKUP(X8,Accueil!$Q$27:$T$126,4,0)),0,VLOOKUP(X8,Accueil!$Q$27:$T$126,4,0))","v":0},{"$f":"IF(ISERROR(VLOOKUP(Y8,Accueil!$Q$27:$T$126,4,0)),0,VLOOKUP(Y8,Accueil!$Q$27:$T$126,4,0))","v":0},{"$f":"IF(ISERROR(VLOOKUP(Z8,Accueil!$Q$27:$T$126,4,0)),0,VLOOKUP(Z8,Accueil!$Q$27:$T$126,4,0))","v":0},{"$f":"IF(ISERROR(VLOOKUP(AA8,Accueil!$Q$27:$T$126,4,0)),0,VLOOKUP(AA8,Accueil!$Q$27:$T$126,4,0))","v":0},{"$f":"IF(ISERROR(VLOOKUP(AB8,Accueil!$Q$27:$T$126,4,0)),0,VLOOKUP(AB8,Accueil!$Q$27:$T$126,4,0))","v":0},{"$f":"IF(ISERROR(VLOOKUP(AC8,Accueil!$Q$27:$T$126,4,0)),0,VLOOKUP(AC8,Accueil!$Q$27:$T$126,4,0))","v":0},{"$f":"IF(ISERROR(VLOOKUP(AD8,Accueil!$Q$27:$T$126,4,0)),0,VLOOKUP(AD8,Accueil!$Q$27:$T$126,4,0))","v":0},{"$f":"IF(ISERROR(VLOOKUP(AE8,Accueil!$Q$27:$T$126,4,0)),0,VLOOKUP(AE8,Accueil!$Q$27:$T$126,4,0))","v":0},{"$f":"IF(ISERROR(VLOOKUP(AF8,Accueil!$Q$27:$T$126,4,0)),0,VLOOKUP(AF8,Accueil!$Q$27:$T$126,4,0))","v":0},{"$f":"IF(ISERROR(VLOOKUP(AG8,Accueil!$Q$27:$T$126,4,0)),0,VLOOKUP(AG8,Accueil!$Q$27:$T$126,4,0))","v":0},{"$f":"IF(ISERROR(VLOOKUP(AH8,Accueil!$Q$27:$T$126,4,0)),0,VLOOKUP(AH8,Accueil!$Q$27:$T$126,4,0))","v":0},{"$f":"IF(ISERROR(VLOOKUP(AI8,Accueil!$Q$27:$T$126,4,0)),0,VLOOKUP(AI8,Accueil!$Q$27:$T$126,4,0))","v":0},{"$f":"IF(ISERROR(VLOOKUP(AJ8,Accueil!$Q$27:$T$126,4,0)),0,VLOOKUP(AJ8,Accueil!$Q$27:$T$126,4,0))","v":0},{"$f":"IF(ISERROR(VLOOKUP(AK8,Accueil!$Q$27:$T$126,4,0)),0,VLOOKUP(AK8,Accueil!$Q$27:$T$126,4,0))","v":0},{"$f":"IF(ISERROR(VLOOKUP(AL8,Accueil!$Q$27:$T$126,4,0)),0,VLOOKUP(AL8,Accueil!$Q$27:$T$126,4,0))","v":0},{"$f":"IF(ISERROR(VLOOKUP(AM8,Accueil!$Q$27:$T$126,4,0)),0,VLOOKUP(AM8,Accueil!$Q$27:$T$126,4,0))","v":0},{"$f":"IF(ISERROR(VLOOKUP(AN8,Accueil!$Q$27:$T$126,4,0)),0,VLOOKUP(AN8,Accueil!$Q$27:$T$126,4,0))","v":0},{"$f":"IF(ISERROR(VLOOKUP(AO8,Accueil!$Q$27:$T$126,4,0)),0,VLOOKUP(AO8,Accueil!$Q$27:$T$126,4,0))","v":0},{"$f":"IF(ISERROR(VLOOKUP(AP8,Accueil!$Q$27:$T$126,4,0)),0,VLOOKUP(AP8,Accueil!$Q$27:$T$126,4,0))","v":0},{"$f":"IF(ISERROR(VLOOKUP(AQ8,Accueil!$Q$27:$T$126,4,0)),0,VLOOKUP(AQ8,Accueil!$Q$27:$T$126,4,0))","v":0},{"$f":"IF(ISERROR(VLOOKUP(AR8,Accueil!$Q$27:$T$126,4,0)),0,VLOOKUP(AR8,Accueil!$Q$27:$T$126,4,0))","v":0},{"$f":"IF(ISERROR(VLOOKUP(AS8,Accueil!$Q$27:$T$126,4,0)),0,VLOOKUP(AS8,Accueil!$Q$27:$T$126,4,0))","v":0},{"$f":"IF(ISERROR(VLOOKUP(AT8,Accueil!$Q$27:$T$126,4,0)),0,VLOOKUP(AT8,Accueil!$Q$27:$T$126,4,0))","v":0},{"$f":"IF(ISERROR(VLOOKUP(AU8,Accueil!$Q$27:$T$126,4,0)),0,VLOOKUP(AU8,Accueil!$Q$27:$T$126,4,0))","v":0},{"$f":"IF(ISERROR(VLOOKUP(AV8,Accueil!$Q$27:$T$126,4,0)),0,VLOOKUP(AV8,Accueil!$Q$27:$T$126,4,0))","v":0},{"$f":"IF(ISERROR(VLOOKUP(AW8,Accueil!$Q$27:$T$126,4,0)),0,VLOOKUP(AW8,Accueil!$Q$27:$T$126,4,0))","v":0},{"$f":"IF(ISERROR(VLOOKUP(AX8,Accueil!$Q$27:$T$126,4,0)),0,VLOOKUP(AX8,Accueil!$Q$27:$T$126,4,0))","v":0},{"$f":"IF(ISERROR(VLOOKUP(AY8,Accueil!$Q$27:$T$126,4,0)),0,VLOOKUP(AY8,Accueil!$Q$27:$T$126,4,0))","v":0},{"$f":"IF(ISERROR(VLOOKUP(AZ8,Accueil!$Q$27:$T$126,4,0)),0,VLOOKUP(AZ8,Accueil!$Q$27:$T$126,4,0))","v":0},{"$f":"IF(ISERROR(VLOOKUP(BA8,Accueil!$Q$27:$T$126,4,0)),0,VLOOKUP(BA8,Accueil!$Q$27:$T$126,4,0))","v":0},{"$f":"IF(ISERROR(VLOOKUP(BB8,Accueil!$Q$27:$T$126,4,0)),0,VLOOKUP(BB8,Accueil!$Q$27:$T$126,4,0))","v":0},{"$f":"IF(ISERROR(VLOOKUP(BC8,Accueil!$Q$27:$T$126,4,0)),0,VLOOKUP(BC8,Accueil!$Q$27:$T$126,4,0))","v":0},{"$f":"IF(ISERROR(VLOOKUP(BD8,Accueil!$Q$27:$T$126,4,0)),0,VLOOKUP(BD8,Accueil!$Q$27:$T$126,4,0))","v":0},{"$f":"IF(ISERROR(VLOOKUP(BE8,Accueil!$Q$27:$T$126,4,0)),0,VLOOKUP(BE8,Accueil!$Q$27:$T$126,4,0))","v":0},{"$f":"IF(ISERROR(VLOOKUP(BF8,Accueil!$Q$27:$T$126,4,0)),0,VLOOKUP(BF8,Accueil!$Q$27:$T$126,4,0))","v":0},{"$f":"IF(ISERROR(VLOOKUP(BG8,Accueil!$Q$27:$T$126,4,0)),0,VLOOKUP(BG8,Accueil!$Q$27:$T$126,4,0))","v":0},{"$f":"IF(ISERROR(VLOOKUP(BH8,Accueil!$Q$27:$T$126,4,0)),0,VLOOKUP(BH8,Accueil!$Q$27:$T$126,4,0))","v":0},{"$f":"IF(ISERROR(VLOOKUP(BI8,Accueil!$Q$27:$T$126,4,0)),0,VLOOKUP(BI8,Accueil!$Q$27:$T$126,4,0))","v":0},{"$f":"IF(ISERROR(VLOOKUP(BJ8,Accueil!$Q$27:$T$126,4,0)),0,VLOOKUP(BJ8,Accueil!$Q$27:$T$126,4,0))","v":0},{"$f":"IF(ISERROR(VLOOKUP(BK8,Accueil!$Q$27:$T$126,4,0)),0,VLOOKUP(BK8,Accueil!$Q$27:$T$126,4,0))","v":0},{"$f":"IF(ISERROR(VLOOKUP(BL8,Accueil!$Q$27:$T$126,4,0)),0,VLOOKUP(BL8,Accueil!$Q$27:$T$126,4,0))","v":0},{"$f":"IF(ISERROR(VLOOKUP(BM8,Accueil!$Q$27:$T$126,4,0)),0,VLOOKUP(BM8,Accueil!$Q$27:$T$126,4,0))","v":0},{"$f":"IF(ISERROR(VLOOKUP(BN8,Accueil!$Q$27:$T$126,4,0)),0,VLOOKUP(BN8,Accueil!$Q$27:$T$126,4,0))","v":0},{"$f":"IF(ISERROR(VLOOKUP(BO8,Accueil!$Q$27:$T$126,4,0)),0,VLOOKUP(BO8,Accueil!$Q$27:$T$126,4,0))","v":0},{"$f":"IF(ISERROR(VLOOKUP(BP8,Accueil!$Q$27:$T$126,4,0)),0,VLOOKUP(BP8,Accueil!$Q$27:$T$126,4,0))","v":0},{"$f":"IF(ISERROR(VLOOKUP(BQ8,Accueil!$Q$27:$T$126,4,0)),0,VLOOKUP(BQ8,Accueil!$Q$27:$T$126,4,0))","v":0},{"$f":"IF(ISERROR(VLOOKUP(BR8,Accueil!$Q$27:$T$126,4,0)),0,VLOOKUP(BR8,Accueil!$Q$27:$T$126,4,0))","v":0},{"$f":"IF(ISERROR(VLOOKUP(BS8,Accueil!$Q$27:$T$126,4,0)),0,VLOOKUP(BS8,Accueil!$Q$27:$T$126,4,0))","v":0},{"$f":"IF(ISERROR(VLOOKUP(BT8,Accueil!$Q$27:$T$126,4,0)),0,VLOOKUP(BT8,Accueil!$Q$27:$T$126,4,0))","v":0},{"$f":"IF(ISERROR(VLOOKUP(BU8,Accueil!$Q$27:$T$126,4,0)),0,VLOOKUP(BU8,Accueil!$Q$27:$T$126,4,0))","v":0},{"$f":"IF(ISERROR(VLOOKUP(BV8,Accueil!$Q$27:$T$126,4,0)),0,VLOOKUP(BV8,Accueil!$Q$27:$T$126,4,0))","v":0},{"$f":"IF(ISERROR(VLOOKUP(BW8,Accueil!$Q$27:$T$126,4,0)),0,VLOOKUP(BW8,Accueil!$Q$27:$T$126,4,0))","v":0},{"$f":"IF(ISERROR(VLOOKUP(BX8,Accueil!$Q$27:$T$126,4,0)),0,VLOOKUP(BX8,Accueil!$Q$27:$T$126,4,0))","v":0},{"$f":"IF(ISERROR(VLOOKUP(BY8,Accueil!$Q$27:$T$126,4,0)),0,VLOOKUP(BY8,Accueil!$Q$27:$T$126,4,0))","v":0},{"$f":"IF(ISERROR(VLOOKUP(BZ8,Accueil!$Q$27:$T$126,4,0)),0,VLOOKUP(BZ8,Accueil!$Q$27:$T$126,4,0))","v":0},{"$f":"IF(ISERROR(VLOOKUP(CA8,Accueil!$Q$27:$T$126,4,0)),0,VLOOKUP(CA8,Accueil!$Q$27:$T$126,4,0))","v":0},{"$f":"IF(ISERROR(VLOOKUP(CB8,Accueil!$Q$27:$T$126,4,0)),0,VLOOKUP(CB8,Accueil!$Q$27:$T$126,4,0))","v":0},{"$f":"IF(ISERROR(VLOOKUP(CC8,Accueil!$Q$27:$T$126,4,0)),0,VLOOKUP(CC8,Accueil!$Q$27:$T$126,4,0))","v":0},{"$f":"IF(ISERROR(VLOOKUP(CD8,Accueil!$Q$27:$T$126,4,0)),0,VLOOKUP(CD8,Accueil!$Q$27:$T$126,4,0))","v":0},{"$f":"IF(ISERROR(VLOOKUP(CE8,Accueil!$Q$27:$T$126,4,0)),0,VLOOKUP(CE8,Accueil!$Q$27:$T$126,4,0))","v":0},{"$f":"IF(ISERROR(VLOOKUP(CF8,Accueil!$Q$27:$T$126,4,0)),0,VLOOKUP(CF8,Accueil!$Q$27:$T$126,4,0))","v":0},{"$f":"IF(ISERROR(VLOOKUP(CG8,Accueil!$Q$27:$T$126,4,0)),0,VLOOKUP(CG8,Accueil!$Q$27:$T$126,4,0))","v":0},{"$f":"IF(ISERROR(VLOOKUP(CH8,Accueil!$Q$27:$T$126,4,0)),0,VLOOKUP(CH8,Accueil!$Q$27:$T$126,4,0))","v":0},{"$f":"IF(ISERROR(VLOOKUP(CI8,Accueil!$Q$27:$T$126,4,0)),0,VLOOKUP(CI8,Accueil!$Q$27:$T$126,4,0))","v":0},{"$f":"IF(ISERROR(VLOOKUP(CJ8,Accueil!$Q$27:$T$126,4,0)),0,VLOOKUP(CJ8,Accueil!$Q$27:$T$126,4,0))","v":0},{"$f":"IF(ISERROR(VLOOKUP(CK8,Accueil!$Q$27:$T$126,4,0)),0,VLOOKUP(CK8,Accueil!$Q$27:$T$126,4,0))","v":0},{"$f":"IF(ISERROR(VLOOKUP(CL8,Accueil!$Q$27:$T$126,4,0)),0,VLOOKUP(CL8,Accueil!$Q$27:$T$126,4,0))","v":0},{"$f":"IF(ISERROR(VLOOKUP(CM8,Accueil!$Q$27:$T$126,4,0)),0,VLOOKUP(CM8,Accueil!$Q$27:$T$126,4,0))","v":0},{"$f":"IF(ISERROR(VLOOKUP(CN8,Accueil!$Q$27:$T$126,4,0)),0,VLOOKUP(CN8,Accueil!$Q$27:$T$126,4,0))","v":0},{"$f":"IF(ISERROR(VLOOKUP(CO8,Accueil!$Q$27:$T$126,4,0)),0,VLOOKUP(CO8,Accueil!$Q$27:$T$126,4,0))","v":0},{"$f":"IF(ISERROR(VLOOKUP(CP8,Accueil!$Q$27:$T$126,4,0)),0,VLOOKUP(CP8,Accueil!$Q$27:$T$126,4,0))","v":0},{"$f":"IF(ISERROR(VLOOKUP(CQ8,Accueil!$Q$27:$T$126,4,0)),0,VLOOKUP(CQ8,Accueil!$Q$27:$T$126,4,0))","v":0},{"$f":"IF(ISERROR(VLOOKUP(CR8,Accueil!$Q$27:$T$126,4,0)),0,VLOOKUP(CR8,Accueil!$Q$27:$T$126,4,0))","v":0},{"$f":"IF(ISERROR(VLOOKUP(CS8,Accueil!$Q$27:$T$126,4,0)),0,VLOOKUP(CS8,Accueil!$Q$27:$T$126,4,0))","v":0},{"$f":"IF(ISERROR(VLOOKUP(CT8,Accueil!$Q$27:$T$126,4,0)),0,VLOOKUP(CT8,Accueil!$Q$27:$T$126,4,0))","v":0},{"$f":"IF(ISERROR(VLOOKUP(CU8,Accueil!$Q$27:$T$126,4,0)),0,VLOOKUP(CU8,Accueil!$Q$27:$T$126,4,0))","v":0},{"$f":"IF(ISERROR(VLOOKUP(CV8,Accueil!$Q$27:$T$126,4,0)),0,VLOOKUP(CV8,Accueil!$Q$27:$T$126,4,0))","v":0},{"$f":"IF(ISERROR(VLOOKUP(CW8,Accueil!$Q$27:$T$126,4,0)),0,VLOOKUP(CW8,Accueil!$Q$27:$T$126,4,0))","v":0},{"$f":"IF(ISERROR(VLOOKUP(CX8,Accueil!$Q$27:$T$126,4,0)),0,VLOOKUP(CX8,Accueil!$Q$27:$T$126,4,0))","v":0},{"$f":"IF(ISERROR(VLOOKUP(CY8,Accueil!$Q$27:$T$126,4,0)),0,VLOOKUP(CY8,Accueil!$Q$27:$T$126,4,0))","v":0},{"$f":"IF(ISERROR(VLOOKUP(CZ8,Accueil!$Q$27:$T$126,4,0)),0,VLOOKUP(CZ8,Accueil!$Q$27:$T$126,4,0))","v":0},{"$f":"IF(ISERROR(VLOOKUP(DA8,Accueil!$Q$27:$T$126,4,0)),0,VLOOKUP(DA8,Accueil!$Q$27:$T$126,4,0))","v":0}]
[null,"N°","Classe","NOM Prénom",null,{"$f":"IF(Accueil!$P$27=\"\",\"\",Accueil!$P$27)","v":1},{"$f":"IF(Accueil!$P$28=\"\",\"\",Accueil!$P$28)","v":2},{"$f":"IF(Accueil!$P$29=\"\",\"\",Accueil!$P$29)","v":3},{"$f":"IF(Accueil!$P$30=\"\",\"\",Accueil!$P$30)","v":4},{"$f":"IF(Accueil!$P$31=\"\",\"\",Accueil!$P$31)","v":5},{"$f":"IF(Accueil!$P$32=\"\",\"\",Accueil!$P$32)","v":6},{"$f":"IF(Accueil!$P$33=\"\",\"\",Accueil!$P$33)","v":7},{"$f":"IF(Accueil!$P$34=\"\",\"\",Accueil!$P$34)","v":8},{"$f":"IF(Accueil!$P$35=\"\",\"\",Accueil!$P$35)","v":9},{"$f":"IF(Accueil!$P$36=\"\",\"\",Accueil!$P$36)","v":10},{"$f":"IF(Accueil!$P$37=\"\",\"\",Accueil!$P$37)","v":11},{"$f":"IF(Accueil!$P$38=\"\",\"\",Accueil!$P$38)","v":12},{"$f":"IF(Accueil!$P$39=\"\",\"\",Accueil!$P$39)","v":13},{"$f":"IF(Accueil!$P$40=\"\",\"\",Accueil!$P$40)","v":14},{"$f":"IF(Accueil!$P$41=\"\",\"\",Accueil!$P$41)","v":15},{"$f":"IF(Accueil!$P$42=\"\",\"\",Accueil!$P$42)","v":16},{"$f":"IF(Accueil!$P$43=\"\",\"\",Accueil!$P$43)","v":17},{"$f":"IF(Accueil!$P$44=\"\",\"\",Accueil!$P$44)","v":18},{"$f":"IF(Accueil!$P$45=\"\",\"\",Accueil!$P$45)","v":19},{"$f":"IF(Accueil!$P$46=\"\",\"\",Accueil!$P$46)","v":20},{"$f":"IF(Accueil!$P$47=\"\",\"\",Accueil!$P$47)","v":21},{"$f":"IF(Accueil!$P$48=\"\",\"\",Accueil!$P$48)","v":22},{"$f":"IF(Accueil!$P$49=\"\",\"\",Accueil!$P$49)","v":23},{"$f":"IF(Accueil!$P$50=\"\",\"\",Accueil!$P$50)","v":24},{"$f":"IF(Accueil!$P$51=\"\",\"\",Accueil!$P$51)","v":25},{"$f":"IF(Accueil!$P$52=\"\",\"\",Accueil!$P$52)","v":26},{"$f":"IF(Accueil!$P$53=\"\",\"\",Accueil!$P$53)","v":27},{"$f":"IF(Accueil!$P$54=\"\",\"\",Accueil!$P$54)","v":28},{"$f":"IF(Accueil!$P$55=\"\",\"\",Accueil!$P$55)","v":29},{"$f":"IF(Accueil!$P$56=\"\",\"\",Accueil!$P$56)","v":30},{"$f":"IF(Accueil!$P$57=\"\",\"\",Accueil!$P$57)","v":""},{"$f":"IF(Accueil!$P$58=\"\",\"\",Accueil!$P$58)","v":""},{"$f":"IF(Accueil!$P$59=\"\",\"\",Accueil!$P$59)","v":""},{"$f":"IF(Accueil!$P$60=\"\",\"\",Accueil!$P$60)","v":""},{"$f":"IF(Accueil!$P$61=\"\",\"\",Accueil!$P$61)","v":""},{"$f":"IF(Accueil!$P$62=\"\",\"\",Accueil!$P$62)","v":""},{"$f":"IF(Accueil!$P$63=\"\",\"\",Accueil!$P$63)","v":""},{"$f":"IF(Accueil!$P$64=\"\",\"\",Accueil!$P$64)","v":""},{"$f":"IF(Accueil!$P$65=\"\",\"\",Accueil!$P$65)","v":""},{"$f":"IF(Accueil!$P$66=\"\",\"\",Accueil!$P$66)","v":""},{"$f":"IF(Accueil!$P$67=\"\",\"\",Accueil!$P$67)","v":""},{"$f":"IF(Accueil!$P$68=\"\",\"\",Accueil!$P$68)","v":""},{"$f":"IF(Accueil!$P$69=\"\",\"\",Accueil!$P$69)","v":""},{"$f":"IF(Accueil!$P$70=\"\",\"\",Accueil!$P$70)","v":""},{"$f":"IF(Accueil!$P$71=\"\",\"\",Accueil!$P$71)","v":""},{"$f":"IF(Accueil!$P$72=\"\",\"\",Accueil!$P$72)","v":""},{"$f":"IF(Accueil!$P$73=\"\",\"\",Accueil!$P$73)","v":""},{"$f":"IF(Accueil!$P$74=\"\",\"\",Accueil!$P$74)","v":""},{"$f":"IF(Accueil!$P$75=\"\",\"\",Accueil!$P$75)","v":""},{"$f":"IF(Accueil!$P$76=\"\",\"\",Accueil!$P$76)","v":""},{"$f":"IF(Accueil!$P$77=\"\",\"\",Accueil!$P$77)","v":""},{"$f":"IF(Accueil!$P$78=\"\",\"\",Accueil!$P$78)","v":""},{"$f":"IF(Accueil!$P$79=\"\",\"\",Accueil!$P$79)","v":""},{"$f":"IF(Accueil!$P$80=\"\",\"\",Accueil!$P$80)","v":""},{"$f":"IF(Accueil!$P$81=\"\",\"\",Accueil!$P$81)","v":""},{"$f":"IF(Accueil!$P$82=\"\",\"\",Accueil!$P$82)","v":""},{"$f":"IF(Accueil!$P$83=\"\",\"\",Accueil!$P$83)","v":""},{"$f":"IF(Accueil!$P$84=\"\",\"\",Accueil!$P$84)","v":""},{"$f":"IF(Accueil!$P$85=\"\",\"\",Accueil!$P$85)","v":""},{"$f":"IF(Accueil!$P$86=\"\",\"\",Accueil!$P$86)","v":""},{"$f":"IF(Accueil!$P$87=\"\",\"\",Accueil!$P$87)","v":""},{"$f":"IF(Accueil!$P$88=\"\",\"\",Accueil!$P$88)","v":""},{"$f":"IF(Accueil!$P$89=\"\",\"\",Accueil!$P$89)","v":""},{"$f":"IF(Accueil!$P$90=\"\",\"\",Accueil!$P$90)","v":""},{"$f":"IF(Accueil!$P$91=\"\",\"\",Accueil!$P$91)","v":""},{"$f":"IF(Accueil!$P$92=\"\",\"\",Accueil!$P$92)","v":""},{"$f":"IF(Accueil!$P$93=\"\",\"\",Accueil!$P$93)","v":""},{"$f":"IF(Accueil!$P$94=\"\",\"\",Accueil!$P$94)","v":""},{"$f":"IF(Accueil!$P$95=\"\",\"\",Accueil!$P$95)","v":""},{"$f":"IF(Accueil!$P$96=\"\",\"\",Accueil!$P$96)","v":""},{"$f":"IF(Accueil!$P$97=\"\",\"\",Accueil!$P$97)","v":""},{"$f":"IF(Accueil!$P$98=\"\",\"\",Accueil!$P$98)","v":""},{"$f":"IF(Accueil!$P$99=\"\",\"\",Accueil!$P$99)","v":""},{"$f":"IF(Accueil!$P$100=\"\",\"\",Accueil!$P$100)","v":""},{"$f":"IF(Accueil!$P$101=\"\",\"\",Accueil!$P$101)","v":""},{"$f":"IF(Accueil!$P$102=\"\",\"\",Accueil!$P$102)","v":""},{"$f":"IF(Accueil!$P$103=\"\",\"\",Accueil!$P$103)","v":""},{"$f":"IF(Accueil!$P$104=\"\",\"\",Accueil!$P$104)","v":""},{"$f":"IF(Accueil!$P$105=\"\",\"\",Accueil!$P$105)","v":""},{"$f":"IF(Accueil!$P$106=\"\",\"\",Accueil!$P$106)","v":""},{"$f":"IF(Accueil!$P$107=\"\",\"\",Accueil!$P$107)","v":""},{"$f":"IF(Accueil!$P$108=\"\",\"\",Accueil!$P$108)","v":""},{"$f":"IF(Accueil!$P$109=\"\",\"\",Accueil!$P$109)","v":""},{"$f":"IF(Accueil!$P$110=\"\",\"\",Accueil!$P$110)","v":""},{"$f":"IF(Accueil!$P$111=\"\",\"\",Accueil!$P$111)","v":""},{"$f":"IF(Accueil!$P$112=\"\",\"\",Accueil!$P$112)","v":""},{"$f":"IF(Accueil!$P$113=\"\",\"\",Accueil!$P$113)","v":""},{"$f":"IF(Accueil!$P$114=\"\",\"\",Accueil!$P$114)","v":""},{"$f":"IF(Accueil!$P$115=\"\",\"\",Accueil!$P$115)","v":""},{"$f":"IF(Accueil!$P$116=\"\",\"\",Accueil!$P$116)","v":""},{"$f":"IF(Accueil!$P$117=\"\",\"\",Accueil!$P$117)","v":""},{"$f":"IF(Accueil!$P$118=\"\",\"\",Accueil!$P$118)","v":""},{"$f":"IF(Accueil!$P$119=\"\",\"\",Accueil!$P$119)","v":""},{"$f":"IF(Accueil!$P$120=\"\",\"\",Accueil!$P$120)","v":""},{"$f":"IF(Accueil!$P$121=\"\",\"\",Accueil!$P$121)","v":""},{"$f":"IF(Accueil!$P$122=\"\",\"\",Accueil!$P$122)","v":""},{"$f":"IF(Accueil!$P$123=\"\",\"\",Accueil!$P$123)","v":""},{"$f":"IF(Accueil!$P$124=\"\",\"\",Accueil!$P$124)","v":""},{"$f":"IF(Accueil!$P$125=\"\",\"\",Accueil!$P$125)","v":""},{"$f":"IF(Accueil!$P$126=\"\",\"\",Accueil!$P$126)","v":""},null,"Score",null,null,"Items","%","T",1,2,3,4,5,6,7,8,9,10,11,12,13,14,15,16,17,18,19,20,21,22,23,24,25,26,27,28,29,30,31,32,33,34,35,36,37,38,39,40,41,42,43,44,45,46,47,48,49,50,51,52,53,54,55,56,57,58,59,60,61,62,63,64,65,66,67,68,69,70,71,72,73,74,75,76,77,78,79,80,81,82,83,84,85,86,87,88,89,90,91,92,93,94,95,96,97,98,99,100]
[{"$f":"IF(Nom_etab=\"\",\"\",Nom_etab)","v":""},1,{"$f":"IF(Accueil!E13=\"\",\"\",Accueil!E13)","v":""},{"$f":"IF(Accueil!F13=\"\",\"\",Accueil!F13)","v":""},{"$f":"IF(D9=\"\",\"\",1)","v":""},null,null,null,null,null,null,null,null,null,null,null,null,null,null,null,null,null,null,null,null,null,null,null,null,null,null,null,null,null,null,null,null,null,null,null,null,null,null,null,null,null,null,null,null,null,null,null,null,null,null,null,null,null,null,null,null,null,null,null,null,null,null,null,null,null,null,null,null,null,null,null,null,null,null,null,null,null,null,null,null,null,null,null,null,null,null,null,null,null,null,null,null,null,null,null,null,null,null,null,null,1,{"$f":"IF(D9=\"\",\"\",COUNTIF(F9:DA9,Accueil!$AA$28)&\" / \"&COUNTIF($F$8:$DA$8,\">0\")-(COUNTIF(F9:DA9,Accueil!$AF$26)))","v":""},{"$f":"IF(D9=\"\",\"\",COUNTIF(F9:DA9,Accueil!$AA$26))","v":""},{"$f":"IF(D9=\"\",\"\",COUNTIF($F$8:$DA$8,\">=0\")-(COUNTIF(G9:DB9,Accueil!$AF$26)))","v":""},{"$f":"IF(D9=\"\",\"\",COUNTA(F9:DA9))","v":""},{"$f":"IF(D9=\"\",\"\",IF(DH9>0,\"ERREUR\",IF(OR(DF9<COUNTIF($F$8:$DA$8,\">0\"),DF9>COUNTIF($F$8:$DA$8,\">0\")),\"NB ITEMS\",IF(DE9<COUNTIF($F$8:$DA$8,\">0\"),\"ABSENT\",ROUND(DD9/DE9,3)*100&\" %\"))))","v":""},{"$f":"SUM(DI9:HD9)","v":0},{"$f":"IF(ISERROR(VLOOKUP(F9,Accueil!$V$17:$V$22,1,0)),1,0)","v":0},{"$f":"IF(ISERROR(VLOOKUP(G9,Accueil!$V$17:$V$22,1,0)),1,0)","v":0},{"$f":"IF(ISERROR(VLOOKUP(H9,Accueil!$V$17:$V$22,1,0)),1,0)","v":0},{"$f":"IF(ISERROR(VLOOKUP(I9,Accueil!$V$17:$V$22,1,0)),1,0)","v":0},{"$f":"IF(ISERROR(VLOOKUP(J9,Accueil!$V$17:$V$22,1,0)),1,0)","v":0},{"$f":"IF(ISERROR(VLOOKUP(K9,Accueil!$V$17:$V$22,1,0)),1,0)","v":0},{"$f":"IF(ISERROR(VLOOKUP(L9,Accueil!$V$17:$V$22,1,0)),1,0)","v":0},{"$f":"IF(ISERROR(VLOOKUP(M9,Accueil!$V$17:$V$22,1,0)),1,0)","v":0},{"$f":"IF(ISERROR(VLOOKUP(N9,Accueil!$V$17:$V$22,1,0)),1,0)","v":0},{"$f":"IF(ISERROR(VLOOKUP(O9,Accueil!$V$17:$V$22,1,0)),1,0)","v":0},{"$f":"IF(ISERROR(VLOOKUP(P9,Accueil!$V$17:$V$22,1,0)),1,0)","v":0},{"$f":"IF(ISERROR(VLOOKUP(Q9,Accueil!$V$17:$V$22,1,0)),1,0)","v":0},{"$f":"IF(ISERROR(VLOOKUP(R9,Accueil!$V$17:$V$22,1,0)),1,0)","v":0},{"$f":"IF(ISERROR(VLOOKUP(S9,Accueil!$V$17:$V$22,1,0)),1,0)","v":0},{"$f":"IF(ISERROR(VLOOKUP(T9,Accueil!$V$17:$V$22,1,0)),1,0)","v":0},{"$f":"IF(ISERROR(VLOOKUP(U9,Accueil!$V$17:$V$22,1,0)),1,0)","v":0},{"$f":"IF(ISERROR(VLOOKUP(V9,Accueil!$V$17:$V$22,1,0)),1,0)","v":0},{"$f":"IF(ISERROR(VLOOKUP(W9,Accueil!$V$17:$V$22,1,0)),1,0)","v":0},{"$f":"IF(ISERROR(VLOOKUP(X9,Accueil!$V$17:$V$22,1,0)),1,0)","v":0},{"$f":"IF(ISERROR(VLOOKUP(Y9,Accueil!$V$17:$V$22,1,0)),1,0)","v":0},{"$f":"IF(ISERROR(VLOOKUP(Z9,Accueil!$V$17:$V$22,1,0)),1,0)","v":0},{"$f":"IF(ISERROR(VLOOKUP(AA9,Accueil!$V$17:$V$22,1,0)),1,0)","v":0},{"$f":"IF(ISERROR(VLOOKUP(AB9,Accueil!$V$17:$V$22,1,0)),1,0)","v":0},{"$f":"IF(ISERROR(VLOOKUP(AC9,Accueil!$V$17:$V$22,1,0)),1,0)","v":0},{"$f":"IF(ISERROR(VLOOKUP(AD9,Accueil!$V$17:$V$22,1,0)),1,0)","v":0},{"$f":"IF(ISERROR(VLOOKUP(AE9,Accueil!$V$17:$V$22,1,0)),1,0)","v":0},{"$f":"IF(ISERROR(VLOOKUP(AF9,Accueil!$V$17:$V$22,1,0)),1,0)","v":0},{"$f":"IF(ISERROR(VLOOKUP(AG9,Accueil!$V$17:$V$22,1,0)),1,0)","v":0},{"$f":"IF(ISERROR(VLOOKUP(AH9,Accueil!$V$17:$V$22,1,0)),1,0)","v":0},{"$f":"IF(ISERROR(VLOOKUP(AI9,Accueil!$V$17:$V$22,1,0)),1,0)","v":0},{"$f":"IF(ISERROR(VLOOKUP(AJ9,Accueil!$V$17:$V$22,1,0)),1,0)","v":0},{"$f":"IF(ISERROR(VLOOKUP(AK9,Accueil!$V$17:$V$22,1,0)),1,0)","v":0},{"$f":"IF(ISERROR(VLOOKUP(AL9,Accueil!$V$17:$V$22,1,0)),1,0)","v":0},{"$f":"IF(ISERROR(VLOOKUP(AM9,Accueil!$V$17:$V$22,1,0)),1,0)","v":0},{"$f":"IF(ISERROR(VLOOKUP(AN9,Accueil!$V$17:$V$22,1,0)),1,0)","v":0},{"$f":"IF(ISERROR(VLOOKUP(AO9,Accueil!$V$17:$V$22,1,0)),1,0)","v":0},{"$f":"IF(ISERROR(VLOOKUP(AP9,Accueil!$V$17:$V$22,1,0)),1,0)","v":0},{"$f":"IF(ISERROR(VLOOKUP(AQ9,Accueil!$V$17:$V$22,1,0)),1,0)","v":0},{"$f":"IF(ISERROR(VLOOKUP(AR9,Accueil!$V$17:$V$22,1,0)),1,0)","v":0},{"$f":"IF(ISERROR(VLOOKUP(AS9,Accueil!$V$17:$V$22,1,0)),1,0)","v":0},{"$f":"IF(ISERROR(VLOOKUP(AT9,Accueil!$V$17:$V$22,1,0)),1,0)","v":0},{"$f":"IF(ISERROR(VLOOKUP(AU9,Accueil!$V$17:$V$22,1,0)),1,0)","v":0},{"$f":"IF(ISERROR(VLOOKUP(AV9,Accueil!$V$17:$V$22,1,0)),1,0)","v":0},{"$f":"IF(ISERROR(VLOOKUP(AW9,Accueil!$V$17:$V$22,1,0)),1,0)","v":0},{"$f":"IF(ISERROR(VLOOKUP(AX9,Accueil!$V$17:$V$22,1,0)),1,0)","v":0},{"$f":"IF(ISERROR(VLOOKUP(AY9,Accueil!$V$17:$V$22,1,0)),1,0)","v":0},{"$f":"IF(ISERROR(VLOOKUP(AZ9,Accueil!$V$17:$V$22,1,0)),1,0)","v":0},{"$f":"IF(ISERROR(VLOOKUP(BA9,Accueil!$V$17:$V$22,1,0)),1,0)","v":0},{"$f":"IF(ISERROR(VLOOKUP(BB9,Accueil!$V$17:$V$22,1,0)),1,0)","v":0},{"$f":"IF(ISERROR(VLOOKUP(BC9,Accueil!$V$17:$V$22,1,0)),1,0)","v":0},{"$f":"IF(ISERROR(VLOOKUP(BD9,Accueil!$V$17:$V$22,1,0)),1,0)","v":0},{"$f":"IF(ISERROR(VLOOKUP(BE9,Accueil!$V$17:$V$22,1,0)),1,0)","v":0},{"$f":"IF(ISERROR(VLOOKUP(BF9,Accueil!$V$17:$V$22,1,0)),1,0)","v":0},{"$f":"IF(ISERROR(VLOOKUP(BG9,Accueil!$V$17:$V$22,1,0)),1,0)","v":0},{"$f":"IF(ISERROR(VLOOKUP(BH9,Accueil!$V$17:$V$22,1,0)),1,0)","v":0},{"$f":"IF(ISERROR(VLOOKUP(BI9,Accueil!$V$17:$V$22,1,0)),1,0)","v":0},{"$f":"IF(ISERROR(VLOOKUP(BJ9,Accueil!$V$17:$V$22,1,0)),1,0)","v":0},{"$f":"IF(ISERROR(VLOOKUP(BK9,Accueil!$V$17:$V$22,1,0)),1,0)","v":0},{"$f":"IF(ISERROR(VLOOKUP(BL9,Accueil!$V$17:$V$22,1,0)),1,0)","v":0},{"$f":"IF(ISERROR(VLOOKUP(BM9,Accueil!$V$17:$V$22,1,0)),1,0)","v":0},{"$f":"IF(ISERROR(VLOOKUP(BN9,Accueil!$V$17:$V$22,1,0)),1,0)","v":0},{"$f":"IF(ISERROR(VLOOKUP(BO9,Accueil!$V$17:$V$22,1,0)),1,0)","v":0},{"$f":"IF(ISERROR(VLOOKUP(BP9,Accueil!$V$17:$V$22,1,0)),1,0)","v":0},{"$f":"IF(ISERROR(VLOOKUP(BQ9,Accueil!$V$17:$V$22,1,0)),1,0)","v":0},{"$f":"IF(ISERROR(VLOOKUP(BR9,Accueil!$V$17:$V$22,1,0)),1,0)","v":0},{"$f":"IF(ISERROR(VLOOKUP(BS9,Accueil!$V$17:$V$22,1,0)),1,0)","v":0},{"$f":"IF(ISERROR(VLOOKUP(BT9,Accueil!$V$17:$V$22,1,0)),1,0)","v":0},{"$f":"IF(ISERROR(VLOOKUP(BU9,Accueil!$V$17:$V$22,1,0)),1,0)","v":0},{"$f":"IF(ISERROR(VLOOKUP(BV9,Accueil!$V$17:$V$22,1,0)),1,0)","v":0},{"$f":"IF(ISERROR(VLOOKUP(BW9,Accueil!$V$17:$V$22,1,0)),1,0)","v":0},{"$f":"IF(ISERROR(VLOOKUP(BX9,Accueil!$V$17:$V$22,1,0)),1,0)","v":0},{"$f":"IF(ISERROR(VLOOKUP(BY9,Accueil!$V$17:$V$22,1,0)),1,0)","v":0},{"$f":"IF(ISERROR(VLOOKUP(BZ9,Accueil!$V$17:$V$22,1,0)),1,0)","v":0},{"$f":"IF(ISERROR(VLOOKUP(CA9,Accueil!$V$17:$V$22,1,0)),1,0)","v":0},{"$f":"IF(ISERROR(VLOOKUP(CB9,Accueil!$V$17:$V$22,1,0)),1,0)","v":0},{"$f":"IF(ISERROR(VLOOKUP(CC9,Accueil!$V$17:$V$22,1,0)),1,0)","v":0},{"$f":"IF(ISERROR(VLOOKUP(CD9,Accueil!$V$17:$V$22,1,0)),1,0)","v":0},{"$f":"IF(ISERROR(VLOOKUP(CE9,Accueil!$V$17:$V$22,1,0)),1,0)","v":0},{"$f":"IF(ISERROR(VLOOKUP(CF9,Accueil!$V$17:$V$22,1,0)),1,0)","v":0},{"$f":"IF(ISERROR(VLOOKUP(CG9,Accueil!$V$17:$V$22,1,0)),1,0)","v":0},{"$f":"IF(ISERROR(VLOOKUP(CH9,Accueil!$V$17:$V$22,1,0)),1,0)","v":0},{"$f":"IF(ISERROR(VLOOKUP(CI9,Accueil!$V$17:$V$22,1,0)),1,0)","v":0},{"$f":"IF(ISERROR(VLOOKUP(CJ9,Accueil!$V$17:$V$22,1,0)),1,0)","v":0},{"$f":"IF(ISERROR(VLOOKUP(CK9,Accueil!$V$17:$V$22,1,0)),1,0)","v":0},{"$f":"IF(ISERROR(VLOOKUP(CL9,Accueil!$V$17:$V$22,1,0)),1,0)","v":0},{"$f":"IF(ISERROR(VLOOKUP(CM9,Accueil!$V$17:$V$22,1,0)),1,0)","v":0},{"$f":"IF(ISERROR(VLOOKUP(CN9,Accueil!$V$17:$V$22,1,0)),1,0)","v":0},{"$f":"IF(ISERROR(VLOOKUP(CO9,Accueil!$V$17:$V$22,1,0)),1,0)","v":0},{"$f":"IF(ISERROR(VLOOKUP(CP9,Accueil!$V$17:$V$22,1,0)),1,0)","v":0},{"$f":"IF(ISERROR(VLOOKUP(CQ9,Accueil!$V$17:$V$22,1,0)),1,0)","v":0},{"$f":"IF(ISERROR(VLOOKUP(CR9,Accueil!$V$17:$V$22,1,0)),1,0)","v":0},{"$f":"IF(ISERROR(VLOOKUP(CS9,Accueil!$V$17:$V$22,1,0)),1,0)","v":0},{"$f":"IF(ISERROR(VLOOKUP(CT9,Accueil!$V$17:$V$22,1,0)),1,0)","v":0},{"$f":"IF(ISERROR(VLOOKUP(CU9,Accueil!$V$17:$V$22,1,0)),1,0)","v":0},{"$f":"IF(ISERROR(VLOOKUP(CV9,Accueil!$V$17:$V$22,1,0)),1,0)","v":0},{"$f":"IF(ISERROR(VLOOKUP(CW9,Accueil!$V$17:$V$22,1,0)),1,0)","v":0},{"$f":"IF(ISERROR(VLOOKUP(CX9,Accueil!$V$17:$V$22,1,0)),1,0)","v":0},{"$f":"IF(ISERROR(VLOOKUP(CY9,Accueil!$V$17:$V$22,1,0)),1,0)","v":0},{"$f":"IF(ISERROR(VLOOKUP(CZ9,Accueil!$V$17:$V$22,1,0)),1,0)","v":0},{"$f":"IF(ISERROR(VLOOKUP(DA9,Accueil!$V$17:$V$22,1,0)),1,0)","v":0}]
[null,2,{"$f":"IF(Accueil!E14=\"\",\"\",Accueil!E14)","v":""},{"$f":"IF(Accueil!F14=\"\",\"\",Accueil!F14)","v":""},{"$f":"IF(D10=\"\",\"\",1)","v":""},null,null,null,null,null,null,null,null,null,null,null,null,null,null,null,null,null,null,null,null,null,null,null,null,null,null,null,null,null,null,null,null,null,null,null,null,null,null,null,null,null,null,null,null,null,null,null,null,null,null,null,null,null,null,null,null,null,null,null,null,null,null,null,null,null,null,null,null,null,null,null,null,null,null,null,null,null,null,null,null,null,null,null,null,null,null,null,null,null,null,null,null,null,null,null,null,null,null,null,null,2,{"$f":"IF(D10=\"\",\"\",COUNTIF(F10:DA10,Accueil!$AA$28)&\" / \"&COUNTIF($F$8:$DA$8,\">0\")-(COUNTIF(F10:DA10,Accueil!$AF$26)))","v":""},{"$f":"IF(D10=\"\",\"\",COUNTIF(F10:DA10,Accueil!$AA$26))","v":""},{"$f":"IF(D10=\"\",\"\",COUNTIF($F$8:$DA$8,\">0\")-(COUNTIF(F10:DA10,Accueil!$AF$26)))","v":""},{"$f":"IF(D10=\"\",\"\",COUNTA(F10:DA10))","v":""},"",0,{"$f":"IF(ISERROR(VLOOKUP(F10,Accueil!$V$17:$V$22,1,0)),1,0)","v":0},{"$f":"IF(ISERROR(VLOOKUP(G10,Accueil!$V$17:$V$22,1,0)),1,0)","v":0},{"$f":"IF(ISERROR(VLOOKUP(H10,Accueil!$V$17:$V$22,1,0)),1,0)","v":0},{"$f":"IF(ISERROR(VLOOKUP(I10,Accueil!$V$17:$V$22,1,0)),1,0)","v":0},{"$f":"IF(ISERROR(VLOOKUP(J10,Accueil!$V$17:$V$22,1,0)),1,0)","v":0},{"$f":"IF(ISERROR(VLOOKUP(K10,Accueil!$V$17:$V$22,1,0)),1,0)","v":0},{"$f":"IF(ISERROR(VLOOKUP(L10,Accueil!$V$17:$V$22,1,0)),1,0)","v":0},{"$f":"IF(ISERROR(VLOOKUP(M10,Accueil!$V$17:$V$22,1,0)),1,0)","v":0},{"$f":"IF(ISERROR(VLOOKUP(N10,Accueil!$V$17:$V$22,1,0)),1,0)","v":0},{"$f":"IF(ISERROR(VLOOKUP(O10,Accueil!$V$17:$V$22,1,0)),1,0)","v":0},{"$f":"IF(ISERROR(VLOOKUP(P10,Accueil!$V$17:$V$22,1,0)),1,0)","v":0},{"$f":"IF(ISERROR(VLOOKUP(Q10,Accueil!$V$17:$V$22,1,0)),1,0)","v":0},{"$f":"IF(ISERROR(VLOOKUP(R10,Accueil!$V$17:$V$22,1,0)),1,0)","v":0},{"$f":"IF(ISERROR(VLOOKUP(S10,Accueil!$V$17:$V$22,1,0)),1,0)","v":0},{"$f":"IF(ISERROR(VLOOKUP(T10,Accueil!$V$17:$V$22,1,0)),1,0)","v":0},{"$f":"IF(ISERROR(VLOOKUP(U10,Accueil!$V$17:$V$22,1,0)),1,0)","v":0},{"$f":"IF(ISERROR(VLOOKUP(V10,Accueil!$V$17:$V$22,1,0)),1,0)","v":0},{"$f":"IF(ISERROR(VLOOKUP(W10,Accueil!$V$17:$V$22,1,0)),1,0)","v":0},{"$f":"IF(ISERROR(VLOOKUP(X10,Accueil!$V$17:$V$22,1,0)),1,0)","v":0},{"$f":"IF(ISERROR(VLOOKUP(Y10,Accueil!$V$17:$V$22,1,0)),1,0)","v":0},{"$f":"IF(ISERROR(VLOOKUP(Z10,Accueil!$V$17:$V$22,1,0)),1,0)","v":0},{"$f":"IF(ISERROR(VLOOKUP(AA10,Accueil!$V$17:$V$22,1,0)),1,0)","v":0},{"$f":"IF(ISERROR(VLOOKUP(AB10,Accueil!$V$17:$V$22,1,0)),1,0)","v":0},{"$f":"IF(ISERROR(VLOOKUP(AC10,Accueil!$V$17:$V$22,1,0)),1,0)","v":0},{"$f":"IF(ISERROR(VLOOKUP(AD10,Accueil!$V$17:$V$22,1,0)),1,0)","v":0},{"$f":"IF(ISERROR(VLOOKUP(AE10,Accueil!$V$17:$V$22,1,0)),1,0)","v":0},{"$f":"IF(ISERROR(VLOOKUP(AF10,Accueil!$V$17:$V$22,1,0)),1,0)","v":0},{"$f":"IF(ISERROR(VLOOKUP(AG10,Accueil!$V$17:$V$22,1,0)),1,0)","v":0},{"$f":"IF(ISERROR(VLOOKUP(AH10,Accueil!$V$17:$V$22,1,0)),1,0)","v":0},{"$f":"IF(ISERROR(VLOOKUP(AI10,Accueil!$V$17:$V$22,1,0)),1,0)","v":0},{"$f":"IF(ISERROR(VLOOKUP(AJ10,Accueil!$V$17:$V$22,1,0)),1,0)","v":0},{"$f":"IF(ISERROR(VLOOKUP(AK10,Accueil!$V$17:$V$22,1,0)),1,0)","v":0},{"$f":"IF(ISERROR(VLOOKUP(AL10,Accueil!$V$17:$V$22,1,0)),1,0)","v":0},{"$f":"IF(ISERROR(VLOOKUP(AM10,Accueil!$V$17:$V$22,1,0)),1,0)","v":0},{"$f":"IF(ISERROR(VLOOKUP(AN10,Accueil!$V$17:$V$22,1,0)),1,0)","v":0},{"$f":"IF(ISERROR(VLOOKUP(AO10,Accueil!$V$17:$V$22,1,0)),1,0)","v":0},{"$f":"IF(ISERROR(VLOOKUP(AP10,Accueil!$V$17:$V$22,1,0)),1,0)","v":0},{"$f":"IF(ISERROR(VLOOKUP(AQ10,Accueil!$V$17:$V$22,1,0)),1,0)","v":0},{"$f":"IF(ISERROR(VLOOKUP(AR10,Accueil!$V$17:$V$22,1,0)),1,0)","v":0},{"$f":"IF(ISERROR(VLOOKUP(AS10,Accueil!$V$17:$V$22,1,0)),1,0)","v":0},{"$f":"IF(ISERROR(VLOOKUP(AT10,Accueil!$V$17:$V$22,1,0)),1,0)","v":0},{"$f":"IF(ISERROR(VLOOKUP(AU10,Accueil!$V$17:$V$22,1,0)),1,0)","v":0},{"$f":"IF(ISERROR(VLOOKUP(AV10,Accueil!$V$17:$V$22,1,0)),1,0)","v":0},{"$f":"IF(ISERROR(VLOOKUP(AW10,Accueil!$V$17:$V$22,1,0)),1,0)","v":0},{"$f":"IF(ISERROR(VLOOKUP(AX10,Accueil!$V$17:$V$22,1,0)),1,0)","v":0},{"$f":"IF(ISERROR(VLOOKUP(AY10,Accueil!$V$17:$V$22,1,0)),1,0)","v":0},{"$f":"IF(ISERROR(VLOOKUP(AZ10,Accueil!$V$17:$V$22,1,0)),1,0)","v":0},{"$f":"IF(ISERROR(VLOOKUP(BA10,Accueil!$V$17:$V$22,1,0)),1,0)","v":0},{"$f":"IF(ISERROR(VLOOKUP(BB10,Accueil!$V$17:$V$22,1,0)),1,0)","v":0},{"$f":"IF(ISERROR(VLOOKUP(BC10,Accueil!$V$17:$V$22,1,0)),1,0)","v":0},{"$f":"IF(ISERROR(VLOOKUP(BD10,Accueil!$V$17:$V$22,1,0)),1,0)","v":0},{"$f":"IF(ISERROR(VLOOKUP(BE10,Accueil!$V$17:$V$22,1,0)),1,0)","v":0},{"$f":"IF(ISERROR(VLOOKUP(BF10,Accueil!$V$17:$V$22,1,0)),1,0)","v":0},{"$f":"IF(ISERROR(VLOOKUP(BG10,Accueil!$V$17:$V$22,1,0)),1,0)","v":0},{"$f":"IF(ISERROR(VLOOKUP(BH10,Accueil!$V$17:$V$22,1,0)),1,0)","v":0},{"$f":"IF(ISERROR(VLOOKUP(BI10,Accueil!$V$17:$V$22,1,0)),1,0)","v":0},{"$f":"IF(ISERROR(VLOOKUP(BJ10,Accueil!$V$17:$V$22,1,0)),1,0)","v":0},{"$f":"IF(ISERROR(VLOOKUP(BK10,Accueil!$V$17:$V$22,1,0)),1,0)","v":0},{"$f":"IF(ISERROR(VLOOKUP(BL10,Accueil!$V$17:$V$22,1,0)),1,0)","v":0},{"$f":"IF(ISERROR(VLOOKUP(BM10,Accueil!$V$17:$V$22,1,0)),1,0)","v":0},{"$f":"IF(ISERROR(VLOOKUP(BN10,Accueil!$V$17:$V$22,1,0)),1,0)","v":0},{"$f":"IF(ISERROR(VLOOKUP(BO10,Accueil!$V$17:$V$22,1,0)),1,0)","v":0},{"$f":"IF(ISERROR(VLOOKUP(BP10,Accueil!$V$17:$V$22,1,0)),1,0)","v":0},{"$f":"IF(ISERROR(VLOOKUP(BQ10,Accueil!$V$17:$V$22,1,0)),1,0)","v":0},{"$f":"IF(ISERROR(VLOOKUP(BR10,Accueil!$V$17:$V$22,1,0)),1,0)","v":0},{"$f":"IF(ISERROR(VLOOKUP(BS10,Accueil!$V$17:$V$22,1,0)),1,0)","v":0},{"$f":"IF(ISERROR(VLOOKUP(BT10,Accueil!$V$17:$V$22,1,0)),1,0)","v":0},{"$f":"IF(ISERROR(VLOOKUP(BU10,Accueil!$V$17:$V$22,1,0)),1,0)","v":0},{"$f":"IF(ISERROR(VLOOKUP(BV10,Accueil!$V$17:$V$22,1,0)),1,0)","v":0},{"$f":"IF(ISERROR(VLOOKUP(BW10,Accueil!$V$17:$V$22,1,0)),1,0)","v":0},{"$f":"IF(ISERROR(VLOOKUP(BX10,Accueil!$V$17:$V$22,1,0)),1,0)","v":0},{"$f":"IF(ISERROR(VLOOKUP(BY10,Accueil!$V$17:$V$22,1,0)),1,0)","v":0},{"$f":"IF(ISERROR(VLOOKUP(BZ10,Accueil!$V$17:$V$22,1,0)),1,0)","v":0},{"$f":"IF(ISERROR(VLOOKUP(CA10,Accueil!$V$17:$V$22,1,0)),1,0)","v":0},{"$f":"IF(ISERROR(VLOOKUP(CB10,Accueil!$V$17:$V$22,1,0)),1,0)","v":0},{"$f":"IF(ISERROR(VLOOKUP(CC10,Accueil!$V$17:$V$22,1,0)),1,0)","v":0},{"$f":"IF(ISERROR(VLOOKUP(CD10,Accueil!$V$17:$V$22,1,0)),1,0)","v":0},{"$f":"IF(ISERROR(VLOOKUP(CE10,Accueil!$V$17:$V$22,1,0)),1,0)","v":0},{"$f":"IF(ISERROR(VLOOKUP(CF10,Accueil!$V$17:$V$22,1,0)),1,0)","v":0},{"$f":"IF(ISERROR(VLOOKUP(CG10,Accueil!$V$17:$V$22,1,0)),1,0)","v":0},{"$f":"IF(ISERROR(VLOOKUP(CH10,Accueil!$V$17:$V$22,1,0)),1,0)","v":0},{"$f":"IF(ISERROR(VLOOKUP(CI10,Accueil!$V$17:$V$22,1,0)),1,0)","v":0},{"$f":"IF(ISERROR(VLOOKUP(CJ10,Accueil!$V$17:$V$22,1,0)),1,0)","v":0},{"$f":"IF(ISERROR(VLOOKUP(CK10,Accueil!$V$17:$V$22,1,0)),1,0)","v":0},{"$f":"IF(ISERROR(VLOOKUP(CL10,Accueil!$V$17:$V$22,1,0)),1,0)","v":0},{"$f":"IF(ISERROR(VLOOKUP(CM10,Accueil!$V$17:$V$22,1,0)),1,0)","v":0},{"$f":"IF(ISERROR(VLOOKUP(CN10,Accueil!$V$17:$V$22,1,0)),1,0)","v":0},{"$f":"IF(ISERROR(VLOOKUP(CO10,Accueil!$V$17:$V$22,1,0)),1,0)","v":0},{"$f":"IF(ISERROR(VLOOKUP(CP10,Accueil!$V$17:$V$22,1,0)),1,0)","v":0},{"$f":"IF(ISERROR(VLOOKUP(CQ10,Accueil!$V$17:$V$22,1,0)),1,0)","v":0},{"$f":"IF(ISERROR(VLOOKUP(CR10,Accueil!$V$17:$V$22,1,0)),1,0)","v":0},{"$f":"IF(ISERROR(VLOOKUP(CS10,Accueil!$V$17:$V$22,1,0)),1,0)","v":0},{"$f":"IF(ISERROR(VLOOKUP(CT10,Accueil!$V$17:$V$22,1,0)),1,0)","v":0},{"$f":"IF(ISERROR(VLOOKUP(CU10,Accueil!$V$17:$V$22,1,0)),1,0)","v":0},{"$f":"IF(ISERROR(VLOOKUP(CV10,Accueil!$V$17:$V$22,1,0)),1,0)","v":0},{"$f":"IF(ISERROR(VLOOKUP(CW10,Accueil!$V$17:$V$22,1,0)),1,0)","v":0},{"$f":"IF(ISERROR(VLOOKUP(CX10,Accueil!$V$17:$V$22,1,0)),1,0)","v":0},{"$f":"IF(ISERROR(VLOOKUP(CY10,Accueil!$V$17:$V$22,1,0)),1,0)","v":0},{"$f":"IF(ISERROR(VLOOKUP(CZ10,Accueil!$V$17:$V$22,1,0)),1,0)","v":0},{"$f":"IF(ISERROR(VLOOKUP(DA10,Accueil!$V$17:$V$22,1,0)),1,0)","v":0}]
[null,3,{"$f":"IF(Accueil!E15=\"\",\"\",Accueil!E15)","v":""},{"$f":"IF(Accueil!F15=\"\",\"\",Accueil!F15)","v":""},"",null,null,null,null,null,null,null,null,null,null,null,null,null,null,null,null,null,null,null,null,null,null,null,null,null,null,null,null,null,null,null,null,null,null,null,null,null,null,null,null,null,null,null,null,null,null,null,null,null,null,null,null,null,null,null,null,null,null,null,null,null,null,null,null,null,null,null,null,null,null,null,null,null,null,null,null,null,null,null,null,null,null,null,null,null,null,null,null,null,null,null,null,null,null,null,null,null,null,null,null,3,{"$f":"IF(D11=\"\",\"\",COUNTIF(F11:DA11,Accueil!$AA$28)&\" / \"&COUNTIF($F$8:$DA$8,\">0\")-(COUNTIF(F11:DA11,Accueil!$AF$26)))","v":""},{"$f":"IF(D11=\"\",\"\",COUNTIF(F11:DA11,Accueil!$AA$26))","v":""},{"$f":"IF(D11=\"\",\"\",COUNTIF($F$8:$DA$8,\">0\")-(COUNTIF(F11:DA11,Accueil!$AF$26)))","v":""},"","",0,{"$f":"IF(ISERROR(VLOOKUP(F11,Accueil!$V$17:$V$22,1,0)),1,0)","v":0},{"$f":"IF(ISERROR(VLOOKUP(G11,Accueil!$V$17:$V$22,1,0)),1,0)","v":0},{"$f":"IF(ISERROR(VLOOKUP(H11,Accueil!$V$17:$V$22,1,0)),1,0)","v":0},{"$f":"IF(ISERROR(VLOOKUP(I11,Accueil!$V$17:$V$22,1,0)),1,0)","v":0},{"$f":"IF(ISERROR(VLOOKUP(J11,Accueil!$V$17:$V$22,1,0)),1,0)","v":0},{"$f":"IF(ISERROR(VLOOKUP(K11,Accueil!$V$17:$V$22,1,0)),1,0)","v":0},{"$f":"IF(ISERROR(VLOOKUP(L11,Accueil!$V$17:$V$22,1,0)),1,0)","v":0},{"$f":"IF(ISERROR(VLOOKUP(M11,Accueil!$V$17:$V$22,1,0)),1,0)","v":0},{"$f":"IF(ISERROR(VLOOKUP(N11,Accueil!$V$17:$V$22,1,0)),1,0)","v":0},{"$f":"IF(ISERROR(VLOOKUP(O11,Accueil!$V$17:$V$22,1,0)),1,0)","v":0},{"$f":"IF(ISERROR(VLOOKUP(P11,Accueil!$V$17:$V$22,1,0)),1,0)","v":0},{"$f":"IF(ISERROR(VLOOKUP(Q11,Accueil!$V$17:$V$22,1,0)),1,0)","v":0},{"$f":"IF(ISERROR(VLOOKUP(R11,Accueil!$V$17:$V$22,1,0)),1,0)","v":0},{"$f":"IF(ISERROR(VLOOKUP(S11,Accueil!$V$17:$V$22,1,0)),1,0)","v":0},{"$f":"IF(ISERROR(VLOOKUP(T11,Accueil!$V$17:$V$22,1,0)),1,0)","v":0},{"$f":"IF(ISERROR(VLOOKUP(U11,Accueil!$V$17:$V$22,1,0)),1,0)","v":0},{"$f":"IF(ISERROR(VLOOKUP(V11,Accueil!$V$17:$V$22,1,0)),1,0)","v":0},{"$f":"IF(ISERROR(VLOOKUP(W11,Accueil!$V$17:$V$22,1,0)),1,0)","v":0},{"$f":"IF(ISERROR(VLOOKUP(X11,Accueil!$V$17:$V$22,1,0)),1,0)","v":0},{"$f":"IF(ISERROR(VLOOKUP(Y11,Accueil!$V$17:$V$22,1,0)),1,0)","v":0},{"$f":"IF(ISERROR(VLOOKUP(Z11,Accueil!$V$17:$V$22,1,0)),1,0)","v":0},{"$f":"IF(ISERROR(VLOOKUP(AA11,Accueil!$V$17:$V$22,1,0)),1,0)","v":0},{"$f":"IF(ISERROR(VLOOKUP(AB11,Accueil!$V$17:$V$22,1,0)),1,0)","v":0},{"$f":"IF(ISERROR(VLOOKUP(AC11,Accueil!$V$17:$V$22,1,0)),1,0)","v":0},{"$f":"IF(ISERROR(VLOOKUP(AD11,Accueil!$V$17:$V$22,1,0)),1,0)","v":0},{"$f":"IF(ISERROR(VLOOKUP(AE11,Accueil!$V$17:$V$22,1,0)),1,0)","v":0},{"$f":"IF(ISERROR(VLOOKUP(AF11,Accueil!$V$17:$V$22,1,0)),1,0)","v":0},{"$f":"IF(ISERROR(VLOOKUP(AG11,Accueil!$V$17:$V$22,1,0)),1,0)","v":0},{"$f":"IF(ISERROR(VLOOKUP(AH11,Accueil!$V$17:$V$22,1,0)),1,0)","v":0},{"$f":"IF(ISERROR(VLOOKUP(AI11,Accueil!$V$17:$V$22,1,0)),1,0)","v":0},{"$f":"IF(ISERROR(VLOOKUP(AJ11,Accueil!$V$17:$V$22,1,0)),1,0)","v":0},{"$f":"IF(ISERROR(VLOOKUP(AK11,Accueil!$V$17:$V$22,1,0)),1,0)","v":0},{"$f":"IF(ISERROR(VLOOKUP(AL11,Accueil!$V$17:$V$22,1,0)),1,0)","v":0},{"$f":"IF(ISERROR(VLOOKUP(AM11,Accueil!$V$17:$V$22,1,0)),1,0)","v":0},{"$f":"IF(ISERROR(VLOOKUP(AN11,Accueil!$V$17:$V$22,1,0)),1,0)","v":0},{"$f":"IF(ISERROR(VLOOKUP(AO11,Accueil!$V$17:$V$22,1,0)),1,0)","v":0},{"$f":"IF(ISERROR(VLOOKUP(AP11,Accueil!$V$17:$V$22,1,0)),1,0)","v":0},{"$f":"IF(ISERROR(VLOOKUP(AQ11,Accueil!$V$17:$V$22,1,0)),1,0)","v":0},{"$f":"IF(ISERROR(VLOOKUP(AR11,Accueil!$V$17:$V$22,1,0)),1,0)","v":0},{"$f":"IF(ISERROR(VLOOKUP(AS11,Accueil!$V$17:$V$22,1,0)),1,0)","v":0},{"$f":"IF(ISERROR(VLOOKUP(AT11,Accueil!$V$17:$V$22,1,0)),1,0)","v":0},{"$f":"IF(ISERROR(VLOOKUP(AU11,Accueil!$V$17:$V$22,1,0)),1,0)","v":0},{"$f":"IF(ISERROR(VLOOKUP(AV11,Accueil!$V$17:$V$22,1,0)),1,0)","v":0},{"$f":"IF(ISERROR(VLOOKUP(AW11,Accueil!$V$17:$V$22,1,0)),1,0)","v":0},{"$f":"IF(ISERROR(VLOOKUP(AX11,Accueil!$V$17:$V$22,1,0)),1,0)","v":0},{"$f":"IF(ISERROR(VLOOKUP(AY11,Accueil!$V$17:$V$22,1,0)),1,0)","v":0},{"$f":"IF(ISERROR(VLOOKUP(AZ11,Accueil!$V$17:$V$22,1,0)),1,0)","v":0},{"$f":"IF(ISERROR(VLOOKUP(BA11,Accueil!$V$17:$V$22,1,0)),1,0)","v":0},{"$f":"IF(ISERROR(VLOOKUP(BB11,Accueil!$V$17:$V$22,1,0)),1,0)","v":0},{"$f":"IF(ISERROR(VLOOKUP(BC11,Accueil!$V$17:$V$22,1,0)),1,0)","v":0},{"$f":"IF(ISERROR(VLOOKUP(BD11,Accueil!$V$17:$V$22,1,0)),1,0)","v":0},{"$f":"IF(ISERROR(VLOOKUP(BE11,Accueil!$V$17:$V$22,1,0)),1,0)","v":0},{"$f":"IF(ISERROR(VLOOKUP(BF11,Accueil!$V$17:$V$22,1,0)),1,0)","v":0},{"$f":"IF(ISERROR(VLOOKUP(BG11,Accueil!$V$17:$V$22,1,0)),1,0)","v":0},{"$f":"IF(ISERROR(VLOOKUP(BH11,Accueil!$V$17:$V$22,1,0)),1,0)","v":0},{"$f":"IF(ISERROR(VLOOKUP(BI11,Accueil!$V$17:$V$22,1,0)),1,0)","v":0},{"$f":"IF(ISERROR(VLOOKUP(BJ11,Accueil!$V$17:$V$22,1,0)),1,0)","v":0},{"$f":"IF(ISERROR(VLOOKUP(BK11,Accueil!$V$17:$V$22,1,0)),1,0)","v":0},{"$f":"IF(ISERROR(VLOOKUP(BL11,Accueil!$V$17:$V$22,1,0)),1,0)","v":0},{"$f":"IF(ISERROR(VLOOKUP(BM11,Accueil!$V$17:$V$22,1,0)),1,0)","v":0},{"$f":"IF(ISERROR(VLOOKUP(BN11,Accueil!$V$17:$V$22,1,0)),1,0)","v":0},{"$f":"IF(ISERROR(VLOOKUP(BO11,Accueil!$V$17:$V$22,1,0)),1,0)","v":0},{"$f":"IF(ISERROR(VLOOKUP(BP11,Accueil!$V$17:$V$22,1,0)),1,0)","v":0},{"$f":"IF(ISERROR(VLOOKUP(BQ11,Accueil!$V$17:$V$22,1,0)),1,0)","v":0},{"$f":"IF(ISERROR(VLOOKUP(BR11,Accueil!$V$17:$V$22,1,0)),1,0)","v":0},{"$f":"IF(ISERROR(VLOOKUP(BS11,Accueil!$V$17:$V$22,1,0)),1,0)","v":0},{"$f":"IF(ISERROR(VLOOKUP(BT11,Accueil!$V$17:$V$22,1,0)),1,0)","v":0},{"$f":"IF(ISERROR(VLOOKUP(BU11,Accueil!$V$17:$V$22,1,0)),1,0)","v":0},{"$f":"IF(ISERROR(VLOOKUP(BV11,Accueil!$V$17:$V$22,1,0)),1,0)","v":0},{"$f":"IF(ISERROR(VLOOKUP(BW11,Accueil!$V$17:$V$22,1,0)),1,0)","v":0},{"$f":"IF(ISERROR(VLOOKUP(BX11,Accueil!$V$17:$V$22,1,0)),1,0)","v":0},{"$f":"IF(ISERROR(VLOOKUP(BY11,Accueil!$V$17:$V$22,1,0)),1,0)","v":0},{"$f":"IF(ISERROR(VLOOKUP(BZ11,Accueil!$V$17:$V$22,1,0)),1,0)","v":0},{"$f":"IF(ISERROR(VLOOKUP(CA11,Accueil!$V$17:$V$22,1,0)),1,0)","v":0},{"$f":"IF(ISERROR(VLOOKUP(CB11,Accueil!$V$17:$V$22,1,0)),1,0)","v":0},{"$f":"IF(ISERROR(VLOOKUP(CC11,Accueil!$V$17:$V$22,1,0)),1,0)","v":0},{"$f":"IF(ISERROR(VLOOKUP(CD11,Accueil!$V$17:$V$22,1,0)),1,0)","v":0},{"$f":"IF(ISERROR(VLOOKUP(CE11,Accueil!$V$17:$V$22,1,0)),1,0)","v":0},{"$f":"IF(ISERROR(VLOOKUP(CF11,Accueil!$V$17:$V$22,1,0)),1,0)","v":0},{"$f":"IF(ISERROR(VLOOKUP(CG11,Accueil!$V$17:$V$22,1,0)),1,0)","v":0},{"$f":"IF(ISERROR(VLOOKUP(CH11,Accueil!$V$17:$V$22,1,0)),1,0)","v":0},{"$f":"IF(ISERROR(VLOOKUP(CI11,Accueil!$V$17:$V$22,1,0)),1,0)","v":0},{"$f":"IF(ISERROR(VLOOKUP(CJ11,Accueil!$V$17:$V$22,1,0)),1,0)","v":0},{"$f":"IF(ISERROR(VLOOKUP(CK11,Accueil!$V$17:$V$22,1,0)),1,0)","v":0},{"$f":"IF(ISERROR(VLOOKUP(CL11,Accueil!$V$17:$V$22,1,0)),1,0)","v":0},{"$f":"IF(ISERROR(VLOOKUP(CM11,Accueil!$V$17:$V$22,1,0)),1,0)","v":0},{"$f":"IF(ISERROR(VLOOKUP(CN11,Accueil!$V$17:$V$22,1,0)),1,0)","v":0},{"$f":"IF(ISERROR(VLOOKUP(CO11,Accueil!$V$17:$V$22,1,0)),1,0)","v":0},{"$f":"IF(ISERROR(VLOOKUP(CP11,Accueil!$V$17:$V$22,1,0)),1,0)","v":0},{"$f":"IF(ISERROR(VLOOKUP(CQ11,Accueil!$V$17:$V$22,1,0)),1,0)","v":0},{"$f":"IF(ISERROR(VLOOKUP(CR11,Accueil!$V$17:$V$22,1,0)),1,0)","v":0},{"$f":"IF(ISERROR(VLOOKUP(CS11,Accueil!$V$17:$V$22,1,0)),1,0)","v":0},{"$f":"IF(ISERROR(VLOOKUP(CT11,Accueil!$V$17:$V$22,1,0)),1,0)","v":0},{"$f":"IF(ISERROR(VLOOKUP(CU11,Accueil!$V$17:$V$22,1,0)),1,0)","v":0},{"$f":"IF(ISERROR(VLOOKUP(CV11,Accueil!$V$17:$V$22,1,0)),1,0)","v":0},{"$f":"IF(ISERROR(VLOOKUP(CW11,Accueil!$V$17:$V$22,1,0)),1,0)","v":0},{"$f":"IF(ISERROR(VLOOKUP(CX11,Accueil!$V$17:$V$22,1,0)),1,0)","v":0},{"$f":"IF(ISERROR(VLOOKUP(CY11,Accueil!$V$17:$V$22,1,0)),1,0)","v":0},{"$f":"IF(ISERROR(VLOOKUP(CZ11,Accueil!$V$17:$V$22,1,0)),1,0)","v":0},{"$f":"IF(ISERROR(VLOOKUP(DA11,Accueil!$V$17:$V$22,1,0)),1,0)","v":0}]
[null,4,{"$f":"IF(Accueil!E16=\"\",\"\",Accueil!E16)","v":""},{"$f":"IF(Accueil!F16=\"\",\"\",Accueil!F16)","v":""},"",null,null,null,null,null,null,null,null,null,null,null,null,null,null,null,null,null,null,null,null,null,null,null,null,null,null,null,null,null,null,null,null,null,null,null,null,null,null,null,null,null,null,null,null,null,null,null,null,null,null,null,null,null,null,null,null,null,null,null,null,null,null,null,null,null,null,null,null,null,null,null,null,null,null,null,null,null,null,null,null,null,null,null,null,null,null,null,null,null,null,null,null,null,null,null,null,null,null,null,null,4,{"$f":"IF(D12=\"\",\"\",COUNTIF(F12:DA12,Accueil!$AA$28)&\" / \"&COUNTIF($F$8:$DA$8,\">0\")-(COUNTIF(F12:DA12,Accueil!$AF$26)))","v":""},{"$f":"IF(D12=\"\",\"\",COUNTIF(F12:DA12,Accueil!$AA$26))","v":""},{"$f":"IF(D12=\"\",\"\",COUNTIF($F$8:$DA$8,\">0\")-(COUNTIF(F12:DA12,Accueil!$AF$26)))","v":""},"","",0,{"$f":"IF(ISERROR(VLOOKUP(F12,Accueil!$V$17:$V$22,1,0)),1,0)","v":0},{"$f":"IF(ISERROR(VLOOKUP(G12,Accueil!$V$17:$V$22,1,0)),1,0)","v":0},{"$f":"IF(ISERROR(VLOOKUP(H12,Accueil!$V$17:$V$22,1,0)),1,0)","v":0},{"$f":"IF(ISERROR(VLOOKUP(I12,Accueil!$V$17:$V$22,1,0)),1,0)","v":0},{"$f":"IF(ISERROR(VLOOKUP(J12,Accueil!$V$17:$V$22,1,0)),1,0)","v":0},{"$f":"IF(ISERROR(VLOOKUP(K12,Accueil!$V$17:$V$22,1,0)),1,0)","v":0},{"$f":"IF(ISERROR(VLOOKUP(L12,Accueil!$V$17:$V$22,1,0)),1,0)","v":0},{"$f":"IF(ISERROR(VLOOKUP(M12,Accueil!$V$17:$V$22,1,0)),1,0)","v":0},{"$f":"IF(ISERROR(VLOOKUP(N12,Accueil!$V$17:$V$22,1,0)),1,0)","v":0},{"$f":"IF(ISERROR(VLOOKUP(O12,Accueil!$V$17:$V$22,1,0)),1,0)","v":0},{"$f":"IF(ISERROR(VLOOKUP(P12,Accueil!$V$17:$V$22,1,0)),1,0)","v":0},{"$f":"IF(ISERROR(VLOOKUP(Q12,Accueil!$V$17:$V$22,1,0)),1,0)","v":0},{"$f":"IF(ISERROR(VLOOKUP(R12,Accueil!$V$17:$V$22,1,0)),1,0)","v":0},{"$f":"IF(ISERROR(VLOOKUP(S12,Accueil!$V$17:$V$22,1,0)),1,0)","v":0},{"$f":"IF(ISERROR(VLOOKUP(T12,Accueil!$V$17:$V$22,1,0)),1,0)","v":0},{"$f":"IF(ISERROR(VLOOKUP(U12,Accueil!$V$17:$V$22,1,0)),1,0)","v":0},{"$f":"IF(ISERROR(VLOOKUP(V12,Accueil!$V$17:$V$22,1,0)),1,0)","v":0},{"$f":"IF(ISERROR(VLOOKUP(W12,Accueil!$V$17:$V$22,1,0)),1,0)","v":0},{"$f":"IF(ISERROR(VLOOKUP(X12,Accueil!$V$17:$V$22,1,0)),1,0)","v":0},{"$f":"IF(ISERROR(VLOOKUP(Y12,Accueil!$V$17:$V$22,1,0)),1,0)","v":0},{"$f":"IF(ISERROR(VLOOKUP(Z12,Accueil!$V$17:$V$22,1,0)),1,0)","v":0},{"$f":"IF(ISERROR(VLOOKUP(AA12,Accueil!$V$17:$V$22,1,0)),1,0)","v":0},{"$f":"IF(ISERROR(VLOOKUP(AB12,Accueil!$V$17:$V$22,1,0)),1,0)","v":0},{"$f":"IF(ISERROR(VLOOKUP(AC12,Accueil!$V$17:$V$22,1,0)),1,0)","v":0},{"$f":"IF(ISERROR(VLOOKUP(AD12,Accueil!$V$17:$V$22,1,0)),1,0)","v":0},{"$f":"IF(ISERROR(VLOOKUP(AE12,Accueil!$V$17:$V$22,1,0)),1,0)","v":0},{"$f":"IF(ISERROR(VLOOKUP(AF12,Accueil!$V$17:$V$22,1,0)),1,0)","v":0},{"$f":"IF(ISERROR(VLOOKUP(AG12,Accueil!$V$17:$V$22,1,0)),1,0)","v":0},{"$f":"IF(ISERROR(VLOOKUP(AH12,Accueil!$V$17:$V$22,1,0)),1,0)","v":0},{"$f":"IF(ISERROR(VLOOKUP(AI12,Accueil!$V$17:$V$22,1,0)),1,0)","v":0},{"$f":"IF(ISERROR(VLOOKUP(AJ12,Accueil!$V$17:$V$22,1,0)),1,0)","v":0},{"$f":"IF(ISERROR(VLOOKUP(AK12,Accueil!$V$17:$V$22,1,0)),1,0)","v":0},{"$f":"IF(ISERROR(VLOOKUP(AL12,Accueil!$V$17:$V$22,1,0)),1,0)","v":0},{"$f":"IF(ISERROR(VLOOKUP(AM12,Accueil!$V$17:$V$22,1,0)),1,0)","v":0},{"$f":"IF(ISERROR(VLOOKUP(AN12,Accueil!$V$17:$V$22,1,0)),1,0)","v":0},{"$f":"IF(ISERROR(VLOOKUP(AO12,Accueil!$V$17:$V$22,1,0)),1,0)","v":0},{"$f":"IF(ISERROR(VLOOKUP(AP12,Accueil!$V$17:$V$22,1,0)),1,0)","v":0},{"$f":"IF(ISERROR(VLOOKUP(AQ12,Accueil!$V$17:$V$22,1,0)),1,0)","v":0},{"$f":"IF(ISERROR(VLOOKUP(AR12,Accueil!$V$17:$V$22,1,0)),1,0)","v":0},{"$f":"IF(ISERROR(VLOOKUP(AS12,Accueil!$V$17:$V$22,1,0)),1,0)","v":0},{"$f":"IF(ISERROR(VLOOKUP(AT12,Accueil!$V$17:$V$22,1,0)),1,0)","v":0},{"$f":"IF(ISERROR(VLOOKUP(AU12,Accueil!$V$17:$V$22,1,0)),1,0)","v":0},{"$f":"IF(ISERROR(VLOOKUP(AV12,Accueil!$V$17:$V$22,1,0)),1,0)","v":0},{"$f":"IF(ISERROR(VLOOKUP(AW12,Accueil!$V$17:$V$22,1,0)),1,0)","v":0},{"$f":"IF(ISERROR(VLOOKUP(AX12,Accueil!$V$17:$V$22,1,0)),1,0)","v":0},{"$f":"IF(ISERROR(VLOOKUP(AY12,Accueil!$V$17:$V$22,1,0)),1,0)","v":0},{"$f":"IF(ISERROR(VLOOKUP(AZ12,Accueil!$V$17:$V$22,1,0)),1,0)","v":0},{"$f":"IF(ISERROR(VLOOKUP(BA12,Accueil!$V$17:$V$22,1,0)),1,0)","v":0},{"$f":"IF(ISERROR(VLOOKUP(BB12,Accueil!$V$17:$V$22,1,0)),1,0)","v":0},{"$f":"IF(ISERROR(VLOOKUP(BC12,Accueil!$V$17:$V$22,1,0)),1,0)","v":0},{"$f":"IF(ISERROR(VLOOKUP(BD12,Accueil!$V$17:$V$22,1,0)),1,0)","v":0},{"$f":"IF(ISERROR(VLOOKUP(BE12,Accueil!$V$17:$V$22,1,0)),1,0)","v":0},{"$f":"IF(ISERROR(VLOOKUP(BF12,Accueil!$V$17:$V$22,1,0)),1,0)","v":0},{"$f":"IF(ISERROR(VLOOKUP(BG12,Accueil!$V$17:$V$22,1,0)),1,0)","v":0},{"$f":"IF(ISERROR(VLOOKUP(BH12,Accueil!$V$17:$V$22,1,0)),1,0)","v":0},{"$f":"IF(ISERROR(VLOOKUP(BI12,Accueil!$V$17:$V$22,1,0)),1,0)","v":0},{"$f":"IF(ISERROR(VLOOKUP(BJ12,Accueil!$V$17:$V$22,1,0)),1,0)","v":0},{"$f":"IF(ISERROR(VLOOKUP(BK12,Accueil!$V$17:$V$22,1,0)),1,0)","v":0},{"$f":"IF(ISERROR(VLOOKUP(BL12,Accueil!$V$17:$V$22,1,0)),1,0)","v":0},{"$f":"IF(ISERROR(VLOOKUP(BM12,Accueil!$V$17:$V$22,1,0)),1,0)","v":0},{"$f":"IF(ISERROR(VLOOKUP(BN12,Accueil!$V$17:$V$22,1,0)),1,0)","v":0},{"$f":"IF(ISERROR(VLOOKUP(BO12,Accueil!$V$17:$V$22,1,0)),1,0)","v":0},{"$f":"IF(ISERROR(VLOOKUP(BP12,Accueil!$V$17:$V$22,1,0)),1,0)","v":0},{"$f":"IF(ISERROR(VLOOKUP(BQ12,Accueil!$V$17:$V$22,1,0)),1,0)","v":0},{"$f":"IF(ISERROR(VLOOKUP(BR12,Accueil!$V$17:$V$22,1,0)),1,0)","v":0},{"$f":"IF(ISERROR(VLOOKUP(BS12,Accueil!$V$17:$V$22,1,0)),1,0)","v":0},{"$f":"IF(ISERROR(VLOOKUP(BT12,Accueil!$V$17:$V$22,1,0)),1,0)","v":0},{"$f":"IF(ISERROR(VLOOKUP(BU12,Accueil!$V$17:$V$22,1,0)),1,0)","v":0},{"$f":"IF(ISERROR(VLOOKUP(BV12,Accueil!$V$17:$V$22,1,0)),1,0)","v":0},{"$f":"IF(ISERROR(VLOOKUP(BW12,Accueil!$V$17:$V$22,1,0)),1,0)","v":0},{"$f":"IF(ISERROR(VLOOKUP(BX12,Accueil!$V$17:$V$22,1,0)),1,0)","v":0},{"$f":"IF(ISERROR(VLOOKUP(BY12,Accueil!$V$17:$V$22,1,0)),1,0)","v":0},{"$f":"IF(ISERROR(VLOOKUP(BZ12,Accueil!$V$17:$V$22,1,0)),1,0)","v":0},{"$f":"IF(ISERROR(VLOOKUP(CA12,Accueil!$V$17:$V$22,1,0)),1,0)","v":0},{"$f":"IF(ISERROR(VLOOKUP(CB12,Accueil!$V$17:$V$22,1,0)),1,0)","v":0},{"$f":"IF(ISERROR(VLOOKUP(CC12,Accueil!$V$17:$V$22,1,0)),1,0)","v":0},{"$f":"IF(ISERROR(VLOOKUP(CD12,Accueil!$V$17:$V$22,1,0)),1,0)","v":0},{"$f":"IF(ISERROR(VLOOKUP(CE12,Accueil!$V$17:$V$22,1,0)),1,0)","v":0},{"$f":"IF(ISERROR(VLOOKUP(CF12,Accueil!$V$17:$V$22,1,0)),1,0)","v":0},{"$f":"IF(ISERROR(VLOOKUP(CG12,Accueil!$V$17:$V$22,1,0)),1,0)","v":0},{"$f":"IF(ISERROR(VLOOKUP(CH12,Accueil!$V$17:$V$22,1,0)),1,0)","v":0},{"$f":"IF(ISERROR(VLOOKUP(CI12,Accueil!$V$17:$V$22,1,0)),1,0)","v":0},{"$f":"IF(ISERROR(VLOOKUP(CJ12,Accueil!$V$17:$V$22,1,0)),1,0)","v":0},{"$f":"IF(ISERROR(VLOOKUP(CK12,Accueil!$V$17:$V$22,1,0)),1,0)","v":0},{"$f":"IF(ISERROR(VLOOKUP(CL12,Accueil!$V$17:$V$22,1,0)),1,0)","v":0},{"$f":"IF(ISERROR(VLOOKUP(CM12,Accueil!$V$17:$V$22,1,0)),1,0)","v":0},{"$f":"IF(ISERROR(VLOOKUP(CN12,Accueil!$V$17:$V$22,1,0)),1,0)","v":0},{"$f":"IF(ISERROR(VLOOKUP(CO12,Accueil!$V$17:$V$22,1,0)),1,0)","v":0},{"$f":"IF(ISERROR(VLOOKUP(CP12,Accueil!$V$17:$V$22,1,0)),1,0)","v":0},{"$f":"IF(ISERROR(VLOOKUP(CQ12,Accueil!$V$17:$V$22,1,0)),1,0)","v":0},{"$f":"IF(ISERROR(VLOOKUP(CR12,Accueil!$V$17:$V$22,1,0)),1,0)","v":0},{"$f":"IF(ISERROR(VLOOKUP(CS12,Accueil!$V$17:$V$22,1,0)),1,0)","v":0},{"$f":"IF(ISERROR(VLOOKUP(CT12,Accueil!$V$17:$V$22,1,0)),1,0)","v":0},{"$f":"IF(ISERROR(VLOOKUP(CU12,Accueil!$V$17:$V$22,1,0)),1,0)","v":0},{"$f":"IF(ISERROR(VLOOKUP(CV12,Accueil!$V$17:$V$22,1,0)),1,0)","v":0},{"$f":"IF(ISERROR(VLOOKUP(CW12,Accueil!$V$17:$V$22,1,0)),1,0)","v":0},{"$f":"IF(ISERROR(VLOOKUP(CX12,Accueil!$V$17:$V$22,1,0)),1,0)","v":0},{"$f":"IF(ISERROR(VLOOKUP(CY12,Accueil!$V$17:$V$22,1,0)),1,0)","v":0},{"$f":"IF(ISERROR(VLOOKUP(CZ12,Accueil!$V$17:$V$22,1,0)),1,0)","v":0},{"$f":"IF(ISERROR(VLOOKUP(DA12,Accueil!$V$17:$V$22,1,0)),1,0)","v":0}]
[null,5,{"$f":"IF(Accueil!E17=\"\",\"\",Accueil!E17)","v":""},{"$f":"IF(Accueil!F17=\"\",\"\",Accueil!F17)","v":""},"",null,null,null,null,null,null,null,null,null,null,null,null,null,null,null,null,null,null,null,null,null,null,null,null,null,null,null,null,null,null,null,null,null,null,null,null,null,null,null,null,null,null,null,null,null,null,null,null,null,null,null,null,null,null,null,null,null,null,null,null,null,null,null,null,null,null,null,null,null,null,null,null,null,null,null,null,null,null,null,null,null,null,null,null,null,null,null,null,null,null,null,null,null,null,null,null,null,null,null,null,5,{"$f":"IF(D13=\"\",\"\",COUNTIF(F13:DA13,Accueil!$AA$28)&\" / \"&COUNTIF($F$8:$DA$8,\">0\")-(COUNTIF(F13:DA13,Accueil!$AF$26)))","v":""},{"$f":"IF(D13=\"\",\"\",COUNTIF(F13:DA13,Accueil!$AA$26))","v":""},{"$f":"IF(D13=\"\",\"\",COUNTIF($F$8:$DA$8,\">0\")-(COUNTIF(F13:DA13,Accueil!$AF$26)))","v":""},"","",0,{"$f":"IF(ISERROR(VLOOKUP(F13,Accueil!$V$17:$V$22,1,0)),1,0)","v":0},{"$f":"IF(ISERROR(VLOOKUP(G13,Accueil!$V$17:$V$22,1,0)),1,0)","v":0},{"$f":"IF(ISERROR(VLOOKUP(H13,Accueil!$V$17:$V$22,1,0)),1,0)","v":0},{"$f":"IF(ISERROR(VLOOKUP(I13,Accueil!$V$17:$V$22,1,0)),1,0)","v":0},{"$f":"IF(ISERROR(VLOOKUP(J13,Accueil!$V$17:$V$22,1,0)),1,0)","v":0},{"$f":"IF(ISERROR(VLOOKUP(K13,Accueil!$V$17:$V$22,1,0)),1,0)","v":0},{"$f":"IF(ISERROR(VLOOKUP(L13,Accueil!$V$17:$V$22,1,0)),1,0)","v":0},{"$f":"IF(ISERROR(VLOOKUP(M13,Accueil!$V$17:$V$22,1,0)),1,0)","v":0},{"$f":"IF(ISERROR(VLOOKUP(N13,Accueil!$V$17:$V$22,1,0)),1,0)","v":0},{"$f":"IF(ISERROR(VLOOKUP(O13,Accueil!$V$17:$V$22,1,0)),1,0)","v":0},{"$f":"IF(ISERROR(VLOOKUP(P13,Accueil!$V$17:$V$22,1,0)),1,0)","v":0},{"$f":"IF(ISERROR(VLOOKUP(Q13,Accueil!$V$17:$V$22,1,0)),1,0)","v":0},{"$f":"IF(ISERROR(VLOOKUP(R13,Accueil!$V$17:$V$22,1,0)),1,0)","v":0},{"$f":"IF(ISERROR(VLOOKUP(S13,Accueil!$V$17:$V$22,1,0)),1,0)","v":0},{"$f":"IF(ISERROR(VLOOKUP(T13,Accueil!$V$17:$V$22,1,0)),1,0)","v":0},{"$f":"IF(ISERROR(VLOOKUP(U13,Accueil!$V$17:$V$22,1,0)),1,0)","v":0},{"$f":"IF(ISERROR(VLOOKUP(V13,Accueil!$V$17:$V$22,1,0)),1,0)","v":0},{"$f":"IF(ISERROR(VLOOKUP(W13,Accueil!$V$17:$V$22,1,0)),1,0)","v":0},{"$f":"IF(ISERROR(VLOOKUP(X13,Accueil!$V$17:$V$22,1,0)),1,0)","v":0},{"$f":"IF(ISERROR(VLOOKUP(Y13,Accueil!$V$17:$V$22,1,0)),1,0)","v":0},{"$f":"IF(ISERROR(VLOOKUP(Z13,Accueil!$V$17:$V$22,1,0)),1,0)","v":0},{"$f":"IF(ISERROR(VLOOKUP(AA13,Accueil!$V$17:$V$22,1,0)),1,0)","v":0},{"$f":"IF(ISERROR(VLOOKUP(AB13,Accueil!$V$17:$V$22,1,0)),1,0)","v":0},{"$f":"IF(ISERROR(VLOOKUP(AC13,Accueil!$V$17:$V$22,1,0)),1,0)","v":0},{"$f":"IF(ISERROR(VLOOKUP(AD13,Accueil!$V$17:$V$22,1,0)),1,0)","v":0},{"$f":"IF(ISERROR(VLOOKUP(AE13,Accueil!$V$17:$V$22,1,0)),1,0)","v":0},{"$f":"IF(ISERROR(VLOOKUP(AF13,Accueil!$V$17:$V$22,1,0)),1,0)","v":0},{"$f":"IF(ISERROR(VLOOKUP(AG13,Accueil!$V$17:$V$22,1,0)),1,0)","v":0},{"$f":"IF(ISERROR(VLOOKUP(AH13,Accueil!$V$17:$V$22,1,0)),1,0)","v":0},{"$f":"IF(ISERROR(VLOOKUP(AI13,Accueil!$V$17:$V$22,1,0)),1,0)","v":0},{"$f":"IF(ISERROR(VLOOKUP(AJ13,Accueil!$V$17:$V$22,1,0)),1,0)","v":0},{"$f":"IF(ISERROR(VLOOKUP(AK13,Accueil!$V$17:$V$22,1,0)),1,0)","v":0},{"$f":"IF(ISERROR(VLOOKUP(AL13,Accueil!$V$17:$V$22,1,0)),1,0)","v":0},{"$f":"IF(ISERROR(VLOOKUP(AM13,Accueil!$V$17:$V$22,1,0)),1,0)","v":0},{"$f":"IF(ISERROR(VLOOKUP(AN13,Accueil!$V$17:$V$22,1,0)),1,0)","v":0},{"$f":"IF(ISERROR(VLOOKUP(AO13,Accueil!$V$17:$V$22,1,0)),1,0)","v":0},{"$f":"IF(ISERROR(VLOOKUP(AP13,Accueil!$V$17:$V$22,1,0)),1,0)","v":0},{"$f":"IF(ISERROR(VLOOKUP(AQ13,Accueil!$V$17:$V$22,1,0)),1,0)","v":0},{"$f":"IF(ISERROR(VLOOKUP(AR13,Accueil!$V$17:$V$22,1,0)),1,0)","v":0},{"$f":"IF(ISERROR(VLOOKUP(AS13,Accueil!$V$17:$V$22,1,0)),1,0)","v":0},{"$f":"IF(ISERROR(VLOOKUP(AT13,Accueil!$V$17:$V$22,1,0)),1,0)","v":0},{"$f":"IF(ISERROR(VLOOKUP(AU13,Accueil!$V$17:$V$22,1,0)),1,0)","v":0},{"$f":"IF(ISERROR(VLOOKUP(AV13,Accueil!$V$17:$V$22,1,0)),1,0)","v":0},{"$f":"IF(ISERROR(VLOOKUP(AW13,Accueil!$V$17:$V$22,1,0)),1,0)","v":0},{"$f":"IF(ISERROR(VLOOKUP(AX13,Accueil!$V$17:$V$22,1,0)),1,0)","v":0},{"$f":"IF(ISERROR(VLOOKUP(AY13,Accueil!$V$17:$V$22,1,0)),1,0)","v":0},{"$f":"IF(ISERROR(VLOOKUP(AZ13,Accueil!$V$17:$V$22,1,0)),1,0)","v":0},{"$f":"IF(ISERROR(VLOOKUP(BA13,Accueil!$V$17:$V$22,1,0)),1,0)","v":0},{"$f":"IF(ISERROR(VLOOKUP(BB13,Accueil!$V$17:$V$22,1,0)),1,0)","v":0},{"$f":"IF(ISERROR(VLOOKUP(BC13,Accueil!$V$17:$V$22,1,0)),1,0)","v":0},{"$f":"IF(ISERROR(VLOOKUP(BD13,Accueil!$V$17:$V$22,1,0)),1,0)","v":0},{"$f":"IF(ISERROR(VLOOKUP(BE13,Accueil!$V$17:$V$22,1,0)),1,0)","v":0},{"$f":"IF(ISERROR(VLOOKUP(BF13,Accueil!$V$17:$V$22,1,0)),1,0)","v":0},{"$f":"IF(ISERROR(VLOOKUP(BG13,Accueil!$V$17:$V$22,1,0)),1,0)","v":0},{"$f":"IF(ISERROR(VLOOKUP(BH13,Accueil!$V$17:$V$22,1,0)),1,0)","v":0},{"$f":"IF(ISERROR(VLOOKUP(BI13,Accueil!$V$17:$V$22,1,0)),1,0)","v":0},{"$f":"IF(ISERROR(VLOOKUP(BJ13,Accueil!$V$17:$V$22,1,0)),1,0)","v":0},{"$f":"IF(ISERROR(VLOOKUP(BK13,Accueil!$V$17:$V$22,1,0)),1,0)","v":0},{"$f":"IF(ISERROR(VLOOKUP(BL13,Accueil!$V$17:$V$22,1,0)),1,0)","v":0},{"$f":"IF(ISERROR(VLOOKUP(BM13,Accueil!$V$17:$V$22,1,0)),1,0)","v":0},{"$f":"IF(ISERROR(VLOOKUP(BN13,Accueil!$V$17:$V$22,1,0)),1,0)","v":0},{"$f":"IF(ISERROR(VLOOKUP(BO13,Accueil!$V$17:$V$22,1,0)),1,0)","v":0},{"$f":"IF(ISERROR(VLOOKUP(BP13,Accueil!$V$17:$V$22,1,0)),1,0)","v":0},{"$f":"IF(ISERROR(VLOOKUP(BQ13,Accueil!$V$17:$V$22,1,0)),1,0)","v":0},{"$f":"IF(ISERROR(VLOOKUP(BR13,Accueil!$V$17:$V$22,1,0)),1,0)","v":0},{"$f":"IF(ISERROR(VLOOKUP(BS13,Accueil!$V$17:$V$22,1,0)),1,0)","v":0},{"$f":"IF(ISERROR(VLOOKUP(BT13,Accueil!$V$17:$V$22,1,0)),1,0)","v":0},{"$f":"IF(ISERROR(VLOOKUP(BU13,Accueil!$V$17:$V$22,1,0)),1,0)","v":0},{"$f":"IF(ISERROR(VLOOKUP(BV13,Accueil!$V$17:$V$22,1,0)),1,0)","v":0},{"$f":"IF(ISERROR(VLOOKUP(BW13,Accueil!$V$17:$V$22,1,0)),1,0)","v":0},{"$f":"IF(ISERROR(VLOOKUP(BX13,Accueil!$V$17:$V$22,1,0)),1,0)","v":0},{"$f":"IF(ISERROR(VLOOKUP(BY13,Accueil!$V$17:$V$22,1,0)),1,0)","v":0},{"$f":"IF(ISERROR(VLOOKUP(BZ13,Accueil!$V$17:$V$22,1,0)),1,0)","v":0},{"$f":"IF(ISERROR(VLOOKUP(CA13,Accueil!$V$17:$V$22,1,0)),1,0)","v":0},{"$f":"IF(ISERROR(VLOOKUP(CB13,Accueil!$V$17:$V$22,1,0)),1,0)","v":0},{"$f":"IF(ISERROR(VLOOKUP(CC13,Accueil!$V$17:$V$22,1,0)),1,0)","v":0},{"$f":"IF(ISERROR(VLOOKUP(CD13,Accueil!$V$17:$V$22,1,0)),1,0)","v":0},{"$f":"IF(ISERROR(VLOOKUP(CE13,Accueil!$V$17:$V$22,1,0)),1,0)","v":0},{"$f":"IF(ISERROR(VLOOKUP(CF13,Accueil!$V$17:$V$22,1,0)),1,0)","v":0},{"$f":"IF(ISERROR(VLOOKUP(CG13,Accueil!$V$17:$V$22,1,0)),1,0)","v":0},{"$f":"IF(ISERROR(VLOOKUP(CH13,Accueil!$V$17:$V$22,1,0)),1,0)","v":0},{"$f":"IF(ISERROR(VLOOKUP(CI13,Accueil!$V$17:$V$22,1,0)),1,0)","v":0},{"$f":"IF(ISERROR(VLOOKUP(CJ13,Accueil!$V$17:$V$22,1,0)),1,0)","v":0},{"$f":"IF(ISERROR(VLOOKUP(CK13,Accueil!$V$17:$V$22,1,0)),1,0)","v":0},{"$f":"IF(ISERROR(VLOOKUP(CL13,Accueil!$V$17:$V$22,1,0)),1,0)","v":0},{"$f":"IF(ISERROR(VLOOKUP(CM13,Accueil!$V$17:$V$22,1,0)),1,0)","v":0},{"$f":"IF(ISERROR(VLOOKUP(CN13,Accueil!$V$17:$V$22,1,0)),1,0)","v":0},{"$f":"IF(ISERROR(VLOOKUP(CO13,Accueil!$V$17:$V$22,1,0)),1,0)","v":0},{"$f":"IF(ISERROR(VLOOKUP(CP13,Accueil!$V$17:$V$22,1,0)),1,0)","v":0},{"$f":"IF(ISERROR(VLOOKUP(CQ13,Accueil!$V$17:$V$22,1,0)),1,0)","v":0},{"$f":"IF(ISERROR(VLOOKUP(CR13,Accueil!$V$17:$V$22,1,0)),1,0)","v":0},{"$f":"IF(ISERROR(VLOOKUP(CS13,Accueil!$V$17:$V$22,1,0)),1,0)","v":0},{"$f":"IF(ISERROR(VLOOKUP(CT13,Accueil!$V$17:$V$22,1,0)),1,0)","v":0},{"$f":"IF(ISERROR(VLOOKUP(CU13,Accueil!$V$17:$V$22,1,0)),1,0)","v":0},{"$f":"IF(ISERROR(VLOOKUP(CV13,Accueil!$V$17:$V$22,1,0)),1,0)","v":0},{"$f":"IF(ISERROR(VLOOKUP(CW13,Accueil!$V$17:$V$22,1,0)),1,0)","v":0},{"$f":"IF(ISERROR(VLOOKUP(CX13,Accueil!$V$17:$V$22,1,0)),1,0)","v":0},{"$f":"IF(ISERROR(VLOOKUP(CY13,Accueil!$V$17:$V$22,1,0)),1,0)","v":0},{"$f":"IF(ISERROR(VLOOKUP(CZ13,Accueil!$V$17:$V$22,1,0)),1,0)","v":0},{"$f":"IF(ISERROR(VLOOKUP(DA13,Accueil!$V$17:$V$22,1,0)),1,0)","v":0}]
[null,6,{"$f":"IF(Accueil!E18=\"\",\"\",Accueil!E18)","v":""},{"$f":"IF(Accueil!F18=\"\",\"\",Accueil!F18)","v":""},"",null,null,null,null,null,null,null,null,null,null,null,null,null,null,null,null,null,null,null,null,null,null,null,null,null,null,null,null,null,null,null,null,null,null,null,null,null,null,null,null,null,null,null,null,null,null,null,null,null,null,null,null,null,null,null,null,null,null,null,null,null,null,null,null,null,null,null,null,null,null,null,null,null,null,null,null,null,null,null,null,null,null,null,null,null,null,null,null,null,null,null,null,null,null,null,null,null,null,null,null,6,{"$f":"IF(D14=\"\",\"\",COUNTIF(F14:DA14,Accueil!$AA$28)&\" / \"&COUNTIF($F$8:$DA$8,\">0\")-(COUNTIF(F14:DA14,Accueil!$AF$26)))","v":""},{"$f":"IF(D14=\"\",\"\",COUNTIF(F14:DA14,Accueil!$AA$26))","v":""},{"$f":"IF(D14=\"\",\"\",COUNTIF($F$8:$DA$8,\">0\")-(COUNTIF(F14:DA14,Accueil!$AF$26)))","v":""},"","",0,{"$f":"IF(ISERROR(VLOOKUP(F14,Accueil!$V$17:$V$22,1,0)),1,0)","v":0},{"$f":"IF(ISERROR(VLOOKUP(G14,Accueil!$V$17:$V$22,1,0)),1,0)","v":0},{"$f":"IF(ISERROR(VLOOKUP(H14,Accueil!$V$17:$V$22,1,0)),1,0)","v":0},{"$f":"IF(ISERROR(VLOOKUP(I14,Accueil!$V$17:$V$22,1,0)),1,0)","v":0},{"$f":"IF(ISERROR(VLOOKUP(J14,Accueil!$V$17:$V$22,1,0)),1,0)","v":0},{"$f":"IF(ISERROR(VLOOKUP(K14,Accueil!$V$17:$V$22,1,0)),1,0)","v":0},{"$f":"IF(ISERROR(VLOOKUP(L14,Accueil!$V$17:$V$22,1,0)),1,0)","v":0},{"$f":"IF(ISERROR(VLOOKUP(M14,Accueil!$V$17:$V$22,1,0)),1,0)","v":0},{"$f":"IF(ISERROR(VLOOKUP(N14,Accueil!$V$17:$V$22,1,0)),1,0)","v":0},{"$f":"IF(ISERROR(VLOOKUP(O14,Accueil!$V$17:$V$22,1,0)),1,0)","v":0},{"$f":"IF(ISERROR(VLOOKUP(P14,Accueil!$V$17:$V$22,1,0)),1,0)","v":0},{"$f":"IF(ISERROR(VLOOKUP(Q14,Accueil!$V$17:$V$22,1,0)),1,0)","v":0},{"$f":"IF(ISERROR(VLOOKUP(R14,Accueil!$V$17:$V$22,1,0)),1,0)","v":0},{"$f":"IF(ISERROR(VLOOKUP(S14,Accueil!$V$17:$V$22,1,0)),1,0)","v":0},{"$f":"IF(ISERROR(VLOOKUP(T14,Accueil!$V$17:$V$22,1,0)),1,0)","v":0},{"$f":"IF(ISERROR(VLOOKUP(U14,Accueil!$V$17:$V$22,1,0)),1,0)","v":0},{"$f":"IF(ISERROR(VLOOKUP(V14,Accueil!$V$17:$V$22,1,0)),1,0)","v":0},{"$f":"IF(ISERROR(VLOOKUP(W14,Accueil!$V$17:$V$22,1,0)),1,0)","v":0},{"$f":"IF(ISERROR(VLOOKUP(X14,Accueil!$V$17:$V$22,1,0)),1,0)","v":0},{"$f":"IF(ISERROR(VLOOKUP(Y14,Accueil!$V$17:$V$22,1,0)),1,0)","v":0},{"$f":"IF(ISERROR(VLOOKUP(Z14,Accueil!$V$17:$V$22,1,0)),1,0)","v":0},{"$f":"IF(ISERROR(VLOOKUP(AA14,Accueil!$V$17:$V$22,1,0)),1,0)","v":0},{"$f":"IF(ISERROR(VLOOKUP(AB14,Accueil!$V$17:$V$22,1,0)),1,0)","v":0},{"$f":"IF(ISERROR(VLOOKUP(AC14,Accueil!$V$17:$V$22,1,0)),1,0)","v":0},{"$f":"IF(ISERROR(VLOOKUP(AD14,Accueil!$V$17:$V$22,1,0)),1,0)","v":0},{"$f":"IF(ISERROR(VLOOKUP(AE14,Accueil!$V$17:$V$22,1,0)),1,0)","v":0},{"$f":"IF(ISERROR(VLOOKUP(AF14,Accueil!$V$17:$V$22,1,0)),1,0)","v":0},{"$f":"IF(ISERROR(VLOOKUP(AG14,Accueil!$V$17:$V$22,1,0)),1,0)","v":0},{"$f":"IF(ISERROR(VLOOKUP(AH14,Accueil!$V$17:$V$22,1,0)),1,0)","v":0},{"$f":"IF(ISERROR(VLOOKUP(AI14,Accueil!$V$17:$V$22,1,0)),1,0)","v":0},{"$f":"IF(ISERROR(VLOOKUP(AJ14,Accueil!$V$17:$V$22,1,0)),1,0)","v":0},{"$f":"IF(ISERROR(VLOOKUP(AK14,Accueil!$V$17:$V$22,1,0)),1,0)","v":0},{"$f":"IF(ISERROR(VLOOKUP(AL14,Accueil!$V$17:$V$22,1,0)),1,0)","v":0},{"$f":"IF(ISERROR(VLOOKUP(AM14,Accueil!$V$17:$V$22,1,0)),1,0)","v":0},{"$f":"IF(ISERROR(VLOOKUP(AN14,Accueil!$V$17:$V$22,1,0)),1,0)","v":0},{"$f":"IF(ISERROR(VLOOKUP(AO14,Accueil!$V$17:$V$22,1,0)),1,0)","v":0},{"$f":"IF(ISERROR(VLOOKUP(AP14,Accueil!$V$17:$V$22,1,0)),1,0)","v":0},{"$f":"IF(ISERROR(VLOOKUP(AQ14,Accueil!$V$17:$V$22,1,0)),1,0)","v":0},{"$f":"IF(ISERROR(VLOOKUP(AR14,Accueil!$V$17:$V$22,1,0)),1,0)","v":0},{"$f":"IF(ISERROR(VLOOKUP(AS14,Accueil!$V$17:$V$22,1,0)),1,0)","v":0},{"$f":"IF(ISERROR(VLOOKUP(AT14,Accueil!$V$17:$V$22,1,0)),1,0)","v":0},{"$f":"IF(ISERROR(VLOOKUP(AU14,Accueil!$V$17:$V$22,1,0)),1,0)","v":0},{"$f":"IF(ISERROR(VLOOKUP(AV14,Accueil!$V$17:$V$22,1,0)),1,0)","v":0},{"$f":"IF(ISERROR(VLOOKUP(AW14,Accueil!$V$17:$V$22,1,0)),1,0)","v":0},{"$f":"IF(ISERROR(VLOOKUP(AX14,Accueil!$V$17:$V$22,1,0)),1,0)","v":0},{"$f":"IF(ISERROR(VLOOKUP(AY14,Accueil!$V$17:$V$22,1,0)),1,0)","v":0},{"$f":"IF(ISERROR(VLOOKUP(AZ14,Accueil!$V$17:$V$22,1,0)),1,0)","v":0},{"$f":"IF(ISERROR(VLOOKUP(BA14,Accueil!$V$17:$V$22,1,0)),1,0)","v":0},{"$f":"IF(ISERROR(VLOOKUP(BB14,Accueil!$V$17:$V$22,1,0)),1,0)","v":0},{"$f":"IF(ISERROR(VLOOKUP(BC14,Accueil!$V$17:$V$22,1,0)),1,0)","v":0},{"$f":"IF(ISERROR(VLOOKUP(BD14,Accueil!$V$17:$V$22,1,0)),1,0)","v":0},{"$f":"IF(ISERROR(VLOOKUP(BE14,Accueil!$V$17:$V$22,1,0)),1,0)","v":0},{"$f":"IF(ISERROR(VLOOKUP(BF14,Accueil!$V$17:$V$22,1,0)),1,0)","v":0},{"$f":"IF(ISERROR(VLOOKUP(BG14,Accueil!$V$17:$V$22,1,0)),1,0)","v":0},{"$f":"IF(ISERROR(VLOOKUP(BH14,Accueil!$V$17:$V$22,1,0)),1,0)","v":0},{"$f":"IF(ISERROR(VLOOKUP(BI14,Accueil!$V$17:$V$22,1,0)),1,0)","v":0},{"$f":"IF(ISERROR(VLOOKUP(BJ14,Accueil!$V$17:$V$22,1,0)),1,0)","v":0},{"$f":"IF(ISERROR(VLOOKUP(BK14,Accueil!$V$17:$V$22,1,0)),1,0)","v":0},{"$f":"IF(ISERROR(VLOOKUP(BL14,Accueil!$V$17:$V$22,1,0)),1,0)","v":0},{"$f":"IF(ISERROR(VLOOKUP(BM14,Accueil!$V$17:$V$22,1,0)),1,0)","v":0},{"$f":"IF(ISERROR(VLOOKUP(BN14,Accueil!$V$17:$V$22,1,0)),1,0)","v":0},{"$f":"IF(ISERROR(VLOOKUP(BO14,Accueil!$V$17:$V$22,1,0)),1,0)","v":0},{"$f":"IF(ISERROR(VLOOKUP(BP14,Accueil!$V$17:$V$22,1,0)),1,0)","v":0},{"$f":"IF(ISERROR(VLOOKUP(BQ14,Accueil!$V$17:$V$22,1,0)),1,0)","v":0},{"$f":"IF(ISERROR(VLOOKUP(BR14,Accueil!$V$17:$V$22,1,0)),1,0)","v":0},{"$f":"IF(ISERROR(VLOOKUP(BS14,Accueil!$V$17:$V$22,1,0)),1,0)","v":0},{"$f":"IF(ISERROR(VLOOKUP(BT14,Accueil!$V$17:$V$22,1,0)),1,0)","v":0},{"$f":"IF(ISERROR(VLOOKUP(BU14,Accueil!$V$17:$V$22,1,0)),1,0)","v":0},{"$f":"IF(ISERROR(VLOOKUP(BV14,Accueil!$V$17:$V$22,1,0)),1,0)","v":0},{"$f":"IF(ISERROR(VLOOKUP(BW14,Accueil!$V$17:$V$22,1,0)),1,0)","v":0},{"$f":"IF(ISERROR(VLOOKUP(BX14,Accueil!$V$17:$V$22,1,0)),1,0)","v":0},{"$f":"IF(ISERROR(VLOOKUP(BY14,Accueil!$V$17:$V$22,1,0)),1,0)","v":0},{"$f":"IF(ISERROR(VLOOKUP(BZ14,Accueil!$V$17:$V$22,1,0)),1,0)","v":0},{"$f":"IF(ISERROR(VLOOKUP(CA14,Accueil!$V$17:$V$22,1,0)),1,0)","v":0},{"$f":"IF(ISERROR(VLOOKUP(CB14,Accueil!$V$17:$V$22,1,0)),1,0)","v":0},{"$f":"IF(ISERROR(VLOOKUP(CC14,Accueil!$V$17:$V$22,1,0)),1,0)","v":0},{"$f":"IF(ISERROR(VLOOKUP(CD14,Accueil!$V$17:$V$22,1,0)),1,0)","v":0},{"$f":"IF(ISERROR(VLOOKUP(CE14,Accueil!$V$17:$V$22,1,0)),1,0)","v":0},{"$f":"IF(ISERROR(VLOOKUP(CF14,Accueil!$V$17:$V$22,1,0)),1,0)","v":0},{"$f":"IF(ISERROR(VLOOKUP(CG14,Accueil!$V$17:$V$22,1,0)),1,0)","v":0},{"$f":"IF(ISERROR(VLOOKUP(CH14,Accueil!$V$17:$V$22,1,0)),1,0)","v":0},{"$f":"IF(ISERROR(VLOOKUP(CI14,Accueil!$V$17:$V$22,1,0)),1,0)","v":0},{"$f":"IF(ISERROR(VLOOKUP(CJ14,Accueil!$V$17:$V$22,1,0)),1,0)","v":0},{"$f":"IF(ISERROR(VLOOKUP(CK14,Accueil!$V$17:$V$22,1,0)),1,0)","v":0},{"$f":"IF(ISERROR(VLOOKUP(CL14,Accueil!$V$17:$V$22,1,0)),1,0)","v":0},{"$f":"IF(ISERROR(VLOOKUP(CM14,Accueil!$V$17:$V$22,1,0)),1,0)","v":0},{"$f":"IF(ISERROR(VLOOKUP(CN14,Accueil!$V$17:$V$22,1,0)),1,0)","v":0},{"$f":"IF(ISERROR(VLOOKUP(CO14,Accueil!$V$17:$V$22,1,0)),1,0)","v":0},{"$f":"IF(ISERROR(VLOOKUP(CP14,Accueil!$V$17:$V$22,1,0)),1,0)","v":0},{"$f":"IF(ISERROR(VLOOKUP(CQ14,Accueil!$V$17:$V$22,1,0)),1,0)","v":0},{"$f":"IF(ISERROR(VLOOKUP(CR14,Accueil!$V$17:$V$22,1,0)),1,0)","v":0},{"$f":"IF(ISERROR(VLOOKUP(CS14,Accueil!$V$17:$V$22,1,0)),1,0)","v":0},{"$f":"IF(ISERROR(VLOOKUP(CT14,Accueil!$V$17:$V$22,1,0)),1,0)","v":0},{"$f":"IF(ISERROR(VLOOKUP(CU14,Accueil!$V$17:$V$22,1,0)),1,0)","v":0},{"$f":"IF(ISERROR(VLOOKUP(CV14,Accueil!$V$17:$V$22,1,0)),1,0)","v":0},{"$f":"IF(ISERROR(VLOOKUP(CW14,Accueil!$V$17:$V$22,1,0)),1,0)","v":0},{"$f":"IF(ISERROR(VLOOKUP(CX14,Accueil!$V$17:$V$22,1,0)),1,0)","v":0},{"$f":"IF(ISERROR(VLOOKUP(CY14,Accueil!$V$17:$V$22,1,0)),1,0)","v":0},{"$f":"IF(ISERROR(VLOOKUP(CZ14,Accueil!$V$17:$V$22,1,0)),1,0)","v":0},{"$f":"IF(ISERROR(VLOOKUP(DA14,Accueil!$V$17:$V$22,1,0)),1,0)","v":0}]
[null,7,{"$f":"IF(Accueil!E19=\"\",\"\",Accueil!E19)","v":""},{"$f":"IF(Accueil!F19=\"\",\"\",Accueil!F19)","v":""},"",null,null,null,null,null,null,null,null,null,null,null,null,null,null,null,null,null,null,null,null,null,null,null,null,null,null,null,null,null,null,null,null,null,null,null,null,null,null,null,null,null,null,null,null,null,null,null,null,null,null,null,null,null,null,null,null,null,null,null,null,null,null,null,null,null,null,null,null,null,null,null,null,null,null,null,null,null,null,null,null,null,null,null,null,null,null,null,null,null,null,null,null,null,null,null,null,null,null,null,null,7,{"$f":"IF(D15=\"\",\"\",COUNTIF(F15:DA15,Accueil!$AA$28)&\" / \"&COUNTIF($F$8:$DA$8,\">0\")-(COUNTIF(F15:DA15,Accueil!$AF$26)))","v":""},{"$f":"IF(D15=\"\",\"\",COUNTIF(F15:DA15,Accueil!$AA$26))","v":""},{"$f":"IF(D15=\"\",\"\",COUNTIF($F$8:$DA$8,\">0\")-(COUNTIF(F15:DA15,Accueil!$AF$26)))","v":""},"","",{"$f":"SUM(DI15:HD15)","v":0},{"$f":"IF(ISERROR(VLOOKUP(F15,Accueil!$V$17:$V$22,1,0)),1,0)","v":0},{"$f":"IF(ISERROR(VLOOKUP(G15,Accueil!$V$17:$V$22,1,0)),1,0)","v":0},{"$f":"IF(ISERROR(VLOOKUP(H15,Accueil!$V$17:$V$22,1,0)),1,0)","v":0},{"$f":"IF(ISERROR(VLOOKUP(I15,Accueil!$V$17:$V$22,1,0)),1,0)","v":0},{"$f":"IF(ISERROR(VLOOKUP(J15,Accueil!$V$17:$V$22,1,0)),1,0)","v":0},{"$f":"IF(ISERROR(VLOOKUP(K15,Accueil!$V$17:$V$22,1,0)),1,0)","v":0},{"$f":"IF(ISERROR(VLOOKUP(L15,Accueil!$V$17:$V$22,1,0)),1,0)","v":0},{"$f":"IF(ISERROR(VLOOKUP(M15,Accueil!$V$17:$V$22,1,0)),1,0)","v":0},{"$f":"IF(ISERROR(VLOOKUP(N15,Accueil!$V$17:$V$22,1,0)),1,0)","v":0},{"$f":"IF(ISERROR(VLOOKUP(O15,Accueil!$V$17:$V$22,1,0)),1,0)","v":0},{"$f":"IF(ISERROR(VLOOKUP(P15,Accueil!$V$17:$V$22,1,0)),1,0)","v":0},{"$f":"IF(ISERROR(VLOOKUP(Q15,Accueil!$V$17:$V$22,1,0)),1,0)","v":0},{"$f":"IF(ISERROR(VLOOKUP(R15,Accueil!$V$17:$V$22,1,0)),1,0)","v":0},{"$f":"IF(ISERROR(VLOOKUP(S15,Accueil!$V$17:$V$22,1,0)),1,0)","v":0},{"$f":"IF(ISERROR(VLOOKUP(T15,Accueil!$V$17:$V$22,1,0)),1,0)","v":0},{"$f":"IF(ISERROR(VLOOKUP(U15,Accueil!$V$17:$V$22,1,0)),1,0)","v":0},{"$f":"IF(ISERROR(VLOOKUP(V15,Accueil!$V$17:$V$22,1,0)),1,0)","v":0},{"$f":"IF(ISERROR(VLOOKUP(W15,Accueil!$V$17:$V$22,1,0)),1,0)","v":0},{"$f":"IF(ISERROR(VLOOKUP(X15,Accueil!$V$17:$V$22,1,0)),1,0)","v":0},{"$f":"IF(ISERROR(VLOOKUP(Y15,Accueil!$V$17:$V$22,1,0)),1,0)","v":0},{"$f":"IF(ISERROR(VLOOKUP(Z15,Accueil!$V$17:$V$22,1,0)),1,0)","v":0},{"$f":"IF(ISERROR(VLOOKUP(AA15,Accueil!$V$17:$V$22,1,0)),1,0)","v":0},{"$f":"IF(ISERROR(VLOOKUP(AB15,Accueil!$V$17:$V$22,1,0)),1,0)","v":0},{"$f":"IF(ISERROR(VLOOKUP(AC15,Accueil!$V$17:$V$22,1,0)),1,0)","v":0},{"$f":"IF(ISERROR(VLOOKUP(AD15,Accueil!$V$17:$V$22,1,0)),1,0)","v":0},{"$f":"IF(ISERROR(VLOOKUP(AE15,Accueil!$V$17:$V$22,1,0)),1,0)","v":0},{"$f":"IF(ISERROR(VLOOKUP(AF15,Accueil!$V$17:$V$22,1,0)),1,0)","v":0},{"$f":"IF(ISERROR(VLOOKUP(AG15,Accueil!$V$17:$V$22,1,0)),1,0)","v":0},{"$f":"IF(ISERROR(VLOOKUP(AH15,Accueil!$V$17:$V$22,1,0)),1,0)","v":0},{"$f":"IF(ISERROR(VLOOKUP(AI15,Accueil!$V$17:$V$22,1,0)),1,0)","v":0},{"$f":"IF(ISERROR(VLOOKUP(AJ15,Accueil!$V$17:$V$22,1,0)),1,0)","v":0},{"$f":"IF(ISERROR(VLOOKUP(AK15,Accueil!$V$17:$V$22,1,0)),1,0)","v":0},{"$f":"IF(ISERROR(VLOOKUP(AL15,Accueil!$V$17:$V$22,1,0)),1,0)","v":0},{"$f":"IF(ISERROR(VLOOKUP(AM15,Accueil!$V$17:$V$22,1,0)),1,0)","v":0},{"$f":"IF(ISERROR(VLOOKUP(AN15,Accueil!$V$17:$V$22,1,0)),1,0)","v":0},{"$f":"IF(ISERROR(VLOOKUP(AO15,Accueil!$V$17:$V$22,1,0)),1,0)","v":0},{"$f":"IF(ISERROR(VLOOKUP(AP15,Accueil!$V$17:$V$22,1,0)),1,0)","v":0},{"$f":"IF(ISERROR(VLOOKUP(AQ15,Accueil!$V$17:$V$22,1,0)),1,0)","v":0},{"$f":"IF(ISERROR(VLOOKUP(AR15,Accueil!$V$17:$V$22,1,0)),1,0)","v":0},{"$f":"IF(ISERROR(VLOOKUP(AS15,Accueil!$V$17:$V$22,1,0)),1,0)","v":0},{"$f":"IF(ISERROR(VLOOKUP(AT15,Accueil!$V$17:$V$22,1,0)),1,0)","v":0},{"$f":"IF(ISERROR(VLOOKUP(AU15,Accueil!$V$17:$V$22,1,0)),1,0)","v":0},{"$f":"IF(ISERROR(VLOOKUP(AV15,Accueil!$V$17:$V$22,1,0)),1,0)","v":0},{"$f":"IF(ISERROR(VLOOKUP(AW15,Accueil!$V$17:$V$22,1,0)),1,0)","v":0},{"$f":"IF(ISERROR(VLOOKUP(AX15,Accueil!$V$17:$V$22,1,0)),1,0)","v":0},{"$f":"IF(ISERROR(VLOOKUP(AY15,Accueil!$V$17:$V$22,1,0)),1,0)","v":0},{"$f":"IF(ISERROR(VLOOKUP(AZ15,Accueil!$V$17:$V$22,1,0)),1,0)","v":0},{"$f":"IF(ISERROR(VLOOKUP(BA15,Accueil!$V$17:$V$22,1,0)),1,0)","v":0},{"$f":"IF(ISERROR(VLOOKUP(BB15,Accueil!$V$17:$V$22,1,0)),1,0)","v":0},{"$f":"IF(ISERROR(VLOOKUP(BC15,Accueil!$V$17:$V$22,1,0)),1,0)","v":0},{"$f":"IF(ISERROR(VLOOKUP(BD15,Accueil!$V$17:$V$22,1,0)),1,0)","v":0},{"$f":"IF(ISERROR(VLOOKUP(BE15,Accueil!$V$17:$V$22,1,0)),1,0)","v":0},{"$f":"IF(ISERROR(VLOOKUP(BF15,Accueil!$V$17:$V$22,1,0)),1,0)","v":0},{"$f":"IF(ISERROR(VLOOKUP(BG15,Accueil!$V$17:$V$22,1,0)),1,0)","v":0},{"$f":"IF(ISERROR(VLOOKUP(BH15,Accueil!$V$17:$V$22,1,0)),1,0)","v":0},{"$f":"IF(ISERROR(VLOOKUP(BI15,Accueil!$V$17:$V$22,1,0)),1,0)","v":0},{"$f":"IF(ISERROR(VLOOKUP(BJ15,Accueil!$V$17:$V$22,1,0)),1,0)","v":0},{"$f":"IF(ISERROR(VLOOKUP(BK15,Accueil!$V$17:$V$22,1,0)),1,0)","v":0},{"$f":"IF(ISERROR(VLOOKUP(BL15,Accueil!$V$17:$V$22,1,0)),1,0)","v":0},{"$f":"IF(ISERROR(VLOOKUP(BM15,Accueil!$V$17:$V$22,1,0)),1,0)","v":0},{"$f":"IF(ISERROR(VLOOKUP(BN15,Accueil!$V$17:$V$22,1,0)),1,0)","v":0},{"$f":"IF(ISERROR(VLOOKUP(BO15,Accueil!$V$17:$V$22,1,0)),1,0)","v":0},{"$f":"IF(ISERROR(VLOOKUP(BP15,Accueil!$V$17:$V$22,1,0)),1,0)","v":0},{"$f":"IF(ISERROR(VLOOKUP(BQ15,Accueil!$V$17:$V$22,1,0)),1,0)","v":0},{"$f":"IF(ISERROR(VLOOKUP(BR15,Accueil!$V$17:$V$22,1,0)),1,0)","v":0},{"$f":"IF(ISERROR(VLOOKUP(BS15,Accueil!$V$17:$V$22,1,0)),1,0)","v":0},{"$f":"IF(ISERROR(VLOOKUP(BT15,Accueil!$V$17:$V$22,1,0)),1,0)","v":0},{"$f":"IF(ISERROR(VLOOKUP(BU15,Accueil!$V$17:$V$22,1,0)),1,0)","v":0},{"$f":"IF(ISERROR(VLOOKUP(BV15,Accueil!$V$17:$V$22,1,0)),1,0)","v":0},{"$f":"IF(ISERROR(VLOOKUP(BW15,Accueil!$V$17:$V$22,1,0)),1,0)","v":0},{"$f":"IF(ISERROR(VLOOKUP(BX15,Accueil!$V$17:$V$22,1,0)),1,0)","v":0},{"$f":"IF(ISERROR(VLOOKUP(BY15,Accueil!$V$17:$V$22,1,0)),1,0)","v":0},{"$f":"IF(ISERROR(VLOOKUP(BZ15,Accueil!$V$17:$V$22,1,0)),1,0)","v":0},{"$f":"IF(ISERROR(VLOOKUP(CA15,Accueil!$V$17:$V$22,1,0)),1,0)","v":0},{"$f":"IF(ISERROR(VLOOKUP(CB15,Accueil!$V$17:$V$22,1,0)),1,0)","v":0},{"$f":"IF(ISERROR(VLOOKUP(CC15,Accueil!$V$17:$V$22,1,0)),1,0)","v":0},{"$f":"IF(ISERROR(VLOOKUP(CD15,Accueil!$V$17:$V$22,1,0)),1,0)","v":0},{"$f":"IF(ISERROR(VLOOKUP(CE15,Accueil!$V$17:$V$22,1,0)),1,0)","v":0},{"$f":"IF(ISERROR(VLOOKUP(CF15,Accueil!$V$17:$V$22,1,0)),1,0)","v":0},{"$f":"IF(ISERROR(VLOOKUP(CG15,Accueil!$V$17:$V$22,1,0)),1,0)","v":0},{"$f":"IF(ISERROR(VLOOKUP(CH15,Accueil!$V$17:$V$22,1,0)),1,0)","v":0},{"$f":"IF(ISERROR(VLOOKUP(CI15,Accueil!$V$17:$V$22,1,0)),1,0)","v":0},{"$f":"IF(ISERROR(VLOOKUP(CJ15,Accueil!$V$17:$V$22,1,0)),1,0)","v":0},{"$f":"IF(ISERROR(VLOOKUP(CK15,Accueil!$V$17:$V$22,1,0)),1,0)","v":0},{"$f":"IF(ISERROR(VLOOKUP(CL15,Accueil!$V$17:$V$22,1,0)),1,0)","v":0},{"$f":"IF(ISERROR(VLOOKUP(CM15,Accueil!$V$17:$V$22,1,0)),1,0)","v":0},{"$f":"IF(ISERROR(VLOOKUP(CN15,Accueil!$V$17:$V$22,1,0)),1,0)","v":0},{"$f":"IF(ISERROR(VLOOKUP(CO15,Accueil!$V$17:$V$22,1,0)),1,0)","v":0},{"$f":"IF(ISERROR(VLOOKUP(CP15,Accueil!$V$17:$V$22,1,0)),1,0)","v":0},{"$f":"IF(ISERROR(VLOOKUP(CQ15,Accueil!$V$17:$V$22,1,0)),1,0)","v":0},{"$f":"IF(ISERROR(VLOOKUP(CR15,Accueil!$V$17:$V$22,1,0)),1,0)","v":0},{"$f":"IF(ISERROR(VLOOKUP(CS15,Accueil!$V$17:$V$22,1,0)),1,0)","v":0},{"$f":"IF(ISERROR(VLOOKUP(CT15,Accueil!$V$17:$V$22,1,0)),1,0)","v":0},{"$f":"IF(ISERROR(VLOOKUP(CU15,Accueil!$V$17:$V$22,1,0)),1,0)","v":0},{"$f":"IF(ISERROR(VLOOKUP(CV15,Accueil!$V$17:$V$22,1,0)),1,0)","v":0},{"$f":"IF(ISERROR(VLOOKUP(CW15,Accueil!$V$17:$V$22,1,0)),1,0)","v":0},{"$f":"IF(ISERROR(VLOOKUP(CX15,Accueil!$V$17:$V$22,1,0)),1,0)","v":0},{"$f":"IF(ISERROR(VLOOKUP(CY15,Accueil!$V$17:$V$22,1,0)),1,0)","v":0},{"$f":"IF(ISERROR(VLOOKUP(CZ15,Accueil!$V$17:$V$22,1,0)),1,0)","v":0},{"$f":"IF(ISERROR(VLOOKUP(DA15,Accueil!$V$17:$V$22,1,0)),1,0)","v":0}]
[null,8,{"$f":"IF(Accueil!E20=\"\",\"\",Accueil!E20)","v":""},{"$f":"IF(Accueil!F20=\"\",\"\",Accueil!F20)","v":""},"",null,null,null,null,null,null,null,null,null,null,null,null,null,null,null,null,null,null,null,null,null,null,null,null,null,null,null,null,null,null,null,null,null,null,null,null,null,null,null,null,null,null,null,null,null,null,null,null,null,null,null,null,null,null,null,null,null,null,null,null,null,null,null,null,null,null,null,null,null,null,null,null,null,null,null,null,null,null,null,null,null,null,null,null,null,null,null,null,null,null,null,null,null,null,null,null,null,null,null,null,8,{"$f":"IF(D16=\"\",\"\",COUNTIF(F16:DA16,Accueil!$AA$28)&\" / \"&COUNTIF($F$8:$DA$8,\">0\")-(COUNTIF(F16:DA16,Accueil!$AF$26)))","v":""},{"$f":"IF(D16=\"\",\"\",COUNTIF(F16:DA16,Accueil!$AA$26))","v":""},{"$f":"IF(D16=\"\",\"\",COUNTIF($F$8:$DA$8,\">0\")-(COUNTIF(F16:DA16,Accueil!$AF$26)))","v":""},"","",0,{"$f":"IF(ISERROR(VLOOKUP(F16,Accueil!$V$17:$V$22,1,0)),1,0)","v":0},{"$f":"IF(ISERROR(VLOOKUP(G16,Accueil!$V$17:$V$22,1,0)),1,0)","v":0},{"$f":"IF(ISERROR(VLOOKUP(H16,Accueil!$V$17:$V$22,1,0)),1,0)","v":0},{"$f":"IF(ISERROR(VLOOKUP(I16,Accueil!$V$17:$V$22,1,0)),1,0)","v":0},{"$f":"IF(ISERROR(VLOOKUP(J16,Accueil!$V$17:$V$22,1,0)),1,0)","v":0},{"$f":"IF(ISERROR(VLOOKUP(K16,Accueil!$V$17:$V$22,1,0)),1,0)","v":0},{"$f":"IF(ISERROR(VLOOKUP(L16,Accueil!$V$17:$V$22,1,0)),1,0)","v":0},{"$f":"IF(ISERROR(VLOOKUP(M16,Accueil!$V$17:$V$22,1,0)),1,0)","v":0},{"$f":"IF(ISERROR(VLOOKUP(N16,Accueil!$V$17:$V$22,1,0)),1,0)","v":0},{"$f":"IF(ISERROR(VLOOKUP(O16,Accueil!$V$17:$V$22,1,0)),1,0)","v":0},{"$f":"IF(ISERROR(VLOOKUP(P16,Accueil!$V$17:$V$22,1,0)),1,0)","v":0},{"$f":"IF(ISERROR(VLOOKUP(Q16,Accueil!$V$17:$V$22,1,0)),1,0)","v":0},{"$f":"IF(ISERROR(VLOOKUP(R16,Accueil!$V$17:$V$22,1,0)),1,0)","v":0},{"$f":"IF(ISERROR(VLOOKUP(S16,Accueil!$V$17:$V$22,1,0)),1,0)","v":0},{"$f":"IF(ISERROR(VLOOKUP(T16,Accueil!$V$17:$V$22,1,0)),1,0)","v":0},{"$f":"IF(ISERROR(VLOOKUP(U16,Accueil!$V$17:$V$22,1,0)),1,0)","v":0},{"$f":"IF(ISERROR(VLOOKUP(V16,Accueil!$V$17:$V$22,1,0)),1,0)","v":0},{"$f":"IF(ISERROR(VLOOKUP(W16,Accueil!$V$17:$V$22,1,0)),1,0)","v":0},{"$f":"IF(ISERROR(VLOOKUP(X16,Accueil!$V$17:$V$22,1,0)),1,0)","v":0},{"$f":"IF(ISERROR(VLOOKUP(Y16,Accueil!$V$17:$V$22,1,0)),1,0)","v":0},{"$f":"IF(ISERROR(VLOOKUP(Z16,Accueil!$V$17:$V$22,1,0)),1,0)","v":0},{"$f":"IF(ISERROR(VLOOKUP(AA16,Accueil!$V$17:$V$22,1,0)),1,0)","v":0},{"$f":"IF(ISERROR(VLOOKUP(AB16,Accueil!$V$17:$V$22,1,0)),1,0)","v":0},{"$f":"IF(ISERROR(VLOOKUP(AC16,Accueil!$V$17:$V$22,1,0)),1,0)","v":0},{"$f":"IF(ISERROR(VLOOKUP(AD16,Accueil!$V$17:$V$22,1,0)),1,0)","v":0},{"$f":"IF(ISERROR(VLOOKUP(AE16,Accueil!$V$17:$V$22,1,0)),1,0)","v":0},{"$f":"IF(ISERROR(VLOOKUP(AF16,Accueil!$V$17:$V$22,1,0)),1,0)","v":0},{"$f":"IF(ISERROR(VLOOKUP(AG16,Accueil!$V$17:$V$22,1,0)),1,0)","v":0},{"$f":"IF(ISERROR(VLOOKUP(AH16,Accueil!$V$17:$V$22,1,0)),1,0)","v":0},{"$f":"IF(ISERROR(VLOOKUP(AI16,Accueil!$V$17:$V$22,1,0)),1,0)","v":0},{"$f":"IF(ISERROR(VLOOKUP(AJ16,Accueil!$V$17:$V$22,1,0)),1,0)","v":0},{"$f":"IF(ISERROR(VLOOKUP(AK16,Accueil!$V$17:$V$22,1,0)),1,0)","v":0},{"$f":"IF(ISERROR(VLOOKUP(AL16,Accueil!$V$17:$V$22,1,0)),1,0)","v":0},{"$f":"IF(ISERROR(VLOOKUP(AM16,Accueil!$V$17:$V$22,1,0)),1,0)","v":0},{"$f":"IF(ISERROR(VLOOKUP(AN16,Accueil!$V$17:$V$22,1,0)),1,0)","v":0},{"$f":"IF(ISERROR(VLOOKUP(AO16,Accueil!$V$17:$V$22,1,0)),1,0)","v":0},{"$f":"IF(ISERROR(VLOOKUP(AP16,Accueil!$V$17:$V$22,1,0)),1,0)","v":0},{"$f":"IF(ISERROR(VLOOKUP(AQ16,Accueil!$V$17:$V$22,1,0)),1,0)","v":0},{"$f":"IF(ISERROR(VLOOKUP(AR16,Accueil!$V$17:$V$22,1,0)),1,0)","v":0},{"$f":"IF(ISERROR(VLOOKUP(AS16,Accueil!$V$17:$V$22,1,0)),1,0)","v":0},{"$f":"IF(ISERROR(VLOOKUP(AT16,Accueil!$V$17:$V$22,1,0)),1,0)","v":0},{"$f":"IF(ISERROR(VLOOKUP(AU16,Accueil!$V$17:$V$22,1,0)),1,0)","v":0},{"$f":"IF(ISERROR(VLOOKUP(AV16,Accueil!$V$17:$V$22,1,0)),1,0)","v":0},{"$f":"IF(ISERROR(VLOOKUP(AW16,Accueil!$V$17:$V$22,1,0)),1,0)","v":0},{"$f":"IF(ISERROR(VLOOKUP(AX16,Accueil!$V$17:$V$22,1,0)),1,0)","v":0},{"$f":"IF(ISERROR(VLOOKUP(AY16,Accueil!$V$17:$V$22,1,0)),1,0)","v":0},{"$f":"IF(ISERROR(VLOOKUP(AZ16,Accueil!$V$17:$V$22,1,0)),1,0)","v":0},{"$f":"IF(ISERROR(VLOOKUP(BA16,Accueil!$V$17:$V$22,1,0)),1,0)","v":0},{"$f":"IF(ISERROR(VLOOKUP(BB16,Accueil!$V$17:$V$22,1,0)),1,0)","v":0},{"$f":"IF(ISERROR(VLOOKUP(BC16,Accueil!$V$17:$V$22,1,0)),1,0)","v":0},{"$f":"IF(ISERROR(VLOOKUP(BD16,Accueil!$V$17:$V$22,1,0)),1,0)","v":0},{"$f":"IF(ISERROR(VLOOKUP(BE16,Accueil!$V$17:$V$22,1,0)),1,0)","v":0},{"$f":"IF(ISERROR(VLOOKUP(BF16,Accueil!$V$17:$V$22,1,0)),1,0)","v":0},{"$f":"IF(ISERROR(VLOOKUP(BG16,Accueil!$V$17:$V$22,1,0)),1,0)","v":0},{"$f":"IF(ISERROR(VLOOKUP(BH16,Accueil!$V$17:$V$22,1,0)),1,0)","v":0},{"$f":"IF(ISERROR(VLOOKUP(BI16,Accueil!$V$17:$V$22,1,0)),1,0)","v":0},{"$f":"IF(ISERROR(VLOOKUP(BJ16,Accueil!$V$17:$V$22,1,0)),1,0)","v":0},{"$f":"IF(ISERROR(VLOOKUP(BK16,Accueil!$V$17:$V$22,1,0)),1,0)","v":0},{"$f":"IF(ISERROR(VLOOKUP(BL16,Accueil!$V$17:$V$22,1,0)),1,0)","v":0},{"$f":"IF(ISERROR(VLOOKUP(BM16,Accueil!$V$17:$V$22,1,0)),1,0)","v":0},{"$f":"IF(ISERROR(VLOOKUP(BN16,Accueil!$V$17:$V$22,1,0)),1,0)","v":0},{"$f":"IF(ISERROR(VLOOKUP(BO16,Accueil!$V$17:$V$22,1,0)),1,0)","v":0},{"$f":"IF(ISERROR(VLOOKUP(BP16,Accueil!$V$17:$V$22,1,0)),1,0)","v":0},{"$f":"IF(ISERROR(VLOOKUP(BQ16,Accueil!$V$17:$V$22,1,0)),1,0)","v":0},{"$f":"IF(ISERROR(VLOOKUP(BR16,Accueil!$V$17:$V$22,1,0)),1,0)","v":0},{"$f":"IF(ISERROR(VLOOKUP(BS16,Accueil!$V$17:$V$22,1,0)),1,0)","v":0},{"$f":"IF(ISERROR(VLOOKUP(BT16,Accueil!$V$17:$V$22,1,0)),1,0)","v":0},{"$f":"IF(ISERROR(VLOOKUP(BU16,Accueil!$V$17:$V$22,1,0)),1,0)","v":0},{"$f":"IF(ISERROR(VLOOKUP(BV16,Accueil!$V$17:$V$22,1,0)),1,0)","v":0},{"$f":"IF(ISERROR(VLOOKUP(BW16,Accueil!$V$17:$V$22,1,0)),1,0)","v":0},{"$f":"IF(ISERROR(VLOOKUP(BX16,Accueil!$V$17:$V$22,1,0)),1,0)","v":0},{"$f":"IF(ISERROR(VLOOKUP(BY16,Accueil!$V$17:$V$22,1,0)),1,0)","v":0},{"$f":"IF(ISERROR(VLOOKUP(BZ16,Accueil!$V$17:$V$22,1,0)),1,0)","v":0},{"$f":"IF(ISERROR(VLOOKUP(CA16,Accueil!$V$17:$V$22,1,0)),1,0)","v":0},{"$f":"IF(ISERROR(VLOOKUP(CB16,Accueil!$V$17:$V$22,1,0)),1,0)","v":0},{"$f":"IF(ISERROR(VLOOKUP(CC16,Accueil!$V$17:$V$22,1,0)),1,0)","v":0},{"$f":"IF(ISERROR(VLOOKUP(CD16,Accueil!$V$17:$V$22,1,0)),1,0)","v":0},{"$f":"IF(ISERROR(VLOOKUP(CE16,Accueil!$V$17:$V$22,1,0)),1,0)","v":0},{"$f":"IF(ISERROR(VLOOKUP(CF16,Accueil!$V$17:$V$22,1,0)),1,0)","v":0},{"$f":"IF(ISERROR(VLOOKUP(CG16,Accueil!$V$17:$V$22,1,0)),1,0)","v":0},{"$f":"IF(ISERROR(VLOOKUP(CH16,Accueil!$V$17:$V$22,1,0)),1,0)","v":0},{"$f":"IF(ISERROR(VLOOKUP(CI16,Accueil!$V$17:$V$22,1,0)),1,0)","v":0},{"$f":"IF(ISERROR(VLOOKUP(CJ16,Accueil!$V$17:$V$22,1,0)),1,0)","v":0},{"$f":"IF(ISERROR(VLOOKUP(CK16,Accueil!$V$17:$V$22,1,0)),1,0)","v":0},{"$f":"IF(ISERROR(VLOOKUP(CL16,Accueil!$V$17:$V$22,1,0)),1,0)","v":0},{"$f":"IF(ISERROR(VLOOKUP(CM16,Accueil!$V$17:$V$22,1,0)),1,0)","v":0},{"$f":"IF(ISERROR(VLOOKUP(CN16,Accueil!$V$17:$V$22,1,0)),1,0)","v":0},{"$f":"IF(ISERROR(VLOOKUP(CO16,Accueil!$V$17:$V$22,1,0)),1,0)","v":0},{"$f":"IF(ISERROR(VLOOKUP(CP16,Accueil!$V$17:$V$22,1,0)),1,0)","v":0},{"$f":"IF(ISERROR(VLOOKUP(CQ16,Accueil!$V$17:$V$22,1,0)),1,0)","v":0},{"$f":"IF(ISERROR(VLOOKUP(CR16,Accueil!$V$17:$V$22,1,0)),1,0)","v":0},{"$f":"IF(ISERROR(VLOOKUP(CS16,Accueil!$V$17:$V$22,1,0)),1,0)","v":0},{"$f":"IF(ISERROR(VLOOKUP(CT16,Accueil!$V$17:$V$22,1,0)),1,0)","v":0},{"$f":"IF(ISERROR(VLOOKUP(CU16,Accueil!$V$17:$V$22,1,0)),1,0)","v":0},{"$f":"IF(ISERROR(VLOOKUP(CV16,Accueil!$V$17:$V$22,1,0)),1,0)","v":0},{"$f":"IF(ISERROR(VLOOKUP(CW16,Accueil!$V$17:$V$22,1,0)),1,0)","v":0},{"$f":"IF(ISERROR(VLOOKUP(CX16,Accueil!$V$17:$V$22,1,0)),1,0)","v":0},{"$f":"IF(ISERROR(VLOOKUP(CY16,Accueil!$V$17:$V$22,1,0)),1,0)","v":0},{"$f":"IF(ISERROR(VLOOKUP(CZ16,Accueil!$V$17:$V$22,1,0)),1,0)","v":0},{"$f":"IF(ISERROR(VLOOKUP(DA16,Accueil!$V$17:$V$22,1,0)),1,0)","v":0}]
[null,9,{"$f":"IF(Accueil!E21=\"\",\"\",Accueil!E21)","v":""},{"$f":"IF(Accueil!F21=\"\",\"\",Accueil!F21)","v":""},"",null,null,null,null,null,null,null,null,null,null,null,null,null,null,null,null,null,null,null,null,null,null,null,null,null,null,null,null,null,null,null,null,null,null,null,null,null,null,null,null,null,null,null,null,null,null,null,null,null,null,null,null,null,null,null,null,null,null,null,null,null,null,null,null,null,null,null,null,null,null,null,null,null,null,null,null,null,null,null,null,null,null,null,null,null,null,null,null,null,null,null,null,null,null,null,null,null,null,null,null,9,{"$f":"IF(D17=\"\",\"\",COUNTIF(F17:DA17,Accueil!$AA$28)&\" / \"&COUNTIF($F$8:$DA$8,\">0\")-(COUNTIF(F17:DA17,Accueil!$AF$26)))","v":""},{"$f":"IF(D17=\"\",\"\",COUNTIF(F17:DA17,Accueil!$AA$26))","v":""},{"$f":"IF(D17=\"\",\"\",COUNTIF($F$8:$DA$8,\">0\")-(COUNTIF(F17:DA17,Accueil!$AF$26)))","v":""},"","",0,{"$f":"IF(ISERROR(VLOOKUP(F17,Accueil!$V$17:$V$22,1,0)),1,0)","v":0},{"$f":"IF(ISERROR(VLOOKUP(G17,Accueil!$V$17:$V$22,1,0)),1,0)","v":0},{"$f":"IF(ISERROR(VLOOKUP(H17,Accueil!$V$17:$V$22,1,0)),1,0)","v":0},{"$f":"IF(ISERROR(VLOOKUP(I17,Accueil!$V$17:$V$22,1,0)),1,0)","v":0},{"$f":"IF(ISERROR(VLOOKUP(J17,Accueil!$V$17:$V$22,1,0)),1,0)","v":0},{"$f":"IF(ISERROR(VLOOKUP(K17,Accueil!$V$17:$V$22,1,0)),1,0)","v":0},{"$f":"IF(ISERROR(VLOOKUP(L17,Accueil!$V$17:$V$22,1,0)),1,0)","v":0},{"$f":"IF(ISERROR(VLOOKUP(M17,Accueil!$V$17:$V$22,1,0)),1,0)","v":0},{"$f":"IF(ISERROR(VLOOKUP(N17,Accueil!$V$17:$V$22,1,0)),1,0)","v":0},{"$f":"IF(ISERROR(VLOOKUP(O17,Accueil!$V$17:$V$22,1,0)),1,0)","v":0},{"$f":"IF(ISERROR(VLOOKUP(P17,Accueil!$V$17:$V$22,1,0)),1,0)","v":0},{"$f":"IF(ISERROR(VLOOKUP(Q17,Accueil!$V$17:$V$22,1,0)),1,0)","v":0},{"$f":"IF(ISERROR(VLOOKUP(R17,Accueil!$V$17:$V$22,1,0)),1,0)","v":0},{"$f":"IF(ISERROR(VLOOKUP(S17,Accueil!$V$17:$V$22,1,0)),1,0)","v":0},{"$f":"IF(ISERROR(VLOOKUP(T17,Accueil!$V$17:$V$22,1,0)),1,0)","v":0},{"$f":"IF(ISERROR(VLOOKUP(U17,Accueil!$V$17:$V$22,1,0)),1,0)","v":0},{"$f":"IF(ISERROR(VLOOKUP(V17,Accueil!$V$17:$V$22,1,0)),1,0)","v":0},{"$f":"IF(ISERROR(VLOOKUP(W17,Accueil!$V$17:$V$22,1,0)),1,0)","v":0},{"$f":"IF(ISERROR(VLOOKUP(X17,Accueil!$V$17:$V$22,1,0)),1,0)","v":0},{"$f":"IF(ISERROR(VLOOKUP(Y17,Accueil!$V$17:$V$22,1,0)),1,0)","v":0},{"$f":"IF(ISERROR(VLOOKUP(Z17,Accueil!$V$17:$V$22,1,0)),1,0)","v":0},{"$f":"IF(ISERROR(VLOOKUP(AA17,Accueil!$V$17:$V$22,1,0)),1,0)","v":0},{"$f":"IF(ISERROR(VLOOKUP(AB17,Accueil!$V$17:$V$22,1,0)),1,0)","v":0},{"$f":"IF(ISERROR(VLOOKUP(AC17,Accueil!$V$17:$V$22,1,0)),1,0)","v":0},{"$f":"IF(ISERROR(VLOOKUP(AD17,Accueil!$V$17:$V$22,1,0)),1,0)","v":0},{"$f":"IF(ISERROR(VLOOKUP(AE17,Accueil!$V$17:$V$22,1,0)),1,0)","v":0},{"$f":"IF(ISERROR(VLOOKUP(AF17,Accueil!$V$17:$V$22,1,0)),1,0)","v":0},{"$f":"IF(ISERROR(VLOOKUP(AG17,Accueil!$V$17:$V$22,1,0)),1,0)","v":0},{"$f":"IF(ISERROR(VLOOKUP(AH17,Accueil!$V$17:$V$22,1,0)),1,0)","v":0},{"$f":"IF(ISERROR(VLOOKUP(AI17,Accueil!$V$17:$V$22,1,0)),1,0)","v":0},{"$f":"IF(ISERROR(VLOOKUP(AJ17,Accueil!$V$17:$V$22,1,0)),1,0)","v":0},{"$f":"IF(ISERROR(VLOOKUP(AK17,Accueil!$V$17:$V$22,1,0)),1,0)","v":0},{"$f":"IF(ISERROR(VLOOKUP(AL17,Accueil!$V$17:$V$22,1,0)),1,0)","v":0},{"$f":"IF(ISERROR(VLOOKUP(AM17,Accueil!$V$17:$V$22,1,0)),1,0)","v":0},{"$f":"IF(ISERROR(VLOOKUP(AN17,Accueil!$V$17:$V$22,1,0)),1,0)","v":0},{"$f":"IF(ISERROR(VLOOKUP(AO17,Accueil!$V$17:$V$22,1,0)),1,0)","v":0},{"$f":"IF(ISERROR(VLOOKUP(AP17,Accueil!$V$17:$V$22,1,0)),1,0)","v":0},{"$f":"IF(ISERROR(VLOOKUP(AQ17,Accueil!$V$17:$V$22,1,0)),1,0)","v":0},{"$f":"IF(ISERROR(VLOOKUP(AR17,Accueil!$V$17:$V$22,1,0)),1,0)","v":0},{"$f":"IF(ISERROR(VLOOKUP(AS17,Accueil!$V$17:$V$22,1,0)),1,0)","v":0},{"$f":"IF(ISERROR(VLOOKUP(AT17,Accueil!$V$17:$V$22,1,0)),1,0)","v":0},{"$f":"IF(ISERROR(VLOOKUP(AU17,Accueil!$V$17:$V$22,1,0)),1,0)","v":0},{"$f":"IF(ISERROR(VLOOKUP(AV17,Accueil!$V$17:$V$22,1,0)),1,0)","v":0},{"$f":"IF(ISERROR(VLOOKUP(AW17,Accueil!$V$17:$V$22,1,0)),1,0)","v":0},{"$f":"IF(ISERROR(VLOOKUP(AX17,Accueil!$V$17:$V$22,1,0)),1,0)","v":0},{"$f":"IF(ISERROR(VLOOKUP(AY17,Accueil!$V$17:$V$22,1,0)),1,0)","v":0},{"$f":"IF(ISERROR(VLOOKUP(AZ17,Accueil!$V$17:$V$22,1,0)),1,0)","v":0},{"$f":"IF(ISERROR(VLOOKUP(BA17,Accueil!$V$17:$V$22,1,0)),1,0)","v":0},{"$f":"IF(ISERROR(VLOOKUP(BB17,Accueil!$V$17:$V$22,1,0)),1,0)","v":0},{"$f":"IF(ISERROR(VLOOKUP(BC17,Accueil!$V$17:$V$22,1,0)),1,0)","v":0},{"$f":"IF(ISERROR(VLOOKUP(BD17,Accueil!$V$17:$V$22,1,0)),1,0)","v":0},{"$f":"IF(ISERROR(VLOOKUP(BE17,Accueil!$V$17:$V$22,1,0)),1,0)","v":0},{"$f":"IF(ISERROR(VLOOKUP(BF17,Accueil!$V$17:$V$22,1,0)),1,0)","v":0},{"$f":"IF(ISERROR(VLOOKUP(BG17,Accueil!$V$17:$V$22,1,0)),1,0)","v":0},{"$f":"IF(ISERROR(VLOOKUP(BH17,Accueil!$V$17:$V$22,1,0)),1,0)","v":0},{"$f":"IF(ISERROR(VLOOKUP(BI17,Accueil!$V$17:$V$22,1,0)),1,0)","v":0},{"$f":"IF(ISERROR(VLOOKUP(BJ17,Accueil!$V$17:$V$22,1,0)),1,0)","v":0},{"$f":"IF(ISERROR(VLOOKUP(BK17,Accueil!$V$17:$V$22,1,0)),1,0)","v":0},{"$f":"IF(ISERROR(VLOOKUP(BL17,Accueil!$V$17:$V$22,1,0)),1,0)","v":0},{"$f":"IF(ISERROR(VLOOKUP(BM17,Accueil!$V$17:$V$22,1,0)),1,0)","v":0},{"$f":"IF(ISERROR(VLOOKUP(BN17,Accueil!$V$17:$V$22,1,0)),1,0)","v":0},{"$f":"IF(ISERROR(VLOOKUP(BO17,Accueil!$V$17:$V$22,1,0)),1,0)","v":0},{"$f":"IF(ISERROR(VLOOKUP(BP17,Accueil!$V$17:$V$22,1,0)),1,0)","v":0},{"$f":"IF(ISERROR(VLOOKUP(BQ17,Accueil!$V$17:$V$22,1,0)),1,0)","v":0},{"$f":"IF(ISERROR(VLOOKUP(BR17,Accueil!$V$17:$V$22,1,0)),1,0)","v":0},{"$f":"IF(ISERROR(VLOOKUP(BS17,Accueil!$V$17:$V$22,1,0)),1,0)","v":0},{"$f":"IF(ISERROR(VLOOKUP(BT17,Accueil!$V$17:$V$22,1,0)),1,0)","v":0},{"$f":"IF(ISERROR(VLOOKUP(BU17,Accueil!$V$17:$V$22,1,0)),1,0)","v":0},{"$f":"IF(ISERROR(VLOOKUP(BV17,Accueil!$V$17:$V$22,1,0)),1,0)","v":0},{"$f":"IF(ISERROR(VLOOKUP(BW17,Accueil!$V$17:$V$22,1,0)),1,0)","v":0},{"$f":"IF(ISERROR(VLOOKUP(BX17,Accueil!$V$17:$V$22,1,0)),1,0)","v":0},{"$f":"IF(ISERROR(VLOOKUP(BY17,Accueil!$V$17:$V$22,1,0)),1,0)","v":0},{"$f":"IF(ISERROR(VLOOKUP(BZ17,Accueil!$V$17:$V$22,1,0)),1,0)","v":0},{"$f":"IF(ISERROR(VLOOKUP(CA17,Accueil!$V$17:$V$22,1,0)),1,0)","v":0},{"$f":"IF(ISERROR(VLOOKUP(CB17,Accueil!$V$17:$V$22,1,0)),1,0)","v":0},{"$f":"IF(ISERROR(VLOOKUP(CC17,Accueil!$V$17:$V$22,1,0)),1,0)","v":0},{"$f":"IF(ISERROR(VLOOKUP(CD17,Accueil!$V$17:$V$22,1,0)),1,0)","v":0},{"$f":"IF(ISERROR(VLOOKUP(CE17,Accueil!$V$17:$V$22,1,0)),1,0)","v":0},{"$f":"IF(ISERROR(VLOOKUP(CF17,Accueil!$V$17:$V$22,1,0)),1,0)","v":0},{"$f":"IF(ISERROR(VLOOKUP(CG17,Accueil!$V$17:$V$22,1,0)),1,0)","v":0},{"$f":"IF(ISERROR(VLOOKUP(CH17,Accueil!$V$17:$V$22,1,0)),1,0)","v":0},{"$f":"IF(ISERROR(VLOOKUP(CI17,Accueil!$V$17:$V$22,1,0)),1,0)","v":0},{"$f":"IF(ISERROR(VLOOKUP(CJ17,Accueil!$V$17:$V$22,1,0)),1,0)","v":0},{"$f":"IF(ISERROR(VLOOKUP(CK17,Accueil!$V$17:$V$22,1,0)),1,0)","v":0},{"$f":"IF(ISERROR(VLOOKUP(CL17,Accueil!$V$17:$V$22,1,0)),1,0)","v":0},{"$f":"IF(ISERROR(VLOOKUP(CM17,Accueil!$V$17:$V$22,1,0)),1,0)","v":0},{"$f":"IF(ISERROR(VLOOKUP(CN17,Accueil!$V$17:$V$22,1,0)),1,0)","v":0},{"$f":"IF(ISERROR(VLOOKUP(CO17,Accueil!$V$17:$V$22,1,0)),1,0)","v":0},{"$f":"IF(ISERROR(VLOOKUP(CP17,Accueil!$V$17:$V$22,1,0)),1,0)","v":0},{"$f":"IF(ISERROR(VLOOKUP(CQ17,Accueil!$V$17:$V$22,1,0)),1,0)","v":0},{"$f":"IF(ISERROR(VLOOKUP(CR17,Accueil!$V$17:$V$22,1,0)),1,0)","v":0},{"$f":"IF(ISERROR(VLOOKUP(CS17,Accueil!$V$17:$V$22,1,0)),1,0)","v":0},{"$f":"IF(ISERROR(VLOOKUP(CT17,Accueil!$V$17:$V$22,1,0)),1,0)","v":0},{"$f":"IF(ISERROR(VLOOKUP(CU17,Accueil!$V$17:$V$22,1,0)),1,0)","v":0},{"$f":"IF(ISERROR(VLOOKUP(CV17,Accueil!$V$17:$V$22,1,0)),1,0)","v":0},{"$f":"IF(ISERROR(VLOOKUP(CW17,Accueil!$V$17:$V$22,1,0)),1,0)","v":0},{"$f":"IF(ISERROR(VLOOKUP(CX17,Accueil!$V$17:$V$22,1,0)),1,0)","v":0},{"$f":"IF(ISERROR(VLOOKUP(CY17,Accueil!$V$17:$V$22,1,0)),1,0)","v":0},{"$f":"IF(ISERROR(VLOOKUP(CZ17,Accueil!$V$17:$V$22,1,0)),1,0)","v":0},{"$f":"IF(ISERROR(VLOOKUP(DA17,Accueil!$V$17:$V$22,1,0)),1,0)","v":0}]
[null,10,{"$f":"IF(Accueil!E22=\"\",\"\",Accueil!E22)","v":""},{"$f":"IF(Accueil!F22=\"\",\"\",Accueil!F22)","v":""},"",null,null,null,null,null,null,null,null,null,null,null,null,null,null,null,null,null,null,null,null,null,null,null,null,null,null,null,null,null,null,null,null,null,null,null,null,null,null,null,null,null,null,null,null,null,null,null,null,null,null,null,null,null,null,null,null,null,null,null,null,null,null,null,null,null,null,null,null,null,null,null,null,null,null,null,null,null,null,null,null,null,null,null,null,null,null,null,null,null,null,null,null,null,null,null,null,null,null,null,null,10,{"$f":"IF(D18=\"\",\"\",COUNTIF(F18:DA18,Accueil!$AA$28)&\" / \"&COUNTIF($F$8:$DA$8,\">0\")-(COUNTIF(F18:DA18,Accueil!$AF$26)))","v":""},{"$f":"IF(D18=\"\",\"\",COUNTIF(F18:DA18,Accueil!$AA$26))","v":""},{"$f":"IF(D18=\"\",\"\",COUNTIF($F$8:$DA$8,\">0\")-(COUNTIF(F18:DA18,Accueil!$AF$26)))","v":""},"","",0,{"$f":"IF(ISERROR(VLOOKUP(F18,Accueil!$V$17:$V$22,1,0)),1,0)","v":0},{"$f":"IF(ISERROR(VLOOKUP(G18,Accueil!$V$17:$V$22,1,0)),1,0)","v":0},{"$f":"IF(ISERROR(VLOOKUP(H18,Accueil!$V$17:$V$22,1,0)),1,0)","v":0},{"$f":"IF(ISERROR(VLOOKUP(I18,Accueil!$V$17:$V$22,1,0)),1,0)","v":0},{"$f":"IF(ISERROR(VLOOKUP(J18,Accueil!$V$17:$V$22,1,0)),1,0)","v":0},{"$f":"IF(ISERROR(VLOOKUP(K18,Accueil!$V$17:$V$22,1,0)),1,0)","v":0},{"$f":"IF(ISERROR(VLOOKUP(L18,Accueil!$V$17:$V$22,1,0)),1,0)","v":0},{"$f":"IF(ISERROR(VLOOKUP(M18,Accueil!$V$17:$V$22,1,0)),1,0)","v":0},{"$f":"IF(ISERROR(VLOOKUP(N18,Accueil!$V$17:$V$22,1,0)),1,0)","v":0},{"$f":"IF(ISERROR(VLOOKUP(O18,Accueil!$V$17:$V$22,1,0)),1,0)","v":0},{"$f":"IF(ISERROR(VLOOKUP(P18,Accueil!$V$17:$V$22,1,0)),1,0)","v":0},{"$f":"IF(ISERROR(VLOOKUP(Q18,Accueil!$V$17:$V$22,1,0)),1,0)","v":0},{"$f":"IF(ISERROR(VLOOKUP(R18,Accueil!$V$17:$V$22,1,0)),1,0)","v":0},{"$f":"IF(ISERROR(VLOOKUP(S18,Accueil!$V$17:$V$22,1,0)),1,0)","v":0},{"$f":"IF(ISERROR(VLOOKUP(T18,Accueil!$V$17:$V$22,1,0)),1,0)","v":0},{"$f":"IF(ISERROR(VLOOKUP(U18,Accueil!$V$17:$V$22,1,0)),1,0)","v":0},{"$f":"IF(ISERROR(VLOOKUP(V18,Accueil!$V$17:$V$22,1,0)),1,0)","v":0},{"$f":"IF(ISERROR(VLOOKUP(W18,Accueil!$V$17:$V$22,1,0)),1,0)","v":0},{"$f":"IF(ISERROR(VLOOKUP(X18,Accueil!$V$17:$V$22,1,0)),1,0)","v":0},{"$f":"IF(ISERROR(VLOOKUP(Y18,Accueil!$V$17:$V$22,1,0)),1,0)","v":0},{"$f":"IF(ISERROR(VLOOKUP(Z18,Accueil!$V$17:$V$22,1,0)),1,0)","v":0},{"$f":"IF(ISERROR(VLOOKUP(AA18,Accueil!$V$17:$V$22,1,0)),1,0)","v":0},{"$f":"IF(ISERROR(VLOOKUP(AB18,Accueil!$V$17:$V$22,1,0)),1,0)","v":0},{"$f":"IF(ISERROR(VLOOKUP(AC18,Accueil!$V$17:$V$22,1,0)),1,0)","v":0},{"$f":"IF(ISERROR(VLOOKUP(AD18,Accueil!$V$17:$V$22,1,0)),1,0)","v":0},{"$f":"IF(ISERROR(VLOOKUP(AE18,Accueil!$V$17:$V$22,1,0)),1,0)","v":0},{"$f":"IF(ISERROR(VLOOKUP(AF18,Accueil!$V$17:$V$22,1,0)),1,0)","v":0},{"$f":"IF(ISERROR(VLOOKUP(AG18,Accueil!$V$17:$V$22,1,0)),1,0)","v":0},{"$f":"IF(ISERROR(VLOOKUP(AH18,Accueil!$V$17:$V$22,1,0)),1,0)","v":0},{"$f":"IF(ISERROR(VLOOKUP(AI18,Accueil!$V$17:$V$22,1,0)),1,0)","v":0},{"$f":"IF(ISERROR(VLOOKUP(AJ18,Accueil!$V$17:$V$22,1,0)),1,0)","v":0},{"$f":"IF(ISERROR(VLOOKUP(AK18,Accueil!$V$17:$V$22,1,0)),1,0)","v":0},{"$f":"IF(ISERROR(VLOOKUP(AL18,Accueil!$V$17:$V$22,1,0)),1,0)","v":0},{"$f":"IF(ISERROR(VLOOKUP(AM18,Accueil!$V$17:$V$22,1,0)),1,0)","v":0},{"$f":"IF(ISERROR(VLOOKUP(AN18,Accueil!$V$17:$V$22,1,0)),1,0)","v":0},{"$f":"IF(ISERROR(VLOOKUP(AO18,Accueil!$V$17:$V$22,1,0)),1,0)","v":0},{"$f":"IF(ISERROR(VLOOKUP(AP18,Accueil!$V$17:$V$22,1,0)),1,0)","v":0},{"$f":"IF(ISERROR(VLOOKUP(AQ18,Accueil!$V$17:$V$22,1,0)),1,0)","v":0},{"$f":"IF(ISERROR(VLOOKUP(AR18,Accueil!$V$17:$V$22,1,0)),1,0)","v":0},{"$f":"IF(ISERROR(VLOOKUP(AS18,Accueil!$V$17:$V$22,1,0)),1,0)","v":0},{"$f":"IF(ISERROR(VLOOKUP(AT18,Accueil!$V$17:$V$22,1,0)),1,0)","v":0},{"$f":"IF(ISERROR(VLOOKUP(AU18,Accueil!$V$17:$V$22,1,0)),1,0)","v":0},{"$f":"IF(ISERROR(VLOOKUP(AV18,Accueil!$V$17:$V$22,1,0)),1,0)","v":0},{"$f":"IF(ISERROR(VLOOKUP(AW18,Accueil!$V$17:$V$22,1,0)),1,0)","v":0},{"$f":"IF(ISERROR(VLOOKUP(AX18,Accueil!$V$17:$V$22,1,0)),1,0)","v":0},{"$f":"IF(ISERROR(VLOOKUP(AY18,Accueil!$V$17:$V$22,1,0)),1,0)","v":0},{"$f":"IF(ISERROR(VLOOKUP(AZ18,Accueil!$V$17:$V$22,1,0)),1,0)","v":0},{"$f":"IF(ISERROR(VLOOKUP(BA18,Accueil!$V$17:$V$22,1,0)),1,0)","v":0},{"$f":"IF(ISERROR(VLOOKUP(BB18,Accueil!$V$17:$V$22,1,0)),1,0)","v":0},{"$f":"IF(ISERROR(VLOOKUP(BC18,Accueil!$V$17:$V$22,1,0)),1,0)","v":0},{"$f":"IF(ISERROR(VLOOKUP(BD18,Accueil!$V$17:$V$22,1,0)),1,0)","v":0},{"$f":"IF(ISERROR(VLOOKUP(BE18,Accueil!$V$17:$V$22,1,0)),1,0)","v":0},{"$f":"IF(ISERROR(VLOOKUP(BF18,Accueil!$V$17:$V$22,1,0)),1,0)","v":0},{"$f":"IF(ISERROR(VLOOKUP(BG18,Accueil!$V$17:$V$22,1,0)),1,0)","v":0},{"$f":"IF(ISERROR(VLOOKUP(BH18,Accueil!$V$17:$V$22,1,0)),1,0)","v":0},{"$f":"IF(ISERROR(VLOOKUP(BI18,Accueil!$V$17:$V$22,1,0)),1,0)","v":0},{"$f":"IF(ISERROR(VLOOKUP(BJ18,Accueil!$V$17:$V$22,1,0)),1,0)","v":0},{"$f":"IF(ISERROR(VLOOKUP(BK18,Accueil!$V$17:$V$22,1,0)),1,0)","v":0},{"$f":"IF(ISERROR(VLOOKUP(BL18,Accueil!$V$17:$V$22,1,0)),1,0)","v":0},{"$f":"IF(ISERROR(VLOOKUP(BM18,Accueil!$V$17:$V$22,1,0)),1,0)","v":0},{"$f":"IF(ISERROR(VLOOKUP(BN18,Accueil!$V$17:$V$22,1,0)),1,0)","v":0},{"$f":"IF(ISERROR(VLOOKUP(BO18,Accueil!$V$17:$V$22,1,0)),1,0)","v":0},{"$f":"IF(ISERROR(VLOOKUP(BP18,Accueil!$V$17:$V$22,1,0)),1,0)","v":0},{"$f":"IF(ISERROR(VLOOKUP(BQ18,Accueil!$V$17:$V$22,1,0)),1,0)","v":0},{"$f":"IF(ISERROR(VLOOKUP(BR18,Accueil!$V$17:$V$22,1,0)),1,0)","v":0},{"$f":"IF(ISERROR(VLOOKUP(BS18,Accueil!$V$17:$V$22,1,0)),1,0)","v":0},{"$f":"IF(ISERROR(VLOOKUP(BT18,Accueil!$V$17:$V$22,1,0)),1,0)","v":0},{"$f":"IF(ISERROR(VLOOKUP(BU18,Accueil!$V$17:$V$22,1,0)),1,0)","v":0},{"$f":"IF(ISERROR(VLOOKUP(BV18,Accueil!$V$17:$V$22,1,0)),1,0)","v":0},{"$f":"IF(ISERROR(VLOOKUP(BW18,Accueil!$V$17:$V$22,1,0)),1,0)","v":0},{"$f":"IF(ISERROR(VLOOKUP(BX18,Accueil!$V$17:$V$22,1,0)),1,0)","v":0},{"$f":"IF(ISERROR(VLOOKUP(BY18,Accueil!$V$17:$V$22,1,0)),1,0)","v":0},{"$f":"IF(ISERROR(VLOOKUP(BZ18,Accueil!$V$17:$V$22,1,0)),1,0)","v":0},{"$f":"IF(ISERROR(VLOOKUP(CA18,Accueil!$V$17:$V$22,1,0)),1,0)","v":0},{"$f":"IF(ISERROR(VLOOKUP(CB18,Accueil!$V$17:$V$22,1,0)),1,0)","v":0},{"$f":"IF(ISERROR(VLOOKUP(CC18,Accueil!$V$17:$V$22,1,0)),1,0)","v":0},{"$f":"IF(ISERROR(VLOOKUP(CD18,Accueil!$V$17:$V$22,1,0)),1,0)","v":0},{"$f":"IF(ISERROR(VLOOKUP(CE18,Accueil!$V$17:$V$22,1,0)),1,0)","v":0},{"$f":"IF(ISERROR(VLOOKUP(CF18,Accueil!$V$17:$V$22,1,0)),1,0)","v":0},{"$f":"IF(ISERROR(VLOOKUP(CG18,Accueil!$V$17:$V$22,1,0)),1,0)","v":0},{"$f":"IF(ISERROR(VLOOKUP(CH18,Accueil!$V$17:$V$22,1,0)),1,0)","v":0},{"$f":"IF(ISERROR(VLOOKUP(CI18,Accueil!$V$17:$V$22,1,0)),1,0)","v":0},{"$f":"IF(ISERROR(VLOOKUP(CJ18,Accueil!$V$17:$V$22,1,0)),1,0)","v":0},{"$f":"IF(ISERROR(VLOOKUP(CK18,Accueil!$V$17:$V$22,1,0)),1,0)","v":0},{"$f":"IF(ISERROR(VLOOKUP(CL18,Accueil!$V$17:$V$22,1,0)),1,0)","v":0},{"$f":"IF(ISERROR(VLOOKUP(CM18,Accueil!$V$17:$V$22,1,0)),1,0)","v":0},{"$f":"IF(ISERROR(VLOOKUP(CN18,Accueil!$V$17:$V$22,1,0)),1,0)","v":0},{"$f":"IF(ISERROR(VLOOKUP(CO18,Accueil!$V$17:$V$22,1,0)),1,0)","v":0},{"$f":"IF(ISERROR(VLOOKUP(CP18,Accueil!$V$17:$V$22,1,0)),1,0)","v":0},{"$f":"IF(ISERROR(VLOOKUP(CQ18,Accueil!$V$17:$V$22,1,0)),1,0)","v":0},{"$f":"IF(ISERROR(VLOOKUP(CR18,Accueil!$V$17:$V$22,1,0)),1,0)","v":0},{"$f":"IF(ISERROR(VLOOKUP(CS18,Accueil!$V$17:$V$22,1,0)),1,0)","v":0},{"$f":"IF(ISERROR(VLOOKUP(CT18,Accueil!$V$17:$V$22,1,0)),1,0)","v":0},{"$f":"IF(ISERROR(VLOOKUP(CU18,Accueil!$V$17:$V$22,1,0)),1,0)","v":0},{"$f":"IF(ISERROR(VLOOKUP(CV18,Accueil!$V$17:$V$22,1,0)),1,0)","v":0},{"$f":"IF(ISERROR(VLOOKUP(CW18,Accueil!$V$17:$V$22,1,0)),1,0)","v":0},{"$f":"IF(ISERROR(VLOOKUP(CX18,Accueil!$V$17:$V$22,1,0)),1,0)","v":0},{"$f":"IF(ISERROR(VLOOKUP(CY18,Accueil!$V$17:$V$22,1,0)),1,0)","v":0},{"$f":"IF(ISERROR(VLOOKUP(CZ18,Accueil!$V$17:$V$22,1,0)),1,0)","v":0},{"$f":"IF(ISERROR(VLOOKUP(DA18,Accueil!$V$17:$V$22,1,0)),1,0)","v":0}]
[null,11,{"$f":"IF(Accueil!E23=\"\",\"\",Accueil!E23)","v":""},{"$f":"IF(Accueil!F23=\"\",\"\",Accueil!F23)","v":""},"",null,null,null,null,null,null,null,null,null,null,null,null,null,null,null,null,null,null,null,null,null,null,null,null,null,null,null,null,null,null,null,null,null,null,null,null,null,null,null,null,null,null,null,null,null,null,null,null,null,null,null,null,null,null,null,null,null,null,null,null,null,null,null,null,null,null,null,null,null,null,null,null,null,null,null,null,null,null,null,null,null,null,null,null,null,null,null,null,null,null,null,null,null,null,null,null,null,null,null,null,11,{"$f":"IF(D19=\"\",\"\",COUNTIF(F19:DA19,Accueil!$AA$28)&\" / \"&COUNTIF($F$8:$DA$8,\">0\")-(COUNTIF(F19:DA19,Accueil!$AF$26)))","v":""},{"$f":"IF(D19=\"\",\"\",COUNTIF(F19:DA19,Accueil!$AA$26))","v":""},{"$f":"IF(D19=\"\",\"\",COUNTIF($F$8:$DA$8,\">0\")-(COUNTIF(F19:DA19,Accueil!$AF$26)))","v":""},"","",0,{"$f":"IF(ISERROR(VLOOKUP(F19,Accueil!$V$17:$V$22,1,0)),1,0)","v":0},{"$f":"IF(ISERROR(VLOOKUP(G19,Accueil!$V$17:$V$22,1,0)),1,0)","v":0},{"$f":"IF(ISERROR(VLOOKUP(H19,Accueil!$V$17:$V$22,1,0)),1,0)","v":0},{"$f":"IF(ISERROR(VLOOKUP(I19,Accueil!$V$17:$V$22,1,0)),1,0)","v":0},{"$f":"IF(ISERROR(VLOOKUP(J19,Accueil!$V$17:$V$22,1,0)),1,0)","v":0},{"$f":"IF(ISERROR(VLOOKUP(K19,Accueil!$V$17:$V$22,1,0)),1,0)","v":0},{"$f":"IF(ISERROR(VLOOKUP(L19,Accueil!$V$17:$V$22,1,0)),1,0)","v":0},{"$f":"IF(ISERROR(VLOOKUP(M19,Accueil!$V$17:$V$22,1,0)),1,0)","v":0},{"$f":"IF(ISERROR(VLOOKUP(N19,Accueil!$V$17:$V$22,1,0)),1,0)","v":0},{"$f":"IF(ISERROR(VLOOKUP(O19,Accueil!$V$17:$V$22,1,0)),1,0)","v":0},{"$f":"IF(ISERROR(VLOOKUP(P19,Accueil!$V$17:$V$22,1,0)),1,0)","v":0},{"$f":"IF(ISERROR(VLOOKUP(Q19,Accueil!$V$17:$V$22,1,0)),1,0)","v":0},{"$f":"IF(ISERROR(VLOOKUP(R19,Accueil!$V$17:$V$22,1,0)),1,0)","v":0},{"$f":"IF(ISERROR(VLOOKUP(S19,Accueil!$V$17:$V$22,1,0)),1,0)","v":0},{"$f":"IF(ISERROR(VLOOKUP(T19,Accueil!$V$17:$V$22,1,0)),1,0)","v":0},{"$f":"IF(ISERROR(VLOOKUP(U19,Accueil!$V$17:$V$22,1,0)),1,0)","v":0},{"$f":"IF(ISERROR(VLOOKUP(V19,Accueil!$V$17:$V$22,1,0)),1,0)","v":0},{"$f":"IF(ISERROR(VLOOKUP(W19,Accueil!$V$17:$V$22,1,0)),1,0)","v":0},{"$f":"IF(ISERROR(VLOOKUP(X19,Accueil!$V$17:$V$22,1,0)),1,0)","v":0},{"$f":"IF(ISERROR(VLOOKUP(Y19,Accueil!$V$17:$V$22,1,0)),1,0)","v":0},{"$f":"IF(ISERROR(VLOOKUP(Z19,Accueil!$V$17:$V$22,1,0)),1,0)","v":0},{"$f":"IF(ISERROR(VLOOKUP(AA19,Accueil!$V$17:$V$22,1,0)),1,0)","v":0},{"$f":"IF(ISERROR(VLOOKUP(AB19,Accueil!$V$17:$V$22,1,0)),1,0)","v":0},{"$f":"IF(ISERROR(VLOOKUP(AC19,Accueil!$V$17:$V$22,1,0)),1,0)","v":0},{"$f":"IF(ISERROR(VLOOKUP(AD19,Accueil!$V$17:$V$22,1,0)),1,0)","v":0},{"$f":"IF(ISERROR(VLOOKUP(AE19,Accueil!$V$17:$V$22,1,0)),1,0)","v":0},{"$f":"IF(ISERROR(VLOOKUP(AF19,Accueil!$V$17:$V$22,1,0)),1,0)","v":0},{"$f":"IF(ISERROR(VLOOKUP(AG19,Accueil!$V$17:$V$22,1,0)),1,0)","v":0},{"$f":"IF(ISERROR(VLOOKUP(AH19,Accueil!$V$17:$V$22,1,0)),1,0)","v":0},{"$f":"IF(ISERROR(VLOOKUP(AI19,Accueil!$V$17:$V$22,1,0)),1,0)","v":0},{"$f":"IF(ISERROR(VLOOKUP(AJ19,Accueil!$V$17:$V$22,1,0)),1,0)","v":0},{"$f":"IF(ISERROR(VLOOKUP(AK19,Accueil!$V$17:$V$22,1,0)),1,0)","v":0},{"$f":"IF(ISERROR(VLOOKUP(AL19,Accueil!$V$17:$V$22,1,0)),1,0)","v":0},{"$f":"IF(ISERROR(VLOOKUP(AM19,Accueil!$V$17:$V$22,1,0)),1,0)","v":0},{"$f":"IF(ISERROR(VLOOKUP(AN19,Accueil!$V$17:$V$22,1,0)),1,0)","v":0},{"$f":"IF(ISERROR(VLOOKUP(AO19,Accueil!$V$17:$V$22,1,0)),1,0)","v":0},{"$f":"IF(ISERROR(VLOOKUP(AP19,Accueil!$V$17:$V$22,1,0)),1,0)","v":0},{"$f":"IF(ISERROR(VLOOKUP(AQ19,Accueil!$V$17:$V$22,1,0)),1,0)","v":0},{"$f":"IF(ISERROR(VLOOKUP(AR19,Accueil!$V$17:$V$22,1,0)),1,0)","v":0},{"$f":"IF(ISERROR(VLOOKUP(AS19,Accueil!$V$17:$V$22,1,0)),1,0)","v":0},{"$f":"IF(ISERROR(VLOOKUP(AT19,Accueil!$V$17:$V$22,1,0)),1,0)","v":0},{"$f":"IF(ISERROR(VLOOKUP(AU19,Accueil!$V$17:$V$22,1,0)),1,0)","v":0},{"$f":"IF(ISERROR(VLOOKUP(AV19,Accueil!$V$17:$V$22,1,0)),1,0)","v":0},{"$f":"IF(ISERROR(VLOOKUP(AW19,Accueil!$V$17:$V$22,1,0)),1,0)","v":0},{"$f":"IF(ISERROR(VLOOKUP(AX19,Accueil!$V$17:$V$22,1,0)),1,0)","v":0},{"$f":"IF(ISERROR(VLOOKUP(AY19,Accueil!$V$17:$V$22,1,0)),1,0)","v":0},{"$f":"IF(ISERROR(VLOOKUP(AZ19,Accueil!$V$17:$V$22,1,0)),1,0)","v":0},{"$f":"IF(ISERROR(VLOOKUP(BA19,Accueil!$V$17:$V$22,1,0)),1,0)","v":0},{"$f":"IF(ISERROR(VLOOKUP(BB19,Accueil!$V$17:$V$22,1,0)),1,0)","v":0},{"$f":"IF(ISERROR(VLOOKUP(BC19,Accueil!$V$17:$V$22,1,0)),1,0)","v":0},{"$f":"IF(ISERROR(VLOOKUP(BD19,Accueil!$V$17:$V$22,1,0)),1,0)","v":0},{"$f":"IF(ISERROR(VLOOKUP(BE19,Accueil!$V$17:$V$22,1,0)),1,0)","v":0},{"$f":"IF(ISERROR(VLOOKUP(BF19,Accueil!$V$17:$V$22,1,0)),1,0)","v":0},{"$f":"IF(ISERROR(VLOOKUP(BG19,Accueil!$V$17:$V$22,1,0)),1,0)","v":0},{"$f":"IF(ISERROR(VLOOKUP(BH19,Accueil!$V$17:$V$22,1,0)),1,0)","v":0},{"$f":"IF(ISERROR(VLOOKUP(BI19,Accueil!$V$17:$V$22,1,0)),1,0)","v":0},{"$f":"IF(ISERROR(VLOOKUP(BJ19,Accueil!$V$17:$V$22,1,0)),1,0)","v":0},{"$f":"IF(ISERROR(VLOOKUP(BK19,Accueil!$V$17:$V$22,1,0)),1,0)","v":0},{"$f":"IF(ISERROR(VLOOKUP(BL19,Accueil!$V$17:$V$22,1,0)),1,0)","v":0},{"$f":"IF(ISERROR(VLOOKUP(BM19,Accueil!$V$17:$V$22,1,0)),1,0)","v":0},{"$f":"IF(ISERROR(VLOOKUP(BN19,Accueil!$V$17:$V$22,1,0)),1,0)","v":0},{"$f":"IF(ISERROR(VLOOKUP(BO19,Accueil!$V$17:$V$22,1,0)),1,0)","v":0},{"$f":"IF(ISERROR(VLOOKUP(BP19,Accueil!$V$17:$V$22,1,0)),1,0)","v":0},{"$f":"IF(ISERROR(VLOOKUP(BQ19,Accueil!$V$17:$V$22,1,0)),1,0)","v":0},{"$f":"IF(ISERROR(VLOOKUP(BR19,Accueil!$V$17:$V$22,1,0)),1,0)","v":0},{"$f":"IF(ISERROR(VLOOKUP(BS19,Accueil!$V$17:$V$22,1,0)),1,0)","v":0},{"$f":"IF(ISERROR(VLOOKUP(BT19,Accueil!$V$17:$V$22,1,0)),1,0)","v":0},{"$f":"IF(ISERROR(VLOOKUP(BU19,Accueil!$V$17:$V$22,1,0)),1,0)","v":0},{"$f":"IF(ISERROR(VLOOKUP(BV19,Accueil!$V$17:$V$22,1,0)),1,0)","v":0},{"$f":"IF(ISERROR(VLOOKUP(BW19,Accueil!$V$17:$V$22,1,0)),1,0)","v":0},{"$f":"IF(ISERROR(VLOOKUP(BX19,Accueil!$V$17:$V$22,1,0)),1,0)","v":0},{"$f":"IF(ISERROR(VLOOKUP(BY19,Accueil!$V$17:$V$22,1,0)),1,0)","v":0},{"$f":"IF(ISERROR(VLOOKUP(BZ19,Accueil!$V$17:$V$22,1,0)),1,0)","v":0},{"$f":"IF(ISERROR(VLOOKUP(CA19,Accueil!$V$17:$V$22,1,0)),1,0)","v":0},{"$f":"IF(ISERROR(VLOOKUP(CB19,Accueil!$V$17:$V$22,1,0)),1,0)","v":0},{"$f":"IF(ISERROR(VLOOKUP(CC19,Accueil!$V$17:$V$22,1,0)),1,0)","v":0},{"$f":"IF(ISERROR(VLOOKUP(CD19,Accueil!$V$17:$V$22,1,0)),1,0)","v":0},{"$f":"IF(ISERROR(VLOOKUP(CE19,Accueil!$V$17:$V$22,1,0)),1,0)","v":0},{"$f":"IF(ISERROR(VLOOKUP(CF19,Accueil!$V$17:$V$22,1,0)),1,0)","v":0},{"$f":"IF(ISERROR(VLOOKUP(CG19,Accueil!$V$17:$V$22,1,0)),1,0)","v":0},{"$f":"IF(ISERROR(VLOOKUP(CH19,Accueil!$V$17:$V$22,1,0)),1,0)","v":0},{"$f":"IF(ISERROR(VLOOKUP(CI19,Accueil!$V$17:$V$22,1,0)),1,0)","v":0},{"$f":"IF(ISERROR(VLOOKUP(CJ19,Accueil!$V$17:$V$22,1,0)),1,0)","v":0},{"$f":"IF(ISERROR(VLOOKUP(CK19,Accueil!$V$17:$V$22,1,0)),1,0)","v":0},{"$f":"IF(ISERROR(VLOOKUP(CL19,Accueil!$V$17:$V$22,1,0)),1,0)","v":0},{"$f":"IF(ISERROR(VLOOKUP(CM19,Accueil!$V$17:$V$22,1,0)),1,0)","v":0},{"$f":"IF(ISERROR(VLOOKUP(CN19,Accueil!$V$17:$V$22,1,0)),1,0)","v":0},{"$f":"IF(ISERROR(VLOOKUP(CO19,Accueil!$V$17:$V$22,1,0)),1,0)","v":0},{"$f":"IF(ISERROR(VLOOKUP(CP19,Accueil!$V$17:$V$22,1,0)),1,0)","v":0},{"$f":"IF(ISERROR(VLOOKUP(CQ19,Accueil!$V$17:$V$22,1,0)),1,0)","v":0},{"$f":"IF(ISERROR(VLOOKUP(CR19,Accueil!$V$17:$V$22,1,0)),1,0)","v":0},{"$f":"IF(ISERROR(VLOOKUP(CS19,Accueil!$V$17:$V$22,1,0)),1,0)","v":0},{"$f":"IF(ISERROR(VLOOKUP(CT19,Accueil!$V$17:$V$22,1,0)),1,0)","v":0},{"$f":"IF(ISERROR(VLOOKUP(CU19,Accueil!$V$17:$V$22,1,0)),1,0)","v":0},{"$f":"IF(ISERROR(VLOOKUP(CV19,Accueil!$V$17:$V$22,1,0)),1,0)","v":0},{"$f":"IF(ISERROR(VLOOKUP(CW19,Accueil!$V$17:$V$22,1,0)),1,0)","v":0},{"$f":"IF(ISERROR(VLOOKUP(CX19,Accueil!$V$17:$V$22,1,0)),1,0)","v":0},{"$f":"IF(ISERROR(VLOOKUP(CY19,Accueil!$V$17:$V$22,1,0)),1,0)","v":0},{"$f":"IF(ISERROR(VLOOKUP(CZ19,Accueil!$V$17:$V$22,1,0)),1,0)","v":0},{"$f":"IF(ISERROR(VLOOKUP(DA19,Accueil!$V$17:$V$22,1,0)),1,0)","v":0}]
[null,12,{"$f":"IF(Accueil!E24=\"\",\"\",Accueil!E24)","v":""},{"$f":"IF(Accueil!F24=\"\",\"\",Accueil!F24)","v":""},"",null,null,null,null,null,null,null,null,null,null,null,null,null,null,null,null,null,null,null,null,null,null,null,null,null,null,null,null,null,null,null,null,null,null,null,null,null,null,null,null,null,null,null,null,null,null,null,null,null,null,null,null,null,null,null,null,null,null,null,null,null,null,null,null,null,null,null,null,null,null,null,null,null,null,null,null,null,null,null,null,null,null,null,null,null,null,null,null,null,null,null,null,null,null,null,null,null,null,null,null,12,{"$f":"IF(D20=\"\",\"\",COUNTIF(F20:DA20,Accueil!$AA$28)&\" / \"&COUNTIF($F$8:$DA$8,\">0\")-(COUNTIF(F20:DA20,Accueil!$AF$26)))","v":""},{"$f":"IF(D20=\"\",\"\",COUNTIF(F20:DA20,Accueil!$AA$26))","v":""},{"$f":"IF(D20=\"\",\"\",COUNTIF($F$8:$DA$8,\">0\")-(COUNTIF(F20:DA20,Accueil!$AF$26)))","v":""},"","",0,{"$f":"IF(ISERROR(VLOOKUP(F20,Accueil!$V$17:$V$22,1,0)),1,0)","v":0},{"$f":"IF(ISERROR(VLOOKUP(G20,Accueil!$V$17:$V$22,1,0)),1,0)","v":0},{"$f":"IF(ISERROR(VLOOKUP(H20,Accueil!$V$17:$V$22,1,0)),1,0)","v":0},{"$f":"IF(ISERROR(VLOOKUP(I20,Accueil!$V$17:$V$22,1,0)),1,0)","v":0},{"$f":"IF(ISERROR(VLOOKUP(J20,Accueil!$V$17:$V$22,1,0)),1,0)","v":0},{"$f":"IF(ISERROR(VLOOKUP(K20,Accueil!$V$17:$V$22,1,0)),1,0)","v":0},{"$f":"IF(ISERROR(VLOOKUP(L20,Accueil!$V$17:$V$22,1,0)),1,0)","v":0},{"$f":"IF(ISERROR(VLOOKUP(M20,Accueil!$V$17:$V$22,1,0)),1,0)","v":0},{"$f":"IF(ISERROR(VLOOKUP(N20,Accueil!$V$17:$V$22,1,0)),1,0)","v":0},{"$f":"IF(ISERROR(VLOOKUP(O20,Accueil!$V$17:$V$22,1,0)),1,0)","v":0},{"$f":"IF(ISERROR(VLOOKUP(P20,Accueil!$V$17:$V$22,1,0)),1,0)","v":0},{"$f":"IF(ISERROR(VLOOKUP(Q20,Accueil!$V$17:$V$22,1,0)),1,0)","v":0},{"$f":"IF(ISERROR(VLOOKUP(R20,Accueil!$V$17:$V$22,1,0)),1,0)","v":0},{"$f":"IF(ISERROR(VLOOKUP(S20,Accueil!$V$17:$V$22,1,0)),1,0)","v":0},{"$f":"IF(ISERROR(VLOOKUP(T20,Accueil!$V$17:$V$22,1,0)),1,0)","v":0},{"$f":"IF(ISERROR(VLOOKUP(U20,Accueil!$V$17:$V$22,1,0)),1,0)","v":0},{"$f":"IF(ISERROR(VLOOKUP(V20,Accueil!$V$17:$V$22,1,0)),1,0)","v":0},{"$f":"IF(ISERROR(VLOOKUP(W20,Accueil!$V$17:$V$22,1,0)),1,0)","v":0},{"$f":"IF(ISERROR(VLOOKUP(X20,Accueil!$V$17:$V$22,1,0)),1,0)","v":0},{"$f":"IF(ISERROR(VLOOKUP(Y20,Accueil!$V$17:$V$22,1,0)),1,0)","v":0},{"$f":"IF(ISERROR(VLOOKUP(Z20,Accueil!$V$17:$V$22,1,0)),1,0)","v":0},{"$f":"IF(ISERROR(VLOOKUP(AA20,Accueil!$V$17:$V$22,1,0)),1,0)","v":0},{"$f":"IF(ISERROR(VLOOKUP(AB20,Accueil!$V$17:$V$22,1,0)),1,0)","v":0},{"$f":"IF(ISERROR(VLOOKUP(AC20,Accueil!$V$17:$V$22,1,0)),1,0)","v":0},{"$f":"IF(ISERROR(VLOOKUP(AD20,Accueil!$V$17:$V$22,1,0)),1,0)","v":0},{"$f":"IF(ISERROR(VLOOKUP(AE20,Accueil!$V$17:$V$22,1,0)),1,0)","v":0},{"$f":"IF(ISERROR(VLOOKUP(AF20,Accueil!$V$17:$V$22,1,0)),1,0)","v":0},{"$f":"IF(ISERROR(VLOOKUP(AG20,Accueil!$V$17:$V$22,1,0)),1,0)","v":0},{"$f":"IF(ISERROR(VLOOKUP(AH20,Accueil!$V$17:$V$22,1,0)),1,0)","v":0},{"$f":"IF(ISERROR(VLOOKUP(AI20,Accueil!$V$17:$V$22,1,0)),1,0)","v":0},{"$f":"IF(ISERROR(VLOOKUP(AJ20,Accueil!$V$17:$V$22,1,0)),1,0)","v":0},{"$f":"IF(ISERROR(VLOOKUP(AK20,Accueil!$V$17:$V$22,1,0)),1,0)","v":0},{"$f":"IF(ISERROR(VLOOKUP(AL20,Accueil!$V$17:$V$22,1,0)),1,0)","v":0},{"$f":"IF(ISERROR(VLOOKUP(AM20,Accueil!$V$17:$V$22,1,0)),1,0)","v":0},{"$f":"IF(ISERROR(VLOOKUP(AN20,Accueil!$V$17:$V$22,1,0)),1,0)","v":0},{"$f":"IF(ISERROR(VLOOKUP(AO20,Accueil!$V$17:$V$22,1,0)),1,0)","v":0},{"$f":"IF(ISERROR(VLOOKUP(AP20,Accueil!$V$17:$V$22,1,0)),1,0)","v":0},{"$f":"IF(ISERROR(VLOOKUP(AQ20,Accueil!$V$17:$V$22,1,0)),1,0)","v":0},{"$f":"IF(ISERROR(VLOOKUP(AR20,Accueil!$V$17:$V$22,1,0)),1,0)","v":0},{"$f":"IF(ISERROR(VLOOKUP(AS20,Accueil!$V$17:$V$22,1,0)),1,0)","v":0},{"$f":"IF(ISERROR(VLOOKUP(AT20,Accueil!$V$17:$V$22,1,0)),1,0)","v":0},{"$f":"IF(ISERROR(VLOOKUP(AU20,Accueil!$V$17:$V$22,1,0)),1,0)","v":0},{"$f":"IF(ISERROR(VLOOKUP(AV20,Accueil!$V$17:$V$22,1,0)),1,0)","v":0},{"$f":"IF(ISERROR(VLOOKUP(AW20,Accueil!$V$17:$V$22,1,0)),1,0)","v":0},{"$f":"IF(ISERROR(VLOOKUP(AX20,Accueil!$V$17:$V$22,1,0)),1,0)","v":0},{"$f":"IF(ISERROR(VLOOKUP(AY20,Accueil!$V$17:$V$22,1,0)),1,0)","v":0},{"$f":"IF(ISERROR(VLOOKUP(AZ20,Accueil!$V$17:$V$22,1,0)),1,0)","v":0},{"$f":"IF(ISERROR(VLOOKUP(BA20,Accueil!$V$17:$V$22,1,0)),1,0)","v":0},{"$f":"IF(ISERROR(VLOOKUP(BB20,Accueil!$V$17:$V$22,1,0)),1,0)","v":0},{"$f":"IF(ISERROR(VLOOKUP(BC20,Accueil!$V$17:$V$22,1,0)),1,0)","v":0},{"$f":"IF(ISERROR(VLOOKUP(BD20,Accueil!$V$17:$V$22,1,0)),1,0)","v":0},{"$f":"IF(ISERROR(VLOOKUP(BE20,Accueil!$V$17:$V$22,1,0)),1,0)","v":0},{"$f":"IF(ISERROR(VLOOKUP(BF20,Accueil!$V$17:$V$22,1,0)),1,0)","v":0},{"$f":"IF(ISERROR(VLOOKUP(BG20,Accueil!$V$17:$V$22,1,0)),1,0)","v":0},{"$f":"IF(ISERROR(VLOOKUP(BH20,Accueil!$V$17:$V$22,1,0)),1,0)","v":0},{"$f":"IF(ISERROR(VLOOKUP(BI20,Accueil!$V$17:$V$22,1,0)),1,0)","v":0},{"$f":"IF(ISERROR(VLOOKUP(BJ20,Accueil!$V$17:$V$22,1,0)),1,0)","v":0},{"$f":"IF(ISERROR(VLOOKUP(BK20,Accueil!$V$17:$V$22,1,0)),1,0)","v":0},{"$f":"IF(ISERROR(VLOOKUP(BL20,Accueil!$V$17:$V$22,1,0)),1,0)","v":0},{"$f":"IF(ISERROR(VLOOKUP(BM20,Accueil!$V$17:$V$22,1,0)),1,0)","v":0},{"$f":"IF(ISERROR(VLOOKUP(BN20,Accueil!$V$17:$V$22,1,0)),1,0)","v":0},{"$f":"IF(ISERROR(VLOOKUP(BO20,Accueil!$V$17:$V$22,1,0)),1,0)","v":0},{"$f":"IF(ISERROR(VLOOKUP(BP20,Accueil!$V$17:$V$22,1,0)),1,0)","v":0},{"$f":"IF(ISERROR(VLOOKUP(BQ20,Accueil!$V$17:$V$22,1,0)),1,0)","v":0},{"$f":"IF(ISERROR(VLOOKUP(BR20,Accueil!$V$17:$V$22,1,0)),1,0)","v":0},{"$f":"IF(ISERROR(VLOOKUP(BS20,Accueil!$V$17:$V$22,1,0)),1,0)","v":0},{"$f":"IF(ISERROR(VLOOKUP(BT20,Accueil!$V$17:$V$22,1,0)),1,0)","v":0},{"$f":"IF(ISERROR(VLOOKUP(BU20,Accueil!$V$17:$V$22,1,0)),1,0)","v":0},{"$f":"IF(ISERROR(VLOOKUP(BV20,Accueil!$V$17:$V$22,1,0)),1,0)","v":0},{"$f":"IF(ISERROR(VLOOKUP(BW20,Accueil!$V$17:$V$22,1,0)),1,0)","v":0},{"$f":"IF(ISERROR(VLOOKUP(BX20,Accueil!$V$17:$V$22,1,0)),1,0)","v":0},{"$f":"IF(ISERROR(VLOOKUP(BY20,Accueil!$V$17:$V$22,1,0)),1,0)","v":0},{"$f":"IF(ISERROR(VLOOKUP(BZ20,Accueil!$V$17:$V$22,1,0)),1,0)","v":0},{"$f":"IF(ISERROR(VLOOKUP(CA20,Accueil!$V$17:$V$22,1,0)),1,0)","v":0},{"$f":"IF(ISERROR(VLOOKUP(CB20,Accueil!$V$17:$V$22,1,0)),1,0)","v":0},{"$f":"IF(ISERROR(VLOOKUP(CC20,Accueil!$V$17:$V$22,1,0)),1,0)","v":0},{"$f":"IF(ISERROR(VLOOKUP(CD20,Accueil!$V$17:$V$22,1,0)),1,0)","v":0},{"$f":"IF(ISERROR(VLOOKUP(CE20,Accueil!$V$17:$V$22,1,0)),1,0)","v":0},{"$f":"IF(ISERROR(VLOOKUP(CF20,Accueil!$V$17:$V$22,1,0)),1,0)","v":0},{"$f":"IF(ISERROR(VLOOKUP(CG20,Accueil!$V$17:$V$22,1,0)),1,0)","v":0},{"$f":"IF(ISERROR(VLOOKUP(CH20,Accueil!$V$17:$V$22,1,0)),1,0)","v":0},{"$f":"IF(ISERROR(VLOOKUP(CI20,Accueil!$V$17:$V$22,1,0)),1,0)","v":0},{"$f":"IF(ISERROR(VLOOKUP(CJ20,Accueil!$V$17:$V$22,1,0)),1,0)","v":0},{"$f":"IF(ISERROR(VLOOKUP(CK20,Accueil!$V$17:$V$22,1,0)),1,0)","v":0},{"$f":"IF(ISERROR(VLOOKUP(CL20,Accueil!$V$17:$V$22,1,0)),1,0)","v":0},{"$f":"IF(ISERROR(VLOOKUP(CM20,Accueil!$V$17:$V$22,1,0)),1,0)","v":0},{"$f":"IF(ISERROR(VLOOKUP(CN20,Accueil!$V$17:$V$22,1,0)),1,0)","v":0},{"$f":"IF(ISERROR(VLOOKUP(CO20,Accueil!$V$17:$V$22,1,0)),1,0)","v":0},{"$f":"IF(ISERROR(VLOOKUP(CP20,Accueil!$V$17:$V$22,1,0)),1,0)","v":0},{"$f":"IF(ISERROR(VLOOKUP(CQ20,Accueil!$V$17:$V$22,1,0)),1,0)","v":0},{"$f":"IF(ISERROR(VLOOKUP(CR20,Accueil!$V$17:$V$22,1,0)),1,0)","v":0},{"$f":"IF(ISERROR(VLOOKUP(CS20,Accueil!$V$17:$V$22,1,0)),1,0)","v":0},{"$f":"IF(ISERROR(VLOOKUP(CT20,Accueil!$V$17:$V$22,1,0)),1,0)","v":0},{"$f":"IF(ISERROR(VLOOKUP(CU20,Accueil!$V$17:$V$22,1,0)),1,0)","v":0},{"$f":"IF(ISERROR(VLOOKUP(CV20,Accueil!$V$17:$V$22,1,0)),1,0)","v":0},{"$f":"IF(ISERROR(VLOOKUP(CW20,Accueil!$V$17:$V$22,1,0)),1,0)","v":0},{"$f":"IF(ISERROR(VLOOKUP(CX20,Accueil!$V$17:$V$22,1,0)),1,0)","v":0},{"$f":"IF(ISERROR(VLOOKUP(CY20,Accueil!$V$17:$V$22,1,0)),1,0)","v":0},{"$f":"IF(ISERROR(VLOOKUP(CZ20,Accueil!$V$17:$V$22,1,0)),1,0)","v":0},{"$f":"IF(ISERROR(VLOOKUP(DA20,Accueil!$V$17:$V$22,1,0)),1,0)","v":0}]
[null,13,{"$f":"IF(Accueil!E25=\"\",\"\",Accueil!E25)","v":""},{"$f":"IF(Accueil!F25=\"\",\"\",Accueil!F25)","v":""},"",null,null,null,null,null,null,null,null,null,null,null,null,null,null,null,null,null,null,null,null,null,null,null,null,null,null,null,null,null,null,null,null,null,null,null,null,null,null,null,null,null,null,null,null,null,null,null,null,null,null,null,null,null,null,null,null,null,null,null,null,null,null,null,null,null,null,null,null,null,null,null,null,null,null,null,null,null,null,null,null,null,null,null,null,null,null,null,null,null,null,null,null,null,null,null,null,null,null,null,null,13,{"$f":"IF(D21=\"\",\"\",COUNTIF(F21:DA21,Accueil!$AA$28)&\" / \"&COUNTIF($F$8:$DA$8,\">0\")-(COUNTIF(F21:DA21,Accueil!$AF$26)))","v":""},{"$f":"IF(D21=\"\",\"\",COUNTIF(F21:DA21,Accueil!$AA$26))","v":""},{"$f":"IF(D21=\"\",\"\",COUNTIF($F$8:$DA$8,\">0\")-(COUNTIF(F21:DA21,Accueil!$AF$26)))","v":""},"","",0,{"$f":"IF(ISERROR(VLOOKUP(F21,Accueil!$V$17:$V$22,1,0)),1,0)","v":0},{"$f":"IF(ISERROR(VLOOKUP(G21,Accueil!$V$17:$V$22,1,0)),1,0)","v":0},{"$f":"IF(ISERROR(VLOOKUP(H21,Accueil!$V$17:$V$22,1,0)),1,0)","v":0},{"$f":"IF(ISERROR(VLOOKUP(I21,Accueil!$V$17:$V$22,1,0)),1,0)","v":0},{"$f":"IF(ISERROR(VLOOKUP(J21,Accueil!$V$17:$V$22,1,0)),1,0)","v":0},{"$f":"IF(ISERROR(VLOOKUP(K21,Accueil!$V$17:$V$22,1,0)),1,0)","v":0},{"$f":"IF(ISERROR(VLOOKUP(L21,Accueil!$V$17:$V$22,1,0)),1,0)","v":0},{"$f":"IF(ISERROR(VLOOKUP(M21,Accueil!$V$17:$V$22,1,0)),1,0)","v":0},{"$f":"IF(ISERROR(VLOOKUP(N21,Accueil!$V$17:$V$22,1,0)),1,0)","v":0},{"$f":"IF(ISERROR(VLOOKUP(O21,Accueil!$V$17:$V$22,1,0)),1,0)","v":0},{"$f":"IF(ISERROR(VLOOKUP(P21,Accueil!$V$17:$V$22,1,0)),1,0)","v":0},{"$f":"IF(ISERROR(VLOOKUP(Q21,Accueil!$V$17:$V$22,1,0)),1,0)","v":0},{"$f":"IF(ISERROR(VLOOKUP(R21,Accueil!$V$17:$V$22,1,0)),1,0)","v":0},{"$f":"IF(ISERROR(VLOOKUP(S21,Accueil!$V$17:$V$22,1,0)),1,0)","v":0},{"$f":"IF(ISERROR(VLOOKUP(T21,Accueil!$V$17:$V$22,1,0)),1,0)","v":0},{"$f":"IF(ISERROR(VLOOKUP(U21,Accueil!$V$17:$V$22,1,0)),1,0)","v":0},{"$f":"IF(ISERROR(VLOOKUP(V21,Accueil!$V$17:$V$22,1,0)),1,0)","v":0},{"$f":"IF(ISERROR(VLOOKUP(W21,Accueil!$V$17:$V$22,1,0)),1,0)","v":0},{"$f":"IF(ISERROR(VLOOKUP(X21,Accueil!$V$17:$V$22,1,0)),1,0)","v":0},{"$f":"IF(ISERROR(VLOOKUP(Y21,Accueil!$V$17:$V$22,1,0)),1,0)","v":0},{"$f":"IF(ISERROR(VLOOKUP(Z21,Accueil!$V$17:$V$22,1,0)),1,0)","v":0},{"$f":"IF(ISERROR(VLOOKUP(AA21,Accueil!$V$17:$V$22,1,0)),1,0)","v":0},{"$f":"IF(ISERROR(VLOOKUP(AB21,Accueil!$V$17:$V$22,1,0)),1,0)","v":0},{"$f":"IF(ISERROR(VLOOKUP(AC21,Accueil!$V$17:$V$22,1,0)),1,0)","v":0},{"$f":"IF(ISERROR(VLOOKUP(AD21,Accueil!$V$17:$V$22,1,0)),1,0)","v":0},{"$f":"IF(ISERROR(VLOOKUP(AE21,Accueil!$V$17:$V$22,1,0)),1,0)","v":0},{"$f":"IF(ISERROR(VLOOKUP(AF21,Accueil!$V$17:$V$22,1,0)),1,0)","v":0},{"$f":"IF(ISERROR(VLOOKUP(AG21,Accueil!$V$17:$V$22,1,0)),1,0)","v":0},{"$f":"IF(ISERROR(VLOOKUP(AH21,Accueil!$V$17:$V$22,1,0)),1,0)","v":0},{"$f":"IF(ISERROR(VLOOKUP(AI21,Accueil!$V$17:$V$22,1,0)),1,0)","v":0},{"$f":"IF(ISERROR(VLOOKUP(AJ21,Accueil!$V$17:$V$22,1,0)),1,0)","v":0},{"$f":"IF(ISERROR(VLOOKUP(AK21,Accueil!$V$17:$V$22,1,0)),1,0)","v":0},{"$f":"IF(ISERROR(VLOOKUP(AL21,Accueil!$V$17:$V$22,1,0)),1,0)","v":0},{"$f":"IF(ISERROR(VLOOKUP(AM21,Accueil!$V$17:$V$22,1,0)),1,0)","v":0},{"$f":"IF(ISERROR(VLOOKUP(AN21,Accueil!$V$17:$V$22,1,0)),1,0)","v":0},{"$f":"IF(ISERROR(VLOOKUP(AO21,Accueil!$V$17:$V$22,1,0)),1,0)","v":0},{"$f":"IF(ISERROR(VLOOKUP(AP21,Accueil!$V$17:$V$22,1,0)),1,0)","v":0},{"$f":"IF(ISERROR(VLOOKUP(AQ21,Accueil!$V$17:$V$22,1,0)),1,0)","v":0},{"$f":"IF(ISERROR(VLOOKUP(AR21,Accueil!$V$17:$V$22,1,0)),1,0)","v":0},{"$f":"IF(ISERROR(VLOOKUP(AS21,Accueil!$V$17:$V$22,1,0)),1,0)","v":0},{"$f":"IF(ISERROR(VLOOKUP(AT21,Accueil!$V$17:$V$22,1,0)),1,0)","v":0},{"$f":"IF(ISERROR(VLOOKUP(AU21,Accueil!$V$17:$V$22,1,0)),1,0)","v":0},{"$f":"IF(ISERROR(VLOOKUP(AV21,Accueil!$V$17:$V$22,1,0)),1,0)","v":0},{"$f":"IF(ISERROR(VLOOKUP(AW21,Accueil!$V$17:$V$22,1,0)),1,0)","v":0},{"$f":"IF(ISERROR(VLOOKUP(AX21,Accueil!$V$17:$V$22,1,0)),1,0)","v":0},{"$f":"IF(ISERROR(VLOOKUP(AY21,Accueil!$V$17:$V$22,1,0)),1,0)","v":0},{"$f":"IF(ISERROR(VLOOKUP(AZ21,Accueil!$V$17:$V$22,1,0)),1,0)","v":0},{"$f":"IF(ISERROR(VLOOKUP(BA21,Accueil!$V$17:$V$22,1,0)),1,0)","v":0},{"$f":"IF(ISERROR(VLOOKUP(BB21,Accueil!$V$17:$V$22,1,0)),1,0)","v":0},{"$f":"IF(ISERROR(VLOOKUP(BC21,Accueil!$V$17:$V$22,1,0)),1,0)","v":0},{"$f":"IF(ISERROR(VLOOKUP(BD21,Accueil!$V$17:$V$22,1,0)),1,0)","v":0},{"$f":"IF(ISERROR(VLOOKUP(BE21,Accueil!$V$17:$V$22,1,0)),1,0)","v":0},{"$f":"IF(ISERROR(VLOOKUP(BF21,Accueil!$V$17:$V$22,1,0)),1,0)","v":0},{"$f":"IF(ISERROR(VLOOKUP(BG21,Accueil!$V$17:$V$22,1,0)),1,0)","v":0},{"$f":"IF(ISERROR(VLOOKUP(BH21,Accueil!$V$17:$V$22,1,0)),1,0)","v":0},{"$f":"IF(ISERROR(VLOOKUP(BI21,Accueil!$V$17:$V$22,1,0)),1,0)","v":0},{"$f":"IF(ISERROR(VLOOKUP(BJ21,Accueil!$V$17:$V$22,1,0)),1,0)","v":0},{"$f":"IF(ISERROR(VLOOKUP(BK21,Accueil!$V$17:$V$22,1,0)),1,0)","v":0},{"$f":"IF(ISERROR(VLOOKUP(BL21,Accueil!$V$17:$V$22,1,0)),1,0)","v":0},{"$f":"IF(ISERROR(VLOOKUP(BM21,Accueil!$V$17:$V$22,1,0)),1,0)","v":0},{"$f":"IF(ISERROR(VLOOKUP(BN21,Accueil!$V$17:$V$22,1,0)),1,0)","v":0},{"$f":"IF(ISERROR(VLOOKUP(BO21,Accueil!$V$17:$V$22,1,0)),1,0)","v":0},{"$f":"IF(ISERROR(VLOOKUP(BP21,Accueil!$V$17:$V$22,1,0)),1,0)","v":0},{"$f":"IF(ISERROR(VLOOKUP(BQ21,Accueil!$V$17:$V$22,1,0)),1,0)","v":0},{"$f":"IF(ISERROR(VLOOKUP(BR21,Accueil!$V$17:$V$22,1,0)),1,0)","v":0},{"$f":"IF(ISERROR(VLOOKUP(BS21,Accueil!$V$17:$V$22,1,0)),1,0)","v":0},{"$f":"IF(ISERROR(VLOOKUP(BT21,Accueil!$V$17:$V$22,1,0)),1,0)","v":0},{"$f":"IF(ISERROR(VLOOKUP(BU21,Accueil!$V$17:$V$22,1,0)),1,0)","v":0},{"$f":"IF(ISERROR(VLOOKUP(BV21,Accueil!$V$17:$V$22,1,0)),1,0)","v":0},{"$f":"IF(ISERROR(VLOOKUP(BW21,Accueil!$V$17:$V$22,1,0)),1,0)","v":0},{"$f":"IF(ISERROR(VLOOKUP(BX21,Accueil!$V$17:$V$22,1,0)),1,0)","v":0},{"$f":"IF(ISERROR(VLOOKUP(BY21,Accueil!$V$17:$V$22,1,0)),1,0)","v":0},{"$f":"IF(ISERROR(VLOOKUP(BZ21,Accueil!$V$17:$V$22,1,0)),1,0)","v":0},{"$f":"IF(ISERROR(VLOOKUP(CA21,Accueil!$V$17:$V$22,1,0)),1,0)","v":0},{"$f":"IF(ISERROR(VLOOKUP(CB21,Accueil!$V$17:$V$22,1,0)),1,0)","v":0},{"$f":"IF(ISERROR(VLOOKUP(CC21,Accueil!$V$17:$V$22,1,0)),1,0)","v":0},{"$f":"IF(ISERROR(VLOOKUP(CD21,Accueil!$V$17:$V$22,1,0)),1,0)","v":0},{"$f":"IF(ISERROR(VLOOKUP(CE21,Accueil!$V$17:$V$22,1,0)),1,0)","v":0},{"$f":"IF(ISERROR(VLOOKUP(CF21,Accueil!$V$17:$V$22,1,0)),1,0)","v":0},{"$f":"IF(ISERROR(VLOOKUP(CG21,Accueil!$V$17:$V$22,1,0)),1,0)","v":0},{"$f":"IF(ISERROR(VLOOKUP(CH21,Accueil!$V$17:$V$22,1,0)),1,0)","v":0},{"$f":"IF(ISERROR(VLOOKUP(CI21,Accueil!$V$17:$V$22,1,0)),1,0)","v":0},{"$f":"IF(ISERROR(VLOOKUP(CJ21,Accueil!$V$17:$V$22,1,0)),1,0)","v":0},{"$f":"IF(ISERROR(VLOOKUP(CK21,Accueil!$V$17:$V$22,1,0)),1,0)","v":0},{"$f":"IF(ISERROR(VLOOKUP(CL21,Accueil!$V$17:$V$22,1,0)),1,0)","v":0},{"$f":"IF(ISERROR(VLOOKUP(CM21,Accueil!$V$17:$V$22,1,0)),1,0)","v":0},{"$f":"IF(ISERROR(VLOOKUP(CN21,Accueil!$V$17:$V$22,1,0)),1,0)","v":0},{"$f":"IF(ISERROR(VLOOKUP(CO21,Accueil!$V$17:$V$22,1,0)),1,0)","v":0},{"$f":"IF(ISERROR(VLOOKUP(CP21,Accueil!$V$17:$V$22,1,0)),1,0)","v":0},{"$f":"IF(ISERROR(VLOOKUP(CQ21,Accueil!$V$17:$V$22,1,0)),1,0)","v":0},{"$f":"IF(ISERROR(VLOOKUP(CR21,Accueil!$V$17:$V$22,1,0)),1,0)","v":0},{"$f":"IF(ISERROR(VLOOKUP(CS21,Accueil!$V$17:$V$22,1,0)),1,0)","v":0},{"$f":"IF(ISERROR(VLOOKUP(CT21,Accueil!$V$17:$V$22,1,0)),1,0)","v":0},{"$f":"IF(ISERROR(VLOOKUP(CU21,Accueil!$V$17:$V$22,1,0)),1,0)","v":0},{"$f":"IF(ISERROR(VLOOKUP(CV21,Accueil!$V$17:$V$22,1,0)),1,0)","v":0},{"$f":"IF(ISERROR(VLOOKUP(CW21,Accueil!$V$17:$V$22,1,0)),1,0)","v":0},{"$f":"IF(ISERROR(VLOOKUP(CX21,Accueil!$V$17:$V$22,1,0)),1,0)","v":0},{"$f":"IF(ISERROR(VLOOKUP(CY21,Accueil!$V$17:$V$22,1,0)),1,0)","v":0},{"$f":"IF(ISERROR(VLOOKUP(CZ21,Accueil!$V$17:$V$22,1,0)),1,0)","v":0},{"$f":"IF(ISERROR(VLOOKUP(DA21,Accueil!$V$17:$V$22,1,0)),1,0)","v":0}]
[null,14,{"$f":"IF(Accueil!E26=\"\",\"\",Accueil!E26)","v":""},{"$f":"IF(Accueil!F26=\"\",\"\",Accueil!F26)","v":""},"",null,null,null,null,null,null,null,null,null,null,null,null,null,null,null,null,null,null,null,null,null,null,null,null,null,null,null,null,null,null,null,null,null,null,null,null,null,null,null,null,null,null,null,null,null,null,null,null,null,null,null,null,null,null,null,null,null,null,null,null,null,null,null,null,null,null,null,null,null,null,null,null,null,null,null,null,null,null,null,null,null,null,null,null,null,null,null,null,null,null,null,null,null,null,null,null,null,null,null,null,14,{"$f":"IF(D22=\"\",\"\",COUNTIF(F22:DA22,Accueil!$AA$28)&\" / \"&COUNTIF($F$8:$DA$8,\">0\")-(COUNTIF(F22:DA22,Accueil!$AF$26)))","v":""},{"$f":"IF(D22=\"\",\"\",COUNTIF(F22:DA22,Accueil!$AA$26))","v":""},{"$f":"IF(D22=\"\",\"\",COUNTIF($F$8:$DA$8,\">0\")-(COUNTIF(F22:DA22,Accueil!$AF$26)))","v":""},"","",0,{"$f":"IF(ISERROR(VLOOKUP(F22,Accueil!$V$17:$V$22,1,0)),1,0)","v":0},{"$f":"IF(ISERROR(VLOOKUP(G22,Accueil!$V$17:$V$22,1,0)),1,0)","v":0},{"$f":"IF(ISERROR(VLOOKUP(H22,Accueil!$V$17:$V$22,1,0)),1,0)","v":0},{"$f":"IF(ISERROR(VLOOKUP(I22,Accueil!$V$17:$V$22,1,0)),1,0)","v":0},{"$f":"IF(ISERROR(VLOOKUP(J22,Accueil!$V$17:$V$22,1,0)),1,0)","v":0},{"$f":"IF(ISERROR(VLOOKUP(K22,Accueil!$V$17:$V$22,1,0)),1,0)","v":0},{"$f":"IF(ISERROR(VLOOKUP(L22,Accueil!$V$17:$V$22,1,0)),1,0)","v":0},{"$f":"IF(ISERROR(VLOOKUP(M22,Accueil!$V$17:$V$22,1,0)),1,0)","v":0},{"$f":"IF(ISERROR(VLOOKUP(N22,Accueil!$V$17:$V$22,1,0)),1,0)","v":0},{"$f":"IF(ISERROR(VLOOKUP(O22,Accueil!$V$17:$V$22,1,0)),1,0)","v":0},{"$f":"IF(ISERROR(VLOOKUP(P22,Accueil!$V$17:$V$22,1,0)),1,0)","v":0},{"$f":"IF(ISERROR(VLOOKUP(Q22,Accueil!$V$17:$V$22,1,0)),1,0)","v":0},{"$f":"IF(ISERROR(VLOOKUP(R22,Accueil!$V$17:$V$22,1,0)),1,0)","v":0},{"$f":"IF(ISERROR(VLOOKUP(S22,Accueil!$V$17:$V$22,1,0)),1,0)","v":0},{"$f":"IF(ISERROR(VLOOKUP(T22,Accueil!$V$17:$V$22,1,0)),1,0)","v":0},{"$f":"IF(ISERROR(VLOOKUP(U22,Accueil!$V$17:$V$22,1,0)),1,0)","v":0},{"$f":"IF(ISERROR(VLOOKUP(V22,Accueil!$V$17:$V$22,1,0)),1,0)","v":0},{"$f":"IF(ISERROR(VLOOKUP(W22,Accueil!$V$17:$V$22,1,0)),1,0)","v":0},{"$f":"IF(ISERROR(VLOOKUP(X22,Accueil!$V$17:$V$22,1,0)),1,0)","v":0},{"$f":"IF(ISERROR(VLOOKUP(Y22,Accueil!$V$17:$V$22,1,0)),1,0)","v":0},{"$f":"IF(ISERROR(VLOOKUP(Z22,Accueil!$V$17:$V$22,1,0)),1,0)","v":0},{"$f":"IF(ISERROR(VLOOKUP(AA22,Accueil!$V$17:$V$22,1,0)),1,0)","v":0},{"$f":"IF(ISERROR(VLOOKUP(AB22,Accueil!$V$17:$V$22,1,0)),1,0)","v":0},{"$f":"IF(ISERROR(VLOOKUP(AC22,Accueil!$V$17:$V$22,1,0)),1,0)","v":0},{"$f":"IF(ISERROR(VLOOKUP(AD22,Accueil!$V$17:$V$22,1,0)),1,0)","v":0},{"$f":"IF(ISERROR(VLOOKUP(AE22,Accueil!$V$17:$V$22,1,0)),1,0)","v":0},{"$f":"IF(ISERROR(VLOOKUP(AF22,Accueil!$V$17:$V$22,1,0)),1,0)","v":0},{"$f":"IF(ISERROR(VLOOKUP(AG22,Accueil!$V$17:$V$22,1,0)),1,0)","v":0},{"$f":"IF(ISERROR(VLOOKUP(AH22,Accueil!$V$17:$V$22,1,0)),1,0)","v":0},{"$f":"IF(ISERROR(VLOOKUP(AI22,Accueil!$V$17:$V$22,1,0)),1,0)","v":0},{"$f":"IF(ISERROR(VLOOKUP(AJ22,Accueil!$V$17:$V$22,1,0)),1,0)","v":0},{"$f":"IF(ISERROR(VLOOKUP(AK22,Accueil!$V$17:$V$22,1,0)),1,0)","v":0},{"$f":"IF(ISERROR(VLOOKUP(AL22,Accueil!$V$17:$V$22,1,0)),1,0)","v":0},{"$f":"IF(ISERROR(VLOOKUP(AM22,Accueil!$V$17:$V$22,1,0)),1,0)","v":0},{"$f":"IF(ISERROR(VLOOKUP(AN22,Accueil!$V$17:$V$22,1,0)),1,0)","v":0},{"$f":"IF(ISERROR(VLOOKUP(AO22,Accueil!$V$17:$V$22,1,0)),1,0)","v":0},{"$f":"IF(ISERROR(VLOOKUP(AP22,Accueil!$V$17:$V$22,1,0)),1,0)","v":0},{"$f":"IF(ISERROR(VLOOKUP(AQ22,Accueil!$V$17:$V$22,1,0)),1,0)","v":0},{"$f":"IF(ISERROR(VLOOKUP(AR22,Accueil!$V$17:$V$22,1,0)),1,0)","v":0},{"$f":"IF(ISERROR(VLOOKUP(AS22,Accueil!$V$17:$V$22,1,0)),1,0)","v":0},{"$f":"IF(ISERROR(VLOOKUP(AT22,Accueil!$V$17:$V$22,1,0)),1,0)","v":0},{"$f":"IF(ISERROR(VLOOKUP(AU22,Accueil!$V$17:$V$22,1,0)),1,0)","v":0},{"$f":"IF(ISERROR(VLOOKUP(AV22,Accueil!$V$17:$V$22,1,0)),1,0)","v":0},{"$f":"IF(ISERROR(VLOOKUP(AW22,Accueil!$V$17:$V$22,1,0)),1,0)","v":0},{"$f":"IF(ISERROR(VLOOKUP(AX22,Accueil!$V$17:$V$22,1,0)),1,0)","v":0},{"$f":"IF(ISERROR(VLOOKUP(AY22,Accueil!$V$17:$V$22,1,0)),1,0)","v":0},{"$f":"IF(ISERROR(VLOOKUP(AZ22,Accueil!$V$17:$V$22,1,0)),1,0)","v":0},{"$f":"IF(ISERROR(VLOOKUP(BA22,Accueil!$V$17:$V$22,1,0)),1,0)","v":0},{"$f":"IF(ISERROR(VLOOKUP(BB22,Accueil!$V$17:$V$22,1,0)),1,0)","v":0},{"$f":"IF(ISERROR(VLOOKUP(BC22,Accueil!$V$17:$V$22,1,0)),1,0)","v":0},{"$f":"IF(ISERROR(VLOOKUP(BD22,Accueil!$V$17:$V$22,1,0)),1,0)","v":0},{"$f":"IF(ISERROR(VLOOKUP(BE22,Accueil!$V$17:$V$22,1,0)),1,0)","v":0},{"$f":"IF(ISERROR(VLOOKUP(BF22,Accueil!$V$17:$V$22,1,0)),1,0)","v":0},{"$f":"IF(ISERROR(VLOOKUP(BG22,Accueil!$V$17:$V$22,1,0)),1,0)","v":0},{"$f":"IF(ISERROR(VLOOKUP(BH22,Accueil!$V$17:$V$22,1,0)),1,0)","v":0},{"$f":"IF(ISERROR(VLOOKUP(BI22,Accueil!$V$17:$V$22,1,0)),1,0)","v":0},{"$f":"IF(ISERROR(VLOOKUP(BJ22,Accueil!$V$17:$V$22,1,0)),1,0)","v":0},{"$f":"IF(ISERROR(VLOOKUP(BK22,Accueil!$V$17:$V$22,1,0)),1,0)","v":0},{"$f":"IF(ISERROR(VLOOKUP(BL22,Accueil!$V$17:$V$22,1,0)),1,0)","v":0},{"$f":"IF(ISERROR(VLOOKUP(BM22,Accueil!$V$17:$V$22,1,0)),1,0)","v":0},{"$f":"IF(ISERROR(VLOOKUP(BN22,Accueil!$V$17:$V$22,1,0)),1,0)","v":0},{"$f":"IF(ISERROR(VLOOKUP(BO22,Accueil!$V$17:$V$22,1,0)),1,0)","v":0},{"$f":"IF(ISERROR(VLOOKUP(BP22,Accueil!$V$17:$V$22,1,0)),1,0)","v":0},{"$f":"IF(ISERROR(VLOOKUP(BQ22,Accueil!$V$17:$V$22,1,0)),1,0)","v":0},{"$f":"IF(ISERROR(VLOOKUP(BR22,Accueil!$V$17:$V$22,1,0)),1,0)","v":0},{"$f":"IF(ISERROR(VLOOKUP(BS22,Accueil!$V$17:$V$22,1,0)),1,0)","v":0},{"$f":"IF(ISERROR(VLOOKUP(BT22,Accueil!$V$17:$V$22,1,0)),1,0)","v":0},{"$f":"IF(ISERROR(VLOOKUP(BU22,Accueil!$V$17:$V$22,1,0)),1,0)","v":0},{"$f":"IF(ISERROR(VLOOKUP(BV22,Accueil!$V$17:$V$22,1,0)),1,0)","v":0},{"$f":"IF(ISERROR(VLOOKUP(BW22,Accueil!$V$17:$V$22,1,0)),1,0)","v":0},{"$f":"IF(ISERROR(VLOOKUP(BX22,Accueil!$V$17:$V$22,1,0)),1,0)","v":0},{"$f":"IF(ISERROR(VLOOKUP(BY22,Accueil!$V$17:$V$22,1,0)),1,0)","v":0},{"$f":"IF(ISERROR(VLOOKUP(BZ22,Accueil!$V$17:$V$22,1,0)),1,0)","v":0},{"$f":"IF(ISERROR(VLOOKUP(CA22,Accueil!$V$17:$V$22,1,0)),1,0)","v":0},{"$f":"IF(ISERROR(VLOOKUP(CB22,Accueil!$V$17:$V$22,1,0)),1,0)","v":0},{"$f":"IF(ISERROR(VLOOKUP(CC22,Accueil!$V$17:$V$22,1,0)),1,0)","v":0},{"$f":"IF(ISERROR(VLOOKUP(CD22,Accueil!$V$17:$V$22,1,0)),1,0)","v":0},{"$f":"IF(ISERROR(VLOOKUP(CE22,Accueil!$V$17:$V$22,1,0)),1,0)","v":0},{"$f":"IF(ISERROR(VLOOKUP(CF22,Accueil!$V$17:$V$22,1,0)),1,0)","v":0},{"$f":"IF(ISERROR(VLOOKUP(CG22,Accueil!$V$17:$V$22,1,0)),1,0)","v":0},{"$f":"IF(ISERROR(VLOOKUP(CH22,Accueil!$V$17:$V$22,1,0)),1,0)","v":0},{"$f":"IF(ISERROR(VLOOKUP(CI22,Accueil!$V$17:$V$22,1,0)),1,0)","v":0},{"$f":"IF(ISERROR(VLOOKUP(CJ22,Accueil!$V$17:$V$22,1,0)),1,0)","v":0},{"$f":"IF(ISERROR(VLOOKUP(CK22,Accueil!$V$17:$V$22,1,0)),1,0)","v":0},{"$f":"IF(ISERROR(VLOOKUP(CL22,Accueil!$V$17:$V$22,1,0)),1,0)","v":0},{"$f":"IF(ISERROR(VLOOKUP(CM22,Accueil!$V$17:$V$22,1,0)),1,0)","v":0},{"$f":"IF(ISERROR(VLOOKUP(CN22,Accueil!$V$17:$V$22,1,0)),1,0)","v":0},{"$f":"IF(ISERROR(VLOOKUP(CO22,Accueil!$V$17:$V$22,1,0)),1,0)","v":0},{"$f":"IF(ISERROR(VLOOKUP(CP22,Accueil!$V$17:$V$22,1,0)),1,0)","v":0},{"$f":"IF(ISERROR(VLOOKUP(CQ22,Accueil!$V$17:$V$22,1,0)),1,0)","v":0},{"$f":"IF(ISERROR(VLOOKUP(CR22,Accueil!$V$17:$V$22,1,0)),1,0)","v":0},{"$f":"IF(ISERROR(VLOOKUP(CS22,Accueil!$V$17:$V$22,1,0)),1,0)","v":0},{"$f":"IF(ISERROR(VLOOKUP(CT22,Accueil!$V$17:$V$22,1,0)),1,0)","v":0},{"$f":"IF(ISERROR(VLOOKUP(CU22,Accueil!$V$17:$V$22,1,0)),1,0)","v":0},{"$f":"IF(ISERROR(VLOOKUP(CV22,Accueil!$V$17:$V$22,1,0)),1,0)","v":0},{"$f":"IF(ISERROR(VLOOKUP(CW22,Accueil!$V$17:$V$22,1,0)),1,0)","v":0},{"$f":"IF(ISERROR(VLOOKUP(CX22,Accueil!$V$17:$V$22,1,0)),1,0)","v":0},{"$f":"IF(ISERROR(VLOOKUP(CY22,Accueil!$V$17:$V$22,1,0)),1,0)","v":0},{"$f":"IF(ISERROR(VLOOKUP(CZ22,Accueil!$V$17:$V$22,1,0)),1,0)","v":0},{"$f":"IF(ISERROR(VLOOKUP(DA22,Accueil!$V$17:$V$22,1,0)),1,0)","v":0}]
[null,15,{"$f":"IF(Accueil!E27=\"\",\"\",Accueil!E27)","v":""},{"$f":"IF(Accueil!F27=\"\",\"\",Accueil!F27)","v":""},"",null,null,null,null,null,null,null,null,null,null,null,null,null,null,null,null,null,null,null,null,null,null,null,null,null,null,null,null,null,null,null,null,null,null,null,null,null,null,null,null,null,null,null,null,null,null,null,null,null,null,null,null,null,null,null,null,null,null,null,null,null,null,null,null,null,null,null,null,null,null,null,null,null,null,null,null,null,null,null,null,null,null,null,null,null,null,null,null,null,null,null,null,null,null,null,null,null,null,null,null,15,{"$f":"IF(D23=\"\",\"\",COUNTIF(F23:DA23,Accueil!$AA$28)&\" / \"&COUNTIF($F$8:$DA$8,\">0\")-(COUNTIF(F23:DA23,Accueil!$AF$26)))","v":""},{"$f":"IF(D23=\"\",\"\",COUNTIF(F23:DA23,Accueil!$AA$26))","v":""},{"$f":"IF(D23=\"\",\"\",COUNTIF($F$8:$DA$8,\">0\")-(COUNTIF(F23:DA23,Accueil!$AF$26)))","v":""},"",{"$f":"IF(D23=\"\",\"\",IF(DH23>0,\"ERREUR\",IF(OR(DF23<COUNTIF($F$8:$DA$8,\">0\"),DF23>COUNTIF($F$8:$DA$8,\">0\")),\"NB ITEMS\",IF(DE23<COUNTIF($F$8:$DA$8,\">0\"),\"ABSENT\",ROUND(DD23/DE23,3)*100&\" %\"))))","v":""},0,{"$f":"IF(ISERROR(VLOOKUP(F23,Accueil!$V$17:$V$22,1,0)),1,0)","v":0},{"$f":"IF(ISERROR(VLOOKUP(G23,Accueil!$V$17:$V$22,1,0)),1,0)","v":0},{"$f":"IF(ISERROR(VLOOKUP(H23,Accueil!$V$17:$V$22,1,0)),1,0)","v":0},{"$f":"IF(ISERROR(VLOOKUP(I23,Accueil!$V$17:$V$22,1,0)),1,0)","v":0},{"$f":"IF(ISERROR(VLOOKUP(J23,Accueil!$V$17:$V$22,1,0)),1,0)","v":0},{"$f":"IF(ISERROR(VLOOKUP(K23,Accueil!$V$17:$V$22,1,0)),1,0)","v":0},{"$f":"IF(ISERROR(VLOOKUP(L23,Accueil!$V$17:$V$22,1,0)),1,0)","v":0},{"$f":"IF(ISERROR(VLOOKUP(M23,Accueil!$V$17:$V$22,1,0)),1,0)","v":0},{"$f":"IF(ISERROR(VLOOKUP(N23,Accueil!$V$17:$V$22,1,0)),1,0)","v":0},{"$f":"IF(ISERROR(VLOOKUP(O23,Accueil!$V$17:$V$22,1,0)),1,0)","v":0},{"$f":"IF(ISERROR(VLOOKUP(P23,Accueil!$V$17:$V$22,1,0)),1,0)","v":0},{"$f":"IF(ISERROR(VLOOKUP(Q23,Accueil!$V$17:$V$22,1,0)),1,0)","v":0},{"$f":"IF(ISERROR(VLOOKUP(R23,Accueil!$V$17:$V$22,1,0)),1,0)","v":0},{"$f":"IF(ISERROR(VLOOKUP(S23,Accueil!$V$17:$V$22,1,0)),1,0)","v":0},{"$f":"IF(ISERROR(VLOOKUP(T23,Accueil!$V$17:$V$22,1,0)),1,0)","v":0},{"$f":"IF(ISERROR(VLOOKUP(U23,Accueil!$V$17:$V$22,1,0)),1,0)","v":0},{"$f":"IF(ISERROR(VLOOKUP(V23,Accueil!$V$17:$V$22,1,0)),1,0)","v":0},{"$f":"IF(ISERROR(VLOOKUP(W23,Accueil!$V$17:$V$22,1,0)),1,0)","v":0},{"$f":"IF(ISERROR(VLOOKUP(X23,Accueil!$V$17:$V$22,1,0)),1,0)","v":0},{"$f":"IF(ISERROR(VLOOKUP(Y23,Accueil!$V$17:$V$22,1,0)),1,0)","v":0},{"$f":"IF(ISERROR(VLOOKUP(Z23,Accueil!$V$17:$V$22,1,0)),1,0)","v":0},{"$f":"IF(ISERROR(VLOOKUP(AA23,Accueil!$V$17:$V$22,1,0)),1,0)","v":0},{"$f":"IF(ISERROR(VLOOKUP(AB23,Accueil!$V$17:$V$22,1,0)),1,0)","v":0},{"$f":"IF(ISERROR(VLOOKUP(AC23,Accueil!$V$17:$V$22,1,0)),1,0)","v":0},{"$f":"IF(ISERROR(VLOOKUP(AD23,Accueil!$V$17:$V$22,1,0)),1,0)","v":0},{"$f":"IF(ISERROR(VLOOKUP(AE23,Accueil!$V$17:$V$22,1,0)),1,0)","v":0},{"$f":"IF(ISERROR(VLOOKUP(AF23,Accueil!$V$17:$V$22,1,0)),1,0)","v":0},{"$f":"IF(ISERROR(VLOOKUP(AG23,Accueil!$V$17:$V$22,1,0)),1,0)","v":0},{"$f":"IF(ISERROR(VLOOKUP(AH23,Accueil!$V$17:$V$22,1,0)),1,0)","v":0},{"$f":"IF(ISERROR(VLOOKUP(AI23,Accueil!$V$17:$V$22,1,0)),1,0)","v":0},{"$f":"IF(ISERROR(VLOOKUP(AJ23,Accueil!$V$17:$V$22,1,0)),1,0)","v":0},{"$f":"IF(ISERROR(VLOOKUP(AK23,Accueil!$V$17:$V$22,1,0)),1,0)","v":0},{"$f":"IF(ISERROR(VLOOKUP(AL23,Accueil!$V$17:$V$22,1,0)),1,0)","v":0},{"$f":"IF(ISERROR(VLOOKUP(AM23,Accueil!$V$17:$V$22,1,0)),1,0)","v":0},{"$f":"IF(ISERROR(VLOOKUP(AN23,Accueil!$V$17:$V$22,1,0)),1,0)","v":0},{"$f":"IF(ISERROR(VLOOKUP(AO23,Accueil!$V$17:$V$22,1,0)),1,0)","v":0},{"$f":"IF(ISERROR(VLOOKUP(AP23,Accueil!$V$17:$V$22,1,0)),1,0)","v":0},{"$f":"IF(ISERROR(VLOOKUP(AQ23,Accueil!$V$17:$V$22,1,0)),1,0)","v":0},{"$f":"IF(ISERROR(VLOOKUP(AR23,Accueil!$V$17:$V$22,1,0)),1,0)","v":0},{"$f":"IF(ISERROR(VLOOKUP(AS23,Accueil!$V$17:$V$22,1,0)),1,0)","v":0},{"$f":"IF(ISERROR(VLOOKUP(AT23,Accueil!$V$17:$V$22,1,0)),1,0)","v":0},{"$f":"IF(ISERROR(VLOOKUP(AU23,Accueil!$V$17:$V$22,1,0)),1,0)","v":0},{"$f":"IF(ISERROR(VLOOKUP(AV23,Accueil!$V$17:$V$22,1,0)),1,0)","v":0},{"$f":"IF(ISERROR(VLOOKUP(AW23,Accueil!$V$17:$V$22,1,0)),1,0)","v":0},{"$f":"IF(ISERROR(VLOOKUP(AX23,Accueil!$V$17:$V$22,1,0)),1,0)","v":0},{"$f":"IF(ISERROR(VLOOKUP(AY23,Accueil!$V$17:$V$22,1,0)),1,0)","v":0},{"$f":"IF(ISERROR(VLOOKUP(AZ23,Accueil!$V$17:$V$22,1,0)),1,0)","v":0},{"$f":"IF(ISERROR(VLOOKUP(BA23,Accueil!$V$17:$V$22,1,0)),1,0)","v":0},{"$f":"IF(ISERROR(VLOOKUP(BB23,Accueil!$V$17:$V$22,1,0)),1,0)","v":0},{"$f":"IF(ISERROR(VLOOKUP(BC23,Accueil!$V$17:$V$22,1,0)),1,0)","v":0},{"$f":"IF(ISERROR(VLOOKUP(BD23,Accueil!$V$17:$V$22,1,0)),1,0)","v":0},{"$f":"IF(ISERROR(VLOOKUP(BE23,Accueil!$V$17:$V$22,1,0)),1,0)","v":0},{"$f":"IF(ISERROR(VLOOKUP(BF23,Accueil!$V$17:$V$22,1,0)),1,0)","v":0},{"$f":"IF(ISERROR(VLOOKUP(BG23,Accueil!$V$17:$V$22,1,0)),1,0)","v":0},{"$f":"IF(ISERROR(VLOOKUP(BH23,Accueil!$V$17:$V$22,1,0)),1,0)","v":0},{"$f":"IF(ISERROR(VLOOKUP(BI23,Accueil!$V$17:$V$22,1,0)),1,0)","v":0},{"$f":"IF(ISERROR(VLOOKUP(BJ23,Accueil!$V$17:$V$22,1,0)),1,0)","v":0},{"$f":"IF(ISERROR(VLOOKUP(BK23,Accueil!$V$17:$V$22,1,0)),1,0)","v":0},{"$f":"IF(ISERROR(VLOOKUP(BL23,Accueil!$V$17:$V$22,1,0)),1,0)","v":0},{"$f":"IF(ISERROR(VLOOKUP(BM23,Accueil!$V$17:$V$22,1,0)),1,0)","v":0},{"$f":"IF(ISERROR(VLOOKUP(BN23,Accueil!$V$17:$V$22,1,0)),1,0)","v":0},{"$f":"IF(ISERROR(VLOOKUP(BO23,Accueil!$V$17:$V$22,1,0)),1,0)","v":0},{"$f":"IF(ISERROR(VLOOKUP(BP23,Accueil!$V$17:$V$22,1,0)),1,0)","v":0},{"$f":"IF(ISERROR(VLOOKUP(BQ23,Accueil!$V$17:$V$22,1,0)),1,0)","v":0},{"$f":"IF(ISERROR(VLOOKUP(BR23,Accueil!$V$17:$V$22,1,0)),1,0)","v":0},{"$f":"IF(ISERROR(VLOOKUP(BS23,Accueil!$V$17:$V$22,1,0)),1,0)","v":0},{"$f":"IF(ISERROR(VLOOKUP(BT23,Accueil!$V$17:$V$22,1,0)),1,0)","v":0},{"$f":"IF(ISERROR(VLOOKUP(BU23,Accueil!$V$17:$V$22,1,0)),1,0)","v":0},{"$f":"IF(ISERROR(VLOOKUP(BV23,Accueil!$V$17:$V$22,1,0)),1,0)","v":0},{"$f":"IF(ISERROR(VLOOKUP(BW23,Accueil!$V$17:$V$22,1,0)),1,0)","v":0},{"$f":"IF(ISERROR(VLOOKUP(BX23,Accueil!$V$17:$V$22,1,0)),1,0)","v":0},{"$f":"IF(ISERROR(VLOOKUP(BY23,Accueil!$V$17:$V$22,1,0)),1,0)","v":0},{"$f":"IF(ISERROR(VLOOKUP(BZ23,Accueil!$V$17:$V$22,1,0)),1,0)","v":0},{"$f":"IF(ISERROR(VLOOKUP(CA23,Accueil!$V$17:$V$22,1,0)),1,0)","v":0},{"$f":"IF(ISERROR(VLOOKUP(CB23,Accueil!$V$17:$V$22,1,0)),1,0)","v":0},{"$f":"IF(ISERROR(VLOOKUP(CC23,Accueil!$V$17:$V$22,1,0)),1,0)","v":0},{"$f":"IF(ISERROR(VLOOKUP(CD23,Accueil!$V$17:$V$22,1,0)),1,0)","v":0},{"$f":"IF(ISERROR(VLOOKUP(CE23,Accueil!$V$17:$V$22,1,0)),1,0)","v":0},{"$f":"IF(ISERROR(VLOOKUP(CF23,Accueil!$V$17:$V$22,1,0)),1,0)","v":0},{"$f":"IF(ISERROR(VLOOKUP(CG23,Accueil!$V$17:$V$22,1,0)),1,0)","v":0},{"$f":"IF(ISERROR(VLOOKUP(CH23,Accueil!$V$17:$V$22,1,0)),1,0)","v":0},{"$f":"IF(ISERROR(VLOOKUP(CI23,Accueil!$V$17:$V$22,1,0)),1,0)","v":0},{"$f":"IF(ISERROR(VLOOKUP(CJ23,Accueil!$V$17:$V$22,1,0)),1,0)","v":0},{"$f":"IF(ISERROR(VLOOKUP(CK23,Accueil!$V$17:$V$22,1,0)),1,0)","v":0},{"$f":"IF(ISERROR(VLOOKUP(CL23,Accueil!$V$17:$V$22,1,0)),1,0)","v":0},{"$f":"IF(ISERROR(VLOOKUP(CM23,Accueil!$V$17:$V$22,1,0)),1,0)","v":0},{"$f":"IF(ISERROR(VLOOKUP(CN23,Accueil!$V$17:$V$22,1,0)),1,0)","v":0},{"$f":"IF(ISERROR(VLOOKUP(CO23,Accueil!$V$17:$V$22,1,0)),1,0)","v":0},{"$f":"IF(ISERROR(VLOOKUP(CP23,Accueil!$V$17:$V$22,1,0)),1,0)","v":0},{"$f":"IF(ISERROR(VLOOKUP(CQ23,Accueil!$V$17:$V$22,1,0)),1,0)","v":0},{"$f":"IF(ISERROR(VLOOKUP(CR23,Accueil!$V$17:$V$22,1,0)),1,0)","v":0},{"$f":"IF(ISERROR(VLOOKUP(CS23,Accueil!$V$17:$V$22,1,0)),1,0)","v":0},{"$f":"IF(ISERROR(VLOOKUP(CT23,Accueil!$V$17:$V$22,1,0)),1,0)","v":0},{"$f":"IF(ISERROR(VLOOKUP(CU23,Accueil!$V$17:$V$22,1,0)),1,0)","v":0},{"$f":"IF(ISERROR(VLOOKUP(CV23,Accueil!$V$17:$V$22,1,0)),1,0)","v":0},{"$f":"IF(ISERROR(VLOOKUP(CW23,Accueil!$V$17:$V$22,1,0)),1,0)","v":0},{"$f":"IF(ISERROR(VLOOKUP(CX23,Accueil!$V$17:$V$22,1,0)),1,0)","v":0},{"$f":"IF(ISERROR(VLOOKUP(CY23,Accueil!$V$17:$V$22,1,0)),1,0)","v":0},{"$f":"IF(ISERROR(VLOOKUP(CZ23,Accueil!$V$17:$V$22,1,0)),1,0)","v":0},{"$f":"IF(ISERROR(VLOOKUP(DA23,Accueil!$V$17:$V$22,1,0)),1,0)","v":0}]
[null,16,{"$f":"IF(Accueil!E28=\"\",\"\",Accueil!E28)","v":""},{"$f":"IF(Accueil!F28=\"\",\"\",Accueil!F28)","v":""},"",null,null,null,null,null,null,null,null,null,null,null,null,null,null,null,null,null,null,null,null,null,null,null,null,null,null,null,null,null,null,null,null,null,null,null,null,null,null,null,null,null,null,null,null,null,null,null,null,null,null,null,null,null,null,null,null,null,null,null,null,null,null,null,null,null,null,null,null,null,null,null,null,null,null,null,null,null,null,null,null,null,null,null,null,null,null,null,null,null,null,null,null,null,null,null,null,null,null,null,null,16,{"$f":"IF(D24=\"\",\"\",COUNTIF(F24:DA24,Accueil!$AA$28)&\" / \"&COUNTIF($F$8:$DA$8,\">0\")-(COUNTIF(F24:DA24,Accueil!$AF$26)))","v":""},{"$f":"IF(D24=\"\",\"\",COUNTIF(F24:DA24,Accueil!$AA$26))","v":""},{"$f":"IF(D24=\"\",\"\",COUNTIF($F$8:$DA$8,\">0\")-(COUNTIF(F24:DA24,Accueil!$AF$26)))","v":""},"","",0,{"$f":"IF(ISERROR(VLOOKUP(F24,Accueil!$V$17:$V$22,1,0)),1,0)","v":0},{"$f":"IF(ISERROR(VLOOKUP(G24,Accueil!$V$17:$V$22,1,0)),1,0)","v":0},{"$f":"IF(ISERROR(VLOOKUP(H24,Accueil!$V$17:$V$22,1,0)),1,0)","v":0},{"$f":"IF(ISERROR(VLOOKUP(I24,Accueil!$V$17:$V$22,1,0)),1,0)","v":0},{"$f":"IF(ISERROR(VLOOKUP(J24,Accueil!$V$17:$V$22,1,0)),1,0)","v":0},{"$f":"IF(ISERROR(VLOOKUP(K24,Accueil!$V$17:$V$22,1,0)),1,0)","v":0},{"$f":"IF(ISERROR(VLOOKUP(L24,Accueil!$V$17:$V$22,1,0)),1,0)","v":0},{"$f":"IF(ISERROR(VLOOKUP(M24,Accueil!$V$17:$V$22,1,0)),1,0)","v":0},{"$f":"IF(ISERROR(VLOOKUP(N24,Accueil!$V$17:$V$22,1,0)),1,0)","v":0},{"$f":"IF(ISERROR(VLOOKUP(O24,Accueil!$V$17:$V$22,1,0)),1,0)","v":0},{"$f":"IF(ISERROR(VLOOKUP(P24,Accueil!$V$17:$V$22,1,0)),1,0)","v":0},{"$f":"IF(ISERROR(VLOOKUP(Q24,Accueil!$V$17:$V$22,1,0)),1,0)","v":0},{"$f":"IF(ISERROR(VLOOKUP(R24,Accueil!$V$17:$V$22,1,0)),1,0)","v":0},{"$f":"IF(ISERROR(VLOOKUP(S24,Accueil!$V$17:$V$22,1,0)),1,0)","v":0},{"$f":"IF(ISERROR(VLOOKUP(T24,Accueil!$V$17:$V$22,1,0)),1,0)","v":0},{"$f":"IF(ISERROR(VLOOKUP(U24,Accueil!$V$17:$V$22,1,0)),1,0)","v":0},{"$f":"IF(ISERROR(VLOOKUP(V24,Accueil!$V$17:$V$22,1,0)),1,0)","v":0},{"$f":"IF(ISERROR(VLOOKUP(W24,Accueil!$V$17:$V$22,1,0)),1,0)","v":0},{"$f":"IF(ISERROR(VLOOKUP(X24,Accueil!$V$17:$V$22,1,0)),1,0)","v":0},{"$f":"IF(ISERROR(VLOOKUP(Y24,Accueil!$V$17:$V$22,1,0)),1,0)","v":0},{"$f":"IF(ISERROR(VLOOKUP(Z24,Accueil!$V$17:$V$22,1,0)),1,0)","v":0},{"$f":"IF(ISERROR(VLOOKUP(AA24,Accueil!$V$17:$V$22,1,0)),1,0)","v":0},{"$f":"IF(ISERROR(VLOOKUP(AB24,Accueil!$V$17:$V$22,1,0)),1,0)","v":0},{"$f":"IF(ISERROR(VLOOKUP(AC24,Accueil!$V$17:$V$22,1,0)),1,0)","v":0},{"$f":"IF(ISERROR(VLOOKUP(AD24,Accueil!$V$17:$V$22,1,0)),1,0)","v":0},{"$f":"IF(ISERROR(VLOOKUP(AE24,Accueil!$V$17:$V$22,1,0)),1,0)","v":0},{"$f":"IF(ISERROR(VLOOKUP(AF24,Accueil!$V$17:$V$22,1,0)),1,0)","v":0},{"$f":"IF(ISERROR(VLOOKUP(AG24,Accueil!$V$17:$V$22,1,0)),1,0)","v":0},{"$f":"IF(ISERROR(VLOOKUP(AH24,Accueil!$V$17:$V$22,1,0)),1,0)","v":0},{"$f":"IF(ISERROR(VLOOKUP(AI24,Accueil!$V$17:$V$22,1,0)),1,0)","v":0},{"$f":"IF(ISERROR(VLOOKUP(AJ24,Accueil!$V$17:$V$22,1,0)),1,0)","v":0},{"$f":"IF(ISERROR(VLOOKUP(AK24,Accueil!$V$17:$V$22,1,0)),1,0)","v":0},{"$f":"IF(ISERROR(VLOOKUP(AL24,Accueil!$V$17:$V$22,1,0)),1,0)","v":0},{"$f":"IF(ISERROR(VLOOKUP(AM24,Accueil!$V$17:$V$22,1,0)),1,0)","v":0},{"$f":"IF(ISERROR(VLOOKUP(AN24,Accueil!$V$17:$V$22,1,0)),1,0)","v":0},{"$f":"IF(ISERROR(VLOOKUP(AO24,Accueil!$V$17:$V$22,1,0)),1,0)","v":0},{"$f":"IF(ISERROR(VLOOKUP(AP24,Accueil!$V$17:$V$22,1,0)),1,0)","v":0},{"$f":"IF(ISERROR(VLOOKUP(AQ24,Accueil!$V$17:$V$22,1,0)),1,0)","v":0},{"$f":"IF(ISERROR(VLOOKUP(AR24,Accueil!$V$17:$V$22,1,0)),1,0)","v":0},{"$f":"IF(ISERROR(VLOOKUP(AS24,Accueil!$V$17:$V$22,1,0)),1,0)","v":0},{"$f":"IF(ISERROR(VLOOKUP(AT24,Accueil!$V$17:$V$22,1,0)),1,0)","v":0},{"$f":"IF(ISERROR(VLOOKUP(AU24,Accueil!$V$17:$V$22,1,0)),1,0)","v":0},{"$f":"IF(ISERROR(VLOOKUP(AV24,Accueil!$V$17:$V$22,1,0)),1,0)","v":0},{"$f":"IF(ISERROR(VLOOKUP(AW24,Accueil!$V$17:$V$22,1,0)),1,0)","v":0},{"$f":"IF(ISERROR(VLOOKUP(AX24,Accueil!$V$17:$V$22,1,0)),1,0)","v":0},{"$f":"IF(ISERROR(VLOOKUP(AY24,Accueil!$V$17:$V$22,1,0)),1,0)","v":0},{"$f":"IF(ISERROR(VLOOKUP(AZ24,Accueil!$V$17:$V$22,1,0)),1,0)","v":0},{"$f":"IF(ISERROR(VLOOKUP(BA24,Accueil!$V$17:$V$22,1,0)),1,0)","v":0},{"$f":"IF(ISERROR(VLOOKUP(BB24,Accueil!$V$17:$V$22,1,0)),1,0)","v":0},{"$f":"IF(ISERROR(VLOOKUP(BC24,Accueil!$V$17:$V$22,1,0)),1,0)","v":0},{"$f":"IF(ISERROR(VLOOKUP(BD24,Accueil!$V$17:$V$22,1,0)),1,0)","v":0},{"$f":"IF(ISERROR(VLOOKUP(BE24,Accueil!$V$17:$V$22,1,0)),1,0)","v":0},{"$f":"IF(ISERROR(VLOOKUP(BF24,Accueil!$V$17:$V$22,1,0)),1,0)","v":0},{"$f":"IF(ISERROR(VLOOKUP(BG24,Accueil!$V$17:$V$22,1,0)),1,0)","v":0},{"$f":"IF(ISERROR(VLOOKUP(BH24,Accueil!$V$17:$V$22,1,0)),1,0)","v":0},{"$f":"IF(ISERROR(VLOOKUP(BI24,Accueil!$V$17:$V$22,1,0)),1,0)","v":0},{"$f":"IF(ISERROR(VLOOKUP(BJ24,Accueil!$V$17:$V$22,1,0)),1,0)","v":0},{"$f":"IF(ISERROR(VLOOKUP(BK24,Accueil!$V$17:$V$22,1,0)),1,0)","v":0},{"$f":"IF(ISERROR(VLOOKUP(BL24,Accueil!$V$17:$V$22,1,0)),1,0)","v":0},{"$f":"IF(ISERROR(VLOOKUP(BM24,Accueil!$V$17:$V$22,1,0)),1,0)","v":0},{"$f":"IF(ISERROR(VLOOKUP(BN24,Accueil!$V$17:$V$22,1,0)),1,0)","v":0},{"$f":"IF(ISERROR(VLOOKUP(BO24,Accueil!$V$17:$V$22,1,0)),1,0)","v":0},{"$f":"IF(ISERROR(VLOOKUP(BP24,Accueil!$V$17:$V$22,1,0)),1,0)","v":0},{"$f":"IF(ISERROR(VLOOKUP(BQ24,Accueil!$V$17:$V$22,1,0)),1,0)","v":0},{"$f":"IF(ISERROR(VLOOKUP(BR24,Accueil!$V$17:$V$22,1,0)),1,0)","v":0},{"$f":"IF(ISERROR(VLOOKUP(BS24,Accueil!$V$17:$V$22,1,0)),1,0)","v":0},{"$f":"IF(ISERROR(VLOOKUP(BT24,Accueil!$V$17:$V$22,1,0)),1,0)","v":0},{"$f":"IF(ISERROR(VLOOKUP(BU24,Accueil!$V$17:$V$22,1,0)),1,0)","v":0},{"$f":"IF(ISERROR(VLOOKUP(BV24,Accueil!$V$17:$V$22,1,0)),1,0)","v":0},{"$f":"IF(ISERROR(VLOOKUP(BW24,Accueil!$V$17:$V$22,1,0)),1,0)","v":0},{"$f":"IF(ISERROR(VLOOKUP(BX24,Accueil!$V$17:$V$22,1,0)),1,0)","v":0},{"$f":"IF(ISERROR(VLOOKUP(BY24,Accueil!$V$17:$V$22,1,0)),1,0)","v":0},{"$f":"IF(ISERROR(VLOOKUP(BZ24,Accueil!$V$17:$V$22,1,0)),1,0)","v":0},{"$f":"IF(ISERROR(VLOOKUP(CA24,Accueil!$V$17:$V$22,1,0)),1,0)","v":0},{"$f":"IF(ISERROR(VLOOKUP(CB24,Accueil!$V$17:$V$22,1,0)),1,0)","v":0},{"$f":"IF(ISERROR(VLOOKUP(CC24,Accueil!$V$17:$V$22,1,0)),1,0)","v":0},{"$f":"IF(ISERROR(VLOOKUP(CD24,Accueil!$V$17:$V$22,1,0)),1,0)","v":0},{"$f":"IF(ISERROR(VLOOKUP(CE24,Accueil!$V$17:$V$22,1,0)),1,0)","v":0},{"$f":"IF(ISERROR(VLOOKUP(CF24,Accueil!$V$17:$V$22,1,0)),1,0)","v":0},{"$f":"IF(ISERROR(VLOOKUP(CG24,Accueil!$V$17:$V$22,1,0)),1,0)","v":0},{"$f":"IF(ISERROR(VLOOKUP(CH24,Accueil!$V$17:$V$22,1,0)),1,0)","v":0},{"$f":"IF(ISERROR(VLOOKUP(CI24,Accueil!$V$17:$V$22,1,0)),1,0)","v":0},{"$f":"IF(ISERROR(VLOOKUP(CJ24,Accueil!$V$17:$V$22,1,0)),1,0)","v":0},{"$f":"IF(ISERROR(VLOOKUP(CK24,Accueil!$V$17:$V$22,1,0)),1,0)","v":0},{"$f":"IF(ISERROR(VLOOKUP(CL24,Accueil!$V$17:$V$22,1,0)),1,0)","v":0},{"$f":"IF(ISERROR(VLOOKUP(CM24,Accueil!$V$17:$V$22,1,0)),1,0)","v":0},{"$f":"IF(ISERROR(VLOOKUP(CN24,Accueil!$V$17:$V$22,1,0)),1,0)","v":0},{"$f":"IF(ISERROR(VLOOKUP(CO24,Accueil!$V$17:$V$22,1,0)),1,0)","v":0},{"$f":"IF(ISERROR(VLOOKUP(CP24,Accueil!$V$17:$V$22,1,0)),1,0)","v":0},{"$f":"IF(ISERROR(VLOOKUP(CQ24,Accueil!$V$17:$V$22,1,0)),1,0)","v":0},{"$f":"IF(ISERROR(VLOOKUP(CR24,Accueil!$V$17:$V$22,1,0)),1,0)","v":0},{"$f":"IF(ISERROR(VLOOKUP(CS24,Accueil!$V$17:$V$22,1,0)),1,0)","v":0},{"$f":"IF(ISERROR(VLOOKUP(CT24,Accueil!$V$17:$V$22,1,0)),1,0)","v":0},{"$f":"IF(ISERROR(VLOOKUP(CU24,Accueil!$V$17:$V$22,1,0)),1,0)","v":0},{"$f":"IF(ISERROR(VLOOKUP(CV24,Accueil!$V$17:$V$22,1,0)),1,0)","v":0},{"$f":"IF(ISERROR(VLOOKUP(CW24,Accueil!$V$17:$V$22,1,0)),1,0)","v":0},{"$f":"IF(ISERROR(VLOOKUP(CX24,Accueil!$V$17:$V$22,1,0)),1,0)","v":0},{"$f":"IF(ISERROR(VLOOKUP(CY24,Accueil!$V$17:$V$22,1,0)),1,0)","v":0},{"$f":"IF(ISERROR(VLOOKUP(CZ24,Accueil!$V$17:$V$22,1,0)),1,0)","v":0},{"$f":"IF(ISERROR(VLOOKUP(DA24,Accueil!$V$17:$V$22,1,0)),1,0)","v":0}]
[null,17,{"$f":"IF(Accueil!E29=\"\",\"\",Accueil!E29)","v":""},{"$f":"IF(Accueil!F29=\"\",\"\",Accueil!F29)","v":""},"",null,null,null,null,null,null,null,null,null,null,null,null,null,null,null,null,null,null,null,null,null,null,null,null,null,null,null,null,null,null,null,null,null,null,null,null,null,null,null,null,null,null,null,null,null,null,null,null,null,null,null,null,null,null,null,null,null,null,null,null,null,null,null,null,null,null,null,null,null,null,null,null,null,null,null,null,null,null,null,null,null,null,null,null,null,null,null,null,null,null,null,null,null,null,null,null,null,null,null,null,17,{"$f":"IF(D25=\"\",\"\",COUNTIF(F25:DA25,Accueil!$AA$28)&\" / \"&COUNTIF($F$8:$DA$8,\">0\")-(COUNTIF(F25:DA25,Accueil!$AF$26)))","v":""},{"$f":"IF(D25=\"\",\"\",COUNTIF(F25:DA25,Accueil!$AA$26))","v":""},{"$f":"IF(D25=\"\",\"\",COUNTIF($F$8:$DA$8,\">0\")-(COUNTIF(F25:DA25,Accueil!$AF$26)))","v":""},"","",0,{"$f":"IF(ISERROR(VLOOKUP(F25,Accueil!$V$17:$V$22,1,0)),1,0)","v":0},{"$f":"IF(ISERROR(VLOOKUP(G25,Accueil!$V$17:$V$22,1,0)),1,0)","v":0},{"$f":"IF(ISERROR(VLOOKUP(H25,Accueil!$V$17:$V$22,1,0)),1,0)","v":0},{"$f":"IF(ISERROR(VLOOKUP(I25,Accueil!$V$17:$V$22,1,0)),1,0)","v":0},{"$f":"IF(ISERROR(VLOOKUP(J25,Accueil!$V$17:$V$22,1,0)),1,0)","v":0},{"$f":"IF(ISERROR(VLOOKUP(K25,Accueil!$V$17:$V$22,1,0)),1,0)","v":0},{"$f":"IF(ISERROR(VLOOKUP(L25,Accueil!$V$17:$V$22,1,0)),1,0)","v":0},{"$f":"IF(ISERROR(VLOOKUP(M25,Accueil!$V$17:$V$22,1,0)),1,0)","v":0},{"$f":"IF(ISERROR(VLOOKUP(N25,Accueil!$V$17:$V$22,1,0)),1,0)","v":0},{"$f":"IF(ISERROR(VLOOKUP(O25,Accueil!$V$17:$V$22,1,0)),1,0)","v":0},{"$f":"IF(ISERROR(VLOOKUP(P25,Accueil!$V$17:$V$22,1,0)),1,0)","v":0},{"$f":"IF(ISERROR(VLOOKUP(Q25,Accueil!$V$17:$V$22,1,0)),1,0)","v":0},{"$f":"IF(ISERROR(VLOOKUP(R25,Accueil!$V$17:$V$22,1,0)),1,0)","v":0},{"$f":"IF(ISERROR(VLOOKUP(S25,Accueil!$V$17:$V$22,1,0)),1,0)","v":0},{"$f":"IF(ISERROR(VLOOKUP(T25,Accueil!$V$17:$V$22,1,0)),1,0)","v":0},{"$f":"IF(ISERROR(VLOOKUP(U25,Accueil!$V$17:$V$22,1,0)),1,0)","v":0},{"$f":"IF(ISERROR(VLOOKUP(V25,Accueil!$V$17:$V$22,1,0)),1,0)","v":0},{"$f":"IF(ISERROR(VLOOKUP(W25,Accueil!$V$17:$V$22,1,0)),1,0)","v":0},{"$f":"IF(ISERROR(VLOOKUP(X25,Accueil!$V$17:$V$22,1,0)),1,0)","v":0},{"$f":"IF(ISERROR(VLOOKUP(Y25,Accueil!$V$17:$V$22,1,0)),1,0)","v":0},{"$f":"IF(ISERROR(VLOOKUP(Z25,Accueil!$V$17:$V$22,1,0)),1,0)","v":0},{"$f":"IF(ISERROR(VLOOKUP(AA25,Accueil!$V$17:$V$22,1,0)),1,0)","v":0},{"$f":"IF(ISERROR(VLOOKUP(AB25,Accueil!$V$17:$V$22,1,0)),1,0)","v":0},{"$f":"IF(ISERROR(VLOOKUP(AC25,Accueil!$V$17:$V$22,1,0)),1,0)","v":0},{"$f":"IF(ISERROR(VLOOKUP(AD25,Accueil!$V$17:$V$22,1,0)),1,0)","v":0},{"$f":"IF(ISERROR(VLOOKUP(AE25,Accueil!$V$17:$V$22,1,0)),1,0)","v":0},{"$f":"IF(ISERROR(VLOOKUP(AF25,Accueil!$V$17:$V$22,1,0)),1,0)","v":0},{"$f":"IF(ISERROR(VLOOKUP(AG25,Accueil!$V$17:$V$22,1,0)),1,0)","v":0},{"$f":"IF(ISERROR(VLOOKUP(AH25,Accueil!$V$17:$V$22,1,0)),1,0)","v":0},{"$f":"IF(ISERROR(VLOOKUP(AI25,Accueil!$V$17:$V$22,1,0)),1,0)","v":0},{"$f":"IF(ISERROR(VLOOKUP(AJ25,Accueil!$V$17:$V$22,1,0)),1,0)","v":0},{"$f":"IF(ISERROR(VLOOKUP(AK25,Accueil!$V$17:$V$22,1,0)),1,0)","v":0},{"$f":"IF(ISERROR(VLOOKUP(AL25,Accueil!$V$17:$V$22,1,0)),1,0)","v":0},{"$f":"IF(ISERROR(VLOOKUP(AM25,Accueil!$V$17:$V$22,1,0)),1,0)","v":0},{"$f":"IF(ISERROR(VLOOKUP(AN25,Accueil!$V$17:$V$22,1,0)),1,0)","v":0},{"$f":"IF(ISERROR(VLOOKUP(AO25,Accueil!$V$17:$V$22,1,0)),1,0)","v":0},{"$f":"IF(ISERROR(VLOOKUP(AP25,Accueil!$V$17:$V$22,1,0)),1,0)","v":0},{"$f":"IF(ISERROR(VLOOKUP(AQ25,Accueil!$V$17:$V$22,1,0)),1,0)","v":0},{"$f":"IF(ISERROR(VLOOKUP(AR25,Accueil!$V$17:$V$22,1,0)),1,0)","v":0},{"$f":"IF(ISERROR(VLOOKUP(AS25,Accueil!$V$17:$V$22,1,0)),1,0)","v":0},{"$f":"IF(ISERROR(VLOOKUP(AT25,Accueil!$V$17:$V$22,1,0)),1,0)","v":0},{"$f":"IF(ISERROR(VLOOKUP(AU25,Accueil!$V$17:$V$22,1,0)),1,0)","v":0},{"$f":"IF(ISERROR(VLOOKUP(AV25,Accueil!$V$17:$V$22,1,0)),1,0)","v":0},{"$f":"IF(ISERROR(VLOOKUP(AW25,Accueil!$V$17:$V$22,1,0)),1,0)","v":0},{"$f":"IF(ISERROR(VLOOKUP(AX25,Accueil!$V$17:$V$22,1,0)),1,0)","v":0},{"$f":"IF(ISERROR(VLOOKUP(AY25,Accueil!$V$17:$V$22,1,0)),1,0)","v":0},{"$f":"IF(ISERROR(VLOOKUP(AZ25,Accueil!$V$17:$V$22,1,0)),1,0)","v":0},{"$f":"IF(ISERROR(VLOOKUP(BA25,Accueil!$V$17:$V$22,1,0)),1,0)","v":0},{"$f":"IF(ISERROR(VLOOKUP(BB25,Accueil!$V$17:$V$22,1,0)),1,0)","v":0},{"$f":"IF(ISERROR(VLOOKUP(BC25,Accueil!$V$17:$V$22,1,0)),1,0)","v":0},{"$f":"IF(ISERROR(VLOOKUP(BD25,Accueil!$V$17:$V$22,1,0)),1,0)","v":0},{"$f":"IF(ISERROR(VLOOKUP(BE25,Accueil!$V$17:$V$22,1,0)),1,0)","v":0},{"$f":"IF(ISERROR(VLOOKUP(BF25,Accueil!$V$17:$V$22,1,0)),1,0)","v":0},{"$f":"IF(ISERROR(VLOOKUP(BG25,Accueil!$V$17:$V$22,1,0)),1,0)","v":0},{"$f":"IF(ISERROR(VLOOKUP(BH25,Accueil!$V$17:$V$22,1,0)),1,0)","v":0},{"$f":"IF(ISERROR(VLOOKUP(BI25,Accueil!$V$17:$V$22,1,0)),1,0)","v":0},{"$f":"IF(ISERROR(VLOOKUP(BJ25,Accueil!$V$17:$V$22,1,0)),1,0)","v":0},{"$f":"IF(ISERROR(VLOOKUP(BK25,Accueil!$V$17:$V$22,1,0)),1,0)","v":0},{"$f":"IF(ISERROR(VLOOKUP(BL25,Accueil!$V$17:$V$22,1,0)),1,0)","v":0},{"$f":"IF(ISERROR(VLOOKUP(BM25,Accueil!$V$17:$V$22,1,0)),1,0)","v":0},{"$f":"IF(ISERROR(VLOOKUP(BN25,Accueil!$V$17:$V$22,1,0)),1,0)","v":0},{"$f":"IF(ISERROR(VLOOKUP(BO25,Accueil!$V$17:$V$22,1,0)),1,0)","v":0},{"$f":"IF(ISERROR(VLOOKUP(BP25,Accueil!$V$17:$V$22,1,0)),1,0)","v":0},{"$f":"IF(ISERROR(VLOOKUP(BQ25,Accueil!$V$17:$V$22,1,0)),1,0)","v":0},{"$f":"IF(ISERROR(VLOOKUP(BR25,Accueil!$V$17:$V$22,1,0)),1,0)","v":0},{"$f":"IF(ISERROR(VLOOKUP(BS25,Accueil!$V$17:$V$22,1,0)),1,0)","v":0},{"$f":"IF(ISERROR(VLOOKUP(BT25,Accueil!$V$17:$V$22,1,0)),1,0)","v":0},{"$f":"IF(ISERROR(VLOOKUP(BU25,Accueil!$V$17:$V$22,1,0)),1,0)","v":0},{"$f":"IF(ISERROR(VLOOKUP(BV25,Accueil!$V$17:$V$22,1,0)),1,0)","v":0},{"$f":"IF(ISERROR(VLOOKUP(BW25,Accueil!$V$17:$V$22,1,0)),1,0)","v":0},{"$f":"IF(ISERROR(VLOOKUP(BX25,Accueil!$V$17:$V$22,1,0)),1,0)","v":0},{"$f":"IF(ISERROR(VLOOKUP(BY25,Accueil!$V$17:$V$22,1,0)),1,0)","v":0},{"$f":"IF(ISERROR(VLOOKUP(BZ25,Accueil!$V$17:$V$22,1,0)),1,0)","v":0},{"$f":"IF(ISERROR(VLOOKUP(CA25,Accueil!$V$17:$V$22,1,0)),1,0)","v":0},{"$f":"IF(ISERROR(VLOOKUP(CB25,Accueil!$V$17:$V$22,1,0)),1,0)","v":0},{"$f":"IF(ISERROR(VLOOKUP(CC25,Accueil!$V$17:$V$22,1,0)),1,0)","v":0},{"$f":"IF(ISERROR(VLOOKUP(CD25,Accueil!$V$17:$V$22,1,0)),1,0)","v":0},{"$f":"IF(ISERROR(VLOOKUP(CE25,Accueil!$V$17:$V$22,1,0)),1,0)","v":0},{"$f":"IF(ISERROR(VLOOKUP(CF25,Accueil!$V$17:$V$22,1,0)),1,0)","v":0},{"$f":"IF(ISERROR(VLOOKUP(CG25,Accueil!$V$17:$V$22,1,0)),1,0)","v":0},{"$f":"IF(ISERROR(VLOOKUP(CH25,Accueil!$V$17:$V$22,1,0)),1,0)","v":0},{"$f":"IF(ISERROR(VLOOKUP(CI25,Accueil!$V$17:$V$22,1,0)),1,0)","v":0},{"$f":"IF(ISERROR(VLOOKUP(CJ25,Accueil!$V$17:$V$22,1,0)),1,0)","v":0},{"$f":"IF(ISERROR(VLOOKUP(CK25,Accueil!$V$17:$V$22,1,0)),1,0)","v":0},{"$f":"IF(ISERROR(VLOOKUP(CL25,Accueil!$V$17:$V$22,1,0)),1,0)","v":0},{"$f":"IF(ISERROR(VLOOKUP(CM25,Accueil!$V$17:$V$22,1,0)),1,0)","v":0},{"$f":"IF(ISERROR(VLOOKUP(CN25,Accueil!$V$17:$V$22,1,0)),1,0)","v":0},{"$f":"IF(ISERROR(VLOOKUP(CO25,Accueil!$V$17:$V$22,1,0)),1,0)","v":0},{"$f":"IF(ISERROR(VLOOKUP(CP25,Accueil!$V$17:$V$22,1,0)),1,0)","v":0},{"$f":"IF(ISERROR(VLOOKUP(CQ25,Accueil!$V$17:$V$22,1,0)),1,0)","v":0},{"$f":"IF(ISERROR(VLOOKUP(CR25,Accueil!$V$17:$V$22,1,0)),1,0)","v":0},{"$f":"IF(ISERROR(VLOOKUP(CS25,Accueil!$V$17:$V$22,1,0)),1,0)","v":0},{"$f":"IF(ISERROR(VLOOKUP(CT25,Accueil!$V$17:$V$22,1,0)),1,0)","v":0},{"$f":"IF(ISERROR(VLOOKUP(CU25,Accueil!$V$17:$V$22,1,0)),1,0)","v":0},{"$f":"IF(ISERROR(VLOOKUP(CV25,Accueil!$V$17:$V$22,1,0)),1,0)","v":0},{"$f":"IF(ISERROR(VLOOKUP(CW25,Accueil!$V$17:$V$22,1,0)),1,0)","v":0},{"$f":"IF(ISERROR(VLOOKUP(CX25,Accueil!$V$17:$V$22,1,0)),1,0)","v":0},{"$f":"IF(ISERROR(VLOOKUP(CY25,Accueil!$V$17:$V$22,1,0)),1,0)","v":0},{"$f":"IF(ISERROR(VLOOKUP(CZ25,Accueil!$V$17:$V$22,1,0)),1,0)","v":0},{"$f":"IF(ISERROR(VLOOKUP(DA25,Accueil!$V$17:$V$22,1,0)),1,0)","v":0}]
[null,18,{"$f":"IF(Accueil!E30=\"\",\"\",Accueil!E30)","v":""},{"$f":"IF(Accueil!F30=\"\",\"\",Accueil!F30)","v":""},"",null,null,null,null,null,null,null,null,null,null,null,null,null,null,null,null,null,null,null,null,null,null,null,null,null,null,null,null,null,null,null,null,null,null,null,null,null,null,null,null,null,null,null,null,null,null,null,null,null,null,null,null,null,null,null,null,null,null,null,null,null,null,null,null,null,null,null,null,null,null,null,null,null,null,null,null,null,null,null,null,null,null,null,null,null,null,null,null,null,null,null,null,null,null,null,null,null,null,null,null,18,{"$f":"IF(D26=\"\",\"\",COUNTIF(F26:DA26,Accueil!$AA$28)&\" / \"&COUNTIF($F$8:$DA$8,\">0\")-(COUNTIF(F26:DA26,Accueil!$AF$26)))","v":""},{"$f":"IF(D26=\"\",\"\",COUNTIF(F26:DA26,Accueil!$AA$26))","v":""},{"$f":"IF(D26=\"\",\"\",COUNTIF($F$8:$DA$8,\">0\")-(COUNTIF(F26:DA26,Accueil!$AF$26)))","v":""},"","",0,{"$f":"IF(ISERROR(VLOOKUP(F26,Accueil!$V$17:$V$22,1,0)),1,0)","v":0},{"$f":"IF(ISERROR(VLOOKUP(G26,Accueil!$V$17:$V$22,1,0)),1,0)","v":0},{"$f":"IF(ISERROR(VLOOKUP(H26,Accueil!$V$17:$V$22,1,0)),1,0)","v":0},{"$f":"IF(ISERROR(VLOOKUP(I26,Accueil!$V$17:$V$22,1,0)),1,0)","v":0},{"$f":"IF(ISERROR(VLOOKUP(J26,Accueil!$V$17:$V$22,1,0)),1,0)","v":0},{"$f":"IF(ISERROR(VLOOKUP(K26,Accueil!$V$17:$V$22,1,0)),1,0)","v":0},{"$f":"IF(ISERROR(VLOOKUP(L26,Accueil!$V$17:$V$22,1,0)),1,0)","v":0},{"$f":"IF(ISERROR(VLOOKUP(M26,Accueil!$V$17:$V$22,1,0)),1,0)","v":0},{"$f":"IF(ISERROR(VLOOKUP(N26,Accueil!$V$17:$V$22,1,0)),1,0)","v":0},{"$f":"IF(ISERROR(VLOOKUP(O26,Accueil!$V$17:$V$22,1,0)),1,0)","v":0},{"$f":"IF(ISERROR(VLOOKUP(P26,Accueil!$V$17:$V$22,1,0)),1,0)","v":0},{"$f":"IF(ISERROR(VLOOKUP(Q26,Accueil!$V$17:$V$22,1,0)),1,0)","v":0},{"$f":"IF(ISERROR(VLOOKUP(R26,Accueil!$V$17:$V$22,1,0)),1,0)","v":0},{"$f":"IF(ISERROR(VLOOKUP(S26,Accueil!$V$17:$V$22,1,0)),1,0)","v":0},{"$f":"IF(ISERROR(VLOOKUP(T26,Accueil!$V$17:$V$22,1,0)),1,0)","v":0},{"$f":"IF(ISERROR(VLOOKUP(U26,Accueil!$V$17:$V$22,1,0)),1,0)","v":0},{"$f":"IF(ISERROR(VLOOKUP(V26,Accueil!$V$17:$V$22,1,0)),1,0)","v":0},{"$f":"IF(ISERROR(VLOOKUP(W26,Accueil!$V$17:$V$22,1,0)),1,0)","v":0},{"$f":"IF(ISERROR(VLOOKUP(X26,Accueil!$V$17:$V$22,1,0)),1,0)","v":0},{"$f":"IF(ISERROR(VLOOKUP(Y26,Accueil!$V$17:$V$22,1,0)),1,0)","v":0},{"$f":"IF(ISERROR(VLOOKUP(Z26,Accueil!$V$17:$V$22,1,0)),1,0)","v":0},{"$f":"IF(ISERROR(VLOOKUP(AA26,Accueil!$V$17:$V$22,1,0)),1,0)","v":0},{"$f":"IF(ISERROR(VLOOKUP(AB26,Accueil!$V$17:$V$22,1,0)),1,0)","v":0},{"$f":"IF(ISERROR(VLOOKUP(AC26,Accueil!$V$17:$V$22,1,0)),1,0)","v":0},{"$f":"IF(ISERROR(VLOOKUP(AD26,Accueil!$V$17:$V$22,1,0)),1,0)","v":0},{"$f":"IF(ISERROR(VLOOKUP(AE26,Accueil!$V$17:$V$22,1,0)),1,0)","v":0},{"$f":"IF(ISERROR(VLOOKUP(AF26,Accueil!$V$17:$V$22,1,0)),1,0)","v":0},{"$f":"IF(ISERROR(VLOOKUP(AG26,Accueil!$V$17:$V$22,1,0)),1,0)","v":0},{"$f":"IF(ISERROR(VLOOKUP(AH26,Accueil!$V$17:$V$22,1,0)),1,0)","v":0},{"$f":"IF(ISERROR(VLOOKUP(AI26,Accueil!$V$17:$V$22,1,0)),1,0)","v":0},{"$f":"IF(ISERROR(VLOOKUP(AJ26,Accueil!$V$17:$V$22,1,0)),1,0)","v":0},{"$f":"IF(ISERROR(VLOOKUP(AK26,Accueil!$V$17:$V$22,1,0)),1,0)","v":0},{"$f":"IF(ISERROR(VLOOKUP(AL26,Accueil!$V$17:$V$22,1,0)),1,0)","v":0},{"$f":"IF(ISERROR(VLOOKUP(AM26,Accueil!$V$17:$V$22,1,0)),1,0)","v":0},{"$f":"IF(ISERROR(VLOOKUP(AN26,Accueil!$V$17:$V$22,1,0)),1,0)","v":0},{"$f":"IF(ISERROR(VLOOKUP(AO26,Accueil!$V$17:$V$22,1,0)),1,0)","v":0},{"$f":"IF(ISERROR(VLOOKUP(AP26,Accueil!$V$17:$V$22,1,0)),1,0)","v":0},{"$f":"IF(ISERROR(VLOOKUP(AQ26,Accueil!$V$17:$V$22,1,0)),1,0)","v":0},{"$f":"IF(ISERROR(VLOOKUP(AR26,Accueil!$V$17:$V$22,1,0)),1,0)","v":0},{"$f":"IF(ISERROR(VLOOKUP(AS26,Accueil!$V$17:$V$22,1,0)),1,0)","v":0},{"$f":"IF(ISERROR(VLOOKUP(AT26,Accueil!$V$17:$V$22,1,0)),1,0)","v":0},{"$f":"IF(ISERROR(VLOOKUP(AU26,Accueil!$V$17:$V$22,1,0)),1,0)","v":0},{"$f":"IF(ISERROR(VLOOKUP(AV26,Accueil!$V$17:$V$22,1,0)),1,0)","v":0},{"$f":"IF(ISERROR(VLOOKUP(AW26,Accueil!$V$17:$V$22,1,0)),1,0)","v":0},{"$f":"IF(ISERROR(VLOOKUP(AX26,Accueil!$V$17:$V$22,1,0)),1,0)","v":0},{"$f":"IF(ISERROR(VLOOKUP(AY26,Accueil!$V$17:$V$22,1,0)),1,0)","v":0},{"$f":"IF(ISERROR(VLOOKUP(AZ26,Accueil!$V$17:$V$22,1,0)),1,0)","v":0},{"$f":"IF(ISERROR(VLOOKUP(BA26,Accueil!$V$17:$V$22,1,0)),1,0)","v":0},{"$f":"IF(ISERROR(VLOOKUP(BB26,Accueil!$V$17:$V$22,1,0)),1,0)","v":0},{"$f":"IF(ISERROR(VLOOKUP(BC26,Accueil!$V$17:$V$22,1,0)),1,0)","v":0},{"$f":"IF(ISERROR(VLOOKUP(BD26,Accueil!$V$17:$V$22,1,0)),1,0)","v":0},{"$f":"IF(ISERROR(VLOOKUP(BE26,Accueil!$V$17:$V$22,1,0)),1,0)","v":0},{"$f":"IF(ISERROR(VLOOKUP(BF26,Accueil!$V$17:$V$22,1,0)),1,0)","v":0},{"$f":"IF(ISERROR(VLOOKUP(BG26,Accueil!$V$17:$V$22,1,0)),1,0)","v":0},{"$f":"IF(ISERROR(VLOOKUP(BH26,Accueil!$V$17:$V$22,1,0)),1,0)","v":0},{"$f":"IF(ISERROR(VLOOKUP(BI26,Accueil!$V$17:$V$22,1,0)),1,0)","v":0},{"$f":"IF(ISERROR(VLOOKUP(BJ26,Accueil!$V$17:$V$22,1,0)),1,0)","v":0},{"$f":"IF(ISERROR(VLOOKUP(BK26,Accueil!$V$17:$V$22,1,0)),1,0)","v":0},{"$f":"IF(ISERROR(VLOOKUP(BL26,Accueil!$V$17:$V$22,1,0)),1,0)","v":0},{"$f":"IF(ISERROR(VLOOKUP(BM26,Accueil!$V$17:$V$22,1,0)),1,0)","v":0},{"$f":"IF(ISERROR(VLOOKUP(BN26,Accueil!$V$17:$V$22,1,0)),1,0)","v":0},{"$f":"IF(ISERROR(VLOOKUP(BO26,Accueil!$V$17:$V$22,1,0)),1,0)","v":0},{"$f":"IF(ISERROR(VLOOKUP(BP26,Accueil!$V$17:$V$22,1,0)),1,0)","v":0},{"$f":"IF(ISERROR(VLOOKUP(BQ26,Accueil!$V$17:$V$22,1,0)),1,0)","v":0},{"$f":"IF(ISERROR(VLOOKUP(BR26,Accueil!$V$17:$V$22,1,0)),1,0)","v":0},{"$f":"IF(ISERROR(VLOOKUP(BS26,Accueil!$V$17:$V$22,1,0)),1,0)","v":0},{"$f":"IF(ISERROR(VLOOKUP(BT26,Accueil!$V$17:$V$22,1,0)),1,0)","v":0},{"$f":"IF(ISERROR(VLOOKUP(BU26,Accueil!$V$17:$V$22,1,0)),1,0)","v":0},{"$f":"IF(ISERROR(VLOOKUP(BV26,Accueil!$V$17:$V$22,1,0)),1,0)","v":0},{"$f":"IF(ISERROR(VLOOKUP(BW26,Accueil!$V$17:$V$22,1,0)),1,0)","v":0},{"$f":"IF(ISERROR(VLOOKUP(BX26,Accueil!$V$17:$V$22,1,0)),1,0)","v":0},{"$f":"IF(ISERROR(VLOOKUP(BY26,Accueil!$V$17:$V$22,1,0)),1,0)","v":0},{"$f":"IF(ISERROR(VLOOKUP(BZ26,Accueil!$V$17:$V$22,1,0)),1,0)","v":0},{"$f":"IF(ISERROR(VLOOKUP(CA26,Accueil!$V$17:$V$22,1,0)),1,0)","v":0},{"$f":"IF(ISERROR(VLOOKUP(CB26,Accueil!$V$17:$V$22,1,0)),1,0)","v":0},{"$f":"IF(ISERROR(VLOOKUP(CC26,Accueil!$V$17:$V$22,1,0)),1,0)","v":0},{"$f":"IF(ISERROR(VLOOKUP(CD26,Accueil!$V$17:$V$22,1,0)),1,0)","v":0},{"$f":"IF(ISERROR(VLOOKUP(CE26,Accueil!$V$17:$V$22,1,0)),1,0)","v":0},{"$f":"IF(ISERROR(VLOOKUP(CF26,Accueil!$V$17:$V$22,1,0)),1,0)","v":0},{"$f":"IF(ISERROR(VLOOKUP(CG26,Accueil!$V$17:$V$22,1,0)),1,0)","v":0},{"$f":"IF(ISERROR(VLOOKUP(CH26,Accueil!$V$17:$V$22,1,0)),1,0)","v":0},{"$f":"IF(ISERROR(VLOOKUP(CI26,Accueil!$V$17:$V$22,1,0)),1,0)","v":0},{"$f":"IF(ISERROR(VLOOKUP(CJ26,Accueil!$V$17:$V$22,1,0)),1,0)","v":0},{"$f":"IF(ISERROR(VLOOKUP(CK26,Accueil!$V$17:$V$22,1,0)),1,0)","v":0},{"$f":"IF(ISERROR(VLOOKUP(CL26,Accueil!$V$17:$V$22,1,0)),1,0)","v":0},{"$f":"IF(ISERROR(VLOOKUP(CM26,Accueil!$V$17:$V$22,1,0)),1,0)","v":0},{"$f":"IF(ISERROR(VLOOKUP(CN26,Accueil!$V$17:$V$22,1,0)),1,0)","v":0},{"$f":"IF(ISERROR(VLOOKUP(CO26,Accueil!$V$17:$V$22,1,0)),1,0)","v":0},{"$f":"IF(ISERROR(VLOOKUP(CP26,Accueil!$V$17:$V$22,1,0)),1,0)","v":0},{"$f":"IF(ISERROR(VLOOKUP(CQ26,Accueil!$V$17:$V$22,1,0)),1,0)","v":0},{"$f":"IF(ISERROR(VLOOKUP(CR26,Accueil!$V$17:$V$22,1,0)),1,0)","v":0},{"$f":"IF(ISERROR(VLOOKUP(CS26,Accueil!$V$17:$V$22,1,0)),1,0)","v":0},{"$f":"IF(ISERROR(VLOOKUP(CT26,Accueil!$V$17:$V$22,1,0)),1,0)","v":0},{"$f":"IF(ISERROR(VLOOKUP(CU26,Accueil!$V$17:$V$22,1,0)),1,0)","v":0},{"$f":"IF(ISERROR(VLOOKUP(CV26,Accueil!$V$17:$V$22,1,0)),1,0)","v":0},{"$f":"IF(ISERROR(VLOOKUP(CW26,Accueil!$V$17:$V$22,1,0)),1,0)","v":0},{"$f":"IF(ISERROR(VLOOKUP(CX26,Accueil!$V$17:$V$22,1,0)),1,0)","v":0},{"$f":"IF(ISERROR(VLOOKUP(CY26,Accueil!$V$17:$V$22,1,0)),1,0)","v":0},{"$f":"IF(ISERROR(VLOOKUP(CZ26,Accueil!$V$17:$V$22,1,0)),1,0)","v":0},{"$f":"IF(ISERROR(VLOOKUP(DA26,Accueil!$V$17:$V$22,1,0)),1,0)","v":0}]
[null,19,{"$f":"IF(Accueil!E31=\"\",\"\",Accueil!E31)","v":""},{"$f":"IF(Accueil!F31=\"\",\"\",Accueil!F31)","v":""},"",null,null,null,null,null,null,null,null,null,null,null,null,null,null,null,null,null,null,null,null,null,null,null,null,null,null,null,null,null,null,null,null,null,null,null,null,null,null,null,null,null,null,null,null,null,null,null,null,null,null,null,null,null,null,null,null,null,null,null,null,null,null,null,null,null,null,null,null,null,null,null,null,null,null,null,null,null,null,null,null,null,null,null,null,null,null,null,null,null,null,null,null,null,null,null,null,null,null,null,null,19,{"$f":"IF(D27=\"\",\"\",COUNTIF(F27:DA27,Accueil!$AA$28)&\" / \"&COUNTIF($F$8:$DA$8,\">0\")-(COUNTIF(F27:DA27,Accueil!$AF$26)))","v":""},{"$f":"IF(D27=\"\",\"\",COUNTIF(F27:DA27,Accueil!$AA$26))","v":""},{"$f":"IF(D27=\"\",\"\",COUNTIF($F$8:$DA$8,\">0\")-(COUNTIF(F27:DA27,Accueil!$AF$26)))","v":""},"","",0,{"$f":"IF(ISERROR(VLOOKUP(F27,Accueil!$V$17:$V$22,1,0)),1,0)","v":0},{"$f":"IF(ISERROR(VLOOKUP(G27,Accueil!$V$17:$V$22,1,0)),1,0)","v":0},{"$f":"IF(ISERROR(VLOOKUP(H27,Accueil!$V$17:$V$22,1,0)),1,0)","v":0},{"$f":"IF(ISERROR(VLOOKUP(I27,Accueil!$V$17:$V$22,1,0)),1,0)","v":0},{"$f":"IF(ISERROR(VLOOKUP(J27,Accueil!$V$17:$V$22,1,0)),1,0)","v":0},{"$f":"IF(ISERROR(VLOOKUP(K27,Accueil!$V$17:$V$22,1,0)),1,0)","v":0},{"$f":"IF(ISERROR(VLOOKUP(L27,Accueil!$V$17:$V$22,1,0)),1,0)","v":0},{"$f":"IF(ISERROR(VLOOKUP(M27,Accueil!$V$17:$V$22,1,0)),1,0)","v":0},{"$f":"IF(ISERROR(VLOOKUP(N27,Accueil!$V$17:$V$22,1,0)),1,0)","v":0},{"$f":"IF(ISERROR(VLOOKUP(O27,Accueil!$V$17:$V$22,1,0)),1,0)","v":0},{"$f":"IF(ISERROR(VLOOKUP(P27,Accueil!$V$17:$V$22,1,0)),1,0)","v":0},{"$f":"IF(ISERROR(VLOOKUP(Q27,Accueil!$V$17:$V$22,1,0)),1,0)","v":0},{"$f":"IF(ISERROR(VLOOKUP(R27,Accueil!$V$17:$V$22,1,0)),1,0)","v":0},{"$f":"IF(ISERROR(VLOOKUP(S27,Accueil!$V$17:$V$22,1,0)),1,0)","v":0},{"$f":"IF(ISERROR(VLOOKUP(T27,Accueil!$V$17:$V$22,1,0)),1,0)","v":0},{"$f":"IF(ISERROR(VLOOKUP(U27,Accueil!$V$17:$V$22,1,0)),1,0)","v":0},{"$f":"IF(ISERROR(VLOOKUP(V27,Accueil!$V$17:$V$22,1,0)),1,0)","v":0},{"$f":"IF(ISERROR(VLOOKUP(W27,Accueil!$V$17:$V$22,1,0)),1,0)","v":0},{"$f":"IF(ISERROR(VLOOKUP(X27,Accueil!$V$17:$V$22,1,0)),1,0)","v":0},{"$f":"IF(ISERROR(VLOOKUP(Y27,Accueil!$V$17:$V$22,1,0)),1,0)","v":0},{"$f":"IF(ISERROR(VLOOKUP(Z27,Accueil!$V$17:$V$22,1,0)),1,0)","v":0},{"$f":"IF(ISERROR(VLOOKUP(AA27,Accueil!$V$17:$V$22,1,0)),1,0)","v":0},{"$f":"IF(ISERROR(VLOOKUP(AB27,Accueil!$V$17:$V$22,1,0)),1,0)","v":0},{"$f":"IF(ISERROR(VLOOKUP(AC27,Accueil!$V$17:$V$22,1,0)),1,0)","v":0},{"$f":"IF(ISERROR(VLOOKUP(AD27,Accueil!$V$17:$V$22,1,0)),1,0)","v":0},{"$f":"IF(ISERROR(VLOOKUP(AE27,Accueil!$V$17:$V$22,1,0)),1,0)","v":0},{"$f":"IF(ISERROR(VLOOKUP(AF27,Accueil!$V$17:$V$22,1,0)),1,0)","v":0},{"$f":"IF(ISERROR(VLOOKUP(AG27,Accueil!$V$17:$V$22,1,0)),1,0)","v":0},{"$f":"IF(ISERROR(VLOOKUP(AH27,Accueil!$V$17:$V$22,1,0)),1,0)","v":0},{"$f":"IF(ISERROR(VLOOKUP(AI27,Accueil!$V$17:$V$22,1,0)),1,0)","v":0},{"$f":"IF(ISERROR(VLOOKUP(AJ27,Accueil!$V$17:$V$22,1,0)),1,0)","v":0},{"$f":"IF(ISERROR(VLOOKUP(AK27,Accueil!$V$17:$V$22,1,0)),1,0)","v":0},{"$f":"IF(ISERROR(VLOOKUP(AL27,Accueil!$V$17:$V$22,1,0)),1,0)","v":0},{"$f":"IF(ISERROR(VLOOKUP(AM27,Accueil!$V$17:$V$22,1,0)),1,0)","v":0},{"$f":"IF(ISERROR(VLOOKUP(AN27,Accueil!$V$17:$V$22,1,0)),1,0)","v":0},{"$f":"IF(ISERROR(VLOOKUP(AO27,Accueil!$V$17:$V$22,1,0)),1,0)","v":0},{"$f":"IF(ISERROR(VLOOKUP(AP27,Accueil!$V$17:$V$22,1,0)),1,0)","v":0},{"$f":"IF(ISERROR(VLOOKUP(AQ27,Accueil!$V$17:$V$22,1,0)),1,0)","v":0},{"$f":"IF(ISERROR(VLOOKUP(AR27,Accueil!$V$17:$V$22,1,0)),1,0)","v":0},{"$f":"IF(ISERROR(VLOOKUP(AS27,Accueil!$V$17:$V$22,1,0)),1,0)","v":0},{"$f":"IF(ISERROR(VLOOKUP(AT27,Accueil!$V$17:$V$22,1,0)),1,0)","v":0},{"$f":"IF(ISERROR(VLOOKUP(AU27,Accueil!$V$17:$V$22,1,0)),1,0)","v":0},{"$f":"IF(ISERROR(VLOOKUP(AV27,Accueil!$V$17:$V$22,1,0)),1,0)","v":0},{"$f":"IF(ISERROR(VLOOKUP(AW27,Accueil!$V$17:$V$22,1,0)),1,0)","v":0},{"$f":"IF(ISERROR(VLOOKUP(AX27,Accueil!$V$17:$V$22,1,0)),1,0)","v":0},{"$f":"IF(ISERROR(VLOOKUP(AY27,Accueil!$V$17:$V$22,1,0)),1,0)","v":0},{"$f":"IF(ISERROR(VLOOKUP(AZ27,Accueil!$V$17:$V$22,1,0)),1,0)","v":0},{"$f":"IF(ISERROR(VLOOKUP(BA27,Accueil!$V$17:$V$22,1,0)),1,0)","v":0},{"$f":"IF(ISERROR(VLOOKUP(BB27,Accueil!$V$17:$V$22,1,0)),1,0)","v":0},{"$f":"IF(ISERROR(VLOOKUP(BC27,Accueil!$V$17:$V$22,1,0)),1,0)","v":0},{"$f":"IF(ISERROR(VLOOKUP(BD27,Accueil!$V$17:$V$22,1,0)),1,0)","v":0},{"$f":"IF(ISERROR(VLOOKUP(BE27,Accueil!$V$17:$V$22,1,0)),1,0)","v":0},{"$f":"IF(ISERROR(VLOOKUP(BF27,Accueil!$V$17:$V$22,1,0)),1,0)","v":0},{"$f":"IF(ISERROR(VLOOKUP(BG27,Accueil!$V$17:$V$22,1,0)),1,0)","v":0},{"$f":"IF(ISERROR(VLOOKUP(BH27,Accueil!$V$17:$V$22,1,0)),1,0)","v":0},{"$f":"IF(ISERROR(VLOOKUP(BI27,Accueil!$V$17:$V$22,1,0)),1,0)","v":0},{"$f":"IF(ISERROR(VLOOKUP(BJ27,Accueil!$V$17:$V$22,1,0)),1,0)","v":0},{"$f":"IF(ISERROR(VLOOKUP(BK27,Accueil!$V$17:$V$22,1,0)),1,0)","v":0},{"$f":"IF(ISERROR(VLOOKUP(BL27,Accueil!$V$17:$V$22,1,0)),1,0)","v":0},{"$f":"IF(ISERROR(VLOOKUP(BM27,Accueil!$V$17:$V$22,1,0)),1,0)","v":0},{"$f":"IF(ISERROR(VLOOKUP(BN27,Accueil!$V$17:$V$22,1,0)),1,0)","v":0},{"$f":"IF(ISERROR(VLOOKUP(BO27,Accueil!$V$17:$V$22,1,0)),1,0)","v":0},{"$f":"IF(ISERROR(VLOOKUP(BP27,Accueil!$V$17:$V$22,1,0)),1,0)","v":0},{"$f":"IF(ISERROR(VLOOKUP(BQ27,Accueil!$V$17:$V$22,1,0)),1,0)","v":0},{"$f":"IF(ISERROR(VLOOKUP(BR27,Accueil!$V$17:$V$22,1,0)),1,0)","v":0},{"$f":"IF(ISERROR(VLOOKUP(BS27,Accueil!$V$17:$V$22,1,0)),1,0)","v":0},{"$f":"IF(ISERROR(VLOOKUP(BT27,Accueil!$V$17:$V$22,1,0)),1,0)","v":0},{"$f":"IF(ISERROR(VLOOKUP(BU27,Accueil!$V$17:$V$22,1,0)),1,0)","v":0},{"$f":"IF(ISERROR(VLOOKUP(BV27,Accueil!$V$17:$V$22,1,0)),1,0)","v":0},{"$f":"IF(ISERROR(VLOOKUP(BW27,Accueil!$V$17:$V$22,1,0)),1,0)","v":0},{"$f":"IF(ISERROR(VLOOKUP(BX27,Accueil!$V$17:$V$22,1,0)),1,0)","v":0},{"$f":"IF(ISERROR(VLOOKUP(BY27,Accueil!$V$17:$V$22,1,0)),1,0)","v":0},{"$f":"IF(ISERROR(VLOOKUP(BZ27,Accueil!$V$17:$V$22,1,0)),1,0)","v":0},{"$f":"IF(ISERROR(VLOOKUP(CA27,Accueil!$V$17:$V$22,1,0)),1,0)","v":0},{"$f":"IF(ISERROR(VLOOKUP(CB27,Accueil!$V$17:$V$22,1,0)),1,0)","v":0},{"$f":"IF(ISERROR(VLOOKUP(CC27,Accueil!$V$17:$V$22,1,0)),1,0)","v":0},{"$f":"IF(ISERROR(VLOOKUP(CD27,Accueil!$V$17:$V$22,1,0)),1,0)","v":0},{"$f":"IF(ISERROR(VLOOKUP(CE27,Accueil!$V$17:$V$22,1,0)),1,0)","v":0},{"$f":"IF(ISERROR(VLOOKUP(CF27,Accueil!$V$17:$V$22,1,0)),1,0)","v":0},{"$f":"IF(ISERROR(VLOOKUP(CG27,Accueil!$V$17:$V$22,1,0)),1,0)","v":0},{"$f":"IF(ISERROR(VLOOKUP(CH27,Accueil!$V$17:$V$22,1,0)),1,0)","v":0},{"$f":"IF(ISERROR(VLOOKUP(CI27,Accueil!$V$17:$V$22,1,0)),1,0)","v":0},{"$f":"IF(ISERROR(VLOOKUP(CJ27,Accueil!$V$17:$V$22,1,0)),1,0)","v":0},{"$f":"IF(ISERROR(VLOOKUP(CK27,Accueil!$V$17:$V$22,1,0)),1,0)","v":0},{"$f":"IF(ISERROR(VLOOKUP(CL27,Accueil!$V$17:$V$22,1,0)),1,0)","v":0},{"$f":"IF(ISERROR(VLOOKUP(CM27,Accueil!$V$17:$V$22,1,0)),1,0)","v":0},{"$f":"IF(ISERROR(VLOOKUP(CN27,Accueil!$V$17:$V$22,1,0)),1,0)","v":0},{"$f":"IF(ISERROR(VLOOKUP(CO27,Accueil!$V$17:$V$22,1,0)),1,0)","v":0},{"$f":"IF(ISERROR(VLOOKUP(CP27,Accueil!$V$17:$V$22,1,0)),1,0)","v":0},{"$f":"IF(ISERROR(VLOOKUP(CQ27,Accueil!$V$17:$V$22,1,0)),1,0)","v":0},{"$f":"IF(ISERROR(VLOOKUP(CR27,Accueil!$V$17:$V$22,1,0)),1,0)","v":0},{"$f":"IF(ISERROR(VLOOKUP(CS27,Accueil!$V$17:$V$22,1,0)),1,0)","v":0},{"$f":"IF(ISERROR(VLOOKUP(CT27,Accueil!$V$17:$V$22,1,0)),1,0)","v":0},{"$f":"IF(ISERROR(VLOOKUP(CU27,Accueil!$V$17:$V$22,1,0)),1,0)","v":0},{"$f":"IF(ISERROR(VLOOKUP(CV27,Accueil!$V$17:$V$22,1,0)),1,0)","v":0},{"$f":"IF(ISERROR(VLOOKUP(CW27,Accueil!$V$17:$V$22,1,0)),1,0)","v":0},{"$f":"IF(ISERROR(VLOOKUP(CX27,Accueil!$V$17:$V$22,1,0)),1,0)","v":0},{"$f":"IF(ISERROR(VLOOKUP(CY27,Accueil!$V$17:$V$22,1,0)),1,0)","v":0},{"$f":"IF(ISERROR(VLOOKUP(CZ27,Accueil!$V$17:$V$22,1,0)),1,0)","v":0},{"$f":"IF(ISERROR(VLOOKUP(DA27,Accueil!$V$17:$V$22,1,0)),1,0)","v":0}]
[null,20,{"$f":"IF(Accueil!E32=\"\",\"\",Accueil!E32)","v":""},{"$f":"IF(Accueil!F32=\"\",\"\",Accueil!F32)","v":""},"",null,null,null,null,null,null,null,null,null,null,null,null,null,null,null,null,null,null,null,null,null,null,null,null,null,null,null,null,null,null,null,null,null,null,null,null,null,null,null,null,null,null,null,null,null,null,null,null,null,null,null,null,null,null,null,null,null,null,null,null,null,null,null,null,null,null,null,null,null,null,null,null,null,null,null,null,null,null,null,null,null,null,null,null,null,null,null,null,null,null,null,null,null,null,null,null,null,null,null,null,20,{"$f":"IF(D28=\"\",\"\",COUNTIF(F28:DA28,Accueil!$AA$28)&\" / \"&COUNTIF($F$8:$DA$8,\">0\")-(COUNTIF(F28:DA28,Accueil!$AF$26)))","v":""},{"$f":"IF(D28=\"\",\"\",COUNTIF(F28:DA28,Accueil!$AA$26))","v":""},{"$f":"IF(D28=\"\",\"\",COUNTIF($F$8:$DA$8,\">0\")-(COUNTIF(F28:DA28,Accueil!$AF$26)))","v":""},"","",0,{"$f":"IF(ISERROR(VLOOKUP(F28,Accueil!$V$17:$V$22,1,0)),1,0)","v":0},{"$f":"IF(ISERROR(VLOOKUP(G28,Accueil!$V$17:$V$22,1,0)),1,0)","v":0},{"$f":"IF(ISERROR(VLOOKUP(H28,Accueil!$V$17:$V$22,1,0)),1,0)","v":0},{"$f":"IF(ISERROR(VLOOKUP(I28,Accueil!$V$17:$V$22,1,0)),1,0)","v":0},{"$f":"IF(ISERROR(VLOOKUP(J28,Accueil!$V$17:$V$22,1,0)),1,0)","v":0},{"$f":"IF(ISERROR(VLOOKUP(K28,Accueil!$V$17:$V$22,1,0)),1,0)","v":0},{"$f":"IF(ISERROR(VLOOKUP(L28,Accueil!$V$17:$V$22,1,0)),1,0)","v":0},{"$f":"IF(ISERROR(VLOOKUP(M28,Accueil!$V$17:$V$22,1,0)),1,0)","v":0},{"$f":"IF(ISERROR(VLOOKUP(N28,Accueil!$V$17:$V$22,1,0)),1,0)","v":0},{"$f":"IF(ISERROR(VLOOKUP(O28,Accueil!$V$17:$V$22,1,0)),1,0)","v":0},{"$f":"IF(ISERROR(VLOOKUP(P28,Accueil!$V$17:$V$22,1,0)),1,0)","v":0},{"$f":"IF(ISERROR(VLOOKUP(Q28,Accueil!$V$17:$V$22,1,0)),1,0)","v":0},{"$f":"IF(ISERROR(VLOOKUP(R28,Accueil!$V$17:$V$22,1,0)),1,0)","v":0},{"$f":"IF(ISERROR(VLOOKUP(S28,Accueil!$V$17:$V$22,1,0)),1,0)","v":0},{"$f":"IF(ISERROR(VLOOKUP(T28,Accueil!$V$17:$V$22,1,0)),1,0)","v":0},{"$f":"IF(ISERROR(VLOOKUP(U28,Accueil!$V$17:$V$22,1,0)),1,0)","v":0},{"$f":"IF(ISERROR(VLOOKUP(V28,Accueil!$V$17:$V$22,1,0)),1,0)","v":0},{"$f":"IF(ISERROR(VLOOKUP(W28,Accueil!$V$17:$V$22,1,0)),1,0)","v":0},{"$f":"IF(ISERROR(VLOOKUP(X28,Accueil!$V$17:$V$22,1,0)),1,0)","v":0},{"$f":"IF(ISERROR(VLOOKUP(Y28,Accueil!$V$17:$V$22,1,0)),1,0)","v":0},{"$f":"IF(ISERROR(VLOOKUP(Z28,Accueil!$V$17:$V$22,1,0)),1,0)","v":0},{"$f":"IF(ISERROR(VLOOKUP(AA28,Accueil!$V$17:$V$22,1,0)),1,0)","v":0},{"$f":"IF(ISERROR(VLOOKUP(AB28,Accueil!$V$17:$V$22,1,0)),1,0)","v":0},{"$f":"IF(ISERROR(VLOOKUP(AC28,Accueil!$V$17:$V$22,1,0)),1,0)","v":0},{"$f":"IF(ISERROR(VLOOKUP(AD28,Accueil!$V$17:$V$22,1,0)),1,0)","v":0},{"$f":"IF(ISERROR(VLOOKUP(AE28,Accueil!$V$17:$V$22,1,0)),1,0)","v":0},{"$f":"IF(ISERROR(VLOOKUP(AF28,Accueil!$V$17:$V$22,1,0)),1,0)","v":0},{"$f":"IF(ISERROR(VLOOKUP(AG28,Accueil!$V$17:$V$22,1,0)),1,0)","v":0},{"$f":"IF(ISERROR(VLOOKUP(AH28,Accueil!$V$17:$V$22,1,0)),1,0)","v":0},{"$f":"IF(ISERROR(VLOOKUP(AI28,Accueil!$V$17:$V$22,1,0)),1,0)","v":0},{"$f":"IF(ISERROR(VLOOKUP(AJ28,Accueil!$V$17:$V$22,1,0)),1,0)","v":0},{"$f":"IF(ISERROR(VLOOKUP(AK28,Accueil!$V$17:$V$22,1,0)),1,0)","v":0},{"$f":"IF(ISERROR(VLOOKUP(AL28,Accueil!$V$17:$V$22,1,0)),1,0)","v":0},{"$f":"IF(ISERROR(VLOOKUP(AM28,Accueil!$V$17:$V$22,1,0)),1,0)","v":0},{"$f":"IF(ISERROR(VLOOKUP(AN28,Accueil!$V$17:$V$22,1,0)),1,0)","v":0},{"$f":"IF(ISERROR(VLOOKUP(AO28,Accueil!$V$17:$V$22,1,0)),1,0)","v":0},{"$f":"IF(ISERROR(VLOOKUP(AP28,Accueil!$V$17:$V$22,1,0)),1,0)","v":0},{"$f":"IF(ISERROR(VLOOKUP(AQ28,Accueil!$V$17:$V$22,1,0)),1,0)","v":0},{"$f":"IF(ISERROR(VLOOKUP(AR28,Accueil!$V$17:$V$22,1,0)),1,0)","v":0},{"$f":"IF(ISERROR(VLOOKUP(AS28,Accueil!$V$17:$V$22,1,0)),1,0)","v":0},{"$f":"IF(ISERROR(VLOOKUP(AT28,Accueil!$V$17:$V$22,1,0)),1,0)","v":0},{"$f":"IF(ISERROR(VLOOKUP(AU28,Accueil!$V$17:$V$22,1,0)),1,0)","v":0},{"$f":"IF(ISERROR(VLOOKUP(AV28,Accueil!$V$17:$V$22,1,0)),1,0)","v":0},{"$f":"IF(ISERROR(VLOOKUP(AW28,Accueil!$V$17:$V$22,1,0)),1,0)","v":0},{"$f":"IF(ISERROR(VLOOKUP(AX28,Accueil!$V$17:$V$22,1,0)),1,0)","v":0},{"$f":"IF(ISERROR(VLOOKUP(AY28,Accueil!$V$17:$V$22,1,0)),1,0)","v":0},{"$f":"IF(ISERROR(VLOOKUP(AZ28,Accueil!$V$17:$V$22,1,0)),1,0)","v":0},{"$f":"IF(ISERROR(VLOOKUP(BA28,Accueil!$V$17:$V$22,1,0)),1,0)","v":0},{"$f":"IF(ISERROR(VLOOKUP(BB28,Accueil!$V$17:$V$22,1,0)),1,0)","v":0},{"$f":"IF(ISERROR(VLOOKUP(BC28,Accueil!$V$17:$V$22,1,0)),1,0)","v":0},{"$f":"IF(ISERROR(VLOOKUP(BD28,Accueil!$V$17:$V$22,1,0)),1,0)","v":0},{"$f":"IF(ISERROR(VLOOKUP(BE28,Accueil!$V$17:$V$22,1,0)),1,0)","v":0},{"$f":"IF(ISERROR(VLOOKUP(BF28,Accueil!$V$17:$V$22,1,0)),1,0)","v":0},{"$f":"IF(ISERROR(VLOOKUP(BG28,Accueil!$V$17:$V$22,1,0)),1,0)","v":0},{"$f":"IF(ISERROR(VLOOKUP(BH28,Accueil!$V$17:$V$22,1,0)),1,0)","v":0},{"$f":"IF(ISERROR(VLOOKUP(BI28,Accueil!$V$17:$V$22,1,0)),1,0)","v":0},{"$f":"IF(ISERROR(VLOOKUP(BJ28,Accueil!$V$17:$V$22,1,0)),1,0)","v":0},{"$f":"IF(ISERROR(VLOOKUP(BK28,Accueil!$V$17:$V$22,1,0)),1,0)","v":0},{"$f":"IF(ISERROR(VLOOKUP(BL28,Accueil!$V$17:$V$22,1,0)),1,0)","v":0},{"$f":"IF(ISERROR(VLOOKUP(BM28,Accueil!$V$17:$V$22,1,0)),1,0)","v":0},{"$f":"IF(ISERROR(VLOOKUP(BN28,Accueil!$V$17:$V$22,1,0)),1,0)","v":0},{"$f":"IF(ISERROR(VLOOKUP(BO28,Accueil!$V$17:$V$22,1,0)),1,0)","v":0},{"$f":"IF(ISERROR(VLOOKUP(BP28,Accueil!$V$17:$V$22,1,0)),1,0)","v":0},{"$f":"IF(ISERROR(VLOOKUP(BQ28,Accueil!$V$17:$V$22,1,0)),1,0)","v":0},{"$f":"IF(ISERROR(VLOOKUP(BR28,Accueil!$V$17:$V$22,1,0)),1,0)","v":0},{"$f":"IF(ISERROR(VLOOKUP(BS28,Accueil!$V$17:$V$22,1,0)),1,0)","v":0},{"$f":"IF(ISERROR(VLOOKUP(BT28,Accueil!$V$17:$V$22,1,0)),1,0)","v":0},{"$f":"IF(ISERROR(VLOOKUP(BU28,Accueil!$V$17:$V$22,1,0)),1,0)","v":0},{"$f":"IF(ISERROR(VLOOKUP(BV28,Accueil!$V$17:$V$22,1,0)),1,0)","v":0},{"$f":"IF(ISERROR(VLOOKUP(BW28,Accueil!$V$17:$V$22,1,0)),1,0)","v":0},{"$f":"IF(ISERROR(VLOOKUP(BX28,Accueil!$V$17:$V$22,1,0)),1,0)","v":0},{"$f":"IF(ISERROR(VLOOKUP(BY28,Accueil!$V$17:$V$22,1,0)),1,0)","v":0},{"$f":"IF(ISERROR(VLOOKUP(BZ28,Accueil!$V$17:$V$22,1,0)),1,0)","v":0},{"$f":"IF(ISERROR(VLOOKUP(CA28,Accueil!$V$17:$V$22,1,0)),1,0)","v":0},{"$f":"IF(ISERROR(VLOOKUP(CB28,Accueil!$V$17:$V$22,1,0)),1,0)","v":0},{"$f":"IF(ISERROR(VLOOKUP(CC28,Accueil!$V$17:$V$22,1,0)),1,0)","v":0},{"$f":"IF(ISERROR(VLOOKUP(CD28,Accueil!$V$17:$V$22,1,0)),1,0)","v":0},{"$f":"IF(ISERROR(VLOOKUP(CE28,Accueil!$V$17:$V$22,1,0)),1,0)","v":0},{"$f":"IF(ISERROR(VLOOKUP(CF28,Accueil!$V$17:$V$22,1,0)),1,0)","v":0},{"$f":"IF(ISERROR(VLOOKUP(CG28,Accueil!$V$17:$V$22,1,0)),1,0)","v":0},{"$f":"IF(ISERROR(VLOOKUP(CH28,Accueil!$V$17:$V$22,1,0)),1,0)","v":0},{"$f":"IF(ISERROR(VLOOKUP(CI28,Accueil!$V$17:$V$22,1,0)),1,0)","v":0},{"$f":"IF(ISERROR(VLOOKUP(CJ28,Accueil!$V$17:$V$22,1,0)),1,0)","v":0},{"$f":"IF(ISERROR(VLOOKUP(CK28,Accueil!$V$17:$V$22,1,0)),1,0)","v":0},{"$f":"IF(ISERROR(VLOOKUP(CL28,Accueil!$V$17:$V$22,1,0)),1,0)","v":0},{"$f":"IF(ISERROR(VLOOKUP(CM28,Accueil!$V$17:$V$22,1,0)),1,0)","v":0},{"$f":"IF(ISERROR(VLOOKUP(CN28,Accueil!$V$17:$V$22,1,0)),1,0)","v":0},{"$f":"IF(ISERROR(VLOOKUP(CO28,Accueil!$V$17:$V$22,1,0)),1,0)","v":0},{"$f":"IF(ISERROR(VLOOKUP(CP28,Accueil!$V$17:$V$22,1,0)),1,0)","v":0},{"$f":"IF(ISERROR(VLOOKUP(CQ28,Accueil!$V$17:$V$22,1,0)),1,0)","v":0},{"$f":"IF(ISERROR(VLOOKUP(CR28,Accueil!$V$17:$V$22,1,0)),1,0)","v":0},{"$f":"IF(ISERROR(VLOOKUP(CS28,Accueil!$V$17:$V$22,1,0)),1,0)","v":0},{"$f":"IF(ISERROR(VLOOKUP(CT28,Accueil!$V$17:$V$22,1,0)),1,0)","v":0},{"$f":"IF(ISERROR(VLOOKUP(CU28,Accueil!$V$17:$V$22,1,0)),1,0)","v":0},{"$f":"IF(ISERROR(VLOOKUP(CV28,Accueil!$V$17:$V$22,1,0)),1,0)","v":0},{"$f":"IF(ISERROR(VLOOKUP(CW28,Accueil!$V$17:$V$22,1,0)),1,0)","v":0},{"$f":"IF(ISERROR(VLOOKUP(CX28,Accueil!$V$17:$V$22,1,0)),1,0)","v":0},{"$f":"IF(ISERROR(VLOOKUP(CY28,Accueil!$V$17:$V$22,1,0)),1,0)","v":0},{"$f":"IF(ISERROR(VLOOKUP(CZ28,Accueil!$V$17:$V$22,1,0)),1,0)","v":0},{"$f":"IF(ISERROR(VLOOKUP(DA28,Accueil!$V$17:$V$22,1,0)),1,0)","v":0}]
[null,21,{"$f":"IF(Accueil!E33=\"\",\"\",Accueil!E33)","v":""},{"$f":"IF(Accueil!F33=\"\",\"\",Accueil!F33)","v":""},"",null,null,null,null,null,null,null,null,null,null,null,null,null,null,null,null,null,null,null,null,null,null,null,null,null,null,null,null,null,null,null,null,null,null,null,null,null,null,null,null,null,null,null,null,null,null,null,null,null,null,null,null,null,null,null,null,null,null,null,null,null,null,null,null,null,null,null,null,null,null,null,null,null,null,null,null,null,null,null,null,null,null,null,null,null,null,null,null,null,null,null,null,null,null,null,null,null,null,null,null,21,{"$f":"IF(D29=\"\",\"\",COUNTIF(F29:DA29,Accueil!$AA$28)&\" / \"&COUNTIF($F$8:$DA$8,\">0\")-(COUNTIF(F29:DA29,Accueil!$AF$26)))","v":""},{"$f":"IF(D29=\"\",\"\",COUNTIF(F29:DA29,Accueil!$AA$26))","v":""},{"$f":"IF(D29=\"\",\"\",COUNTIF($F$8:$DA$8,\">0\")-(COUNTIF(F29:DA29,Accueil!$AF$26)))","v":""},"","",0,{"$f":"IF(ISERROR(VLOOKUP(F29,Accueil!$V$17:$V$22,1,0)),1,0)","v":0},{"$f":"IF(ISERROR(VLOOKUP(G29,Accueil!$V$17:$V$22,1,0)),1,0)","v":0},{"$f":"IF(ISERROR(VLOOKUP(H29,Accueil!$V$17:$V$22,1,0)),1,0)","v":0},{"$f":"IF(ISERROR(VLOOKUP(I29,Accueil!$V$17:$V$22,1,0)),1,0)","v":0},{"$f":"IF(ISERROR(VLOOKUP(J29,Accueil!$V$17:$V$22,1,0)),1,0)","v":0},{"$f":"IF(ISERROR(VLOOKUP(K29,Accueil!$V$17:$V$22,1,0)),1,0)","v":0},{"$f":"IF(ISERROR(VLOOKUP(L29,Accueil!$V$17:$V$22,1,0)),1,0)","v":0},{"$f":"IF(ISERROR(VLOOKUP(M29,Accueil!$V$17:$V$22,1,0)),1,0)","v":0},{"$f":"IF(ISERROR(VLOOKUP(N29,Accueil!$V$17:$V$22,1,0)),1,0)","v":0},{"$f":"IF(ISERROR(VLOOKUP(O29,Accueil!$V$17:$V$22,1,0)),1,0)","v":0},{"$f":"IF(ISERROR(VLOOKUP(P29,Accueil!$V$17:$V$22,1,0)),1,0)","v":0},{"$f":"IF(ISERROR(VLOOKUP(Q29,Accueil!$V$17:$V$22,1,0)),1,0)","v":0},{"$f":"IF(ISERROR(VLOOKUP(R29,Accueil!$V$17:$V$22,1,0)),1,0)","v":0},{"$f":"IF(ISERROR(VLOOKUP(S29,Accueil!$V$17:$V$22,1,0)),1,0)","v":0},{"$f":"IF(ISERROR(VLOOKUP(T29,Accueil!$V$17:$V$22,1,0)),1,0)","v":0},{"$f":"IF(ISERROR(VLOOKUP(U29,Accueil!$V$17:$V$22,1,0)),1,0)","v":0},{"$f":"IF(ISERROR(VLOOKUP(V29,Accueil!$V$17:$V$22,1,0)),1,0)","v":0},{"$f":"IF(ISERROR(VLOOKUP(W29,Accueil!$V$17:$V$22,1,0)),1,0)","v":0},{"$f":"IF(ISERROR(VLOOKUP(X29,Accueil!$V$17:$V$22,1,0)),1,0)","v":0},{"$f":"IF(ISERROR(VLOOKUP(Y29,Accueil!$V$17:$V$22,1,0)),1,0)","v":0},{"$f":"IF(ISERROR(VLOOKUP(Z29,Accueil!$V$17:$V$22,1,0)),1,0)","v":0},{"$f":"IF(ISERROR(VLOOKUP(AA29,Accueil!$V$17:$V$22,1,0)),1,0)","v":0},{"$f":"IF(ISERROR(VLOOKUP(AB29,Accueil!$V$17:$V$22,1,0)),1,0)","v":0},{"$f":"IF(ISERROR(VLOOKUP(AC29,Accueil!$V$17:$V$22,1,0)),1,0)","v":0},{"$f":"IF(ISERROR(VLOOKUP(AD29,Accueil!$V$17:$V$22,1,0)),1,0)","v":0},{"$f":"IF(ISERROR(VLOOKUP(AE29,Accueil!$V$17:$V$22,1,0)),1,0)","v":0},{"$f":"IF(ISERROR(VLOOKUP(AF29,Accueil!$V$17:$V$22,1,0)),1,0)","v":0},{"$f":"IF(ISERROR(VLOOKUP(AG29,Accueil!$V$17:$V$22,1,0)),1,0)","v":0},{"$f":"IF(ISERROR(VLOOKUP(AH29,Accueil!$V$17:$V$22,1,0)),1,0)","v":0},{"$f":"IF(ISERROR(VLOOKUP(AI29,Accueil!$V$17:$V$22,1,0)),1,0)","v":0},{"$f":"IF(ISERROR(VLOOKUP(AJ29,Accueil!$V$17:$V$22,1,0)),1,0)","v":0},{"$f":"IF(ISERROR(VLOOKUP(AK29,Accueil!$V$17:$V$22,1,0)),1,0)","v":0},{"$f":"IF(ISERROR(VLOOKUP(AL29,Accueil!$V$17:$V$22,1,0)),1,0)","v":0},{"$f":"IF(ISERROR(VLOOKUP(AM29,Accueil!$V$17:$V$22,1,0)),1,0)","v":0},{"$f":"IF(ISERROR(VLOOKUP(AN29,Accueil!$V$17:$V$22,1,0)),1,0)","v":0},{"$f":"IF(ISERROR(VLOOKUP(AO29,Accueil!$V$17:$V$22,1,0)),1,0)","v":0},{"$f":"IF(ISERROR(VLOOKUP(AP29,Accueil!$V$17:$V$22,1,0)),1,0)","v":0},{"$f":"IF(ISERROR(VLOOKUP(AQ29,Accueil!$V$17:$V$22,1,0)),1,0)","v":0},{"$f":"IF(ISERROR(VLOOKUP(AR29,Accueil!$V$17:$V$22,1,0)),1,0)","v":0},{"$f":"IF(ISERROR(VLOOKUP(AS29,Accueil!$V$17:$V$22,1,0)),1,0)","v":0},{"$f":"IF(ISERROR(VLOOKUP(AT29,Accueil!$V$17:$V$22,1,0)),1,0)","v":0},{"$f":"IF(ISERROR(VLOOKUP(AU29,Accueil!$V$17:$V$22,1,0)),1,0)","v":0},{"$f":"IF(ISERROR(VLOOKUP(AV29,Accueil!$V$17:$V$22,1,0)),1,0)","v":0},{"$f":"IF(ISERROR(VLOOKUP(AW29,Accueil!$V$17:$V$22,1,0)),1,0)","v":0},{"$f":"IF(ISERROR(VLOOKUP(AX29,Accueil!$V$17:$V$22,1,0)),1,0)","v":0},{"$f":"IF(ISERROR(VLOOKUP(AY29,Accueil!$V$17:$V$22,1,0)),1,0)","v":0},{"$f":"IF(ISERROR(VLOOKUP(AZ29,Accueil!$V$17:$V$22,1,0)),1,0)","v":0},{"$f":"IF(ISERROR(VLOOKUP(BA29,Accueil!$V$17:$V$22,1,0)),1,0)","v":0},{"$f":"IF(ISERROR(VLOOKUP(BB29,Accueil!$V$17:$V$22,1,0)),1,0)","v":0},{"$f":"IF(ISERROR(VLOOKUP(BC29,Accueil!$V$17:$V$22,1,0)),1,0)","v":0},{"$f":"IF(ISERROR(VLOOKUP(BD29,Accueil!$V$17:$V$22,1,0)),1,0)","v":0},{"$f":"IF(ISERROR(VLOOKUP(BE29,Accueil!$V$17:$V$22,1,0)),1,0)","v":0},{"$f":"IF(ISERROR(VLOOKUP(BF29,Accueil!$V$17:$V$22,1,0)),1,0)","v":0},{"$f":"IF(ISERROR(VLOOKUP(BG29,Accueil!$V$17:$V$22,1,0)),1,0)","v":0},{"$f":"IF(ISERROR(VLOOKUP(BH29,Accueil!$V$17:$V$22,1,0)),1,0)","v":0},{"$f":"IF(ISERROR(VLOOKUP(BI29,Accueil!$V$17:$V$22,1,0)),1,0)","v":0},{"$f":"IF(ISERROR(VLOOKUP(BJ29,Accueil!$V$17:$V$22,1,0)),1,0)","v":0},{"$f":"IF(ISERROR(VLOOKUP(BK29,Accueil!$V$17:$V$22,1,0)),1,0)","v":0},{"$f":"IF(ISERROR(VLOOKUP(BL29,Accueil!$V$17:$V$22,1,0)),1,0)","v":0},{"$f":"IF(ISERROR(VLOOKUP(BM29,Accueil!$V$17:$V$22,1,0)),1,0)","v":0},{"$f":"IF(ISERROR(VLOOKUP(BN29,Accueil!$V$17:$V$22,1,0)),1,0)","v":0},{"$f":"IF(ISERROR(VLOOKUP(BO29,Accueil!$V$17:$V$22,1,0)),1,0)","v":0},{"$f":"IF(ISERROR(VLOOKUP(BP29,Accueil!$V$17:$V$22,1,0)),1,0)","v":0},{"$f":"IF(ISERROR(VLOOKUP(BQ29,Accueil!$V$17:$V$22,1,0)),1,0)","v":0},{"$f":"IF(ISERROR(VLOOKUP(BR29,Accueil!$V$17:$V$22,1,0)),1,0)","v":0},{"$f":"IF(ISERROR(VLOOKUP(BS29,Accueil!$V$17:$V$22,1,0)),1,0)","v":0},{"$f":"IF(ISERROR(VLOOKUP(BT29,Accueil!$V$17:$V$22,1,0)),1,0)","v":0},{"$f":"IF(ISERROR(VLOOKUP(BU29,Accueil!$V$17:$V$22,1,0)),1,0)","v":0},{"$f":"IF(ISERROR(VLOOKUP(BV29,Accueil!$V$17:$V$22,1,0)),1,0)","v":0},{"$f":"IF(ISERROR(VLOOKUP(BW29,Accueil!$V$17:$V$22,1,0)),1,0)","v":0},{"$f":"IF(ISERROR(VLOOKUP(BX29,Accueil!$V$17:$V$22,1,0)),1,0)","v":0},{"$f":"IF(ISERROR(VLOOKUP(BY29,Accueil!$V$17:$V$22,1,0)),1,0)","v":0},{"$f":"IF(ISERROR(VLOOKUP(BZ29,Accueil!$V$17:$V$22,1,0)),1,0)","v":0},{"$f":"IF(ISERROR(VLOOKUP(CA29,Accueil!$V$17:$V$22,1,0)),1,0)","v":0},{"$f":"IF(ISERROR(VLOOKUP(CB29,Accueil!$V$17:$V$22,1,0)),1,0)","v":0},{"$f":"IF(ISERROR(VLOOKUP(CC29,Accueil!$V$17:$V$22,1,0)),1,0)","v":0},{"$f":"IF(ISERROR(VLOOKUP(CD29,Accueil!$V$17:$V$22,1,0)),1,0)","v":0},{"$f":"IF(ISERROR(VLOOKUP(CE29,Accueil!$V$17:$V$22,1,0)),1,0)","v":0},{"$f":"IF(ISERROR(VLOOKUP(CF29,Accueil!$V$17:$V$22,1,0)),1,0)","v":0},{"$f":"IF(ISERROR(VLOOKUP(CG29,Accueil!$V$17:$V$22,1,0)),1,0)","v":0},{"$f":"IF(ISERROR(VLOOKUP(CH29,Accueil!$V$17:$V$22,1,0)),1,0)","v":0},{"$f":"IF(ISERROR(VLOOKUP(CI29,Accueil!$V$17:$V$22,1,0)),1,0)","v":0},{"$f":"IF(ISERROR(VLOOKUP(CJ29,Accueil!$V$17:$V$22,1,0)),1,0)","v":0},{"$f":"IF(ISERROR(VLOOKUP(CK29,Accueil!$V$17:$V$22,1,0)),1,0)","v":0},{"$f":"IF(ISERROR(VLOOKUP(CL29,Accueil!$V$17:$V$22,1,0)),1,0)","v":0},{"$f":"IF(ISERROR(VLOOKUP(CM29,Accueil!$V$17:$V$22,1,0)),1,0)","v":0},{"$f":"IF(ISERROR(VLOOKUP(CN29,Accueil!$V$17:$V$22,1,0)),1,0)","v":0},{"$f":"IF(ISERROR(VLOOKUP(CO29,Accueil!$V$17:$V$22,1,0)),1,0)","v":0},{"$f":"IF(ISERROR(VLOOKUP(CP29,Accueil!$V$17:$V$22,1,0)),1,0)","v":0},{"$f":"IF(ISERROR(VLOOKUP(CQ29,Accueil!$V$17:$V$22,1,0)),1,0)","v":0},{"$f":"IF(ISERROR(VLOOKUP(CR29,Accueil!$V$17:$V$22,1,0)),1,0)","v":0},{"$f":"IF(ISERROR(VLOOKUP(CS29,Accueil!$V$17:$V$22,1,0)),1,0)","v":0},{"$f":"IF(ISERROR(VLOOKUP(CT29,Accueil!$V$17:$V$22,1,0)),1,0)","v":0},{"$f":"IF(ISERROR(VLOOKUP(CU29,Accueil!$V$17:$V$22,1,0)),1,0)","v":0},{"$f":"IF(ISERROR(VLOOKUP(CV29,Accueil!$V$17:$V$22,1,0)),1,0)","v":0},{"$f":"IF(ISERROR(VLOOKUP(CW29,Accueil!$V$17:$V$22,1,0)),1,0)","v":0},{"$f":"IF(ISERROR(VLOOKUP(CX29,Accueil!$V$17:$V$22,1,0)),1,0)","v":0},{"$f":"IF(ISERROR(VLOOKUP(CY29,Accueil!$V$17:$V$22,1,0)),1,0)","v":0},{"$f":"IF(ISERROR(VLOOKUP(CZ29,Accueil!$V$17:$V$22,1,0)),1,0)","v":0},{"$f":"IF(ISERROR(VLOOKUP(DA29,Accueil!$V$17:$V$22,1,0)),1,0)","v":0}]
[null,22,{"$f":"IF(Accueil!E34=\"\",\"\",Accueil!E34)","v":""},{"$f":"IF(Accueil!F34=\"\",\"\",Accueil!F34)","v":""},"",null,null,null,null,null,null,null,null,null,null,null,null,null,null,null,null,null,null,null,null,null,null,null,null,null,null,null,null,null,null,null,null,null,null,null,null,null,null,null,null,null,null,null,null,null,null,null,null,null,null,null,null,null,null,null,null,null,null,null,null,null,null,null,null,null,null,null,null,null,null,null,null,null,null,null,null,null,null,null,null,null,null,null,null,null,null,null,null,null,null,null,null,null,null,null,null,null,null,null,null,22,{"$f":"IF(D30=\"\",\"\",COUNTIF(F30:DA30,Accueil!$AA$28)&\" / \"&COUNTIF($F$8:$DA$8,\">0\")-(COUNTIF(F30:DA30,Accueil!$AF$26)))","v":""},{"$f":"IF(D30=\"\",\"\",COUNTIF(F30:DA30,Accueil!$AA$26))","v":""},{"$f":"IF(D30=\"\",\"\",COUNTIF($F$8:$DA$8,\">0\")-(COUNTIF(F30:DA30,Accueil!$AF$26)))","v":""},"","",0,{"$f":"IF(ISERROR(VLOOKUP(F30,Accueil!$V$17:$V$22,1,0)),1,0)","v":0},{"$f":"IF(ISERROR(VLOOKUP(G30,Accueil!$V$17:$V$22,1,0)),1,0)","v":0},{"$f":"IF(ISERROR(VLOOKUP(H30,Accueil!$V$17:$V$22,1,0)),1,0)","v":0},{"$f":"IF(ISERROR(VLOOKUP(I30,Accueil!$V$17:$V$22,1,0)),1,0)","v":0},{"$f":"IF(ISERROR(VLOOKUP(J30,Accueil!$V$17:$V$22,1,0)),1,0)","v":0},{"$f":"IF(ISERROR(VLOOKUP(K30,Accueil!$V$17:$V$22,1,0)),1,0)","v":0},{"$f":"IF(ISERROR(VLOOKUP(L30,Accueil!$V$17:$V$22,1,0)),1,0)","v":0},{"$f":"IF(ISERROR(VLOOKUP(M30,Accueil!$V$17:$V$22,1,0)),1,0)","v":0},{"$f":"IF(ISERROR(VLOOKUP(N30,Accueil!$V$17:$V$22,1,0)),1,0)","v":0},{"$f":"IF(ISERROR(VLOOKUP(O30,Accueil!$V$17:$V$22,1,0)),1,0)","v":0},{"$f":"IF(ISERROR(VLOOKUP(P30,Accueil!$V$17:$V$22,1,0)),1,0)","v":0},{"$f":"IF(ISERROR(VLOOKUP(Q30,Accueil!$V$17:$V$22,1,0)),1,0)","v":0},{"$f":"IF(ISERROR(VLOOKUP(R30,Accueil!$V$17:$V$22,1,0)),1,0)","v":0},{"$f":"IF(ISERROR(VLOOKUP(S30,Accueil!$V$17:$V$22,1,0)),1,0)","v":0},{"$f":"IF(ISERROR(VLOOKUP(T30,Accueil!$V$17:$V$22,1,0)),1,0)","v":0},{"$f":"IF(ISERROR(VLOOKUP(U30,Accueil!$V$17:$V$22,1,0)),1,0)","v":0},{"$f":"IF(ISERROR(VLOOKUP(V30,Accueil!$V$17:$V$22,1,0)),1,0)","v":0},{"$f":"IF(ISERROR(VLOOKUP(W30,Accueil!$V$17:$V$22,1,0)),1,0)","v":0},{"$f":"IF(ISERROR(VLOOKUP(X30,Accueil!$V$17:$V$22,1,0)),1,0)","v":0},{"$f":"IF(ISERROR(VLOOKUP(Y30,Accueil!$V$17:$V$22,1,0)),1,0)","v":0},{"$f":"IF(ISERROR(VLOOKUP(Z30,Accueil!$V$17:$V$22,1,0)),1,0)","v":0},{"$f":"IF(ISERROR(VLOOKUP(AA30,Accueil!$V$17:$V$22,1,0)),1,0)","v":0},{"$f":"IF(ISERROR(VLOOKUP(AB30,Accueil!$V$17:$V$22,1,0)),1,0)","v":0},{"$f":"IF(ISERROR(VLOOKUP(AC30,Accueil!$V$17:$V$22,1,0)),1,0)","v":0},{"$f":"IF(ISERROR(VLOOKUP(AD30,Accueil!$V$17:$V$22,1,0)),1,0)","v":0},{"$f":"IF(ISERROR(VLOOKUP(AE30,Accueil!$V$17:$V$22,1,0)),1,0)","v":0},{"$f":"IF(ISERROR(VLOOKUP(AF30,Accueil!$V$17:$V$22,1,0)),1,0)","v":0},{"$f":"IF(ISERROR(VLOOKUP(AG30,Accueil!$V$17:$V$22,1,0)),1,0)","v":0},{"$f":"IF(ISERROR(VLOOKUP(AH30,Accueil!$V$17:$V$22,1,0)),1,0)","v":0},{"$f":"IF(ISERROR(VLOOKUP(AI30,Accueil!$V$17:$V$22,1,0)),1,0)","v":0},{"$f":"IF(ISERROR(VLOOKUP(AJ30,Accueil!$V$17:$V$22,1,0)),1,0)","v":0},{"$f":"IF(ISERROR(VLOOKUP(AK30,Accueil!$V$17:$V$22,1,0)),1,0)","v":0},{"$f":"IF(ISERROR(VLOOKUP(AL30,Accueil!$V$17:$V$22,1,0)),1,0)","v":0},{"$f":"IF(ISERROR(VLOOKUP(AM30,Accueil!$V$17:$V$22,1,0)),1,0)","v":0},{"$f":"IF(ISERROR(VLOOKUP(AN30,Accueil!$V$17:$V$22,1,0)),1,0)","v":0},{"$f":"IF(ISERROR(VLOOKUP(AO30,Accueil!$V$17:$V$22,1,0)),1,0)","v":0},{"$f":"IF(ISERROR(VLOOKUP(AP30,Accueil!$V$17:$V$22,1,0)),1,0)","v":0},{"$f":"IF(ISERROR(VLOOKUP(AQ30,Accueil!$V$17:$V$22,1,0)),1,0)","v":0},{"$f":"IF(ISERROR(VLOOKUP(AR30,Accueil!$V$17:$V$22,1,0)),1,0)","v":0},{"$f":"IF(ISERROR(VLOOKUP(AS30,Accueil!$V$17:$V$22,1,0)),1,0)","v":0},{"$f":"IF(ISERROR(VLOOKUP(AT30,Accueil!$V$17:$V$22,1,0)),1,0)","v":0},{"$f":"IF(ISERROR(VLOOKUP(AU30,Accueil!$V$17:$V$22,1,0)),1,0)","v":0},{"$f":"IF(ISERROR(VLOOKUP(AV30,Accueil!$V$17:$V$22,1,0)),1,0)","v":0},{"$f":"IF(ISERROR(VLOOKUP(AW30,Accueil!$V$17:$V$22,1,0)),1,0)","v":0},{"$f":"IF(ISERROR(VLOOKUP(AX30,Accueil!$V$17:$V$22,1,0)),1,0)","v":0},{"$f":"IF(ISERROR(VLOOKUP(AY30,Accueil!$V$17:$V$22,1,0)),1,0)","v":0},{"$f":"IF(ISERROR(VLOOKUP(AZ30,Accueil!$V$17:$V$22,1,0)),1,0)","v":0},{"$f":"IF(ISERROR(VLOOKUP(BA30,Accueil!$V$17:$V$22,1,0)),1,0)","v":0},{"$f":"IF(ISERROR(VLOOKUP(BB30,Accueil!$V$17:$V$22,1,0)),1,0)","v":0},{"$f":"IF(ISERROR(VLOOKUP(BC30,Accueil!$V$17:$V$22,1,0)),1,0)","v":0},{"$f":"IF(ISERROR(VLOOKUP(BD30,Accueil!$V$17:$V$22,1,0)),1,0)","v":0},{"$f":"IF(ISERROR(VLOOKUP(BE30,Accueil!$V$17:$V$22,1,0)),1,0)","v":0},{"$f":"IF(ISERROR(VLOOKUP(BF30,Accueil!$V$17:$V$22,1,0)),1,0)","v":0},{"$f":"IF(ISERROR(VLOOKUP(BG30,Accueil!$V$17:$V$22,1,0)),1,0)","v":0},{"$f":"IF(ISERROR(VLOOKUP(BH30,Accueil!$V$17:$V$22,1,0)),1,0)","v":0},{"$f":"IF(ISERROR(VLOOKUP(BI30,Accueil!$V$17:$V$22,1,0)),1,0)","v":0},{"$f":"IF(ISERROR(VLOOKUP(BJ30,Accueil!$V$17:$V$22,1,0)),1,0)","v":0},{"$f":"IF(ISERROR(VLOOKUP(BK30,Accueil!$V$17:$V$22,1,0)),1,0)","v":0},{"$f":"IF(ISERROR(VLOOKUP(BL30,Accueil!$V$17:$V$22,1,0)),1,0)","v":0},{"$f":"IF(ISERROR(VLOOKUP(BM30,Accueil!$V$17:$V$22,1,0)),1,0)","v":0},{"$f":"IF(ISERROR(VLOOKUP(BN30,Accueil!$V$17:$V$22,1,0)),1,0)","v":0},{"$f":"IF(ISERROR(VLOOKUP(BO30,Accueil!$V$17:$V$22,1,0)),1,0)","v":0},{"$f":"IF(ISERROR(VLOOKUP(BP30,Accueil!$V$17:$V$22,1,0)),1,0)","v":0},{"$f":"IF(ISERROR(VLOOKUP(BQ30,Accueil!$V$17:$V$22,1,0)),1,0)","v":0},{"$f":"IF(ISERROR(VLOOKUP(BR30,Accueil!$V$17:$V$22,1,0)),1,0)","v":0},{"$f":"IF(ISERROR(VLOOKUP(BS30,Accueil!$V$17:$V$22,1,0)),1,0)","v":0},{"$f":"IF(ISERROR(VLOOKUP(BT30,Accueil!$V$17:$V$22,1,0)),1,0)","v":0},{"$f":"IF(ISERROR(VLOOKUP(BU30,Accueil!$V$17:$V$22,1,0)),1,0)","v":0},{"$f":"IF(ISERROR(VLOOKUP(BV30,Accueil!$V$17:$V$22,1,0)),1,0)","v":0},{"$f":"IF(ISERROR(VLOOKUP(BW30,Accueil!$V$17:$V$22,1,0)),1,0)","v":0},{"$f":"IF(ISERROR(VLOOKUP(BX30,Accueil!$V$17:$V$22,1,0)),1,0)","v":0},{"$f":"IF(ISERROR(VLOOKUP(BY30,Accueil!$V$17:$V$22,1,0)),1,0)","v":0},{"$f":"IF(ISERROR(VLOOKUP(BZ30,Accueil!$V$17:$V$22,1,0)),1,0)","v":0},{"$f":"IF(ISERROR(VLOOKUP(CA30,Accueil!$V$17:$V$22,1,0)),1,0)","v":0},{"$f":"IF(ISERROR(VLOOKUP(CB30,Accueil!$V$17:$V$22,1,0)),1,0)","v":0},{"$f":"IF(ISERROR(VLOOKUP(CC30,Accueil!$V$17:$V$22,1,0)),1,0)","v":0},{"$f":"IF(ISERROR(VLOOKUP(CD30,Accueil!$V$17:$V$22,1,0)),1,0)","v":0},{"$f":"IF(ISERROR(VLOOKUP(CE30,Accueil!$V$17:$V$22,1,0)),1,0)","v":0},{"$f":"IF(ISERROR(VLOOKUP(CF30,Accueil!$V$17:$V$22,1,0)),1,0)","v":0},{"$f":"IF(ISERROR(VLOOKUP(CG30,Accueil!$V$17:$V$22,1,0)),1,0)","v":0},{"$f":"IF(ISERROR(VLOOKUP(CH30,Accueil!$V$17:$V$22,1,0)),1,0)","v":0},{"$f":"IF(ISERROR(VLOOKUP(CI30,Accueil!$V$17:$V$22,1,0)),1,0)","v":0},{"$f":"IF(ISERROR(VLOOKUP(CJ30,Accueil!$V$17:$V$22,1,0)),1,0)","v":0},{"$f":"IF(ISERROR(VLOOKUP(CK30,Accueil!$V$17:$V$22,1,0)),1,0)","v":0},{"$f":"IF(ISERROR(VLOOKUP(CL30,Accueil!$V$17:$V$22,1,0)),1,0)","v":0},{"$f":"IF(ISERROR(VLOOKUP(CM30,Accueil!$V$17:$V$22,1,0)),1,0)","v":0},{"$f":"IF(ISERROR(VLOOKUP(CN30,Accueil!$V$17:$V$22,1,0)),1,0)","v":0},{"$f":"IF(ISERROR(VLOOKUP(CO30,Accueil!$V$17:$V$22,1,0)),1,0)","v":0},{"$f":"IF(ISERROR(VLOOKUP(CP30,Accueil!$V$17:$V$22,1,0)),1,0)","v":0},{"$f":"IF(ISERROR(VLOOKUP(CQ30,Accueil!$V$17:$V$22,1,0)),1,0)","v":0},{"$f":"IF(ISERROR(VLOOKUP(CR30,Accueil!$V$17:$V$22,1,0)),1,0)","v":0},{"$f":"IF(ISERROR(VLOOKUP(CS30,Accueil!$V$17:$V$22,1,0)),1,0)","v":0},{"$f":"IF(ISERROR(VLOOKUP(CT30,Accueil!$V$17:$V$22,1,0)),1,0)","v":0},{"$f":"IF(ISERROR(VLOOKUP(CU30,Accueil!$V$17:$V$22,1,0)),1,0)","v":0},{"$f":"IF(ISERROR(VLOOKUP(CV30,Accueil!$V$17:$V$22,1,0)),1,0)","v":0},{"$f":"IF(ISERROR(VLOOKUP(CW30,Accueil!$V$17:$V$22,1,0)),1,0)","v":0},{"$f":"IF(ISERROR(VLOOKUP(CX30,Accueil!$V$17:$V$22,1,0)),1,0)","v":0},{"$f":"IF(ISERROR(VLOOKUP(CY30,Accueil!$V$17:$V$22,1,0)),1,0)","v":0},{"$f":"IF(ISERROR(VLOOKUP(CZ30,Accueil!$V$17:$V$22,1,0)),1,0)","v":0},{"$f":"IF(ISERROR(VLOOKUP(DA30,Accueil!$V$17:$V$22,1,0)),1,0)","v":0}]
[null,23,{"$f":"IF(Accueil!E35=\"\",\"\",Accueil!E35)","v":""},{"$f":"IF(Accueil!F35=\"\",\"\",Accueil!F35)","v":""},"",null,null,null,null,null,null,null,null,null,null,null,null,null,null,null,null,null,null,null,null,null,null,null,null,null,null,null,null,null,null,null,null,null,null,null,null,null,null,null,null,null,null,null,null,null,null,null,null,null,null,null,null,null,null,null,null,null,null,null,null,null,null,null,null,null,null,null,null,null,null,null,null,null,null,null,null,null,null,null,null,null,null,null,null,null,null,null,null,null,null,null,null,null,null,null,null,null,null,null,null,23,{"$f":"IF(D31=\"\",\"\",COUNTIF(F31:DA31,Accueil!$AA$28)&\" / \"&COUNTIF($F$8:$DA$8,\">0\")-(COUNTIF(F31:DA31,Accueil!$AF$26)))","v":""},{"$f":"IF(D31=\"\",\"\",COUNTIF(F31:DA31,Accueil!$AA$26))","v":""},{"$f":"IF(D31=\"\",\"\",COUNTIF($F$8:$DA$8,\">0\")-(COUNTIF(F31:DA31,Accueil!$AF$26)))","v":""},"","",0,{"$f":"IF(ISERROR(VLOOKUP(F31,Accueil!$V$17:$V$22,1,0)),1,0)","v":0},{"$f":"IF(ISERROR(VLOOKUP(G31,Accueil!$V$17:$V$22,1,0)),1,0)","v":0},{"$f":"IF(ISERROR(VLOOKUP(H31,Accueil!$V$17:$V$22,1,0)),1,0)","v":0},{"$f":"IF(ISERROR(VLOOKUP(I31,Accueil!$V$17:$V$22,1,0)),1,0)","v":0},{"$f":"IF(ISERROR(VLOOKUP(J31,Accueil!$V$17:$V$22,1,0)),1,0)","v":0},{"$f":"IF(ISERROR(VLOOKUP(K31,Accueil!$V$17:$V$22,1,0)),1,0)","v":0},{"$f":"IF(ISERROR(VLOOKUP(L31,Accueil!$V$17:$V$22,1,0)),1,0)","v":0},{"$f":"IF(ISERROR(VLOOKUP(M31,Accueil!$V$17:$V$22,1,0)),1,0)","v":0},{"$f":"IF(ISERROR(VLOOKUP(N31,Accueil!$V$17:$V$22,1,0)),1,0)","v":0},{"$f":"IF(ISERROR(VLOOKUP(O31,Accueil!$V$17:$V$22,1,0)),1,0)","v":0},{"$f":"IF(ISERROR(VLOOKUP(P31,Accueil!$V$17:$V$22,1,0)),1,0)","v":0},{"$f":"IF(ISERROR(VLOOKUP(Q31,Accueil!$V$17:$V$22,1,0)),1,0)","v":0},{"$f":"IF(ISERROR(VLOOKUP(R31,Accueil!$V$17:$V$22,1,0)),1,0)","v":0},{"$f":"IF(ISERROR(VLOOKUP(S31,Accueil!$V$17:$V$22,1,0)),1,0)","v":0},{"$f":"IF(ISERROR(VLOOKUP(T31,Accueil!$V$17:$V$22,1,0)),1,0)","v":0},{"$f":"IF(ISERROR(VLOOKUP(U31,Accueil!$V$17:$V$22,1,0)),1,0)","v":0},{"$f":"IF(ISERROR(VLOOKUP(V31,Accueil!$V$17:$V$22,1,0)),1,0)","v":0},{"$f":"IF(ISERROR(VLOOKUP(W31,Accueil!$V$17:$V$22,1,0)),1,0)","v":0},{"$f":"IF(ISERROR(VLOOKUP(X31,Accueil!$V$17:$V$22,1,0)),1,0)","v":0},{"$f":"IF(ISERROR(VLOOKUP(Y31,Accueil!$V$17:$V$22,1,0)),1,0)","v":0},{"$f":"IF(ISERROR(VLOOKUP(Z31,Accueil!$V$17:$V$22,1,0)),1,0)","v":0},{"$f":"IF(ISERROR(VLOOKUP(AA31,Accueil!$V$17:$V$22,1,0)),1,0)","v":0},{"$f":"IF(ISERROR(VLOOKUP(AB31,Accueil!$V$17:$V$22,1,0)),1,0)","v":0},{"$f":"IF(ISERROR(VLOOKUP(AC31,Accueil!$V$17:$V$22,1,0)),1,0)","v":0},{"$f":"IF(ISERROR(VLOOKUP(AD31,Accueil!$V$17:$V$22,1,0)),1,0)","v":0},{"$f":"IF(ISERROR(VLOOKUP(AE31,Accueil!$V$17:$V$22,1,0)),1,0)","v":0},{"$f":"IF(ISERROR(VLOOKUP(AF31,Accueil!$V$17:$V$22,1,0)),1,0)","v":0},{"$f":"IF(ISERROR(VLOOKUP(AG31,Accueil!$V$17:$V$22,1,0)),1,0)","v":0},{"$f":"IF(ISERROR(VLOOKUP(AH31,Accueil!$V$17:$V$22,1,0)),1,0)","v":0},{"$f":"IF(ISERROR(VLOOKUP(AI31,Accueil!$V$17:$V$22,1,0)),1,0)","v":0},{"$f":"IF(ISERROR(VLOOKUP(AJ31,Accueil!$V$17:$V$22,1,0)),1,0)","v":0},{"$f":"IF(ISERROR(VLOOKUP(AK31,Accueil!$V$17:$V$22,1,0)),1,0)","v":0},{"$f":"IF(ISERROR(VLOOKUP(AL31,Accueil!$V$17:$V$22,1,0)),1,0)","v":0},{"$f":"IF(ISERROR(VLOOKUP(AM31,Accueil!$V$17:$V$22,1,0)),1,0)","v":0},{"$f":"IF(ISERROR(VLOOKUP(AN31,Accueil!$V$17:$V$22,1,0)),1,0)","v":0},{"$f":"IF(ISERROR(VLOOKUP(AO31,Accueil!$V$17:$V$22,1,0)),1,0)","v":0},{"$f":"IF(ISERROR(VLOOKUP(AP31,Accueil!$V$17:$V$22,1,0)),1,0)","v":0},{"$f":"IF(ISERROR(VLOOKUP(AQ31,Accueil!$V$17:$V$22,1,0)),1,0)","v":0},{"$f":"IF(ISERROR(VLOOKUP(AR31,Accueil!$V$17:$V$22,1,0)),1,0)","v":0},{"$f":"IF(ISERROR(VLOOKUP(AS31,Accueil!$V$17:$V$22,1,0)),1,0)","v":0},{"$f":"IF(ISERROR(VLOOKUP(AT31,Accueil!$V$17:$V$22,1,0)),1,0)","v":0},{"$f":"IF(ISERROR(VLOOKUP(AU31,Accueil!$V$17:$V$22,1,0)),1,0)","v":0},{"$f":"IF(ISERROR(VLOOKUP(AV31,Accueil!$V$17:$V$22,1,0)),1,0)","v":0},{"$f":"IF(ISERROR(VLOOKUP(AW31,Accueil!$V$17:$V$22,1,0)),1,0)","v":0},{"$f":"IF(ISERROR(VLOOKUP(AX31,Accueil!$V$17:$V$22,1,0)),1,0)","v":0},{"$f":"IF(ISERROR(VLOOKUP(AY31,Accueil!$V$17:$V$22,1,0)),1,0)","v":0},{"$f":"IF(ISERROR(VLOOKUP(AZ31,Accueil!$V$17:$V$22,1,0)),1,0)","v":0},{"$f":"IF(ISERROR(VLOOKUP(BA31,Accueil!$V$17:$V$22,1,0)),1,0)","v":0},{"$f":"IF(ISERROR(VLOOKUP(BB31,Accueil!$V$17:$V$22,1,0)),1,0)","v":0},{"$f":"IF(ISERROR(VLOOKUP(BC31,Accueil!$V$17:$V$22,1,0)),1,0)","v":0},{"$f":"IF(ISERROR(VLOOKUP(BD31,Accueil!$V$17:$V$22,1,0)),1,0)","v":0},{"$f":"IF(ISERROR(VLOOKUP(BE31,Accueil!$V$17:$V$22,1,0)),1,0)","v":0},{"$f":"IF(ISERROR(VLOOKUP(BF31,Accueil!$V$17:$V$22,1,0)),1,0)","v":0},{"$f":"IF(ISERROR(VLOOKUP(BG31,Accueil!$V$17:$V$22,1,0)),1,0)","v":0},{"$f":"IF(ISERROR(VLOOKUP(BH31,Accueil!$V$17:$V$22,1,0)),1,0)","v":0},{"$f":"IF(ISERROR(VLOOKUP(BI31,Accueil!$V$17:$V$22,1,0)),1,0)","v":0},{"$f":"IF(ISERROR(VLOOKUP(BJ31,Accueil!$V$17:$V$22,1,0)),1,0)","v":0},{"$f":"IF(ISERROR(VLOOKUP(BK31,Accueil!$V$17:$V$22,1,0)),1,0)","v":0},{"$f":"IF(ISERROR(VLOOKUP(BL31,Accueil!$V$17:$V$22,1,0)),1,0)","v":0},{"$f":"IF(ISERROR(VLOOKUP(BM31,Accueil!$V$17:$V$22,1,0)),1,0)","v":0},{"$f":"IF(ISERROR(VLOOKUP(BN31,Accueil!$V$17:$V$22,1,0)),1,0)","v":0},{"$f":"IF(ISERROR(VLOOKUP(BO31,Accueil!$V$17:$V$22,1,0)),1,0)","v":0},{"$f":"IF(ISERROR(VLOOKUP(BP31,Accueil!$V$17:$V$22,1,0)),1,0)","v":0},{"$f":"IF(ISERROR(VLOOKUP(BQ31,Accueil!$V$17:$V$22,1,0)),1,0)","v":0},{"$f":"IF(ISERROR(VLOOKUP(BR31,Accueil!$V$17:$V$22,1,0)),1,0)","v":0},{"$f":"IF(ISERROR(VLOOKUP(BS31,Accueil!$V$17:$V$22,1,0)),1,0)","v":0},{"$f":"IF(ISERROR(VLOOKUP(BT31,Accueil!$V$17:$V$22,1,0)),1,0)","v":0},{"$f":"IF(ISERROR(VLOOKUP(BU31,Accueil!$V$17:$V$22,1,0)),1,0)","v":0},{"$f":"IF(ISERROR(VLOOKUP(BV31,Accueil!$V$17:$V$22,1,0)),1,0)","v":0},{"$f":"IF(ISERROR(VLOOKUP(BW31,Accueil!$V$17:$V$22,1,0)),1,0)","v":0},{"$f":"IF(ISERROR(VLOOKUP(BX31,Accueil!$V$17:$V$22,1,0)),1,0)","v":0},{"$f":"IF(ISERROR(VLOOKUP(BY31,Accueil!$V$17:$V$22,1,0)),1,0)","v":0},{"$f":"IF(ISERROR(VLOOKUP(BZ31,Accueil!$V$17:$V$22,1,0)),1,0)","v":0},{"$f":"IF(ISERROR(VLOOKUP(CA31,Accueil!$V$17:$V$22,1,0)),1,0)","v":0},{"$f":"IF(ISERROR(VLOOKUP(CB31,Accueil!$V$17:$V$22,1,0)),1,0)","v":0},{"$f":"IF(ISERROR(VLOOKUP(CC31,Accueil!$V$17:$V$22,1,0)),1,0)","v":0},{"$f":"IF(ISERROR(VLOOKUP(CD31,Accueil!$V$17:$V$22,1,0)),1,0)","v":0},{"$f":"IF(ISERROR(VLOOKUP(CE31,Accueil!$V$17:$V$22,1,0)),1,0)","v":0},{"$f":"IF(ISERROR(VLOOKUP(CF31,Accueil!$V$17:$V$22,1,0)),1,0)","v":0},{"$f":"IF(ISERROR(VLOOKUP(CG31,Accueil!$V$17:$V$22,1,0)),1,0)","v":0},{"$f":"IF(ISERROR(VLOOKUP(CH31,Accueil!$V$17:$V$22,1,0)),1,0)","v":0},{"$f":"IF(ISERROR(VLOOKUP(CI31,Accueil!$V$17:$V$22,1,0)),1,0)","v":0},{"$f":"IF(ISERROR(VLOOKUP(CJ31,Accueil!$V$17:$V$22,1,0)),1,0)","v":0},{"$f":"IF(ISERROR(VLOOKUP(CK31,Accueil!$V$17:$V$22,1,0)),1,0)","v":0},{"$f":"IF(ISERROR(VLOOKUP(CL31,Accueil!$V$17:$V$22,1,0)),1,0)","v":0},{"$f":"IF(ISERROR(VLOOKUP(CM31,Accueil!$V$17:$V$22,1,0)),1,0)","v":0},{"$f":"IF(ISERROR(VLOOKUP(CN31,Accueil!$V$17:$V$22,1,0)),1,0)","v":0},{"$f":"IF(ISERROR(VLOOKUP(CO31,Accueil!$V$17:$V$22,1,0)),1,0)","v":0},{"$f":"IF(ISERROR(VLOOKUP(CP31,Accueil!$V$17:$V$22,1,0)),1,0)","v":0},{"$f":"IF(ISERROR(VLOOKUP(CQ31,Accueil!$V$17:$V$22,1,0)),1,0)","v":0},{"$f":"IF(ISERROR(VLOOKUP(CR31,Accueil!$V$17:$V$22,1,0)),1,0)","v":0},{"$f":"IF(ISERROR(VLOOKUP(CS31,Accueil!$V$17:$V$22,1,0)),1,0)","v":0},{"$f":"IF(ISERROR(VLOOKUP(CT31,Accueil!$V$17:$V$22,1,0)),1,0)","v":0},{"$f":"IF(ISERROR(VLOOKUP(CU31,Accueil!$V$17:$V$22,1,0)),1,0)","v":0},{"$f":"IF(ISERROR(VLOOKUP(CV31,Accueil!$V$17:$V$22,1,0)),1,0)","v":0},{"$f":"IF(ISERROR(VLOOKUP(CW31,Accueil!$V$17:$V$22,1,0)),1,0)","v":0},{"$f":"IF(ISERROR(VLOOKUP(CX31,Accueil!$V$17:$V$22,1,0)),1,0)","v":0},{"$f":"IF(ISERROR(VLOOKUP(CY31,Accueil!$V$17:$V$22,1,0)),1,0)","v":0},{"$f":"IF(ISERROR(VLOOKUP(CZ31,Accueil!$V$17:$V$22,1,0)),1,0)","v":0},{"$f":"IF(ISERROR(VLOOKUP(DA31,Accueil!$V$17:$V$22,1,0)),1,0)","v":0}]
[null,24,{"$f":"IF(Accueil!E36=\"\",\"\",Accueil!E36)","v":""},{"$f":"IF(Accueil!F36=\"\",\"\",Accueil!F36)","v":""},"",null,null,null,null,null,null,null,null,null,null,null,null,null,null,null,null,null,null,null,null,null,null,null,null,null,null,null,null,null,null,null,null,null,null,null,null,null,null,null,null,null,null,null,null,null,null,null,null,null,null,null,null,null,null,null,null,null,null,null,null,null,null,null,null,null,null,null,null,null,null,null,null,null,null,null,null,null,null,null,null,null,null,null,null,null,null,null,null,null,null,null,null,null,null,null,null,null,null,null,null,24,{"$f":"IF(D32=\"\",\"\",COUNTIF(F32:DA32,Accueil!$AA$28)&\" / \"&COUNTIF($F$8:$DA$8,\">0\")-(COUNTIF(F32:DA32,Accueil!$AF$26)))","v":""},{"$f":"IF(D32=\"\",\"\",COUNTIF(F32:DA32,Accueil!$AA$26))","v":""},{"$f":"IF(D32=\"\",\"\",COUNTIF($F$8:$DA$8,\">0\")-(COUNTIF(F32:DA32,Accueil!$AF$26)))","v":""},"","",0,{"$f":"IF(ISERROR(VLOOKUP(F32,Accueil!$V$17:$V$22,1,0)),1,0)","v":0},{"$f":"IF(ISERROR(VLOOKUP(G32,Accueil!$V$17:$V$22,1,0)),1,0)","v":0},{"$f":"IF(ISERROR(VLOOKUP(H32,Accueil!$V$17:$V$22,1,0)),1,0)","v":0},{"$f":"IF(ISERROR(VLOOKUP(I32,Accueil!$V$17:$V$22,1,0)),1,0)","v":0},{"$f":"IF(ISERROR(VLOOKUP(J32,Accueil!$V$17:$V$22,1,0)),1,0)","v":0},{"$f":"IF(ISERROR(VLOOKUP(K32,Accueil!$V$17:$V$22,1,0)),1,0)","v":0},{"$f":"IF(ISERROR(VLOOKUP(L32,Accueil!$V$17:$V$22,1,0)),1,0)","v":0},{"$f":"IF(ISERROR(VLOOKUP(M32,Accueil!$V$17:$V$22,1,0)),1,0)","v":0},{"$f":"IF(ISERROR(VLOOKUP(N32,Accueil!$V$17:$V$22,1,0)),1,0)","v":0},{"$f":"IF(ISERROR(VLOOKUP(O32,Accueil!$V$17:$V$22,1,0)),1,0)","v":0},{"$f":"IF(ISERROR(VLOOKUP(P32,Accueil!$V$17:$V$22,1,0)),1,0)","v":0},{"$f":"IF(ISERROR(VLOOKUP(Q32,Accueil!$V$17:$V$22,1,0)),1,0)","v":0},{"$f":"IF(ISERROR(VLOOKUP(R32,Accueil!$V$17:$V$22,1,0)),1,0)","v":0},{"$f":"IF(ISERROR(VLOOKUP(S32,Accueil!$V$17:$V$22,1,0)),1,0)","v":0},{"$f":"IF(ISERROR(VLOOKUP(T32,Accueil!$V$17:$V$22,1,0)),1,0)","v":0},{"$f":"IF(ISERROR(VLOOKUP(U32,Accueil!$V$17:$V$22,1,0)),1,0)","v":0},{"$f":"IF(ISERROR(VLOOKUP(V32,Accueil!$V$17:$V$22,1,0)),1,0)","v":0},{"$f":"IF(ISERROR(VLOOKUP(W32,Accueil!$V$17:$V$22,1,0)),1,0)","v":0},{"$f":"IF(ISERROR(VLOOKUP(X32,Accueil!$V$17:$V$22,1,0)),1,0)","v":0},{"$f":"IF(ISERROR(VLOOKUP(Y32,Accueil!$V$17:$V$22,1,0)),1,0)","v":0},{"$f":"IF(ISERROR(VLOOKUP(Z32,Accueil!$V$17:$V$22,1,0)),1,0)","v":0},{"$f":"IF(ISERROR(VLOOKUP(AA32,Accueil!$V$17:$V$22,1,0)),1,0)","v":0},{"$f":"IF(ISERROR(VLOOKUP(AB32,Accueil!$V$17:$V$22,1,0)),1,0)","v":0},{"$f":"IF(ISERROR(VLOOKUP(AC32,Accueil!$V$17:$V$22,1,0)),1,0)","v":0},{"$f":"IF(ISERROR(VLOOKUP(AD32,Accueil!$V$17:$V$22,1,0)),1,0)","v":0},{"$f":"IF(ISERROR(VLOOKUP(AE32,Accueil!$V$17:$V$22,1,0)),1,0)","v":0},{"$f":"IF(ISERROR(VLOOKUP(AF32,Accueil!$V$17:$V$22,1,0)),1,0)","v":0},{"$f":"IF(ISERROR(VLOOKUP(AG32,Accueil!$V$17:$V$22,1,0)),1,0)","v":0},{"$f":"IF(ISERROR(VLOOKUP(AH32,Accueil!$V$17:$V$22,1,0)),1,0)","v":0},{"$f":"IF(ISERROR(VLOOKUP(AI32,Accueil!$V$17:$V$22,1,0)),1,0)","v":0},{"$f":"IF(ISERROR(VLOOKUP(AJ32,Accueil!$V$17:$V$22,1,0)),1,0)","v":0},{"$f":"IF(ISERROR(VLOOKUP(AK32,Accueil!$V$17:$V$22,1,0)),1,0)","v":0},{"$f":"IF(ISERROR(VLOOKUP(AL32,Accueil!$V$17:$V$22,1,0)),1,0)","v":0},{"$f":"IF(ISERROR(VLOOKUP(AM32,Accueil!$V$17:$V$22,1,0)),1,0)","v":0},{"$f":"IF(ISERROR(VLOOKUP(AN32,Accueil!$V$17:$V$22,1,0)),1,0)","v":0},{"$f":"IF(ISERROR(VLOOKUP(AO32,Accueil!$V$17:$V$22,1,0)),1,0)","v":0},{"$f":"IF(ISERROR(VLOOKUP(AP32,Accueil!$V$17:$V$22,1,0)),1,0)","v":0},{"$f":"IF(ISERROR(VLOOKUP(AQ32,Accueil!$V$17:$V$22,1,0)),1,0)","v":0},{"$f":"IF(ISERROR(VLOOKUP(AR32,Accueil!$V$17:$V$22,1,0)),1,0)","v":0},{"$f":"IF(ISERROR(VLOOKUP(AS32,Accueil!$V$17:$V$22,1,0)),1,0)","v":0},{"$f":"IF(ISERROR(VLOOKUP(AT32,Accueil!$V$17:$V$22,1,0)),1,0)","v":0},{"$f":"IF(ISERROR(VLOOKUP(AU32,Accueil!$V$17:$V$22,1,0)),1,0)","v":0},{"$f":"IF(ISERROR(VLOOKUP(AV32,Accueil!$V$17:$V$22,1,0)),1,0)","v":0},{"$f":"IF(ISERROR(VLOOKUP(AW32,Accueil!$V$17:$V$22,1,0)),1,0)","v":0},{"$f":"IF(ISERROR(VLOOKUP(AX32,Accueil!$V$17:$V$22,1,0)),1,0)","v":0},{"$f":"IF(ISERROR(VLOOKUP(AY32,Accueil!$V$17:$V$22,1,0)),1,0)","v":0},{"$f":"IF(ISERROR(VLOOKUP(AZ32,Accueil!$V$17:$V$22,1,0)),1,0)","v":0},{"$f":"IF(ISERROR(VLOOKUP(BA32,Accueil!$V$17:$V$22,1,0)),1,0)","v":0},{"$f":"IF(ISERROR(VLOOKUP(BB32,Accueil!$V$17:$V$22,1,0)),1,0)","v":0},{"$f":"IF(ISERROR(VLOOKUP(BC32,Accueil!$V$17:$V$22,1,0)),1,0)","v":0},{"$f":"IF(ISERROR(VLOOKUP(BD32,Accueil!$V$17:$V$22,1,0)),1,0)","v":0},{"$f":"IF(ISERROR(VLOOKUP(BE32,Accueil!$V$17:$V$22,1,0)),1,0)","v":0},{"$f":"IF(ISERROR(VLOOKUP(BF32,Accueil!$V$17:$V$22,1,0)),1,0)","v":0},{"$f":"IF(ISERROR(VLOOKUP(BG32,Accueil!$V$17:$V$22,1,0)),1,0)","v":0},{"$f":"IF(ISERROR(VLOOKUP(BH32,Accueil!$V$17:$V$22,1,0)),1,0)","v":0},{"$f":"IF(ISERROR(VLOOKUP(BI32,Accueil!$V$17:$V$22,1,0)),1,0)","v":0},{"$f":"IF(ISERROR(VLOOKUP(BJ32,Accueil!$V$17:$V$22,1,0)),1,0)","v":0},{"$f":"IF(ISERROR(VLOOKUP(BK32,Accueil!$V$17:$V$22,1,0)),1,0)","v":0},{"$f":"IF(ISERROR(VLOOKUP(BL32,Accueil!$V$17:$V$22,1,0)),1,0)","v":0},{"$f":"IF(ISERROR(VLOOKUP(BM32,Accueil!$V$17:$V$22,1,0)),1,0)","v":0},{"$f":"IF(ISERROR(VLOOKUP(BN32,Accueil!$V$17:$V$22,1,0)),1,0)","v":0},{"$f":"IF(ISERROR(VLOOKUP(BO32,Accueil!$V$17:$V$22,1,0)),1,0)","v":0},{"$f":"IF(ISERROR(VLOOKUP(BP32,Accueil!$V$17:$V$22,1,0)),1,0)","v":0},{"$f":"IF(ISERROR(VLOOKUP(BQ32,Accueil!$V$17:$V$22,1,0)),1,0)","v":0},{"$f":"IF(ISERROR(VLOOKUP(BR32,Accueil!$V$17:$V$22,1,0)),1,0)","v":0},{"$f":"IF(ISERROR(VLOOKUP(BS32,Accueil!$V$17:$V$22,1,0)),1,0)","v":0},{"$f":"IF(ISERROR(VLOOKUP(BT32,Accueil!$V$17:$V$22,1,0)),1,0)","v":0},{"$f":"IF(ISERROR(VLOOKUP(BU32,Accueil!$V$17:$V$22,1,0)),1,0)","v":0},{"$f":"IF(ISERROR(VLOOKUP(BV32,Accueil!$V$17:$V$22,1,0)),1,0)","v":0},{"$f":"IF(ISERROR(VLOOKUP(BW32,Accueil!$V$17:$V$22,1,0)),1,0)","v":0},{"$f":"IF(ISERROR(VLOOKUP(BX32,Accueil!$V$17:$V$22,1,0)),1,0)","v":0},{"$f":"IF(ISERROR(VLOOKUP(BY32,Accueil!$V$17:$V$22,1,0)),1,0)","v":0},{"$f":"IF(ISERROR(VLOOKUP(BZ32,Accueil!$V$17:$V$22,1,0)),1,0)","v":0},{"$f":"IF(ISERROR(VLOOKUP(CA32,Accueil!$V$17:$V$22,1,0)),1,0)","v":0},{"$f":"IF(ISERROR(VLOOKUP(CB32,Accueil!$V$17:$V$22,1,0)),1,0)","v":0},{"$f":"IF(ISERROR(VLOOKUP(CC32,Accueil!$V$17:$V$22,1,0)),1,0)","v":0},{"$f":"IF(ISERROR(VLOOKUP(CD32,Accueil!$V$17:$V$22,1,0)),1,0)","v":0},{"$f":"IF(ISERROR(VLOOKUP(CE32,Accueil!$V$17:$V$22,1,0)),1,0)","v":0},{"$f":"IF(ISERROR(VLOOKUP(CF32,Accueil!$V$17:$V$22,1,0)),1,0)","v":0},{"$f":"IF(ISERROR(VLOOKUP(CG32,Accueil!$V$17:$V$22,1,0)),1,0)","v":0},{"$f":"IF(ISERROR(VLOOKUP(CH32,Accueil!$V$17:$V$22,1,0)),1,0)","v":0},{"$f":"IF(ISERROR(VLOOKUP(CI32,Accueil!$V$17:$V$22,1,0)),1,0)","v":0},{"$f":"IF(ISERROR(VLOOKUP(CJ32,Accueil!$V$17:$V$22,1,0)),1,0)","v":0},{"$f":"IF(ISERROR(VLOOKUP(CK32,Accueil!$V$17:$V$22,1,0)),1,0)","v":0},{"$f":"IF(ISERROR(VLOOKUP(CL32,Accueil!$V$17:$V$22,1,0)),1,0)","v":0},{"$f":"IF(ISERROR(VLOOKUP(CM32,Accueil!$V$17:$V$22,1,0)),1,0)","v":0},{"$f":"IF(ISERROR(VLOOKUP(CN32,Accueil!$V$17:$V$22,1,0)),1,0)","v":0},{"$f":"IF(ISERROR(VLOOKUP(CO32,Accueil!$V$17:$V$22,1,0)),1,0)","v":0},{"$f":"IF(ISERROR(VLOOKUP(CP32,Accueil!$V$17:$V$22,1,0)),1,0)","v":0},{"$f":"IF(ISERROR(VLOOKUP(CQ32,Accueil!$V$17:$V$22,1,0)),1,0)","v":0},{"$f":"IF(ISERROR(VLOOKUP(CR32,Accueil!$V$17:$V$22,1,0)),1,0)","v":0},{"$f":"IF(ISERROR(VLOOKUP(CS32,Accueil!$V$17:$V$22,1,0)),1,0)","v":0},{"$f":"IF(ISERROR(VLOOKUP(CT32,Accueil!$V$17:$V$22,1,0)),1,0)","v":0},{"$f":"IF(ISERROR(VLOOKUP(CU32,Accueil!$V$17:$V$22,1,0)),1,0)","v":0},{"$f":"IF(ISERROR(VLOOKUP(CV32,Accueil!$V$17:$V$22,1,0)),1,0)","v":0},{"$f":"IF(ISERROR(VLOOKUP(CW32,Accueil!$V$17:$V$22,1,0)),1,0)","v":0},{"$f":"IF(ISERROR(VLOOKUP(CX32,Accueil!$V$17:$V$22,1,0)),1,0)","v":0},{"$f":"IF(ISERROR(VLOOKUP(CY32,Accueil!$V$17:$V$22,1,0)),1,0)","v":0},{"$f":"IF(ISERROR(VLOOKUP(CZ32,Accueil!$V$17:$V$22,1,0)),1,0)","v":0},{"$f":"IF(ISERROR(VLOOKUP(DA32,Accueil!$V$17:$V$22,1,0)),1,0)","v":0}]
[null,25,{"$f":"IF(Accueil!E37=\"\",\"\",Accueil!E37)","v":""},{"$f":"IF(Accueil!F37=\"\",\"\",Accueil!F37)","v":""},"",null,null,null,null,null,null,null,null,null,null,null,null,null,null,null,null,null,null,null,null,null,null,null,null,null,null,null,null,null,null,null,null,null,null,null,null,null,null,null,null,null,null,null,null,null,null,null,null,null,null,null,null,null,null,null,null,null,null,null,null,null,null,null,null,null,null,null,null,null,null,null,null,null,null,null,null,null,null,null,null,null,null,null,null,null,null,null,null,null,null,null,null,null,null,null,null,null,null,null,null,25,{"$f":"IF(D33=\"\",\"\",COUNTIF(F33:DA33,Accueil!$AA$28)&\" / \"&COUNTIF($F$8:$DA$8,\">0\")-(COUNTIF(F33:DA33,Accueil!$AF$26)))","v":""},{"$f":"IF(D33=\"\",\"\",COUNTIF(F33:DA33,Accueil!$AA$26))","v":""},{"$f":"IF(D33=\"\",\"\",COUNTIF($F$8:$DA$8,\">0\")-(COUNTIF(F33:DA33,Accueil!$AF$26)))","v":""},"","",0,{"$f":"IF(ISERROR(VLOOKUP(F33,Accueil!$V$17:$V$22,1,0)),1,0)","v":0},{"$f":"IF(ISERROR(VLOOKUP(G33,Accueil!$V$17:$V$22,1,0)),1,0)","v":0},{"$f":"IF(ISERROR(VLOOKUP(H33,Accueil!$V$17:$V$22,1,0)),1,0)","v":0},{"$f":"IF(ISERROR(VLOOKUP(I33,Accueil!$V$17:$V$22,1,0)),1,0)","v":0},{"$f":"IF(ISERROR(VLOOKUP(J33,Accueil!$V$17:$V$22,1,0)),1,0)","v":0},{"$f":"IF(ISERROR(VLOOKUP(K33,Accueil!$V$17:$V$22,1,0)),1,0)","v":0},{"$f":"IF(ISERROR(VLOOKUP(L33,Accueil!$V$17:$V$22,1,0)),1,0)","v":0},{"$f":"IF(ISERROR(VLOOKUP(M33,Accueil!$V$17:$V$22,1,0)),1,0)","v":0},{"$f":"IF(ISERROR(VLOOKUP(N33,Accueil!$V$17:$V$22,1,0)),1,0)","v":0},{"$f":"IF(ISERROR(VLOOKUP(O33,Accueil!$V$17:$V$22,1,0)),1,0)","v":0},{"$f":"IF(ISERROR(VLOOKUP(P33,Accueil!$V$17:$V$22,1,0)),1,0)","v":0},{"$f":"IF(ISERROR(VLOOKUP(Q33,Accueil!$V$17:$V$22,1,0)),1,0)","v":0},{"$f":"IF(ISERROR(VLOOKUP(R33,Accueil!$V$17:$V$22,1,0)),1,0)","v":0},{"$f":"IF(ISERROR(VLOOKUP(S33,Accueil!$V$17:$V$22,1,0)),1,0)","v":0},{"$f":"IF(ISERROR(VLOOKUP(T33,Accueil!$V$17:$V$22,1,0)),1,0)","v":0},{"$f":"IF(ISERROR(VLOOKUP(U33,Accueil!$V$17:$V$22,1,0)),1,0)","v":0},{"$f":"IF(ISERROR(VLOOKUP(V33,Accueil!$V$17:$V$22,1,0)),1,0)","v":0},{"$f":"IF(ISERROR(VLOOKUP(W33,Accueil!$V$17:$V$22,1,0)),1,0)","v":0},{"$f":"IF(ISERROR(VLOOKUP(X33,Accueil!$V$17:$V$22,1,0)),1,0)","v":0},{"$f":"IF(ISERROR(VLOOKUP(Y33,Accueil!$V$17:$V$22,1,0)),1,0)","v":0},{"$f":"IF(ISERROR(VLOOKUP(Z33,Accueil!$V$17:$V$22,1,0)),1,0)","v":0},{"$f":"IF(ISERROR(VLOOKUP(AA33,Accueil!$V$17:$V$22,1,0)),1,0)","v":0},{"$f":"IF(ISERROR(VLOOKUP(AB33,Accueil!$V$17:$V$22,1,0)),1,0)","v":0},{"$f":"IF(ISERROR(VLOOKUP(AC33,Accueil!$V$17:$V$22,1,0)),1,0)","v":0},{"$f":"IF(ISERROR(VLOOKUP(AD33,Accueil!$V$17:$V$22,1,0)),1,0)","v":0},{"$f":"IF(ISERROR(VLOOKUP(AE33,Accueil!$V$17:$V$22,1,0)),1,0)","v":0},{"$f":"IF(ISERROR(VLOOKUP(AF33,Accueil!$V$17:$V$22,1,0)),1,0)","v":0},{"$f":"IF(ISERROR(VLOOKUP(AG33,Accueil!$V$17:$V$22,1,0)),1,0)","v":0},{"$f":"IF(ISERROR(VLOOKUP(AH33,Accueil!$V$17:$V$22,1,0)),1,0)","v":0},{"$f":"IF(ISERROR(VLOOKUP(AI33,Accueil!$V$17:$V$22,1,0)),1,0)","v":0},{"$f":"IF(ISERROR(VLOOKUP(AJ33,Accueil!$V$17:$V$22,1,0)),1,0)","v":0},{"$f":"IF(ISERROR(VLOOKUP(AK33,Accueil!$V$17:$V$22,1,0)),1,0)","v":0},{"$f":"IF(ISERROR(VLOOKUP(AL33,Accueil!$V$17:$V$22,1,0)),1,0)","v":0},{"$f":"IF(ISERROR(VLOOKUP(AM33,Accueil!$V$17:$V$22,1,0)),1,0)","v":0},{"$f":"IF(ISERROR(VLOOKUP(AN33,Accueil!$V$17:$V$22,1,0)),1,0)","v":0},{"$f":"IF(ISERROR(VLOOKUP(AO33,Accueil!$V$17:$V$22,1,0)),1,0)","v":0},{"$f":"IF(ISERROR(VLOOKUP(AP33,Accueil!$V$17:$V$22,1,0)),1,0)","v":0},{"$f":"IF(ISERROR(VLOOKUP(AQ33,Accueil!$V$17:$V$22,1,0)),1,0)","v":0},{"$f":"IF(ISERROR(VLOOKUP(AR33,Accueil!$V$17:$V$22,1,0)),1,0)","v":0},{"$f":"IF(ISERROR(VLOOKUP(AS33,Accueil!$V$17:$V$22,1,0)),1,0)","v":0},{"$f":"IF(ISERROR(VLOOKUP(AT33,Accueil!$V$17:$V$22,1,0)),1,0)","v":0},{"$f":"IF(ISERROR(VLOOKUP(AU33,Accueil!$V$17:$V$22,1,0)),1,0)","v":0},{"$f":"IF(ISERROR(VLOOKUP(AV33,Accueil!$V$17:$V$22,1,0)),1,0)","v":0},{"$f":"IF(ISERROR(VLOOKUP(AW33,Accueil!$V$17:$V$22,1,0)),1,0)","v":0},{"$f":"IF(ISERROR(VLOOKUP(AX33,Accueil!$V$17:$V$22,1,0)),1,0)","v":0},{"$f":"IF(ISERROR(VLOOKUP(AY33,Accueil!$V$17:$V$22,1,0)),1,0)","v":0},{"$f":"IF(ISERROR(VLOOKUP(AZ33,Accueil!$V$17:$V$22,1,0)),1,0)","v":0},{"$f":"IF(ISERROR(VLOOKUP(BA33,Accueil!$V$17:$V$22,1,0)),1,0)","v":0},{"$f":"IF(ISERROR(VLOOKUP(BB33,Accueil!$V$17:$V$22,1,0)),1,0)","v":0},{"$f":"IF(ISERROR(VLOOKUP(BC33,Accueil!$V$17:$V$22,1,0)),1,0)","v":0},{"$f":"IF(ISERROR(VLOOKUP(BD33,Accueil!$V$17:$V$22,1,0)),1,0)","v":0},{"$f":"IF(ISERROR(VLOOKUP(BE33,Accueil!$V$17:$V$22,1,0)),1,0)","v":0},{"$f":"IF(ISERROR(VLOOKUP(BF33,Accueil!$V$17:$V$22,1,0)),1,0)","v":0},{"$f":"IF(ISERROR(VLOOKUP(BG33,Accueil!$V$17:$V$22,1,0)),1,0)","v":0},{"$f":"IF(ISERROR(VLOOKUP(BH33,Accueil!$V$17:$V$22,1,0)),1,0)","v":0},{"$f":"IF(ISERROR(VLOOKUP(BI33,Accueil!$V$17:$V$22,1,0)),1,0)","v":0},{"$f":"IF(ISERROR(VLOOKUP(BJ33,Accueil!$V$17:$V$22,1,0)),1,0)","v":0},{"$f":"IF(ISERROR(VLOOKUP(BK33,Accueil!$V$17:$V$22,1,0)),1,0)","v":0},{"$f":"IF(ISERROR(VLOOKUP(BL33,Accueil!$V$17:$V$22,1,0)),1,0)","v":0},{"$f":"IF(ISERROR(VLOOKUP(BM33,Accueil!$V$17:$V$22,1,0)),1,0)","v":0},{"$f":"IF(ISERROR(VLOOKUP(BN33,Accueil!$V$17:$V$22,1,0)),1,0)","v":0},{"$f":"IF(ISERROR(VLOOKUP(BO33,Accueil!$V$17:$V$22,1,0)),1,0)","v":0},{"$f":"IF(ISERROR(VLOOKUP(BP33,Accueil!$V$17:$V$22,1,0)),1,0)","v":0},{"$f":"IF(ISERROR(VLOOKUP(BQ33,Accueil!$V$17:$V$22,1,0)),1,0)","v":0},{"$f":"IF(ISERROR(VLOOKUP(BR33,Accueil!$V$17:$V$22,1,0)),1,0)","v":0},{"$f":"IF(ISERROR(VLOOKUP(BS33,Accueil!$V$17:$V$22,1,0)),1,0)","v":0},{"$f":"IF(ISERROR(VLOOKUP(BT33,Accueil!$V$17:$V$22,1,0)),1,0)","v":0},{"$f":"IF(ISERROR(VLOOKUP(BU33,Accueil!$V$17:$V$22,1,0)),1,0)","v":0},{"$f":"IF(ISERROR(VLOOKUP(BV33,Accueil!$V$17:$V$22,1,0)),1,0)","v":0},{"$f":"IF(ISERROR(VLOOKUP(BW33,Accueil!$V$17:$V$22,1,0)),1,0)","v":0},{"$f":"IF(ISERROR(VLOOKUP(BX33,Accueil!$V$17:$V$22,1,0)),1,0)","v":0},{"$f":"IF(ISERROR(VLOOKUP(BY33,Accueil!$V$17:$V$22,1,0)),1,0)","v":0},{"$f":"IF(ISERROR(VLOOKUP(BZ33,Accueil!$V$17:$V$22,1,0)),1,0)","v":0},{"$f":"IF(ISERROR(VLOOKUP(CA33,Accueil!$V$17:$V$22,1,0)),1,0)","v":0},{"$f":"IF(ISERROR(VLOOKUP(CB33,Accueil!$V$17:$V$22,1,0)),1,0)","v":0},{"$f":"IF(ISERROR(VLOOKUP(CC33,Accueil!$V$17:$V$22,1,0)),1,0)","v":0},{"$f":"IF(ISERROR(VLOOKUP(CD33,Accueil!$V$17:$V$22,1,0)),1,0)","v":0},{"$f":"IF(ISERROR(VLOOKUP(CE33,Accueil!$V$17:$V$22,1,0)),1,0)","v":0},{"$f":"IF(ISERROR(VLOOKUP(CF33,Accueil!$V$17:$V$22,1,0)),1,0)","v":0},{"$f":"IF(ISERROR(VLOOKUP(CG33,Accueil!$V$17:$V$22,1,0)),1,0)","v":0},{"$f":"IF(ISERROR(VLOOKUP(CH33,Accueil!$V$17:$V$22,1,0)),1,0)","v":0},{"$f":"IF(ISERROR(VLOOKUP(CI33,Accueil!$V$17:$V$22,1,0)),1,0)","v":0},{"$f":"IF(ISERROR(VLOOKUP(CJ33,Accueil!$V$17:$V$22,1,0)),1,0)","v":0},{"$f":"IF(ISERROR(VLOOKUP(CK33,Accueil!$V$17:$V$22,1,0)),1,0)","v":0},{"$f":"IF(ISERROR(VLOOKUP(CL33,Accueil!$V$17:$V$22,1,0)),1,0)","v":0},{"$f":"IF(ISERROR(VLOOKUP(CM33,Accueil!$V$17:$V$22,1,0)),1,0)","v":0},{"$f":"IF(ISERROR(VLOOKUP(CN33,Accueil!$V$17:$V$22,1,0)),1,0)","v":0},{"$f":"IF(ISERROR(VLOOKUP(CO33,Accueil!$V$17:$V$22,1,0)),1,0)","v":0},{"$f":"IF(ISERROR(VLOOKUP(CP33,Accueil!$V$17:$V$22,1,0)),1,0)","v":0},{"$f":"IF(ISERROR(VLOOKUP(CQ33,Accueil!$V$17:$V$22,1,0)),1,0)","v":0},{"$f":"IF(ISERROR(VLOOKUP(CR33,Accueil!$V$17:$V$22,1,0)),1,0)","v":0},{"$f":"IF(ISERROR(VLOOKUP(CS33,Accueil!$V$17:$V$22,1,0)),1,0)","v":0},{"$f":"IF(ISERROR(VLOOKUP(CT33,Accueil!$V$17:$V$22,1,0)),1,0)","v":0},{"$f":"IF(ISERROR(VLOOKUP(CU33,Accueil!$V$17:$V$22,1,0)),1,0)","v":0},{"$f":"IF(ISERROR(VLOOKUP(CV33,Accueil!$V$17:$V$22,1,0)),1,0)","v":0},{"$f":"IF(ISERROR(VLOOKUP(CW33,Accueil!$V$17:$V$22,1,0)),1,0)","v":0},{"$f":"IF(ISERROR(VLOOKUP(CX33,Accueil!$V$17:$V$22,1,0)),1,0)","v":0},{"$f":"IF(ISERROR(VLOOKUP(CY33,Accueil!$V$17:$V$22,1,0)),1,0)","v":0},{"$f":"IF(ISERROR(VLOOKUP(CZ33,Accueil!$V$17:$V$22,1,0)),1,0)","v":0},{"$f":"IF(ISERROR(VLOOKUP(DA33,Accueil!$V$17:$V$22,1,0)),1,0)","v":0}]
[null,26,{"$f":"IF(Accueil!E38=\"\",\"\",Accueil!E38)","v":""},{"$f":"IF(Accueil!F38=\"\",\"\",Accueil!F38)","v":""},"",null,null,null,null,null,null,null,null,null,null,null,null,null,null,null,null,null,null,null,null,null,null,null,null,null,null,null,null,null,null,null,null,null,null,null,null,null,null,null,null,null,null,null,null,null,null,null,null,null,null,null,null,null,null,null,null,null,null,null,null,null,null,null,null,null,null,null,null,null,null,null,null,null,null,null,null,null,null,null,null,null,null,null,null,null,null,null,null,null,null,null,null,null,null,null,null,null,null,null,null,26,{"$f":"IF(D34=\"\",\"\",COUNTIF(F34:DA34,Accueil!$AA$28)&\" / \"&COUNTIF($F$8:$DA$8,\">0\")-(COUNTIF(F34:DA34,Accueil!$AF$26)))","v":""},{"$f":"IF(D34=\"\",\"\",COUNTIF(F34:DA34,Accueil!$AA$26))","v":""},{"$f":"IF(D34=\"\",\"\",COUNTIF($F$8:$DA$8,\">0\")-(COUNTIF(F34:DA34,Accueil!$AF$26)))","v":""},"","",0,{"$f":"IF(ISERROR(VLOOKUP(F34,Accueil!$V$17:$V$22,1,0)),1,0)","v":0},{"$f":"IF(ISERROR(VLOOKUP(G34,Accueil!$V$17:$V$22,1,0)),1,0)","v":0},{"$f":"IF(ISERROR(VLOOKUP(H34,Accueil!$V$17:$V$22,1,0)),1,0)","v":0},{"$f":"IF(ISERROR(VLOOKUP(I34,Accueil!$V$17:$V$22,1,0)),1,0)","v":0},{"$f":"IF(ISERROR(VLOOKUP(J34,Accueil!$V$17:$V$22,1,0)),1,0)","v":0},{"$f":"IF(ISERROR(VLOOKUP(K34,Accueil!$V$17:$V$22,1,0)),1,0)","v":0},{"$f":"IF(ISERROR(VLOOKUP(L34,Accueil!$V$17:$V$22,1,0)),1,0)","v":0},{"$f":"IF(ISERROR(VLOOKUP(M34,Accueil!$V$17:$V$22,1,0)),1,0)","v":0},{"$f":"IF(ISERROR(VLOOKUP(N34,Accueil!$V$17:$V$22,1,0)),1,0)","v":0},{"$f":"IF(ISERROR(VLOOKUP(O34,Accueil!$V$17:$V$22,1,0)),1,0)","v":0},{"$f":"IF(ISERROR(VLOOKUP(P34,Accueil!$V$17:$V$22,1,0)),1,0)","v":0},{"$f":"IF(ISERROR(VLOOKUP(Q34,Accueil!$V$17:$V$22,1,0)),1,0)","v":0},{"$f":"IF(ISERROR(VLOOKUP(R34,Accueil!$V$17:$V$22,1,0)),1,0)","v":0},{"$f":"IF(ISERROR(VLOOKUP(S34,Accueil!$V$17:$V$22,1,0)),1,0)","v":0},{"$f":"IF(ISERROR(VLOOKUP(T34,Accueil!$V$17:$V$22,1,0)),1,0)","v":0},{"$f":"IF(ISERROR(VLOOKUP(U34,Accueil!$V$17:$V$22,1,0)),1,0)","v":0},{"$f":"IF(ISERROR(VLOOKUP(V34,Accueil!$V$17:$V$22,1,0)),1,0)","v":0},{"$f":"IF(ISERROR(VLOOKUP(W34,Accueil!$V$17:$V$22,1,0)),1,0)","v":0},{"$f":"IF(ISERROR(VLOOKUP(X34,Accueil!$V$17:$V$22,1,0)),1,0)","v":0},{"$f":"IF(ISERROR(VLOOKUP(Y34,Accueil!$V$17:$V$22,1,0)),1,0)","v":0},{"$f":"IF(ISERROR(VLOOKUP(Z34,Accueil!$V$17:$V$22,1,0)),1,0)","v":0},{"$f":"IF(ISERROR(VLOOKUP(AA34,Accueil!$V$17:$V$22,1,0)),1,0)","v":0},{"$f":"IF(ISERROR(VLOOKUP(AB34,Accueil!$V$17:$V$22,1,0)),1,0)","v":0},{"$f":"IF(ISERROR(VLOOKUP(AC34,Accueil!$V$17:$V$22,1,0)),1,0)","v":0},{"$f":"IF(ISERROR(VLOOKUP(AD34,Accueil!$V$17:$V$22,1,0)),1,0)","v":0},{"$f":"IF(ISERROR(VLOOKUP(AE34,Accueil!$V$17:$V$22,1,0)),1,0)","v":0},{"$f":"IF(ISERROR(VLOOKUP(AF34,Accueil!$V$17:$V$22,1,0)),1,0)","v":0},{"$f":"IF(ISERROR(VLOOKUP(AG34,Accueil!$V$17:$V$22,1,0)),1,0)","v":0},{"$f":"IF(ISERROR(VLOOKUP(AH34,Accueil!$V$17:$V$22,1,0)),1,0)","v":0},{"$f":"IF(ISERROR(VLOOKUP(AI34,Accueil!$V$17:$V$22,1,0)),1,0)","v":0},{"$f":"IF(ISERROR(VLOOKUP(AJ34,Accueil!$V$17:$V$22,1,0)),1,0)","v":0},{"$f":"IF(ISERROR(VLOOKUP(AK34,Accueil!$V$17:$V$22,1,0)),1,0)","v":0},{"$f":"IF(ISERROR(VLOOKUP(AL34,Accueil!$V$17:$V$22,1,0)),1,0)","v":0},{"$f":"IF(ISERROR(VLOOKUP(AM34,Accueil!$V$17:$V$22,1,0)),1,0)","v":0},{"$f":"IF(ISERROR(VLOOKUP(AN34,Accueil!$V$17:$V$22,1,0)),1,0)","v":0},{"$f":"IF(ISERROR(VLOOKUP(AO34,Accueil!$V$17:$V$22,1,0)),1,0)","v":0},{"$f":"IF(ISERROR(VLOOKUP(AP34,Accueil!$V$17:$V$22,1,0)),1,0)","v":0},{"$f":"IF(ISERROR(VLOOKUP(AQ34,Accueil!$V$17:$V$22,1,0)),1,0)","v":0},{"$f":"IF(ISERROR(VLOOKUP(AR34,Accueil!$V$17:$V$22,1,0)),1,0)","v":0},{"$f":"IF(ISERROR(VLOOKUP(AS34,Accueil!$V$17:$V$22,1,0)),1,0)","v":0},{"$f":"IF(ISERROR(VLOOKUP(AT34,Accueil!$V$17:$V$22,1,0)),1,0)","v":0},{"$f":"IF(ISERROR(VLOOKUP(AU34,Accueil!$V$17:$V$22,1,0)),1,0)","v":0},{"$f":"IF(ISERROR(VLOOKUP(AV34,Accueil!$V$17:$V$22,1,0)),1,0)","v":0},{"$f":"IF(ISERROR(VLOOKUP(AW34,Accueil!$V$17:$V$22,1,0)),1,0)","v":0},{"$f":"IF(ISERROR(VLOOKUP(AX34,Accueil!$V$17:$V$22,1,0)),1,0)","v":0},{"$f":"IF(ISERROR(VLOOKUP(AY34,Accueil!$V$17:$V$22,1,0)),1,0)","v":0},{"$f":"IF(ISERROR(VLOOKUP(AZ34,Accueil!$V$17:$V$22,1,0)),1,0)","v":0},{"$f":"IF(ISERROR(VLOOKUP(BA34,Accueil!$V$17:$V$22,1,0)),1,0)","v":0},{"$f":"IF(ISERROR(VLOOKUP(BB34,Accueil!$V$17:$V$22,1,0)),1,0)","v":0},{"$f":"IF(ISERROR(VLOOKUP(BC34,Accueil!$V$17:$V$22,1,0)),1,0)","v":0},{"$f":"IF(ISERROR(VLOOKUP(BD34,Accueil!$V$17:$V$22,1,0)),1,0)","v":0},{"$f":"IF(ISERROR(VLOOKUP(BE34,Accueil!$V$17:$V$22,1,0)),1,0)","v":0},{"$f":"IF(ISERROR(VLOOKUP(BF34,Accueil!$V$17:$V$22,1,0)),1,0)","v":0},{"$f":"IF(ISERROR(VLOOKUP(BG34,Accueil!$V$17:$V$22,1,0)),1,0)","v":0},{"$f":"IF(ISERROR(VLOOKUP(BH34,Accueil!$V$17:$V$22,1,0)),1,0)","v":0},{"$f":"IF(ISERROR(VLOOKUP(BI34,Accueil!$V$17:$V$22,1,0)),1,0)","v":0},{"$f":"IF(ISERROR(VLOOKUP(BJ34,Accueil!$V$17:$V$22,1,0)),1,0)","v":0},{"$f":"IF(ISERROR(VLOOKUP(BK34,Accueil!$V$17:$V$22,1,0)),1,0)","v":0},{"$f":"IF(ISERROR(VLOOKUP(BL34,Accueil!$V$17:$V$22,1,0)),1,0)","v":0},{"$f":"IF(ISERROR(VLOOKUP(BM34,Accueil!$V$17:$V$22,1,0)),1,0)","v":0},{"$f":"IF(ISERROR(VLOOKUP(BN34,Accueil!$V$17:$V$22,1,0)),1,0)","v":0},{"$f":"IF(ISERROR(VLOOKUP(BO34,Accueil!$V$17:$V$22,1,0)),1,0)","v":0},{"$f":"IF(ISERROR(VLOOKUP(BP34,Accueil!$V$17:$V$22,1,0)),1,0)","v":0},{"$f":"IF(ISERROR(VLOOKUP(BQ34,Accueil!$V$17:$V$22,1,0)),1,0)","v":0},{"$f":"IF(ISERROR(VLOOKUP(BR34,Accueil!$V$17:$V$22,1,0)),1,0)","v":0},{"$f":"IF(ISERROR(VLOOKUP(BS34,Accueil!$V$17:$V$22,1,0)),1,0)","v":0},{"$f":"IF(ISERROR(VLOOKUP(BT34,Accueil!$V$17:$V$22,1,0)),1,0)","v":0},{"$f":"IF(ISERROR(VLOOKUP(BU34,Accueil!$V$17:$V$22,1,0)),1,0)","v":0},{"$f":"IF(ISERROR(VLOOKUP(BV34,Accueil!$V$17:$V$22,1,0)),1,0)","v":0},{"$f":"IF(ISERROR(VLOOKUP(BW34,Accueil!$V$17:$V$22,1,0)),1,0)","v":0},{"$f":"IF(ISERROR(VLOOKUP(BX34,Accueil!$V$17:$V$22,1,0)),1,0)","v":0},{"$f":"IF(ISERROR(VLOOKUP(BY34,Accueil!$V$17:$V$22,1,0)),1,0)","v":0},{"$f":"IF(ISERROR(VLOOKUP(BZ34,Accueil!$V$17:$V$22,1,0)),1,0)","v":0},{"$f":"IF(ISERROR(VLOOKUP(CA34,Accueil!$V$17:$V$22,1,0)),1,0)","v":0},{"$f":"IF(ISERROR(VLOOKUP(CB34,Accueil!$V$17:$V$22,1,0)),1,0)","v":0},{"$f":"IF(ISERROR(VLOOKUP(CC34,Accueil!$V$17:$V$22,1,0)),1,0)","v":0},{"$f":"IF(ISERROR(VLOOKUP(CD34,Accueil!$V$17:$V$22,1,0)),1,0)","v":0},{"$f":"IF(ISERROR(VLOOKUP(CE34,Accueil!$V$17:$V$22,1,0)),1,0)","v":0},{"$f":"IF(ISERROR(VLOOKUP(CF34,Accueil!$V$17:$V$22,1,0)),1,0)","v":0},{"$f":"IF(ISERROR(VLOOKUP(CG34,Accueil!$V$17:$V$22,1,0)),1,0)","v":0},{"$f":"IF(ISERROR(VLOOKUP(CH34,Accueil!$V$17:$V$22,1,0)),1,0)","v":0},{"$f":"IF(ISERROR(VLOOKUP(CI34,Accueil!$V$17:$V$22,1,0)),1,0)","v":0},{"$f":"IF(ISERROR(VLOOKUP(CJ34,Accueil!$V$17:$V$22,1,0)),1,0)","v":0},{"$f":"IF(ISERROR(VLOOKUP(CK34,Accueil!$V$17:$V$22,1,0)),1,0)","v":0},{"$f":"IF(ISERROR(VLOOKUP(CL34,Accueil!$V$17:$V$22,1,0)),1,0)","v":0},{"$f":"IF(ISERROR(VLOOKUP(CM34,Accueil!$V$17:$V$22,1,0)),1,0)","v":0},{"$f":"IF(ISERROR(VLOOKUP(CN34,Accueil!$V$17:$V$22,1,0)),1,0)","v":0},{"$f":"IF(ISERROR(VLOOKUP(CO34,Accueil!$V$17:$V$22,1,0)),1,0)","v":0},{"$f":"IF(ISERROR(VLOOKUP(CP34,Accueil!$V$17:$V$22,1,0)),1,0)","v":0},{"$f":"IF(ISERROR(VLOOKUP(CQ34,Accueil!$V$17:$V$22,1,0)),1,0)","v":0},{"$f":"IF(ISERROR(VLOOKUP(CR34,Accueil!$V$17:$V$22,1,0)),1,0)","v":0},{"$f":"IF(ISERROR(VLOOKUP(CS34,Accueil!$V$17:$V$22,1,0)),1,0)","v":0},{"$f":"IF(ISERROR(VLOOKUP(CT34,Accueil!$V$17:$V$22,1,0)),1,0)","v":0},{"$f":"IF(ISERROR(VLOOKUP(CU34,Accueil!$V$17:$V$22,1,0)),1,0)","v":0},{"$f":"IF(ISERROR(VLOOKUP(CV34,Accueil!$V$17:$V$22,1,0)),1,0)","v":0},{"$f":"IF(ISERROR(VLOOKUP(CW34,Accueil!$V$17:$V$22,1,0)),1,0)","v":0},{"$f":"IF(ISERROR(VLOOKUP(CX34,Accueil!$V$17:$V$22,1,0)),1,0)","v":0},{"$f":"IF(ISERROR(VLOOKUP(CY34,Accueil!$V$17:$V$22,1,0)),1,0)","v":0},{"$f":"IF(ISERROR(VLOOKUP(CZ34,Accueil!$V$17:$V$22,1,0)),1,0)","v":0},{"$f":"IF(ISERROR(VLOOKUP(DA34,Accueil!$V$17:$V$22,1,0)),1,0)","v":0}]
[null,27,{"$f":"IF(Accueil!E39=\"\",\"\",Accueil!E39)","v":""},{"$f":"IF(Accueil!F39=\"\",\"\",Accueil!F39)","v":""},"",null,null,null,null,null,null,null,null,null,null,null,null,null,null,null,null,null,null,null,null,null,null,null,null,null,null,null,null,null,null,null,null,null,null,null,null,null,null,null,null,null,null,null,null,null,null,null,null,null,null,null,null,null,null,null,null,null,null,null,null,null,null,null,null,null,null,null,null,null,null,null,null,null,null,null,null,null,null,null,null,null,null,null,null,null,null,null,null,null,null,null,null,null,null,null,null,null,null,null,null,27,{"$f":"IF(D35=\"\",\"\",COUNTIF(F35:DA35,Accueil!$AA$28)&\" / \"&COUNTIF($F$8:$DA$8,\">0\")-(COUNTIF(F35:DA35,Accueil!$AF$26)))","v":""},{"$f":"IF(D35=\"\",\"\",COUNTIF(F35:DA35,Accueil!$AA$26))","v":""},{"$f":"IF(D35=\"\",\"\",COUNTIF($F$8:$DA$8,\">0\")-(COUNTIF(F35:DA35,Accueil!$AF$26)))","v":""},"","",0,{"$f":"IF(ISERROR(VLOOKUP(F35,Accueil!$V$17:$V$22,1,0)),1,0)","v":0},{"$f":"IF(ISERROR(VLOOKUP(G35,Accueil!$V$17:$V$22,1,0)),1,0)","v":0},{"$f":"IF(ISERROR(VLOOKUP(H35,Accueil!$V$17:$V$22,1,0)),1,0)","v":0},{"$f":"IF(ISERROR(VLOOKUP(I35,Accueil!$V$17:$V$22,1,0)),1,0)","v":0},{"$f":"IF(ISERROR(VLOOKUP(J35,Accueil!$V$17:$V$22,1,0)),1,0)","v":0},{"$f":"IF(ISERROR(VLOOKUP(K35,Accueil!$V$17:$V$22,1,0)),1,0)","v":0},{"$f":"IF(ISERROR(VLOOKUP(L35,Accueil!$V$17:$V$22,1,0)),1,0)","v":0},{"$f":"IF(ISERROR(VLOOKUP(M35,Accueil!$V$17:$V$22,1,0)),1,0)","v":0},{"$f":"IF(ISERROR(VLOOKUP(N35,Accueil!$V$17:$V$22,1,0)),1,0)","v":0},{"$f":"IF(ISERROR(VLOOKUP(O35,Accueil!$V$17:$V$22,1,0)),1,0)","v":0},{"$f":"IF(ISERROR(VLOOKUP(P35,Accueil!$V$17:$V$22,1,0)),1,0)","v":0},{"$f":"IF(ISERROR(VLOOKUP(Q35,Accueil!$V$17:$V$22,1,0)),1,0)","v":0},{"$f":"IF(ISERROR(VLOOKUP(R35,Accueil!$V$17:$V$22,1,0)),1,0)","v":0},{"$f":"IF(ISERROR(VLOOKUP(S35,Accueil!$V$17:$V$22,1,0)),1,0)","v":0},{"$f":"IF(ISERROR(VLOOKUP(T35,Accueil!$V$17:$V$22,1,0)),1,0)","v":0},{"$f":"IF(ISERROR(VLOOKUP(U35,Accueil!$V$17:$V$22,1,0)),1,0)","v":0},{"$f":"IF(ISERROR(VLOOKUP(V35,Accueil!$V$17:$V$22,1,0)),1,0)","v":0},{"$f":"IF(ISERROR(VLOOKUP(W35,Accueil!$V$17:$V$22,1,0)),1,0)","v":0},{"$f":"IF(ISERROR(VLOOKUP(X35,Accueil!$V$17:$V$22,1,0)),1,0)","v":0},{"$f":"IF(ISERROR(VLOOKUP(Y35,Accueil!$V$17:$V$22,1,0)),1,0)","v":0},{"$f":"IF(ISERROR(VLOOKUP(Z35,Accueil!$V$17:$V$22,1,0)),1,0)","v":0},{"$f":"IF(ISERROR(VLOOKUP(AA35,Accueil!$V$17:$V$22,1,0)),1,0)","v":0},{"$f":"IF(ISERROR(VLOOKUP(AB35,Accueil!$V$17:$V$22,1,0)),1,0)","v":0},{"$f":"IF(ISERROR(VLOOKUP(AC35,Accueil!$V$17:$V$22,1,0)),1,0)","v":0},{"$f":"IF(ISERROR(VLOOKUP(AD35,Accueil!$V$17:$V$22,1,0)),1,0)","v":0},{"$f":"IF(ISERROR(VLOOKUP(AE35,Accueil!$V$17:$V$22,1,0)),1,0)","v":0},{"$f":"IF(ISERROR(VLOOKUP(AF35,Accueil!$V$17:$V$22,1,0)),1,0)","v":0},{"$f":"IF(ISERROR(VLOOKUP(AG35,Accueil!$V$17:$V$22,1,0)),1,0)","v":0},{"$f":"IF(ISERROR(VLOOKUP(AH35,Accueil!$V$17:$V$22,1,0)),1,0)","v":0},{"$f":"IF(ISERROR(VLOOKUP(AI35,Accueil!$V$17:$V$22,1,0)),1,0)","v":0},{"$f":"IF(ISERROR(VLOOKUP(AJ35,Accueil!$V$17:$V$22,1,0)),1,0)","v":0},{"$f":"IF(ISERROR(VLOOKUP(AK35,Accueil!$V$17:$V$22,1,0)),1,0)","v":0},{"$f":"IF(ISERROR(VLOOKUP(AL35,Accueil!$V$17:$V$22,1,0)),1,0)","v":0},{"$f":"IF(ISERROR(VLOOKUP(AM35,Accueil!$V$17:$V$22,1,0)),1,0)","v":0},{"$f":"IF(ISERROR(VLOOKUP(AN35,Accueil!$V$17:$V$22,1,0)),1,0)","v":0},{"$f":"IF(ISERROR(VLOOKUP(AO35,Accueil!$V$17:$V$22,1,0)),1,0)","v":0},{"$f":"IF(ISERROR(VLOOKUP(AP35,Accueil!$V$17:$V$22,1,0)),1,0)","v":0},{"$f":"IF(ISERROR(VLOOKUP(AQ35,Accueil!$V$17:$V$22,1,0)),1,0)","v":0},{"$f":"IF(ISERROR(VLOOKUP(AR35,Accueil!$V$17:$V$22,1,0)),1,0)","v":0},{"$f":"IF(ISERROR(VLOOKUP(AS35,Accueil!$V$17:$V$22,1,0)),1,0)","v":0},{"$f":"IF(ISERROR(VLOOKUP(AT35,Accueil!$V$17:$V$22,1,0)),1,0)","v":0},{"$f":"IF(ISERROR(VLOOKUP(AU35,Accueil!$V$17:$V$22,1,0)),1,0)","v":0},{"$f":"IF(ISERROR(VLOOKUP(AV35,Accueil!$V$17:$V$22,1,0)),1,0)","v":0},{"$f":"IF(ISERROR(VLOOKUP(AW35,Accueil!$V$17:$V$22,1,0)),1,0)","v":0},{"$f":"IF(ISERROR(VLOOKUP(AX35,Accueil!$V$17:$V$22,1,0)),1,0)","v":0},{"$f":"IF(ISERROR(VLOOKUP(AY35,Accueil!$V$17:$V$22,1,0)),1,0)","v":0},{"$f":"IF(ISERROR(VLOOKUP(AZ35,Accueil!$V$17:$V$22,1,0)),1,0)","v":0},{"$f":"IF(ISERROR(VLOOKUP(BA35,Accueil!$V$17:$V$22,1,0)),1,0)","v":0},{"$f":"IF(ISERROR(VLOOKUP(BB35,Accueil!$V$17:$V$22,1,0)),1,0)","v":0},{"$f":"IF(ISERROR(VLOOKUP(BC35,Accueil!$V$17:$V$22,1,0)),1,0)","v":0},{"$f":"IF(ISERROR(VLOOKUP(BD35,Accueil!$V$17:$V$22,1,0)),1,0)","v":0},{"$f":"IF(ISERROR(VLOOKUP(BE35,Accueil!$V$17:$V$22,1,0)),1,0)","v":0},{"$f":"IF(ISERROR(VLOOKUP(BF35,Accueil!$V$17:$V$22,1,0)),1,0)","v":0},{"$f":"IF(ISERROR(VLOOKUP(BG35,Accueil!$V$17:$V$22,1,0)),1,0)","v":0},{"$f":"IF(ISERROR(VLOOKUP(BH35,Accueil!$V$17:$V$22,1,0)),1,0)","v":0},{"$f":"IF(ISERROR(VLOOKUP(BI35,Accueil!$V$17:$V$22,1,0)),1,0)","v":0},{"$f":"IF(ISERROR(VLOOKUP(BJ35,Accueil!$V$17:$V$22,1,0)),1,0)","v":0},{"$f":"IF(ISERROR(VLOOKUP(BK35,Accueil!$V$17:$V$22,1,0)),1,0)","v":0},{"$f":"IF(ISERROR(VLOOKUP(BL35,Accueil!$V$17:$V$22,1,0)),1,0)","v":0},{"$f":"IF(ISERROR(VLOOKUP(BM35,Accueil!$V$17:$V$22,1,0)),1,0)","v":0},{"$f":"IF(ISERROR(VLOOKUP(BN35,Accueil!$V$17:$V$22,1,0)),1,0)","v":0},{"$f":"IF(ISERROR(VLOOKUP(BO35,Accueil!$V$17:$V$22,1,0)),1,0)","v":0},{"$f":"IF(ISERROR(VLOOKUP(BP35,Accueil!$V$17:$V$22,1,0)),1,0)","v":0},{"$f":"IF(ISERROR(VLOOKUP(BQ35,Accueil!$V$17:$V$22,1,0)),1,0)","v":0},{"$f":"IF(ISERROR(VLOOKUP(BR35,Accueil!$V$17:$V$22,1,0)),1,0)","v":0},{"$f":"IF(ISERROR(VLOOKUP(BS35,Accueil!$V$17:$V$22,1,0)),1,0)","v":0},{"$f":"IF(ISERROR(VLOOKUP(BT35,Accueil!$V$17:$V$22,1,0)),1,0)","v":0},{"$f":"IF(ISERROR(VLOOKUP(BU35,Accueil!$V$17:$V$22,1,0)),1,0)","v":0},{"$f":"IF(ISERROR(VLOOKUP(BV35,Accueil!$V$17:$V$22,1,0)),1,0)","v":0},{"$f":"IF(ISERROR(VLOOKUP(BW35,Accueil!$V$17:$V$22,1,0)),1,0)","v":0},{"$f":"IF(ISERROR(VLOOKUP(BX35,Accueil!$V$17:$V$22,1,0)),1,0)","v":0},{"$f":"IF(ISERROR(VLOOKUP(BY35,Accueil!$V$17:$V$22,1,0)),1,0)","v":0},{"$f":"IF(ISERROR(VLOOKUP(BZ35,Accueil!$V$17:$V$22,1,0)),1,0)","v":0},{"$f":"IF(ISERROR(VLOOKUP(CA35,Accueil!$V$17:$V$22,1,0)),1,0)","v":0},{"$f":"IF(ISERROR(VLOOKUP(CB35,Accueil!$V$17:$V$22,1,0)),1,0)","v":0},{"$f":"IF(ISERROR(VLOOKUP(CC35,Accueil!$V$17:$V$22,1,0)),1,0)","v":0},{"$f":"IF(ISERROR(VLOOKUP(CD35,Accueil!$V$17:$V$22,1,0)),1,0)","v":0},{"$f":"IF(ISERROR(VLOOKUP(CE35,Accueil!$V$17:$V$22,1,0)),1,0)","v":0},{"$f":"IF(ISERROR(VLOOKUP(CF35,Accueil!$V$17:$V$22,1,0)),1,0)","v":0},{"$f":"IF(ISERROR(VLOOKUP(CG35,Accueil!$V$17:$V$22,1,0)),1,0)","v":0},{"$f":"IF(ISERROR(VLOOKUP(CH35,Accueil!$V$17:$V$22,1,0)),1,0)","v":0},{"$f":"IF(ISERROR(VLOOKUP(CI35,Accueil!$V$17:$V$22,1,0)),1,0)","v":0},{"$f":"IF(ISERROR(VLOOKUP(CJ35,Accueil!$V$17:$V$22,1,0)),1,0)","v":0},{"$f":"IF(ISERROR(VLOOKUP(CK35,Accueil!$V$17:$V$22,1,0)),1,0)","v":0},{"$f":"IF(ISERROR(VLOOKUP(CL35,Accueil!$V$17:$V$22,1,0)),1,0)","v":0},{"$f":"IF(ISERROR(VLOOKUP(CM35,Accueil!$V$17:$V$22,1,0)),1,0)","v":0},{"$f":"IF(ISERROR(VLOOKUP(CN35,Accueil!$V$17:$V$22,1,0)),1,0)","v":0},{"$f":"IF(ISERROR(VLOOKUP(CO35,Accueil!$V$17:$V$22,1,0)),1,0)","v":0},{"$f":"IF(ISERROR(VLOOKUP(CP35,Accueil!$V$17:$V$22,1,0)),1,0)","v":0},{"$f":"IF(ISERROR(VLOOKUP(CQ35,Accueil!$V$17:$V$22,1,0)),1,0)","v":0},{"$f":"IF(ISERROR(VLOOKUP(CR35,Accueil!$V$17:$V$22,1,0)),1,0)","v":0},{"$f":"IF(ISERROR(VLOOKUP(CS35,Accueil!$V$17:$V$22,1,0)),1,0)","v":0},{"$f":"IF(ISERROR(VLOOKUP(CT35,Accueil!$V$17:$V$22,1,0)),1,0)","v":0},{"$f":"IF(ISERROR(VLOOKUP(CU35,Accueil!$V$17:$V$22,1,0)),1,0)","v":0},{"$f":"IF(ISERROR(VLOOKUP(CV35,Accueil!$V$17:$V$22,1,0)),1,0)","v":0},{"$f":"IF(ISERROR(VLOOKUP(CW35,Accueil!$V$17:$V$22,1,0)),1,0)","v":0},{"$f":"IF(ISERROR(VLOOKUP(CX35,Accueil!$V$17:$V$22,1,0)),1,0)","v":0},{"$f":"IF(ISERROR(VLOOKUP(CY35,Accueil!$V$17:$V$22,1,0)),1,0)","v":0},{"$f":"IF(ISERROR(VLOOKUP(CZ35,Accueil!$V$17:$V$22,1,0)),1,0)","v":0},{"$f":"IF(ISERROR(VLOOKUP(DA35,Accueil!$V$17:$V$22,1,0)),1,0)","v":0}]
[null,28,{"$f":"IF(Accueil!E40=\"\",\"\",Accueil!E40)","v":""},{"$f":"IF(Accueil!F40=\"\",\"\",Accueil!F40)","v":""},"",null,null,null,null,null,null,null,null,null,null,null,null,null,null,null,null,null,null,null,null,null,null,null,null,null,null,null,null,null,null,null,null,null,null,null,null,null,null,null,null,null,null,null,null,null,null,null,null,null,null,null,null,null,null,null,null,null,null,null,null,null,null,null,null,null,null,null,null,null,null,null,null,null,null,null,null,null,null,null,null,null,null,null,null,null,null,null,null,null,null,null,null,null,null,null,null,null,null,null,null,28,{"$f":"IF(D36=\"\",\"\",COUNTIF(F36:DA36,Accueil!$AA$28)&\" / \"&COUNTIF($F$8:$DA$8,\">0\")-(COUNTIF(F36:DA36,Accueil!$AF$26)))","v":""},{"$f":"IF(D36=\"\",\"\",COUNTIF(F36:DA36,Accueil!$AA$26))","v":""},{"$f":"IF(D36=\"\",\"\",COUNTIF($F$8:$DA$8,\">0\")-(COUNTIF(F36:DA36,Accueil!$AF$26)))","v":""},"","",0,{"$f":"IF(ISERROR(VLOOKUP(F36,Accueil!$V$17:$V$22,1,0)),1,0)","v":0},{"$f":"IF(ISERROR(VLOOKUP(G36,Accueil!$V$17:$V$22,1,0)),1,0)","v":0},{"$f":"IF(ISERROR(VLOOKUP(H36,Accueil!$V$17:$V$22,1,0)),1,0)","v":0},{"$f":"IF(ISERROR(VLOOKUP(I36,Accueil!$V$17:$V$22,1,0)),1,0)","v":0},{"$f":"IF(ISERROR(VLOOKUP(J36,Accueil!$V$17:$V$22,1,0)),1,0)","v":0},{"$f":"IF(ISERROR(VLOOKUP(K36,Accueil!$V$17:$V$22,1,0)),1,0)","v":0},{"$f":"IF(ISERROR(VLOOKUP(L36,Accueil!$V$17:$V$22,1,0)),1,0)","v":0},{"$f":"IF(ISERROR(VLOOKUP(M36,Accueil!$V$17:$V$22,1,0)),1,0)","v":0},{"$f":"IF(ISERROR(VLOOKUP(N36,Accueil!$V$17:$V$22,1,0)),1,0)","v":0},{"$f":"IF(ISERROR(VLOOKUP(O36,Accueil!$V$17:$V$22,1,0)),1,0)","v":0},{"$f":"IF(ISERROR(VLOOKUP(P36,Accueil!$V$17:$V$22,1,0)),1,0)","v":0},{"$f":"IF(ISERROR(VLOOKUP(Q36,Accueil!$V$17:$V$22,1,0)),1,0)","v":0},{"$f":"IF(ISERROR(VLOOKUP(R36,Accueil!$V$17:$V$22,1,0)),1,0)","v":0},{"$f":"IF(ISERROR(VLOOKUP(S36,Accueil!$V$17:$V$22,1,0)),1,0)","v":0},{"$f":"IF(ISERROR(VLOOKUP(T36,Accueil!$V$17:$V$22,1,0)),1,0)","v":0},{"$f":"IF(ISERROR(VLOOKUP(U36,Accueil!$V$17:$V$22,1,0)),1,0)","v":0},{"$f":"IF(ISERROR(VLOOKUP(V36,Accueil!$V$17:$V$22,1,0)),1,0)","v":0},{"$f":"IF(ISERROR(VLOOKUP(W36,Accueil!$V$17:$V$22,1,0)),1,0)","v":0},{"$f":"IF(ISERROR(VLOOKUP(X36,Accueil!$V$17:$V$22,1,0)),1,0)","v":0},{"$f":"IF(ISERROR(VLOOKUP(Y36,Accueil!$V$17:$V$22,1,0)),1,0)","v":0},{"$f":"IF(ISERROR(VLOOKUP(Z36,Accueil!$V$17:$V$22,1,0)),1,0)","v":0},{"$f":"IF(ISERROR(VLOOKUP(AA36,Accueil!$V$17:$V$22,1,0)),1,0)","v":0},{"$f":"IF(ISERROR(VLOOKUP(AB36,Accueil!$V$17:$V$22,1,0)),1,0)","v":0},{"$f":"IF(ISERROR(VLOOKUP(AC36,Accueil!$V$17:$V$22,1,0)),1,0)","v":0},{"$f":"IF(ISERROR(VLOOKUP(AD36,Accueil!$V$17:$V$22,1,0)),1,0)","v":0},{"$f":"IF(ISERROR(VLOOKUP(AE36,Accueil!$V$17:$V$22,1,0)),1,0)","v":0},{"$f":"IF(ISERROR(VLOOKUP(AF36,Accueil!$V$17:$V$22,1,0)),1,0)","v":0},{"$f":"IF(ISERROR(VLOOKUP(AG36,Accueil!$V$17:$V$22,1,0)),1,0)","v":0},{"$f":"IF(ISERROR(VLOOKUP(AH36,Accueil!$V$17:$V$22,1,0)),1,0)","v":0},{"$f":"IF(ISERROR(VLOOKUP(AI36,Accueil!$V$17:$V$22,1,0)),1,0)","v":0},{"$f":"IF(ISERROR(VLOOKUP(AJ36,Accueil!$V$17:$V$22,1,0)),1,0)","v":0},{"$f":"IF(ISERROR(VLOOKUP(AK36,Accueil!$V$17:$V$22,1,0)),1,0)","v":0},{"$f":"IF(ISERROR(VLOOKUP(AL36,Accueil!$V$17:$V$22,1,0)),1,0)","v":0},{"$f":"IF(ISERROR(VLOOKUP(AM36,Accueil!$V$17:$V$22,1,0)),1,0)","v":0},{"$f":"IF(ISERROR(VLOOKUP(AN36,Accueil!$V$17:$V$22,1,0)),1,0)","v":0},{"$f":"IF(ISERROR(VLOOKUP(AO36,Accueil!$V$17:$V$22,1,0)),1,0)","v":0},{"$f":"IF(ISERROR(VLOOKUP(AP36,Accueil!$V$17:$V$22,1,0)),1,0)","v":0},{"$f":"IF(ISERROR(VLOOKUP(AQ36,Accueil!$V$17:$V$22,1,0)),1,0)","v":0},{"$f":"IF(ISERROR(VLOOKUP(AR36,Accueil!$V$17:$V$22,1,0)),1,0)","v":0},{"$f":"IF(ISERROR(VLOOKUP(AS36,Accueil!$V$17:$V$22,1,0)),1,0)","v":0},{"$f":"IF(ISERROR(VLOOKUP(AT36,Accueil!$V$17:$V$22,1,0)),1,0)","v":0},{"$f":"IF(ISERROR(VLOOKUP(AU36,Accueil!$V$17:$V$22,1,0)),1,0)","v":0},{"$f":"IF(ISERROR(VLOOKUP(AV36,Accueil!$V$17:$V$22,1,0)),1,0)","v":0},{"$f":"IF(ISERROR(VLOOKUP(AW36,Accueil!$V$17:$V$22,1,0)),1,0)","v":0},{"$f":"IF(ISERROR(VLOOKUP(AX36,Accueil!$V$17:$V$22,1,0)),1,0)","v":0},{"$f":"IF(ISERROR(VLOOKUP(AY36,Accueil!$V$17:$V$22,1,0)),1,0)","v":0},{"$f":"IF(ISERROR(VLOOKUP(AZ36,Accueil!$V$17:$V$22,1,0)),1,0)","v":0},{"$f":"IF(ISERROR(VLOOKUP(BA36,Accueil!$V$17:$V$22,1,0)),1,0)","v":0},{"$f":"IF(ISERROR(VLOOKUP(BB36,Accueil!$V$17:$V$22,1,0)),1,0)","v":0},{"$f":"IF(ISERROR(VLOOKUP(BC36,Accueil!$V$17:$V$22,1,0)),1,0)","v":0},{"$f":"IF(ISERROR(VLOOKUP(BD36,Accueil!$V$17:$V$22,1,0)),1,0)","v":0},{"$f":"IF(ISERROR(VLOOKUP(BE36,Accueil!$V$17:$V$22,1,0)),1,0)","v":0},{"$f":"IF(ISERROR(VLOOKUP(BF36,Accueil!$V$17:$V$22,1,0)),1,0)","v":0},{"$f":"IF(ISERROR(VLOOKUP(BG36,Accueil!$V$17:$V$22,1,0)),1,0)","v":0},{"$f":"IF(ISERROR(VLOOKUP(BH36,Accueil!$V$17:$V$22,1,0)),1,0)","v":0},{"$f":"IF(ISERROR(VLOOKUP(BI36,Accueil!$V$17:$V$22,1,0)),1,0)","v":0},{"$f":"IF(ISERROR(VLOOKUP(BJ36,Accueil!$V$17:$V$22,1,0)),1,0)","v":0},{"$f":"IF(ISERROR(VLOOKUP(BK36,Accueil!$V$17:$V$22,1,0)),1,0)","v":0},{"$f":"IF(ISERROR(VLOOKUP(BL36,Accueil!$V$17:$V$22,1,0)),1,0)","v":0},{"$f":"IF(ISERROR(VLOOKUP(BM36,Accueil!$V$17:$V$22,1,0)),1,0)","v":0},{"$f":"IF(ISERROR(VLOOKUP(BN36,Accueil!$V$17:$V$22,1,0)),1,0)","v":0},{"$f":"IF(ISERROR(VLOOKUP(BO36,Accueil!$V$17:$V$22,1,0)),1,0)","v":0},{"$f":"IF(ISERROR(VLOOKUP(BP36,Accueil!$V$17:$V$22,1,0)),1,0)","v":0},{"$f":"IF(ISERROR(VLOOKUP(BQ36,Accueil!$V$17:$V$22,1,0)),1,0)","v":0},{"$f":"IF(ISERROR(VLOOKUP(BR36,Accueil!$V$17:$V$22,1,0)),1,0)","v":0},{"$f":"IF(ISERROR(VLOOKUP(BS36,Accueil!$V$17:$V$22,1,0)),1,0)","v":0},{"$f":"IF(ISERROR(VLOOKUP(BT36,Accueil!$V$17:$V$22,1,0)),1,0)","v":0},{"$f":"IF(ISERROR(VLOOKUP(BU36,Accueil!$V$17:$V$22,1,0)),1,0)","v":0},{"$f":"IF(ISERROR(VLOOKUP(BV36,Accueil!$V$17:$V$22,1,0)),1,0)","v":0},{"$f":"IF(ISERROR(VLOOKUP(BW36,Accueil!$V$17:$V$22,1,0)),1,0)","v":0},{"$f":"IF(ISERROR(VLOOKUP(BX36,Accueil!$V$17:$V$22,1,0)),1,0)","v":0},{"$f":"IF(ISERROR(VLOOKUP(BY36,Accueil!$V$17:$V$22,1,0)),1,0)","v":0},{"$f":"IF(ISERROR(VLOOKUP(BZ36,Accueil!$V$17:$V$22,1,0)),1,0)","v":0},{"$f":"IF(ISERROR(VLOOKUP(CA36,Accueil!$V$17:$V$22,1,0)),1,0)","v":0},{"$f":"IF(ISERROR(VLOOKUP(CB36,Accueil!$V$17:$V$22,1,0)),1,0)","v":0},{"$f":"IF(ISERROR(VLOOKUP(CC36,Accueil!$V$17:$V$22,1,0)),1,0)","v":0},{"$f":"IF(ISERROR(VLOOKUP(CD36,Accueil!$V$17:$V$22,1,0)),1,0)","v":0},{"$f":"IF(ISERROR(VLOOKUP(CE36,Accueil!$V$17:$V$22,1,0)),1,0)","v":0},{"$f":"IF(ISERROR(VLOOKUP(CF36,Accueil!$V$17:$V$22,1,0)),1,0)","v":0},{"$f":"IF(ISERROR(VLOOKUP(CG36,Accueil!$V$17:$V$22,1,0)),1,0)","v":0},{"$f":"IF(ISERROR(VLOOKUP(CH36,Accueil!$V$17:$V$22,1,0)),1,0)","v":0},{"$f":"IF(ISERROR(VLOOKUP(CI36,Accueil!$V$17:$V$22,1,0)),1,0)","v":0},{"$f":"IF(ISERROR(VLOOKUP(CJ36,Accueil!$V$17:$V$22,1,0)),1,0)","v":0},{"$f":"IF(ISERROR(VLOOKUP(CK36,Accueil!$V$17:$V$22,1,0)),1,0)","v":0},{"$f":"IF(ISERROR(VLOOKUP(CL36,Accueil!$V$17:$V$22,1,0)),1,0)","v":0},{"$f":"IF(ISERROR(VLOOKUP(CM36,Accueil!$V$17:$V$22,1,0)),1,0)","v":0},{"$f":"IF(ISERROR(VLOOKUP(CN36,Accueil!$V$17:$V$22,1,0)),1,0)","v":0},{"$f":"IF(ISERROR(VLOOKUP(CO36,Accueil!$V$17:$V$22,1,0)),1,0)","v":0},{"$f":"IF(ISERROR(VLOOKUP(CP36,Accueil!$V$17:$V$22,1,0)),1,0)","v":0},{"$f":"IF(ISERROR(VLOOKUP(CQ36,Accueil!$V$17:$V$22,1,0)),1,0)","v":0},{"$f":"IF(ISERROR(VLOOKUP(CR36,Accueil!$V$17:$V$22,1,0)),1,0)","v":0},{"$f":"IF(ISERROR(VLOOKUP(CS36,Accueil!$V$17:$V$22,1,0)),1,0)","v":0},{"$f":"IF(ISERROR(VLOOKUP(CT36,Accueil!$V$17:$V$22,1,0)),1,0)","v":0},{"$f":"IF(ISERROR(VLOOKUP(CU36,Accueil!$V$17:$V$22,1,0)),1,0)","v":0},{"$f":"IF(ISERROR(VLOOKUP(CV36,Accueil!$V$17:$V$22,1,0)),1,0)","v":0},{"$f":"IF(ISERROR(VLOOKUP(CW36,Accueil!$V$17:$V$22,1,0)),1,0)","v":0},{"$f":"IF(ISERROR(VLOOKUP(CX36,Accueil!$V$17:$V$22,1,0)),1,0)","v":0},{"$f":"IF(ISERROR(VLOOKUP(CY36,Accueil!$V$17:$V$22,1,0)),1,0)","v":0},{"$f":"IF(ISERROR(VLOOKUP(CZ36,Accueil!$V$17:$V$22,1,0)),1,0)","v":0},{"$f":"IF(ISERROR(VLOOKUP(DA36,Accueil!$V$17:$V$22,1,0)),1,0)","v":0}]
[null,29,{"$f":"IF(Accueil!E41=\"\",\"\",Accueil!E41)","v":""},{"$f":"IF(Accueil!F41=\"\",\"\",Accueil!F41)","v":""},"",null,null,null,null,null,null,null,null,null,null,null,null,null,null,null,null,null,null,null,null,null,null,null,null,null,null,null,null,null,null,null,null,null,null,null,null,null,null,null,null,null,null,null,null,null,null,null,null,null,null,null,null,null,null,null,null,null,null,null,null,null,null,null,null,null,null,null,null,null,null,null,null,null,null,null,null,null,null,null,null,null,null,null,null,null,null,null,null,null,null,null,null,null,null,null,null,null,null,null,null,29,{"$f":"IF(D37=\"\",\"\",COUNTIF(F37:DA37,Accueil!$AA$28)&\" / \"&COUNTIF($F$8:$DA$8,\">0\")-(COUNTIF(F37:DA37,Accueil!$AF$26)))","v":""},{"$f":"IF(D37=\"\",\"\",COUNTIF(F37:DA37,Accueil!$AA$26))","v":""},{"$f":"IF(D37=\"\",\"\",COUNTIF($F$8:$DA$8,\">0\")-(COUNTIF(F37:DA37,Accueil!$AF$26)))","v":""},"","",0,{"$f":"IF(ISERROR(VLOOKUP(F37,Accueil!$V$17:$V$22,1,0)),1,0)","v":0},{"$f":"IF(ISERROR(VLOOKUP(G37,Accueil!$V$17:$V$22,1,0)),1,0)","v":0},{"$f":"IF(ISERROR(VLOOKUP(H37,Accueil!$V$17:$V$22,1,0)),1,0)","v":0},{"$f":"IF(ISERROR(VLOOKUP(I37,Accueil!$V$17:$V$22,1,0)),1,0)","v":0},{"$f":"IF(ISERROR(VLOOKUP(J37,Accueil!$V$17:$V$22,1,0)),1,0)","v":0},{"$f":"IF(ISERROR(VLOOKUP(K37,Accueil!$V$17:$V$22,1,0)),1,0)","v":0},{"$f":"IF(ISERROR(VLOOKUP(L37,Accueil!$V$17:$V$22,1,0)),1,0)","v":0},{"$f":"IF(ISERROR(VLOOKUP(M37,Accueil!$V$17:$V$22,1,0)),1,0)","v":0},{"$f":"IF(ISERROR(VLOOKUP(N37,Accueil!$V$17:$V$22,1,0)),1,0)","v":0},{"$f":"IF(ISERROR(VLOOKUP(O37,Accueil!$V$17:$V$22,1,0)),1,0)","v":0},{"$f":"IF(ISERROR(VLOOKUP(P37,Accueil!$V$17:$V$22,1,0)),1,0)","v":0},{"$f":"IF(ISERROR(VLOOKUP(Q37,Accueil!$V$17:$V$22,1,0)),1,0)","v":0},{"$f":"IF(ISERROR(VLOOKUP(R37,Accueil!$V$17:$V$22,1,0)),1,0)","v":0},{"$f":"IF(ISERROR(VLOOKUP(S37,Accueil!$V$17:$V$22,1,0)),1,0)","v":0},{"$f":"IF(ISERROR(VLOOKUP(T37,Accueil!$V$17:$V$22,1,0)),1,0)","v":0},{"$f":"IF(ISERROR(VLOOKUP(U37,Accueil!$V$17:$V$22,1,0)),1,0)","v":0},{"$f":"IF(ISERROR(VLOOKUP(V37,Accueil!$V$17:$V$22,1,0)),1,0)","v":0},{"$f":"IF(ISERROR(VLOOKUP(W37,Accueil!$V$17:$V$22,1,0)),1,0)","v":0},{"$f":"IF(ISERROR(VLOOKUP(X37,Accueil!$V$17:$V$22,1,0)),1,0)","v":0},{"$f":"IF(ISERROR(VLOOKUP(Y37,Accueil!$V$17:$V$22,1,0)),1,0)","v":0},{"$f":"IF(ISERROR(VLOOKUP(Z37,Accueil!$V$17:$V$22,1,0)),1,0)","v":0},{"$f":"IF(ISERROR(VLOOKUP(AA37,Accueil!$V$17:$V$22,1,0)),1,0)","v":0},{"$f":"IF(ISERROR(VLOOKUP(AB37,Accueil!$V$17:$V$22,1,0)),1,0)","v":0},{"$f":"IF(ISERROR(VLOOKUP(AC37,Accueil!$V$17:$V$22,1,0)),1,0)","v":0},{"$f":"IF(ISERROR(VLOOKUP(AD37,Accueil!$V$17:$V$22,1,0)),1,0)","v":0},{"$f":"IF(ISERROR(VLOOKUP(AE37,Accueil!$V$17:$V$22,1,0)),1,0)","v":0},{"$f":"IF(ISERROR(VLOOKUP(AF37,Accueil!$V$17:$V$22,1,0)),1,0)","v":0},{"$f":"IF(ISERROR(VLOOKUP(AG37,Accueil!$V$17:$V$22,1,0)),1,0)","v":0},{"$f":"IF(ISERROR(VLOOKUP(AH37,Accueil!$V$17:$V$22,1,0)),1,0)","v":0},{"$f":"IF(ISERROR(VLOOKUP(AI37,Accueil!$V$17:$V$22,1,0)),1,0)","v":0},{"$f":"IF(ISERROR(VLOOKUP(AJ37,Accueil!$V$17:$V$22,1,0)),1,0)","v":0},{"$f":"IF(ISERROR(VLOOKUP(AK37,Accueil!$V$17:$V$22,1,0)),1,0)","v":0},{"$f":"IF(ISERROR(VLOOKUP(AL37,Accueil!$V$17:$V$22,1,0)),1,0)","v":0},{"$f":"IF(ISERROR(VLOOKUP(AM37,Accueil!$V$17:$V$22,1,0)),1,0)","v":0},{"$f":"IF(ISERROR(VLOOKUP(AN37,Accueil!$V$17:$V$22,1,0)),1,0)","v":0},{"$f":"IF(ISERROR(VLOOKUP(AO37,Accueil!$V$17:$V$22,1,0)),1,0)","v":0},{"$f":"IF(ISERROR(VLOOKUP(AP37,Accueil!$V$17:$V$22,1,0)),1,0)","v":0},{"$f":"IF(ISERROR(VLOOKUP(AQ37,Accueil!$V$17:$V$22,1,0)),1,0)","v":0},{"$f":"IF(ISERROR(VLOOKUP(AR37,Accueil!$V$17:$V$22,1,0)),1,0)","v":0},{"$f":"IF(ISERROR(VLOOKUP(AS37,Accueil!$V$17:$V$22,1,0)),1,0)","v":0},{"$f":"IF(ISERROR(VLOOKUP(AT37,Accueil!$V$17:$V$22,1,0)),1,0)","v":0},{"$f":"IF(ISERROR(VLOOKUP(AU37,Accueil!$V$17:$V$22,1,0)),1,0)","v":0},{"$f":"IF(ISERROR(VLOOKUP(AV37,Accueil!$V$17:$V$22,1,0)),1,0)","v":0},{"$f":"IF(ISERROR(VLOOKUP(AW37,Accueil!$V$17:$V$22,1,0)),1,0)","v":0},{"$f":"IF(ISERROR(VLOOKUP(AX37,Accueil!$V$17:$V$22,1,0)),1,0)","v":0},{"$f":"IF(ISERROR(VLOOKUP(AY37,Accueil!$V$17:$V$22,1,0)),1,0)","v":0},{"$f":"IF(ISERROR(VLOOKUP(AZ37,Accueil!$V$17:$V$22,1,0)),1,0)","v":0},{"$f":"IF(ISERROR(VLOOKUP(BA37,Accueil!$V$17:$V$22,1,0)),1,0)","v":0},{"$f":"IF(ISERROR(VLOOKUP(BB37,Accueil!$V$17:$V$22,1,0)),1,0)","v":0},{"$f":"IF(ISERROR(VLOOKUP(BC37,Accueil!$V$17:$V$22,1,0)),1,0)","v":0},{"$f":"IF(ISERROR(VLOOKUP(BD37,Accueil!$V$17:$V$22,1,0)),1,0)","v":0},{"$f":"IF(ISERROR(VLOOKUP(BE37,Accueil!$V$17:$V$22,1,0)),1,0)","v":0},{"$f":"IF(ISERROR(VLOOKUP(BF37,Accueil!$V$17:$V$22,1,0)),1,0)","v":0},{"$f":"IF(ISERROR(VLOOKUP(BG37,Accueil!$V$17:$V$22,1,0)),1,0)","v":0},{"$f":"IF(ISERROR(VLOOKUP(BH37,Accueil!$V$17:$V$22,1,0)),1,0)","v":0},{"$f":"IF(ISERROR(VLOOKUP(BI37,Accueil!$V$17:$V$22,1,0)),1,0)","v":0},{"$f":"IF(ISERROR(VLOOKUP(BJ37,Accueil!$V$17:$V$22,1,0)),1,0)","v":0},{"$f":"IF(ISERROR(VLOOKUP(BK37,Accueil!$V$17:$V$22,1,0)),1,0)","v":0},{"$f":"IF(ISERROR(VLOOKUP(BL37,Accueil!$V$17:$V$22,1,0)),1,0)","v":0},{"$f":"IF(ISERROR(VLOOKUP(BM37,Accueil!$V$17:$V$22,1,0)),1,0)","v":0},{"$f":"IF(ISERROR(VLOOKUP(BN37,Accueil!$V$17:$V$22,1,0)),1,0)","v":0},{"$f":"IF(ISERROR(VLOOKUP(BO37,Accueil!$V$17:$V$22,1,0)),1,0)","v":0},{"$f":"IF(ISERROR(VLOOKUP(BP37,Accueil!$V$17:$V$22,1,0)),1,0)","v":0},{"$f":"IF(ISERROR(VLOOKUP(BQ37,Accueil!$V$17:$V$22,1,0)),1,0)","v":0},{"$f":"IF(ISERROR(VLOOKUP(BR37,Accueil!$V$17:$V$22,1,0)),1,0)","v":0},{"$f":"IF(ISERROR(VLOOKUP(BS37,Accueil!$V$17:$V$22,1,0)),1,0)","v":0},{"$f":"IF(ISERROR(VLOOKUP(BT37,Accueil!$V$17:$V$22,1,0)),1,0)","v":0},{"$f":"IF(ISERROR(VLOOKUP(BU37,Accueil!$V$17:$V$22,1,0)),1,0)","v":0},{"$f":"IF(ISERROR(VLOOKUP(BV37,Accueil!$V$17:$V$22,1,0)),1,0)","v":0},{"$f":"IF(ISERROR(VLOOKUP(BW37,Accueil!$V$17:$V$22,1,0)),1,0)","v":0},{"$f":"IF(ISERROR(VLOOKUP(BX37,Accueil!$V$17:$V$22,1,0)),1,0)","v":0},{"$f":"IF(ISERROR(VLOOKUP(BY37,Accueil!$V$17:$V$22,1,0)),1,0)","v":0},{"$f":"IF(ISERROR(VLOOKUP(BZ37,Accueil!$V$17:$V$22,1,0)),1,0)","v":0},{"$f":"IF(ISERROR(VLOOKUP(CA37,Accueil!$V$17:$V$22,1,0)),1,0)","v":0},{"$f":"IF(ISERROR(VLOOKUP(CB37,Accueil!$V$17:$V$22,1,0)),1,0)","v":0},{"$f":"IF(ISERROR(VLOOKUP(CC37,Accueil!$V$17:$V$22,1,0)),1,0)","v":0},{"$f":"IF(ISERROR(VLOOKUP(CD37,Accueil!$V$17:$V$22,1,0)),1,0)","v":0},{"$f":"IF(ISERROR(VLOOKUP(CE37,Accueil!$V$17:$V$22,1,0)),1,0)","v":0},{"$f":"IF(ISERROR(VLOOKUP(CF37,Accueil!$V$17:$V$22,1,0)),1,0)","v":0},{"$f":"IF(ISERROR(VLOOKUP(CG37,Accueil!$V$17:$V$22,1,0)),1,0)","v":0},{"$f":"IF(ISERROR(VLOOKUP(CH37,Accueil!$V$17:$V$22,1,0)),1,0)","v":0},{"$f":"IF(ISERROR(VLOOKUP(CI37,Accueil!$V$17:$V$22,1,0)),1,0)","v":0},{"$f":"IF(ISERROR(VLOOKUP(CJ37,Accueil!$V$17:$V$22,1,0)),1,0)","v":0},{"$f":"IF(ISERROR(VLOOKUP(CK37,Accueil!$V$17:$V$22,1,0)),1,0)","v":0},{"$f":"IF(ISERROR(VLOOKUP(CL37,Accueil!$V$17:$V$22,1,0)),1,0)","v":0},{"$f":"IF(ISERROR(VLOOKUP(CM37,Accueil!$V$17:$V$22,1,0)),1,0)","v":0},{"$f":"IF(ISERROR(VLOOKUP(CN37,Accueil!$V$17:$V$22,1,0)),1,0)","v":0},{"$f":"IF(ISERROR(VLOOKUP(CO37,Accueil!$V$17:$V$22,1,0)),1,0)","v":0},{"$f":"IF(ISERROR(VLOOKUP(CP37,Accueil!$V$17:$V$22,1,0)),1,0)","v":0},{"$f":"IF(ISERROR(VLOOKUP(CQ37,Accueil!$V$17:$V$22,1,0)),1,0)","v":0},{"$f":"IF(ISERROR(VLOOKUP(CR37,Accueil!$V$17:$V$22,1,0)),1,0)","v":0},{"$f":"IF(ISERROR(VLOOKUP(CS37,Accueil!$V$17:$V$22,1,0)),1,0)","v":0},{"$f":"IF(ISERROR(VLOOKUP(CT37,Accueil!$V$17:$V$22,1,0)),1,0)","v":0},{"$f":"IF(ISERROR(VLOOKUP(CU37,Accueil!$V$17:$V$22,1,0)),1,0)","v":0},{"$f":"IF(ISERROR(VLOOKUP(CV37,Accueil!$V$17:$V$22,1,0)),1,0)","v":0},{"$f":"IF(ISERROR(VLOOKUP(CW37,Accueil!$V$17:$V$22,1,0)),1,0)","v":0},{"$f":"IF(ISERROR(VLOOKUP(CX37,Accueil!$V$17:$V$22,1,0)),1,0)","v":0},{"$f":"IF(ISERROR(VLOOKUP(CY37,Accueil!$V$17:$V$22,1,0)),1,0)","v":0},{"$f":"IF(ISERROR(VLOOKUP(CZ37,Accueil!$V$17:$V$22,1,0)),1,0)","v":0},{"$f":"IF(ISERROR(VLOOKUP(DA37,Accueil!$V$17:$V$22,1,0)),1,0)","v":0}]
[null,30,{"$f":"IF(Accueil!E42=\"\",\"\",Accueil!E42)","v":""},{"$f":"IF(Accueil!F42=\"\",\"\",Accueil!F42)","v":""},"",null,null,null,null,null,null,null,null,null,null,null,null,null,null,null,null,null,null,null,null,null,null,null,null,null,null,null,null,null,null,null,null,null,null,null,null,null,null,null,null,null,null,null,null,null,null,null,null,null,null,null,null,null,null,null,null,null,null,null,null,null,null,null,null,null,null,null,null,null,null,null,null,null,null,null,null,null,null,null,null,null,null,null,null,null,null,null,null,null,null,null,null,null,null,null,null,null,null,null,null,30,{"$f":"IF(D38=\"\",\"\",COUNTIF(F38:DA38,Accueil!$AA$28)&\" / \"&COUNTIF($F$8:$DA$8,\">0\")-(COUNTIF(F38:DA38,Accueil!$AF$26)))","v":""},{"$f":"IF(D38=\"\",\"\",COUNTIF(F38:DA38,Accueil!$AA$26))","v":""},{"$f":"IF(D38=\"\",\"\",COUNTIF($F$8:$DA$8,\">0\")-(COUNTIF(F38:DA38,Accueil!$AF$26)))","v":""},"","",0,{"$f":"IF(ISERROR(VLOOKUP(F38,Accueil!$V$17:$V$22,1,0)),1,0)","v":0},{"$f":"IF(ISERROR(VLOOKUP(G38,Accueil!$V$17:$V$22,1,0)),1,0)","v":0},{"$f":"IF(ISERROR(VLOOKUP(H38,Accueil!$V$17:$V$22,1,0)),1,0)","v":0},{"$f":"IF(ISERROR(VLOOKUP(I38,Accueil!$V$17:$V$22,1,0)),1,0)","v":0},{"$f":"IF(ISERROR(VLOOKUP(J38,Accueil!$V$17:$V$22,1,0)),1,0)","v":0},{"$f":"IF(ISERROR(VLOOKUP(K38,Accueil!$V$17:$V$22,1,0)),1,0)","v":0},{"$f":"IF(ISERROR(VLOOKUP(L38,Accueil!$V$17:$V$22,1,0)),1,0)","v":0},{"$f":"IF(ISERROR(VLOOKUP(M38,Accueil!$V$17:$V$22,1,0)),1,0)","v":0},{"$f":"IF(ISERROR(VLOOKUP(N38,Accueil!$V$17:$V$22,1,0)),1,0)","v":0},{"$f":"IF(ISERROR(VLOOKUP(O38,Accueil!$V$17:$V$22,1,0)),1,0)","v":0},{"$f":"IF(ISERROR(VLOOKUP(P38,Accueil!$V$17:$V$22,1,0)),1,0)","v":0},{"$f":"IF(ISERROR(VLOOKUP(Q38,Accueil!$V$17:$V$22,1,0)),1,0)","v":0},{"$f":"IF(ISERROR(VLOOKUP(R38,Accueil!$V$17:$V$22,1,0)),1,0)","v":0},{"$f":"IF(ISERROR(VLOOKUP(S38,Accueil!$V$17:$V$22,1,0)),1,0)","v":0},{"$f":"IF(ISERROR(VLOOKUP(T38,Accueil!$V$17:$V$22,1,0)),1,0)","v":0},{"$f":"IF(ISERROR(VLOOKUP(U38,Accueil!$V$17:$V$22,1,0)),1,0)","v":0},{"$f":"IF(ISERROR(VLOOKUP(V38,Accueil!$V$17:$V$22,1,0)),1,0)","v":0},{"$f":"IF(ISERROR(VLOOKUP(W38,Accueil!$V$17:$V$22,1,0)),1,0)","v":0},{"$f":"IF(ISERROR(VLOOKUP(X38,Accueil!$V$17:$V$22,1,0)),1,0)","v":0},{"$f":"IF(ISERROR(VLOOKUP(Y38,Accueil!$V$17:$V$22,1,0)),1,0)","v":0},{"$f":"IF(ISERROR(VLOOKUP(Z38,Accueil!$V$17:$V$22,1,0)),1,0)","v":0},{"$f":"IF(ISERROR(VLOOKUP(AA38,Accueil!$V$17:$V$22,1,0)),1,0)","v":0},{"$f":"IF(ISERROR(VLOOKUP(AB38,Accueil!$V$17:$V$22,1,0)),1,0)","v":0},{"$f":"IF(ISERROR(VLOOKUP(AC38,Accueil!$V$17:$V$22,1,0)),1,0)","v":0},{"$f":"IF(ISERROR(VLOOKUP(AD38,Accueil!$V$17:$V$22,1,0)),1,0)","v":0},{"$f":"IF(ISERROR(VLOOKUP(AE38,Accueil!$V$17:$V$22,1,0)),1,0)","v":0},{"$f":"IF(ISERROR(VLOOKUP(AF38,Accueil!$V$17:$V$22,1,0)),1,0)","v":0},{"$f":"IF(ISERROR(VLOOKUP(AG38,Accueil!$V$17:$V$22,1,0)),1,0)","v":0},{"$f":"IF(ISERROR(VLOOKUP(AH38,Accueil!$V$17:$V$22,1,0)),1,0)","v":0},{"$f":"IF(ISERROR(VLOOKUP(AI38,Accueil!$V$17:$V$22,1,0)),1,0)","v":0},{"$f":"IF(ISERROR(VLOOKUP(AJ38,Accueil!$V$17:$V$22,1,0)),1,0)","v":0},{"$f":"IF(ISERROR(VLOOKUP(AK38,Accueil!$V$17:$V$22,1,0)),1,0)","v":0},{"$f":"IF(ISERROR(VLOOKUP(AL38,Accueil!$V$17:$V$22,1,0)),1,0)","v":0},{"$f":"IF(ISERROR(VLOOKUP(AM38,Accueil!$V$17:$V$22,1,0)),1,0)","v":0},{"$f":"IF(ISERROR(VLOOKUP(AN38,Accueil!$V$17:$V$22,1,0)),1,0)","v":0},{"$f":"IF(ISERROR(VLOOKUP(AO38,Accueil!$V$17:$V$22,1,0)),1,0)","v":0},{"$f":"IF(ISERROR(VLOOKUP(AP38,Accueil!$V$17:$V$22,1,0)),1,0)","v":0},{"$f":"IF(ISERROR(VLOOKUP(AQ38,Accueil!$V$17:$V$22,1,0)),1,0)","v":0},{"$f":"IF(ISERROR(VLOOKUP(AR38,Accueil!$V$17:$V$22,1,0)),1,0)","v":0},{"$f":"IF(ISERROR(VLOOKUP(AS38,Accueil!$V$17:$V$22,1,0)),1,0)","v":0},{"$f":"IF(ISERROR(VLOOKUP(AT38,Accueil!$V$17:$V$22,1,0)),1,0)","v":0},{"$f":"IF(ISERROR(VLOOKUP(AU38,Accueil!$V$17:$V$22,1,0)),1,0)","v":0},{"$f":"IF(ISERROR(VLOOKUP(AV38,Accueil!$V$17:$V$22,1,0)),1,0)","v":0},{"$f":"IF(ISERROR(VLOOKUP(AW38,Accueil!$V$17:$V$22,1,0)),1,0)","v":0},{"$f":"IF(ISERROR(VLOOKUP(AX38,Accueil!$V$17:$V$22,1,0)),1,0)","v":0},{"$f":"IF(ISERROR(VLOOKUP(AY38,Accueil!$V$17:$V$22,1,0)),1,0)","v":0},{"$f":"IF(ISERROR(VLOOKUP(AZ38,Accueil!$V$17:$V$22,1,0)),1,0)","v":0},{"$f":"IF(ISERROR(VLOOKUP(BA38,Accueil!$V$17:$V$22,1,0)),1,0)","v":0},{"$f":"IF(ISERROR(VLOOKUP(BB38,Accueil!$V$17:$V$22,1,0)),1,0)","v":0},{"$f":"IF(ISERROR(VLOOKUP(BC38,Accueil!$V$17:$V$22,1,0)),1,0)","v":0},{"$f":"IF(ISERROR(VLOOKUP(BD38,Accueil!$V$17:$V$22,1,0)),1,0)","v":0},{"$f":"IF(ISERROR(VLOOKUP(BE38,Accueil!$V$17:$V$22,1,0)),1,0)","v":0},{"$f":"IF(ISERROR(VLOOKUP(BF38,Accueil!$V$17:$V$22,1,0)),1,0)","v":0},{"$f":"IF(ISERROR(VLOOKUP(BG38,Accueil!$V$17:$V$22,1,0)),1,0)","v":0},{"$f":"IF(ISERROR(VLOOKUP(BH38,Accueil!$V$17:$V$22,1,0)),1,0)","v":0},{"$f":"IF(ISERROR(VLOOKUP(BI38,Accueil!$V$17:$V$22,1,0)),1,0)","v":0},{"$f":"IF(ISERROR(VLOOKUP(BJ38,Accueil!$V$17:$V$22,1,0)),1,0)","v":0},{"$f":"IF(ISERROR(VLOOKUP(BK38,Accueil!$V$17:$V$22,1,0)),1,0)","v":0},{"$f":"IF(ISERROR(VLOOKUP(BL38,Accueil!$V$17:$V$22,1,0)),1,0)","v":0},{"$f":"IF(ISERROR(VLOOKUP(BM38,Accueil!$V$17:$V$22,1,0)),1,0)","v":0},{"$f":"IF(ISERROR(VLOOKUP(BN38,Accueil!$V$17:$V$22,1,0)),1,0)","v":0},{"$f":"IF(ISERROR(VLOOKUP(BO38,Accueil!$V$17:$V$22,1,0)),1,0)","v":0},{"$f":"IF(ISERROR(VLOOKUP(BP38,Accueil!$V$17:$V$22,1,0)),1,0)","v":0},{"$f":"IF(ISERROR(VLOOKUP(BQ38,Accueil!$V$17:$V$22,1,0)),1,0)","v":0},{"$f":"IF(ISERROR(VLOOKUP(BR38,Accueil!$V$17:$V$22,1,0)),1,0)","v":0},{"$f":"IF(ISERROR(VLOOKUP(BS38,Accueil!$V$17:$V$22,1,0)),1,0)","v":0},{"$f":"IF(ISERROR(VLOOKUP(BT38,Accueil!$V$17:$V$22,1,0)),1,0)","v":0},{"$f":"IF(ISERROR(VLOOKUP(BU38,Accueil!$V$17:$V$22,1,0)),1,0)","v":0},{"$f":"IF(ISERROR(VLOOKUP(BV38,Accueil!$V$17:$V$22,1,0)),1,0)","v":0},{"$f":"IF(ISERROR(VLOOKUP(BW38,Accueil!$V$17:$V$22,1,0)),1,0)","v":0},{"$f":"IF(ISERROR(VLOOKUP(BX38,Accueil!$V$17:$V$22,1,0)),1,0)","v":0},{"$f":"IF(ISERROR(VLOOKUP(BY38,Accueil!$V$17:$V$22,1,0)),1,0)","v":0},{"$f":"IF(ISERROR(VLOOKUP(BZ38,Accueil!$V$17:$V$22,1,0)),1,0)","v":0},{"$f":"IF(ISERROR(VLOOKUP(CA38,Accueil!$V$17:$V$22,1,0)),1,0)","v":0},{"$f":"IF(ISERROR(VLOOKUP(CB38,Accueil!$V$17:$V$22,1,0)),1,0)","v":0},{"$f":"IF(ISERROR(VLOOKUP(CC38,Accueil!$V$17:$V$22,1,0)),1,0)","v":0},{"$f":"IF(ISERROR(VLOOKUP(CD38,Accueil!$V$17:$V$22,1,0)),1,0)","v":0},{"$f":"IF(ISERROR(VLOOKUP(CE38,Accueil!$V$17:$V$22,1,0)),1,0)","v":0},{"$f":"IF(ISERROR(VLOOKUP(CF38,Accueil!$V$17:$V$22,1,0)),1,0)","v":0},{"$f":"IF(ISERROR(VLOOKUP(CG38,Accueil!$V$17:$V$22,1,0)),1,0)","v":0},{"$f":"IF(ISERROR(VLOOKUP(CH38,Accueil!$V$17:$V$22,1,0)),1,0)","v":0},{"$f":"IF(ISERROR(VLOOKUP(CI38,Accueil!$V$17:$V$22,1,0)),1,0)","v":0},{"$f":"IF(ISERROR(VLOOKUP(CJ38,Accueil!$V$17:$V$22,1,0)),1,0)","v":0},{"$f":"IF(ISERROR(VLOOKUP(CK38,Accueil!$V$17:$V$22,1,0)),1,0)","v":0},{"$f":"IF(ISERROR(VLOOKUP(CL38,Accueil!$V$17:$V$22,1,0)),1,0)","v":0},{"$f":"IF(ISERROR(VLOOKUP(CM38,Accueil!$V$17:$V$22,1,0)),1,0)","v":0},{"$f":"IF(ISERROR(VLOOKUP(CN38,Accueil!$V$17:$V$22,1,0)),1,0)","v":0},{"$f":"IF(ISERROR(VLOOKUP(CO38,Accueil!$V$17:$V$22,1,0)),1,0)","v":0},{"$f":"IF(ISERROR(VLOOKUP(CP38,Accueil!$V$17:$V$22,1,0)),1,0)","v":0},{"$f":"IF(ISERROR(VLOOKUP(CQ38,Accueil!$V$17:$V$22,1,0)),1,0)","v":0},{"$f":"IF(ISERROR(VLOOKUP(CR38,Accueil!$V$17:$V$22,1,0)),1,0)","v":0},{"$f":"IF(ISERROR(VLOOKUP(CS38,Accueil!$V$17:$V$22,1,0)),1,0)","v":0},{"$f":"IF(ISERROR(VLOOKUP(CT38,Accueil!$V$17:$V$22,1,0)),1,0)","v":0},{"$f":"IF(ISERROR(VLOOKUP(CU38,Accueil!$V$17:$V$22,1,0)),1,0)","v":0},{"$f":"IF(ISERROR(VLOOKUP(CV38,Accueil!$V$17:$V$22,1,0)),1,0)","v":0},{"$f":"IF(ISERROR(VLOOKUP(CW38,Accueil!$V$17:$V$22,1,0)),1,0)","v":0},{"$f":"IF(ISERROR(VLOOKUP(CX38,Accueil!$V$17:$V$22,1,0)),1,0)","v":0},{"$f":"IF(ISERROR(VLOOKUP(CY38,Accueil!$V$17:$V$22,1,0)),1,0)","v":0},{"$f":"IF(ISERROR(VLOOKUP(CZ38,Accueil!$V$17:$V$22,1,0)),1,0)","v":0},{"$f":"IF(ISERROR(VLOOKUP(DA38,Accueil!$V$17:$V$22,1,0)),1,0)","v":0}]
[null,31,{"$f":"IF(Accueil!E43=\"\",\"\",Accueil!E43)","v":""},{"$f":"IF(Accueil!F43=\"\",\"\",Accueil!F43)","v":""},"",null,null,null,null,null,null,null,null,null,null,null,null,null,null,null,null,null,null,null,null,null,null,null,null,null,null,null,null,null,null,null,null,null,null,null,null,null,null,null,null,null,null,null,null,null,null,null,null,null,null,null,null,null,null,null,null,null,null,null,null,null,null,null,null,null,null,null,null,null,null,null,null,null,null,null,null,null,null,null,null,null,null,null,null,null,null,null,null,null,null,null,null,null,null,null,null,null,null,null,null,31,{"$f":"IF(D39=\"\",\"\",COUNTIF(F39:DA39,Accueil!$AA$28)&\" / \"&COUNTIF($F$8:$DA$8,\">0\")-(COUNTIF(F39:DA39,Accueil!$AF$26)))","v":""},{"$f":"IF(D39=\"\",\"\",COUNTIF(F39:DA39,Accueil!$AA$26))","v":""},{"$f":"IF(D39=\"\",\"\",COUNTIF($F$8:$DA$8,\">0\")-(COUNTIF(F39:DA39,Accueil!$AF$26)))","v":""},"","",0,{"$f":"IF(ISERROR(VLOOKUP(F39,Accueil!$V$17:$V$22,1,0)),1,0)","v":0},{"$f":"IF(ISERROR(VLOOKUP(G39,Accueil!$V$17:$V$22,1,0)),1,0)","v":0},{"$f":"IF(ISERROR(VLOOKUP(H39,Accueil!$V$17:$V$22,1,0)),1,0)","v":0},{"$f":"IF(ISERROR(VLOOKUP(I39,Accueil!$V$17:$V$22,1,0)),1,0)","v":0},{"$f":"IF(ISERROR(VLOOKUP(J39,Accueil!$V$17:$V$22,1,0)),1,0)","v":0},{"$f":"IF(ISERROR(VLOOKUP(K39,Accueil!$V$17:$V$22,1,0)),1,0)","v":0},{"$f":"IF(ISERROR(VLOOKUP(L39,Accueil!$V$17:$V$22,1,0)),1,0)","v":0},{"$f":"IF(ISERROR(VLOOKUP(M39,Accueil!$V$17:$V$22,1,0)),1,0)","v":0},{"$f":"IF(ISERROR(VLOOKUP(N39,Accueil!$V$17:$V$22,1,0)),1,0)","v":0},{"$f":"IF(ISERROR(VLOOKUP(O39,Accueil!$V$17:$V$22,1,0)),1,0)","v":0},{"$f":"IF(ISERROR(VLOOKUP(P39,Accueil!$V$17:$V$22,1,0)),1,0)","v":0},{"$f":"IF(ISERROR(VLOOKUP(Q39,Accueil!$V$17:$V$22,1,0)),1,0)","v":0},{"$f":"IF(ISERROR(VLOOKUP(R39,Accueil!$V$17:$V$22,1,0)),1,0)","v":0},{"$f":"IF(ISERROR(VLOOKUP(S39,Accueil!$V$17:$V$22,1,0)),1,0)","v":0},{"$f":"IF(ISERROR(VLOOKUP(T39,Accueil!$V$17:$V$22,1,0)),1,0)","v":0},{"$f":"IF(ISERROR(VLOOKUP(U39,Accueil!$V$17:$V$22,1,0)),1,0)","v":0},{"$f":"IF(ISERROR(VLOOKUP(V39,Accueil!$V$17:$V$22,1,0)),1,0)","v":0},{"$f":"IF(ISERROR(VLOOKUP(W39,Accueil!$V$17:$V$22,1,0)),1,0)","v":0},{"$f":"IF(ISERROR(VLOOKUP(X39,Accueil!$V$17:$V$22,1,0)),1,0)","v":0},{"$f":"IF(ISERROR(VLOOKUP(Y39,Accueil!$V$17:$V$22,1,0)),1,0)","v":0},{"$f":"IF(ISERROR(VLOOKUP(Z39,Accueil!$V$17:$V$22,1,0)),1,0)","v":0},{"$f":"IF(ISERROR(VLOOKUP(AA39,Accueil!$V$17:$V$22,1,0)),1,0)","v":0},{"$f":"IF(ISERROR(VLOOKUP(AB39,Accueil!$V$17:$V$22,1,0)),1,0)","v":0},{"$f":"IF(ISERROR(VLOOKUP(AC39,Accueil!$V$17:$V$22,1,0)),1,0)","v":0},{"$f":"IF(ISERROR(VLOOKUP(AD39,Accueil!$V$17:$V$22,1,0)),1,0)","v":0},{"$f":"IF(ISERROR(VLOOKUP(AE39,Accueil!$V$17:$V$22,1,0)),1,0)","v":0},{"$f":"IF(ISERROR(VLOOKUP(AF39,Accueil!$V$17:$V$22,1,0)),1,0)","v":0},{"$f":"IF(ISERROR(VLOOKUP(AG39,Accueil!$V$17:$V$22,1,0)),1,0)","v":0},{"$f":"IF(ISERROR(VLOOKUP(AH39,Accueil!$V$17:$V$22,1,0)),1,0)","v":0},{"$f":"IF(ISERROR(VLOOKUP(AI39,Accueil!$V$17:$V$22,1,0)),1,0)","v":0},{"$f":"IF(ISERROR(VLOOKUP(AJ39,Accueil!$V$17:$V$22,1,0)),1,0)","v":0},{"$f":"IF(ISERROR(VLOOKUP(AK39,Accueil!$V$17:$V$22,1,0)),1,0)","v":0},{"$f":"IF(ISERROR(VLOOKUP(AL39,Accueil!$V$17:$V$22,1,0)),1,0)","v":0},{"$f":"IF(ISERROR(VLOOKUP(AM39,Accueil!$V$17:$V$22,1,0)),1,0)","v":0},{"$f":"IF(ISERROR(VLOOKUP(AN39,Accueil!$V$17:$V$22,1,0)),1,0)","v":0},{"$f":"IF(ISERROR(VLOOKUP(AO39,Accueil!$V$17:$V$22,1,0)),1,0)","v":0},{"$f":"IF(ISERROR(VLOOKUP(AP39,Accueil!$V$17:$V$22,1,0)),1,0)","v":0},{"$f":"IF(ISERROR(VLOOKUP(AQ39,Accueil!$V$17:$V$22,1,0)),1,0)","v":0},{"$f":"IF(ISERROR(VLOOKUP(AR39,Accueil!$V$17:$V$22,1,0)),1,0)","v":0},{"$f":"IF(ISERROR(VLOOKUP(AS39,Accueil!$V$17:$V$22,1,0)),1,0)","v":0},{"$f":"IF(ISERROR(VLOOKUP(AT39,Accueil!$V$17:$V$22,1,0)),1,0)","v":0},{"$f":"IF(ISERROR(VLOOKUP(AU39,Accueil!$V$17:$V$22,1,0)),1,0)","v":0},{"$f":"IF(ISERROR(VLOOKUP(AV39,Accueil!$V$17:$V$22,1,0)),1,0)","v":0},{"$f":"IF(ISERROR(VLOOKUP(AW39,Accueil!$V$17:$V$22,1,0)),1,0)","v":0},{"$f":"IF(ISERROR(VLOOKUP(AX39,Accueil!$V$17:$V$22,1,0)),1,0)","v":0},{"$f":"IF(ISERROR(VLOOKUP(AY39,Accueil!$V$17:$V$22,1,0)),1,0)","v":0},{"$f":"IF(ISERROR(VLOOKUP(AZ39,Accueil!$V$17:$V$22,1,0)),1,0)","v":0},{"$f":"IF(ISERROR(VLOOKUP(BA39,Accueil!$V$17:$V$22,1,0)),1,0)","v":0},{"$f":"IF(ISERROR(VLOOKUP(BB39,Accueil!$V$17:$V$22,1,0)),1,0)","v":0},{"$f":"IF(ISERROR(VLOOKUP(BC39,Accueil!$V$17:$V$22,1,0)),1,0)","v":0},{"$f":"IF(ISERROR(VLOOKUP(BD39,Accueil!$V$17:$V$22,1,0)),1,0)","v":0},{"$f":"IF(ISERROR(VLOOKUP(BE39,Accueil!$V$17:$V$22,1,0)),1,0)","v":0},{"$f":"IF(ISERROR(VLOOKUP(BF39,Accueil!$V$17:$V$22,1,0)),1,0)","v":0},{"$f":"IF(ISERROR(VLOOKUP(BG39,Accueil!$V$17:$V$22,1,0)),1,0)","v":0},{"$f":"IF(ISERROR(VLOOKUP(BH39,Accueil!$V$17:$V$22,1,0)),1,0)","v":0},{"$f":"IF(ISERROR(VLOOKUP(BI39,Accueil!$V$17:$V$22,1,0)),1,0)","v":0},{"$f":"IF(ISERROR(VLOOKUP(BJ39,Accueil!$V$17:$V$22,1,0)),1,0)","v":0},{"$f":"IF(ISERROR(VLOOKUP(BK39,Accueil!$V$17:$V$22,1,0)),1,0)","v":0},{"$f":"IF(ISERROR(VLOOKUP(BL39,Accueil!$V$17:$V$22,1,0)),1,0)","v":0},{"$f":"IF(ISERROR(VLOOKUP(BM39,Accueil!$V$17:$V$22,1,0)),1,0)","v":0},{"$f":"IF(ISERROR(VLOOKUP(BN39,Accueil!$V$17:$V$22,1,0)),1,0)","v":0},{"$f":"IF(ISERROR(VLOOKUP(BO39,Accueil!$V$17:$V$22,1,0)),1,0)","v":0},{"$f":"IF(ISERROR(VLOOKUP(BP39,Accueil!$V$17:$V$22,1,0)),1,0)","v":0},{"$f":"IF(ISERROR(VLOOKUP(BQ39,Accueil!$V$17:$V$22,1,0)),1,0)","v":0},{"$f":"IF(ISERROR(VLOOKUP(BR39,Accueil!$V$17:$V$22,1,0)),1,0)","v":0},{"$f":"IF(ISERROR(VLOOKUP(BS39,Accueil!$V$17:$V$22,1,0)),1,0)","v":0},{"$f":"IF(ISERROR(VLOOKUP(BT39,Accueil!$V$17:$V$22,1,0)),1,0)","v":0},{"$f":"IF(ISERROR(VLOOKUP(BU39,Accueil!$V$17:$V$22,1,0)),1,0)","v":0},{"$f":"IF(ISERROR(VLOOKUP(BV39,Accueil!$V$17:$V$22,1,0)),1,0)","v":0},{"$f":"IF(ISERROR(VLOOKUP(BW39,Accueil!$V$17:$V$22,1,0)),1,0)","v":0},{"$f":"IF(ISERROR(VLOOKUP(BX39,Accueil!$V$17:$V$22,1,0)),1,0)","v":0},{"$f":"IF(ISERROR(VLOOKUP(BY39,Accueil!$V$17:$V$22,1,0)),1,0)","v":0},{"$f":"IF(ISERROR(VLOOKUP(BZ39,Accueil!$V$17:$V$22,1,0)),1,0)","v":0},{"$f":"IF(ISERROR(VLOOKUP(CA39,Accueil!$V$17:$V$22,1,0)),1,0)","v":0},{"$f":"IF(ISERROR(VLOOKUP(CB39,Accueil!$V$17:$V$22,1,0)),1,0)","v":0},{"$f":"IF(ISERROR(VLOOKUP(CC39,Accueil!$V$17:$V$22,1,0)),1,0)","v":0},{"$f":"IF(ISERROR(VLOOKUP(CD39,Accueil!$V$17:$V$22,1,0)),1,0)","v":0},{"$f":"IF(ISERROR(VLOOKUP(CE39,Accueil!$V$17:$V$22,1,0)),1,0)","v":0},{"$f":"IF(ISERROR(VLOOKUP(CF39,Accueil!$V$17:$V$22,1,0)),1,0)","v":0},{"$f":"IF(ISERROR(VLOOKUP(CG39,Accueil!$V$17:$V$22,1,0)),1,0)","v":0},{"$f":"IF(ISERROR(VLOOKUP(CH39,Accueil!$V$17:$V$22,1,0)),1,0)","v":0},{"$f":"IF(ISERROR(VLOOKUP(CI39,Accueil!$V$17:$V$22,1,0)),1,0)","v":0},{"$f":"IF(ISERROR(VLOOKUP(CJ39,Accueil!$V$17:$V$22,1,0)),1,0)","v":0},{"$f":"IF(ISERROR(VLOOKUP(CK39,Accueil!$V$17:$V$22,1,0)),1,0)","v":0},{"$f":"IF(ISERROR(VLOOKUP(CL39,Accueil!$V$17:$V$22,1,0)),1,0)","v":0},{"$f":"IF(ISERROR(VLOOKUP(CM39,Accueil!$V$17:$V$22,1,0)),1,0)","v":0},{"$f":"IF(ISERROR(VLOOKUP(CN39,Accueil!$V$17:$V$22,1,0)),1,0)","v":0},{"$f":"IF(ISERROR(VLOOKUP(CO39,Accueil!$V$17:$V$22,1,0)),1,0)","v":0},{"$f":"IF(ISERROR(VLOOKUP(CP39,Accueil!$V$17:$V$22,1,0)),1,0)","v":0},{"$f":"IF(ISERROR(VLOOKUP(CQ39,Accueil!$V$17:$V$22,1,0)),1,0)","v":0},{"$f":"IF(ISERROR(VLOOKUP(CR39,Accueil!$V$17:$V$22,1,0)),1,0)","v":0},{"$f":"IF(ISERROR(VLOOKUP(CS39,Accueil!$V$17:$V$22,1,0)),1,0)","v":0},{"$f":"IF(ISERROR(VLOOKUP(CT39,Accueil!$V$17:$V$22,1,0)),1,0)","v":0},{"$f":"IF(ISERROR(VLOOKUP(CU39,Accueil!$V$17:$V$22,1,0)),1,0)","v":0},{"$f":"IF(ISERROR(VLOOKUP(CV39,Accueil!$V$17:$V$22,1,0)),1,0)","v":0},{"$f":"IF(ISERROR(VLOOKUP(CW39,Accueil!$V$17:$V$22,1,0)),1,0)","v":0},{"$f":"IF(ISERROR(VLOOKUP(CX39,Accueil!$V$17:$V$22,1,0)),1,0)","v":0},{"$f":"IF(ISERROR(VLOOKUP(CY39,Accueil!$V$17:$V$22,1,0)),1,0)","v":0},{"$f":"IF(ISERROR(VLOOKUP(CZ39,Accueil!$V$17:$V$22,1,0)),1,0)","v":0},{"$f":"IF(ISERROR(VLOOKUP(DA39,Accueil!$V$17:$V$22,1,0)),1,0)","v":0}]
[null,32,{"$f":"IF(Accueil!E44=\"\",\"\",Accueil!E44)","v":""},{"$f":"IF(Accueil!F44=\"\",\"\",Accueil!F44)","v":""},"",null,null,null,null,null,null,null,null,null,null,null,null,null,null,null,null,null,null,null,null,null,null,null,null,null,null,null,null,null,null,null,null,null,null,null,null,null,null,null,null,null,null,null,null,null,null,null,null,null,null,null,null,null,null,null,null,null,null,null,null,null,null,null,null,null,null,null,null,null,null,null,null,null,null,null,null,null,null,null,null,null,null,null,null,null,null,null,null,null,null,null,null,null,null,null,null,null,null,null,null,32,{"$f":"IF(D40=\"\",\"\",COUNTIF(F40:DA40,Accueil!$AA$28)&\" / \"&COUNTIF($F$8:$DA$8,\">0\")-(COUNTIF(F40:DA40,Accueil!$AF$26)))","v":""},{"$f":"IF(D40=\"\",\"\",COUNTIF(F40:DA40,Accueil!$AA$26))","v":""},{"$f":"IF(D40=\"\",\"\",COUNTIF($F$8:$DA$8,\">0\")-(COUNTIF(F40:DA40,Accueil!$AF$26)))","v":""},"","",0,{"$f":"IF(ISERROR(VLOOKUP(F40,Accueil!$V$17:$V$22,1,0)),1,0)","v":0},{"$f":"IF(ISERROR(VLOOKUP(G40,Accueil!$V$17:$V$22,1,0)),1,0)","v":0},{"$f":"IF(ISERROR(VLOOKUP(H40,Accueil!$V$17:$V$22,1,0)),1,0)","v":0},{"$f":"IF(ISERROR(VLOOKUP(I40,Accueil!$V$17:$V$22,1,0)),1,0)","v":0},{"$f":"IF(ISERROR(VLOOKUP(J40,Accueil!$V$17:$V$22,1,0)),1,0)","v":0},{"$f":"IF(ISERROR(VLOOKUP(K40,Accueil!$V$17:$V$22,1,0)),1,0)","v":0},{"$f":"IF(ISERROR(VLOOKUP(L40,Accueil!$V$17:$V$22,1,0)),1,0)","v":0},{"$f":"IF(ISERROR(VLOOKUP(M40,Accueil!$V$17:$V$22,1,0)),1,0)","v":0},{"$f":"IF(ISERROR(VLOOKUP(N40,Accueil!$V$17:$V$22,1,0)),1,0)","v":0},{"$f":"IF(ISERROR(VLOOKUP(O40,Accueil!$V$17:$V$22,1,0)),1,0)","v":0},{"$f":"IF(ISERROR(VLOOKUP(P40,Accueil!$V$17:$V$22,1,0)),1,0)","v":0},{"$f":"IF(ISERROR(VLOOKUP(Q40,Accueil!$V$17:$V$22,1,0)),1,0)","v":0},{"$f":"IF(ISERROR(VLOOKUP(R40,Accueil!$V$17:$V$22,1,0)),1,0)","v":0},{"$f":"IF(ISERROR(VLOOKUP(S40,Accueil!$V$17:$V$22,1,0)),1,0)","v":0},{"$f":"IF(ISERROR(VLOOKUP(T40,Accueil!$V$17:$V$22,1,0)),1,0)","v":0},{"$f":"IF(ISERROR(VLOOKUP(U40,Accueil!$V$17:$V$22,1,0)),1,0)","v":0},{"$f":"IF(ISERROR(VLOOKUP(V40,Accueil!$V$17:$V$22,1,0)),1,0)","v":0},{"$f":"IF(ISERROR(VLOOKUP(W40,Accueil!$V$17:$V$22,1,0)),1,0)","v":0},{"$f":"IF(ISERROR(VLOOKUP(X40,Accueil!$V$17:$V$22,1,0)),1,0)","v":0},{"$f":"IF(ISERROR(VLOOKUP(Y40,Accueil!$V$17:$V$22,1,0)),1,0)","v":0},{"$f":"IF(ISERROR(VLOOKUP(Z40,Accueil!$V$17:$V$22,1,0)),1,0)","v":0},{"$f":"IF(ISERROR(VLOOKUP(AA40,Accueil!$V$17:$V$22,1,0)),1,0)","v":0},{"$f":"IF(ISERROR(VLOOKUP(AB40,Accueil!$V$17:$V$22,1,0)),1,0)","v":0},{"$f":"IF(ISERROR(VLOOKUP(AC40,Accueil!$V$17:$V$22,1,0)),1,0)","v":0},{"$f":"IF(ISERROR(VLOOKUP(AD40,Accueil!$V$17:$V$22,1,0)),1,0)","v":0},{"$f":"IF(ISERROR(VLOOKUP(AE40,Accueil!$V$17:$V$22,1,0)),1,0)","v":0},{"$f":"IF(ISERROR(VLOOKUP(AF40,Accueil!$V$17:$V$22,1,0)),1,0)","v":0},{"$f":"IF(ISERROR(VLOOKUP(AG40,Accueil!$V$17:$V$22,1,0)),1,0)","v":0},{"$f":"IF(ISERROR(VLOOKUP(AH40,Accueil!$V$17:$V$22,1,0)),1,0)","v":0},{"$f":"IF(ISERROR(VLOOKUP(AI40,Accueil!$V$17:$V$22,1,0)),1,0)","v":0},{"$f":"IF(ISERROR(VLOOKUP(AJ40,Accueil!$V$17:$V$22,1,0)),1,0)","v":0},{"$f":"IF(ISERROR(VLOOKUP(AK40,Accueil!$V$17:$V$22,1,0)),1,0)","v":0},{"$f":"IF(ISERROR(VLOOKUP(AL40,Accueil!$V$17:$V$22,1,0)),1,0)","v":0},{"$f":"IF(ISERROR(VLOOKUP(AM40,Accueil!$V$17:$V$22,1,0)),1,0)","v":0},{"$f":"IF(ISERROR(VLOOKUP(AN40,Accueil!$V$17:$V$22,1,0)),1,0)","v":0},{"$f":"IF(ISERROR(VLOOKUP(AO40,Accueil!$V$17:$V$22,1,0)),1,0)","v":0},{"$f":"IF(ISERROR(VLOOKUP(AP40,Accueil!$V$17:$V$22,1,0)),1,0)","v":0},{"$f":"IF(ISERROR(VLOOKUP(AQ40,Accueil!$V$17:$V$22,1,0)),1,0)","v":0},{"$f":"IF(ISERROR(VLOOKUP(AR40,Accueil!$V$17:$V$22,1,0)),1,0)","v":0},{"$f":"IF(ISERROR(VLOOKUP(AS40,Accueil!$V$17:$V$22,1,0)),1,0)","v":0},{"$f":"IF(ISERROR(VLOOKUP(AT40,Accueil!$V$17:$V$22,1,0)),1,0)","v":0},{"$f":"IF(ISERROR(VLOOKUP(AU40,Accueil!$V$17:$V$22,1,0)),1,0)","v":0},{"$f":"IF(ISERROR(VLOOKUP(AV40,Accueil!$V$17:$V$22,1,0)),1,0)","v":0},{"$f":"IF(ISERROR(VLOOKUP(AW40,Accueil!$V$17:$V$22,1,0)),1,0)","v":0},{"$f":"IF(ISERROR(VLOOKUP(AX40,Accueil!$V$17:$V$22,1,0)),1,0)","v":0},{"$f":"IF(ISERROR(VLOOKUP(AY40,Accueil!$V$17:$V$22,1,0)),1,0)","v":0},{"$f":"IF(ISERROR(VLOOKUP(AZ40,Accueil!$V$17:$V$22,1,0)),1,0)","v":0},{"$f":"IF(ISERROR(VLOOKUP(BA40,Accueil!$V$17:$V$22,1,0)),1,0)","v":0},{"$f":"IF(ISERROR(VLOOKUP(BB40,Accueil!$V$17:$V$22,1,0)),1,0)","v":0},{"$f":"IF(ISERROR(VLOOKUP(BC40,Accueil!$V$17:$V$22,1,0)),1,0)","v":0},{"$f":"IF(ISERROR(VLOOKUP(BD40,Accueil!$V$17:$V$22,1,0)),1,0)","v":0},{"$f":"IF(ISERROR(VLOOKUP(BE40,Accueil!$V$17:$V$22,1,0)),1,0)","v":0},{"$f":"IF(ISERROR(VLOOKUP(BF40,Accueil!$V$17:$V$22,1,0)),1,0)","v":0},{"$f":"IF(ISERROR(VLOOKUP(BG40,Accueil!$V$17:$V$22,1,0)),1,0)","v":0},{"$f":"IF(ISERROR(VLOOKUP(BH40,Accueil!$V$17:$V$22,1,0)),1,0)","v":0},{"$f":"IF(ISERROR(VLOOKUP(BI40,Accueil!$V$17:$V$22,1,0)),1,0)","v":0},{"$f":"IF(ISERROR(VLOOKUP(BJ40,Accueil!$V$17:$V$22,1,0)),1,0)","v":0},{"$f":"IF(ISERROR(VLOOKUP(BK40,Accueil!$V$17:$V$22,1,0)),1,0)","v":0},{"$f":"IF(ISERROR(VLOOKUP(BL40,Accueil!$V$17:$V$22,1,0)),1,0)","v":0},{"$f":"IF(ISERROR(VLOOKUP(BM40,Accueil!$V$17:$V$22,1,0)),1,0)","v":0},{"$f":"IF(ISERROR(VLOOKUP(BN40,Accueil!$V$17:$V$22,1,0)),1,0)","v":0},{"$f":"IF(ISERROR(VLOOKUP(BO40,Accueil!$V$17:$V$22,1,0)),1,0)","v":0},{"$f":"IF(ISERROR(VLOOKUP(BP40,Accueil!$V$17:$V$22,1,0)),1,0)","v":0},{"$f":"IF(ISERROR(VLOOKUP(BQ40,Accueil!$V$17:$V$22,1,0)),1,0)","v":0},{"$f":"IF(ISERROR(VLOOKUP(BR40,Accueil!$V$17:$V$22,1,0)),1,0)","v":0},{"$f":"IF(ISERROR(VLOOKUP(BS40,Accueil!$V$17:$V$22,1,0)),1,0)","v":0},{"$f":"IF(ISERROR(VLOOKUP(BT40,Accueil!$V$17:$V$22,1,0)),1,0)","v":0},{"$f":"IF(ISERROR(VLOOKUP(BU40,Accueil!$V$17:$V$22,1,0)),1,0)","v":0},{"$f":"IF(ISERROR(VLOOKUP(BV40,Accueil!$V$17:$V$22,1,0)),1,0)","v":0},{"$f":"IF(ISERROR(VLOOKUP(BW40,Accueil!$V$17:$V$22,1,0)),1,0)","v":0},{"$f":"IF(ISERROR(VLOOKUP(BX40,Accueil!$V$17:$V$22,1,0)),1,0)","v":0},{"$f":"IF(ISERROR(VLOOKUP(BY40,Accueil!$V$17:$V$22,1,0)),1,0)","v":0},{"$f":"IF(ISERROR(VLOOKUP(BZ40,Accueil!$V$17:$V$22,1,0)),1,0)","v":0},{"$f":"IF(ISERROR(VLOOKUP(CA40,Accueil!$V$17:$V$22,1,0)),1,0)","v":0},{"$f":"IF(ISERROR(VLOOKUP(CB40,Accueil!$V$17:$V$22,1,0)),1,0)","v":0},{"$f":"IF(ISERROR(VLOOKUP(CC40,Accueil!$V$17:$V$22,1,0)),1,0)","v":0},{"$f":"IF(ISERROR(VLOOKUP(CD40,Accueil!$V$17:$V$22,1,0)),1,0)","v":0},{"$f":"IF(ISERROR(VLOOKUP(CE40,Accueil!$V$17:$V$22,1,0)),1,0)","v":0},{"$f":"IF(ISERROR(VLOOKUP(CF40,Accueil!$V$17:$V$22,1,0)),1,0)","v":0},{"$f":"IF(ISERROR(VLOOKUP(CG40,Accueil!$V$17:$V$22,1,0)),1,0)","v":0},{"$f":"IF(ISERROR(VLOOKUP(CH40,Accueil!$V$17:$V$22,1,0)),1,0)","v":0},{"$f":"IF(ISERROR(VLOOKUP(CI40,Accueil!$V$17:$V$22,1,0)),1,0)","v":0},{"$f":"IF(ISERROR(VLOOKUP(CJ40,Accueil!$V$17:$V$22,1,0)),1,0)","v":0},{"$f":"IF(ISERROR(VLOOKUP(CK40,Accueil!$V$17:$V$22,1,0)),1,0)","v":0},{"$f":"IF(ISERROR(VLOOKUP(CL40,Accueil!$V$17:$V$22,1,0)),1,0)","v":0},{"$f":"IF(ISERROR(VLOOKUP(CM40,Accueil!$V$17:$V$22,1,0)),1,0)","v":0},{"$f":"IF(ISERROR(VLOOKUP(CN40,Accueil!$V$17:$V$22,1,0)),1,0)","v":0},{"$f":"IF(ISERROR(VLOOKUP(CO40,Accueil!$V$17:$V$22,1,0)),1,0)","v":0},{"$f":"IF(ISERROR(VLOOKUP(CP40,Accueil!$V$17:$V$22,1,0)),1,0)","v":0},{"$f":"IF(ISERROR(VLOOKUP(CQ40,Accueil!$V$17:$V$22,1,0)),1,0)","v":0},{"$f":"IF(ISERROR(VLOOKUP(CR40,Accueil!$V$17:$V$22,1,0)),1,0)","v":0},{"$f":"IF(ISERROR(VLOOKUP(CS40,Accueil!$V$17:$V$22,1,0)),1,0)","v":0},{"$f":"IF(ISERROR(VLOOKUP(CT40,Accueil!$V$17:$V$22,1,0)),1,0)","v":0},{"$f":"IF(ISERROR(VLOOKUP(CU40,Accueil!$V$17:$V$22,1,0)),1,0)","v":0},{"$f":"IF(ISERROR(VLOOKUP(CV40,Accueil!$V$17:$V$22,1,0)),1,0)","v":0},{"$f":"IF(ISERROR(VLOOKUP(CW40,Accueil!$V$17:$V$22,1,0)),1,0)","v":0},{"$f":"IF(ISERROR(VLOOKUP(CX40,Accueil!$V$17:$V$22,1,0)),1,0)","v":0},{"$f":"IF(ISERROR(VLOOKUP(CY40,Accueil!$V$17:$V$22,1,0)),1,0)","v":0},{"$f":"IF(ISERROR(VLOOKUP(CZ40,Accueil!$V$17:$V$22,1,0)),1,0)","v":0},{"$f":"IF(ISERROR(VLOOKUP(DA40,Accueil!$V$17:$V$22,1,0)),1,0)","v":0}]
[null,33,{"$f":"IF(Accueil!E45=\"\",\"\",Accueil!E45)","v":""},{"$f":"IF(Accueil!F45=\"\",\"\",Accueil!F45)","v":""},"",null,null,null,null,null,null,null,null,null,null,null,null,null,null,null,null,null,null,null,null,null,null,null,null,null,null,null,null,null,null,null,null,null,null,null,null,null,null,null,null,null,null,null,null,null,null,null,null,null,null,null,null,null,null,null,null,null,null,null,null,null,null,null,null,null,null,null,null,null,null,null,null,null,null,null,null,null,null,null,null,null,null,null,null,null,null,null,null,null,null,null,null,null,null,null,null,null,null,null,null,33,{"$f":"IF(D41=\"\",\"\",COUNTIF(F41:DA41,Accueil!$AA$28)&\" / \"&COUNTIF($F$8:$DA$8,\">0\")-(COUNTIF(F41:DA41,Accueil!$AF$26)))","v":""},{"$f":"IF(D41=\"\",\"\",COUNTIF(F41:DA41,Accueil!$AA$26))","v":""},{"$f":"IF(D41=\"\",\"\",COUNTIF($F$8:$DA$8,\">0\")-(COUNTIF(F41:DA41,Accueil!$AF$26)))","v":""},"","",0,{"$f":"IF(ISERROR(VLOOKUP(F41,Accueil!$V$17:$V$22,1,0)),1,0)","v":0},{"$f":"IF(ISERROR(VLOOKUP(G41,Accueil!$V$17:$V$22,1,0)),1,0)","v":0},{"$f":"IF(ISERROR(VLOOKUP(H41,Accueil!$V$17:$V$22,1,0)),1,0)","v":0},{"$f":"IF(ISERROR(VLOOKUP(I41,Accueil!$V$17:$V$22,1,0)),1,0)","v":0},{"$f":"IF(ISERROR(VLOOKUP(J41,Accueil!$V$17:$V$22,1,0)),1,0)","v":0},{"$f":"IF(ISERROR(VLOOKUP(K41,Accueil!$V$17:$V$22,1,0)),1,0)","v":0},{"$f":"IF(ISERROR(VLOOKUP(L41,Accueil!$V$17:$V$22,1,0)),1,0)","v":0},{"$f":"IF(ISERROR(VLOOKUP(M41,Accueil!$V$17:$V$22,1,0)),1,0)","v":0},{"$f":"IF(ISERROR(VLOOKUP(N41,Accueil!$V$17:$V$22,1,0)),1,0)","v":0},{"$f":"IF(ISERROR(VLOOKUP(O41,Accueil!$V$17:$V$22,1,0)),1,0)","v":0},{"$f":"IF(ISERROR(VLOOKUP(P41,Accueil!$V$17:$V$22,1,0)),1,0)","v":0},{"$f":"IF(ISERROR(VLOOKUP(Q41,Accueil!$V$17:$V$22,1,0)),1,0)","v":0},{"$f":"IF(ISERROR(VLOOKUP(R41,Accueil!$V$17:$V$22,1,0)),1,0)","v":0},{"$f":"IF(ISERROR(VLOOKUP(S41,Accueil!$V$17:$V$22,1,0)),1,0)","v":0},{"$f":"IF(ISERROR(VLOOKUP(T41,Accueil!$V$17:$V$22,1,0)),1,0)","v":0},{"$f":"IF(ISERROR(VLOOKUP(U41,Accueil!$V$17:$V$22,1,0)),1,0)","v":0},{"$f":"IF(ISERROR(VLOOKUP(V41,Accueil!$V$17:$V$22,1,0)),1,0)","v":0},{"$f":"IF(ISERROR(VLOOKUP(W41,Accueil!$V$17:$V$22,1,0)),1,0)","v":0},{"$f":"IF(ISERROR(VLOOKUP(X41,Accueil!$V$17:$V$22,1,0)),1,0)","v":0},{"$f":"IF(ISERROR(VLOOKUP(Y41,Accueil!$V$17:$V$22,1,0)),1,0)","v":0},{"$f":"IF(ISERROR(VLOOKUP(Z41,Accueil!$V$17:$V$22,1,0)),1,0)","v":0},{"$f":"IF(ISERROR(VLOOKUP(AA41,Accueil!$V$17:$V$22,1,0)),1,0)","v":0},{"$f":"IF(ISERROR(VLOOKUP(AB41,Accueil!$V$17:$V$22,1,0)),1,0)","v":0},{"$f":"IF(ISERROR(VLOOKUP(AC41,Accueil!$V$17:$V$22,1,0)),1,0)","v":0},{"$f":"IF(ISERROR(VLOOKUP(AD41,Accueil!$V$17:$V$22,1,0)),1,0)","v":0},{"$f":"IF(ISERROR(VLOOKUP(AE41,Accueil!$V$17:$V$22,1,0)),1,0)","v":0},{"$f":"IF(ISERROR(VLOOKUP(AF41,Accueil!$V$17:$V$22,1,0)),1,0)","v":0},{"$f":"IF(ISERROR(VLOOKUP(AG41,Accueil!$V$17:$V$22,1,0)),1,0)","v":0},{"$f":"IF(ISERROR(VLOOKUP(AH41,Accueil!$V$17:$V$22,1,0)),1,0)","v":0},{"$f":"IF(ISERROR(VLOOKUP(AI41,Accueil!$V$17:$V$22,1,0)),1,0)","v":0},{"$f":"IF(ISERROR(VLOOKUP(AJ41,Accueil!$V$17:$V$22,1,0)),1,0)","v":0},{"$f":"IF(ISERROR(VLOOKUP(AK41,Accueil!$V$17:$V$22,1,0)),1,0)","v":0},{"$f":"IF(ISERROR(VLOOKUP(AL41,Accueil!$V$17:$V$22,1,0)),1,0)","v":0},{"$f":"IF(ISERROR(VLOOKUP(AM41,Accueil!$V$17:$V$22,1,0)),1,0)","v":0},{"$f":"IF(ISERROR(VLOOKUP(AN41,Accueil!$V$17:$V$22,1,0)),1,0)","v":0},{"$f":"IF(ISERROR(VLOOKUP(AO41,Accueil!$V$17:$V$22,1,0)),1,0)","v":0},{"$f":"IF(ISERROR(VLOOKUP(AP41,Accueil!$V$17:$V$22,1,0)),1,0)","v":0},{"$f":"IF(ISERROR(VLOOKUP(AQ41,Accueil!$V$17:$V$22,1,0)),1,0)","v":0},{"$f":"IF(ISERROR(VLOOKUP(AR41,Accueil!$V$17:$V$22,1,0)),1,0)","v":0},{"$f":"IF(ISERROR(VLOOKUP(AS41,Accueil!$V$17:$V$22,1,0)),1,0)","v":0},{"$f":"IF(ISERROR(VLOOKUP(AT41,Accueil!$V$17:$V$22,1,0)),1,0)","v":0},{"$f":"IF(ISERROR(VLOOKUP(AU41,Accueil!$V$17:$V$22,1,0)),1,0)","v":0},{"$f":"IF(ISERROR(VLOOKUP(AV41,Accueil!$V$17:$V$22,1,0)),1,0)","v":0},{"$f":"IF(ISERROR(VLOOKUP(AW41,Accueil!$V$17:$V$22,1,0)),1,0)","v":0},{"$f":"IF(ISERROR(VLOOKUP(AX41,Accueil!$V$17:$V$22,1,0)),1,0)","v":0},{"$f":"IF(ISERROR(VLOOKUP(AY41,Accueil!$V$17:$V$22,1,0)),1,0)","v":0},{"$f":"IF(ISERROR(VLOOKUP(AZ41,Accueil!$V$17:$V$22,1,0)),1,0)","v":0},{"$f":"IF(ISERROR(VLOOKUP(BA41,Accueil!$V$17:$V$22,1,0)),1,0)","v":0},{"$f":"IF(ISERROR(VLOOKUP(BB41,Accueil!$V$17:$V$22,1,0)),1,0)","v":0},{"$f":"IF(ISERROR(VLOOKUP(BC41,Accueil!$V$17:$V$22,1,0)),1,0)","v":0},{"$f":"IF(ISERROR(VLOOKUP(BD41,Accueil!$V$17:$V$22,1,0)),1,0)","v":0},{"$f":"IF(ISERROR(VLOOKUP(BE41,Accueil!$V$17:$V$22,1,0)),1,0)","v":0},{"$f":"IF(ISERROR(VLOOKUP(BF41,Accueil!$V$17:$V$22,1,0)),1,0)","v":0},{"$f":"IF(ISERROR(VLOOKUP(BG41,Accueil!$V$17:$V$22,1,0)),1,0)","v":0},{"$f":"IF(ISERROR(VLOOKUP(BH41,Accueil!$V$17:$V$22,1,0)),1,0)","v":0},{"$f":"IF(ISERROR(VLOOKUP(BI41,Accueil!$V$17:$V$22,1,0)),1,0)","v":0},{"$f":"IF(ISERROR(VLOOKUP(BJ41,Accueil!$V$17:$V$22,1,0)),1,0)","v":0},{"$f":"IF(ISERROR(VLOOKUP(BK41,Accueil!$V$17:$V$22,1,0)),1,0)","v":0},{"$f":"IF(ISERROR(VLOOKUP(BL41,Accueil!$V$17:$V$22,1,0)),1,0)","v":0},{"$f":"IF(ISERROR(VLOOKUP(BM41,Accueil!$V$17:$V$22,1,0)),1,0)","v":0},{"$f":"IF(ISERROR(VLOOKUP(BN41,Accueil!$V$17:$V$22,1,0)),1,0)","v":0},{"$f":"IF(ISERROR(VLOOKUP(BO41,Accueil!$V$17:$V$22,1,0)),1,0)","v":0},{"$f":"IF(ISERROR(VLOOKUP(BP41,Accueil!$V$17:$V$22,1,0)),1,0)","v":0},{"$f":"IF(ISERROR(VLOOKUP(BQ41,Accueil!$V$17:$V$22,1,0)),1,0)","v":0},{"$f":"IF(ISERROR(VLOOKUP(BR41,Accueil!$V$17:$V$22,1,0)),1,0)","v":0},{"$f":"IF(ISERROR(VLOOKUP(BS41,Accueil!$V$17:$V$22,1,0)),1,0)","v":0},{"$f":"IF(ISERROR(VLOOKUP(BT41,Accueil!$V$17:$V$22,1,0)),1,0)","v":0},{"$f":"IF(ISERROR(VLOOKUP(BU41,Accueil!$V$17:$V$22,1,0)),1,0)","v":0},{"$f":"IF(ISERROR(VLOOKUP(BV41,Accueil!$V$17:$V$22,1,0)),1,0)","v":0},{"$f":"IF(ISERROR(VLOOKUP(BW41,Accueil!$V$17:$V$22,1,0)),1,0)","v":0},{"$f":"IF(ISERROR(VLOOKUP(BX41,Accueil!$V$17:$V$22,1,0)),1,0)","v":0},{"$f":"IF(ISERROR(VLOOKUP(BY41,Accueil!$V$17:$V$22,1,0)),1,0)","v":0},{"$f":"IF(ISERROR(VLOOKUP(BZ41,Accueil!$V$17:$V$22,1,0)),1,0)","v":0},{"$f":"IF(ISERROR(VLOOKUP(CA41,Accueil!$V$17:$V$22,1,0)),1,0)","v":0},{"$f":"IF(ISERROR(VLOOKUP(CB41,Accueil!$V$17:$V$22,1,0)),1,0)","v":0},{"$f":"IF(ISERROR(VLOOKUP(CC41,Accueil!$V$17:$V$22,1,0)),1,0)","v":0},{"$f":"IF(ISERROR(VLOOKUP(CD41,Accueil!$V$17:$V$22,1,0)),1,0)","v":0},{"$f":"IF(ISERROR(VLOOKUP(CE41,Accueil!$V$17:$V$22,1,0)),1,0)","v":0},{"$f":"IF(ISERROR(VLOOKUP(CF41,Accueil!$V$17:$V$22,1,0)),1,0)","v":0},{"$f":"IF(ISERROR(VLOOKUP(CG41,Accueil!$V$17:$V$22,1,0)),1,0)","v":0},{"$f":"IF(ISERROR(VLOOKUP(CH41,Accueil!$V$17:$V$22,1,0)),1,0)","v":0},{"$f":"IF(ISERROR(VLOOKUP(CI41,Accueil!$V$17:$V$22,1,0)),1,0)","v":0},{"$f":"IF(ISERROR(VLOOKUP(CJ41,Accueil!$V$17:$V$22,1,0)),1,0)","v":0},{"$f":"IF(ISERROR(VLOOKUP(CK41,Accueil!$V$17:$V$22,1,0)),1,0)","v":0},{"$f":"IF(ISERROR(VLOOKUP(CL41,Accueil!$V$17:$V$22,1,0)),1,0)","v":0},{"$f":"IF(ISERROR(VLOOKUP(CM41,Accueil!$V$17:$V$22,1,0)),1,0)","v":0},{"$f":"IF(ISERROR(VLOOKUP(CN41,Accueil!$V$17:$V$22,1,0)),1,0)","v":0},{"$f":"IF(ISERROR(VLOOKUP(CO41,Accueil!$V$17:$V$22,1,0)),1,0)","v":0},{"$f":"IF(ISERROR(VLOOKUP(CP41,Accueil!$V$17:$V$22,1,0)),1,0)","v":0},{"$f":"IF(ISERROR(VLOOKUP(CQ41,Accueil!$V$17:$V$22,1,0)),1,0)","v":0},{"$f":"IF(ISERROR(VLOOKUP(CR41,Accueil!$V$17:$V$22,1,0)),1,0)","v":0},{"$f":"IF(ISERROR(VLOOKUP(CS41,Accueil!$V$17:$V$22,1,0)),1,0)","v":0},{"$f":"IF(ISERROR(VLOOKUP(CT41,Accueil!$V$17:$V$22,1,0)),1,0)","v":0},{"$f":"IF(ISERROR(VLOOKUP(CU41,Accueil!$V$17:$V$22,1,0)),1,0)","v":0},{"$f":"IF(ISERROR(VLOOKUP(CV41,Accueil!$V$17:$V$22,1,0)),1,0)","v":0},{"$f":"IF(ISERROR(VLOOKUP(CW41,Accueil!$V$17:$V$22,1,0)),1,0)","v":0},{"$f":"IF(ISERROR(VLOOKUP(CX41,Accueil!$V$17:$V$22,1,0)),1,0)","v":0},{"$f":"IF(ISERROR(VLOOKUP(CY41,Accueil!$V$17:$V$22,1,0)),1,0)","v":0},{"$f":"IF(ISERROR(VLOOKUP(CZ41,Accueil!$V$17:$V$22,1,0)),1,0)","v":0},{"$f":"IF(ISERROR(VLOOKUP(DA41,Accueil!$V$17:$V$22,1,0)),1,0)","v":0}]
[null,34,{"$f":"IF(Accueil!E46=\"\",\"\",Accueil!E46)","v":""},{"$f":"IF(Accueil!F46=\"\",\"\",Accueil!F46)","v":""},"",null,null,null,null,null,null,null,null,null,null,null,null,null,null,null,null,null,null,null,null,null,null,null,null,null,null,null,null,null,null,null,null,null,null,null,null,null,null,null,null,null,null,null,null,null,null,null,null,null,null,null,null,null,null,null,null,null,null,null,null,null,null,null,null,null,null,null,null,null,null,null,null,null,null,null,null,null,null,null,null,null,null,null,null,null,null,null,null,null,null,null,null,null,null,null,null,null,null,null,null,34,{"$f":"IF(D42=\"\",\"\",COUNTIF(F42:DA42,Accueil!$AA$28)&\" / \"&COUNTIF($F$8:$DA$8,\">0\")-(COUNTIF(F42:DA42,Accueil!$AF$26)))","v":""},{"$f":"IF(D42=\"\",\"\",COUNTIF(F42:DA42,Accueil!$AA$26))","v":""},{"$f":"IF(D42=\"\",\"\",COUNTIF($F$8:$DA$8,\">0\")-(COUNTIF(F42:DA42,Accueil!$AF$26)))","v":""},"","",0,{"$f":"IF(ISERROR(VLOOKUP(F42,Accueil!$V$17:$V$22,1,0)),1,0)","v":0},{"$f":"IF(ISERROR(VLOOKUP(G42,Accueil!$V$17:$V$22,1,0)),1,0)","v":0},{"$f":"IF(ISERROR(VLOOKUP(H42,Accueil!$V$17:$V$22,1,0)),1,0)","v":0},{"$f":"IF(ISERROR(VLOOKUP(I42,Accueil!$V$17:$V$22,1,0)),1,0)","v":0},{"$f":"IF(ISERROR(VLOOKUP(J42,Accueil!$V$17:$V$22,1,0)),1,0)","v":0},{"$f":"IF(ISERROR(VLOOKUP(K42,Accueil!$V$17:$V$22,1,0)),1,0)","v":0},{"$f":"IF(ISERROR(VLOOKUP(L42,Accueil!$V$17:$V$22,1,0)),1,0)","v":0},{"$f":"IF(ISERROR(VLOOKUP(M42,Accueil!$V$17:$V$22,1,0)),1,0)","v":0},{"$f":"IF(ISERROR(VLOOKUP(N42,Accueil!$V$17:$V$22,1,0)),1,0)","v":0},{"$f":"IF(ISERROR(VLOOKUP(O42,Accueil!$V$17:$V$22,1,0)),1,0)","v":0},{"$f":"IF(ISERROR(VLOOKUP(P42,Accueil!$V$17:$V$22,1,0)),1,0)","v":0},{"$f":"IF(ISERROR(VLOOKUP(Q42,Accueil!$V$17:$V$22,1,0)),1,0)","v":0},{"$f":"IF(ISERROR(VLOOKUP(R42,Accueil!$V$17:$V$22,1,0)),1,0)","v":0},{"$f":"IF(ISERROR(VLOOKUP(S42,Accueil!$V$17:$V$22,1,0)),1,0)","v":0},{"$f":"IF(ISERROR(VLOOKUP(T42,Accueil!$V$17:$V$22,1,0)),1,0)","v":0},{"$f":"IF(ISERROR(VLOOKUP(U42,Accueil!$V$17:$V$22,1,0)),1,0)","v":0},{"$f":"IF(ISERROR(VLOOKUP(V42,Accueil!$V$17:$V$22,1,0)),1,0)","v":0},{"$f":"IF(ISERROR(VLOOKUP(W42,Accueil!$V$17:$V$22,1,0)),1,0)","v":0},{"$f":"IF(ISERROR(VLOOKUP(X42,Accueil!$V$17:$V$22,1,0)),1,0)","v":0},{"$f":"IF(ISERROR(VLOOKUP(Y42,Accueil!$V$17:$V$22,1,0)),1,0)","v":0},{"$f":"IF(ISERROR(VLOOKUP(Z42,Accueil!$V$17:$V$22,1,0)),1,0)","v":0},{"$f":"IF(ISERROR(VLOOKUP(AA42,Accueil!$V$17:$V$22,1,0)),1,0)","v":0},{"$f":"IF(ISERROR(VLOOKUP(AB42,Accueil!$V$17:$V$22,1,0)),1,0)","v":0},{"$f":"IF(ISERROR(VLOOKUP(AC42,Accueil!$V$17:$V$22,1,0)),1,0)","v":0},{"$f":"IF(ISERROR(VLOOKUP(AD42,Accueil!$V$17:$V$22,1,0)),1,0)","v":0},{"$f":"IF(ISERROR(VLOOKUP(AE42,Accueil!$V$17:$V$22,1,0)),1,0)","v":0},{"$f":"IF(ISERROR(VLOOKUP(AF42,Accueil!$V$17:$V$22,1,0)),1,0)","v":0},{"$f":"IF(ISERROR(VLOOKUP(AG42,Accueil!$V$17:$V$22,1,0)),1,0)","v":0},{"$f":"IF(ISERROR(VLOOKUP(AH42,Accueil!$V$17:$V$22,1,0)),1,0)","v":0},{"$f":"IF(ISERROR(VLOOKUP(AI42,Accueil!$V$17:$V$22,1,0)),1,0)","v":0},{"$f":"IF(ISERROR(VLOOKUP(AJ42,Accueil!$V$17:$V$22,1,0)),1,0)","v":0},{"$f":"IF(ISERROR(VLOOKUP(AK42,Accueil!$V$17:$V$22,1,0)),1,0)","v":0},{"$f":"IF(ISERROR(VLOOKUP(AL42,Accueil!$V$17:$V$22,1,0)),1,0)","v":0},{"$f":"IF(ISERROR(VLOOKUP(AM42,Accueil!$V$17:$V$22,1,0)),1,0)","v":0},{"$f":"IF(ISERROR(VLOOKUP(AN42,Accueil!$V$17:$V$22,1,0)),1,0)","v":0},{"$f":"IF(ISERROR(VLOOKUP(AO42,Accueil!$V$17:$V$22,1,0)),1,0)","v":0},{"$f":"IF(ISERROR(VLOOKUP(AP42,Accueil!$V$17:$V$22,1,0)),1,0)","v":0},{"$f":"IF(ISERROR(VLOOKUP(AQ42,Accueil!$V$17:$V$22,1,0)),1,0)","v":0},{"$f":"IF(ISERROR(VLOOKUP(AR42,Accueil!$V$17:$V$22,1,0)),1,0)","v":0},{"$f":"IF(ISERROR(VLOOKUP(AS42,Accueil!$V$17:$V$22,1,0)),1,0)","v":0},{"$f":"IF(ISERROR(VLOOKUP(AT42,Accueil!$V$17:$V$22,1,0)),1,0)","v":0},{"$f":"IF(ISERROR(VLOOKUP(AU42,Accueil!$V$17:$V$22,1,0)),1,0)","v":0},{"$f":"IF(ISERROR(VLOOKUP(AV42,Accueil!$V$17:$V$22,1,0)),1,0)","v":0},{"$f":"IF(ISERROR(VLOOKUP(AW42,Accueil!$V$17:$V$22,1,0)),1,0)","v":0},{"$f":"IF(ISERROR(VLOOKUP(AX42,Accueil!$V$17:$V$22,1,0)),1,0)","v":0},{"$f":"IF(ISERROR(VLOOKUP(AY42,Accueil!$V$17:$V$22,1,0)),1,0)","v":0},{"$f":"IF(ISERROR(VLOOKUP(AZ42,Accueil!$V$17:$V$22,1,0)),1,0)","v":0},{"$f":"IF(ISERROR(VLOOKUP(BA42,Accueil!$V$17:$V$22,1,0)),1,0)","v":0},{"$f":"IF(ISERROR(VLOOKUP(BB42,Accueil!$V$17:$V$22,1,0)),1,0)","v":0},{"$f":"IF(ISERROR(VLOOKUP(BC42,Accueil!$V$17:$V$22,1,0)),1,0)","v":0},{"$f":"IF(ISERROR(VLOOKUP(BD42,Accueil!$V$17:$V$22,1,0)),1,0)","v":0},{"$f":"IF(ISERROR(VLOOKUP(BE42,Accueil!$V$17:$V$22,1,0)),1,0)","v":0},{"$f":"IF(ISERROR(VLOOKUP(BF42,Accueil!$V$17:$V$22,1,0)),1,0)","v":0},{"$f":"IF(ISERROR(VLOOKUP(BG42,Accueil!$V$17:$V$22,1,0)),1,0)","v":0},{"$f":"IF(ISERROR(VLOOKUP(BH42,Accueil!$V$17:$V$22,1,0)),1,0)","v":0},{"$f":"IF(ISERROR(VLOOKUP(BI42,Accueil!$V$17:$V$22,1,0)),1,0)","v":0},{"$f":"IF(ISERROR(VLOOKUP(BJ42,Accueil!$V$17:$V$22,1,0)),1,0)","v":0},{"$f":"IF(ISERROR(VLOOKUP(BK42,Accueil!$V$17:$V$22,1,0)),1,0)","v":0},{"$f":"IF(ISERROR(VLOOKUP(BL42,Accueil!$V$17:$V$22,1,0)),1,0)","v":0},{"$f":"IF(ISERROR(VLOOKUP(BM42,Accueil!$V$17:$V$22,1,0)),1,0)","v":0},{"$f":"IF(ISERROR(VLOOKUP(BN42,Accueil!$V$17:$V$22,1,0)),1,0)","v":0},{"$f":"IF(ISERROR(VLOOKUP(BO42,Accueil!$V$17:$V$22,1,0)),1,0)","v":0},{"$f":"IF(ISERROR(VLOOKUP(BP42,Accueil!$V$17:$V$22,1,0)),1,0)","v":0},{"$f":"IF(ISERROR(VLOOKUP(BQ42,Accueil!$V$17:$V$22,1,0)),1,0)","v":0},{"$f":"IF(ISERROR(VLOOKUP(BR42,Accueil!$V$17:$V$22,1,0)),1,0)","v":0},{"$f":"IF(ISERROR(VLOOKUP(BS42,Accueil!$V$17:$V$22,1,0)),1,0)","v":0},{"$f":"IF(ISERROR(VLOOKUP(BT42,Accueil!$V$17:$V$22,1,0)),1,0)","v":0},{"$f":"IF(ISERROR(VLOOKUP(BU42,Accueil!$V$17:$V$22,1,0)),1,0)","v":0},{"$f":"IF(ISERROR(VLOOKUP(BV42,Accueil!$V$17:$V$22,1,0)),1,0)","v":0},{"$f":"IF(ISERROR(VLOOKUP(BW42,Accueil!$V$17:$V$22,1,0)),1,0)","v":0},{"$f":"IF(ISERROR(VLOOKUP(BX42,Accueil!$V$17:$V$22,1,0)),1,0)","v":0},{"$f":"IF(ISERROR(VLOOKUP(BY42,Accueil!$V$17:$V$22,1,0)),1,0)","v":0},{"$f":"IF(ISERROR(VLOOKUP(BZ42,Accueil!$V$17:$V$22,1,0)),1,0)","v":0},{"$f":"IF(ISERROR(VLOOKUP(CA42,Accueil!$V$17:$V$22,1,0)),1,0)","v":0},{"$f":"IF(ISERROR(VLOOKUP(CB42,Accueil!$V$17:$V$22,1,0)),1,0)","v":0},{"$f":"IF(ISERROR(VLOOKUP(CC42,Accueil!$V$17:$V$22,1,0)),1,0)","v":0},{"$f":"IF(ISERROR(VLOOKUP(CD42,Accueil!$V$17:$V$22,1,0)),1,0)","v":0},{"$f":"IF(ISERROR(VLOOKUP(CE42,Accueil!$V$17:$V$22,1,0)),1,0)","v":0},{"$f":"IF(ISERROR(VLOOKUP(CF42,Accueil!$V$17:$V$22,1,0)),1,0)","v":0},{"$f":"IF(ISERROR(VLOOKUP(CG42,Accueil!$V$17:$V$22,1,0)),1,0)","v":0},{"$f":"IF(ISERROR(VLOOKUP(CH42,Accueil!$V$17:$V$22,1,0)),1,0)","v":0},{"$f":"IF(ISERROR(VLOOKUP(CI42,Accueil!$V$17:$V$22,1,0)),1,0)","v":0},{"$f":"IF(ISERROR(VLOOKUP(CJ42,Accueil!$V$17:$V$22,1,0)),1,0)","v":0},{"$f":"IF(ISERROR(VLOOKUP(CK42,Accueil!$V$17:$V$22,1,0)),1,0)","v":0},{"$f":"IF(ISERROR(VLOOKUP(CL42,Accueil!$V$17:$V$22,1,0)),1,0)","v":0},{"$f":"IF(ISERROR(VLOOKUP(CM42,Accueil!$V$17:$V$22,1,0)),1,0)","v":0},{"$f":"IF(ISERROR(VLOOKUP(CN42,Accueil!$V$17:$V$22,1,0)),1,0)","v":0},{"$f":"IF(ISERROR(VLOOKUP(CO42,Accueil!$V$17:$V$22,1,0)),1,0)","v":0},{"$f":"IF(ISERROR(VLOOKUP(CP42,Accueil!$V$17:$V$22,1,0)),1,0)","v":0},{"$f":"IF(ISERROR(VLOOKUP(CQ42,Accueil!$V$17:$V$22,1,0)),1,0)","v":0},{"$f":"IF(ISERROR(VLOOKUP(CR42,Accueil!$V$17:$V$22,1,0)),1,0)","v":0},{"$f":"IF(ISERROR(VLOOKUP(CS42,Accueil!$V$17:$V$22,1,0)),1,0)","v":0},{"$f":"IF(ISERROR(VLOOKUP(CT42,Accueil!$V$17:$V$22,1,0)),1,0)","v":0},{"$f":"IF(ISERROR(VLOOKUP(CU42,Accueil!$V$17:$V$22,1,0)),1,0)","v":0},{"$f":"IF(ISERROR(VLOOKUP(CV42,Accueil!$V$17:$V$22,1,0)),1,0)","v":0},{"$f":"IF(ISERROR(VLOOKUP(CW42,Accueil!$V$17:$V$22,1,0)),1,0)","v":0},{"$f":"IF(ISERROR(VLOOKUP(CX42,Accueil!$V$17:$V$22,1,0)),1,0)","v":0},{"$f":"IF(ISERROR(VLOOKUP(CY42,Accueil!$V$17:$V$22,1,0)),1,0)","v":0},{"$f":"IF(ISERROR(VLOOKUP(CZ42,Accueil!$V$17:$V$22,1,0)),1,0)","v":0},{"$f":"IF(ISERROR(VLOOKUP(DA42,Accueil!$V$17:$V$22,1,0)),1,0)","v":0}]
[null,35,{"$f":"IF(Accueil!E47=\"\",\"\",Accueil!E47)","v":""},{"$f":"IF(Accueil!F47=\"\",\"\",Accueil!F47)","v":""},"",null,null,null,null,null,null,null,null,null,null,null,null,null,null,null,null,null,null,null,null,null,null,null,null,null,null,null,null,null,null,null,null,null,null,null,null,null,null,null,null,null,null,null,null,null,null,null,null,null,null,null,null,null,null,null,null,null,null,null,null,null,null,null,null,null,null,null,null,null,null,null,null,null,null,null,null,null,null,null,null,null,null,null,null,null,null,null,null,null,null,null,null,null,null,null,null,null,null,null,null,35,{"$f":"IF(D43=\"\",\"\",COUNTIF(F43:DA43,Accueil!$AA$28)&\" / \"&COUNTIF($F$8:$DA$8,\">0\")-(COUNTIF(F43:DA43,Accueil!$AF$26)))","v":""},{"$f":"IF(D43=\"\",\"\",COUNTIF(F43:DA43,Accueil!$AA$26))","v":""},{"$f":"IF(D43=\"\",\"\",COUNTIF($F$8:$DA$8,\">0\")-(COUNTIF(F43:DA43,Accueil!$AF$26)))","v":""},"","",0,{"$f":"IF(ISERROR(VLOOKUP(F43,Accueil!$V$17:$V$22,1,0)),1,0)","v":0},{"$f":"IF(ISERROR(VLOOKUP(G43,Accueil!$V$17:$V$22,1,0)),1,0)","v":0},{"$f":"IF(ISERROR(VLOOKUP(H43,Accueil!$V$17:$V$22,1,0)),1,0)","v":0},{"$f":"IF(ISERROR(VLOOKUP(I43,Accueil!$V$17:$V$22,1,0)),1,0)","v":0},{"$f":"IF(ISERROR(VLOOKUP(J43,Accueil!$V$17:$V$22,1,0)),1,0)","v":0},{"$f":"IF(ISERROR(VLOOKUP(K43,Accueil!$V$17:$V$22,1,0)),1,0)","v":0},{"$f":"IF(ISERROR(VLOOKUP(L43,Accueil!$V$17:$V$22,1,0)),1,0)","v":0},{"$f":"IF(ISERROR(VLOOKUP(M43,Accueil!$V$17:$V$22,1,0)),1,0)","v":0},{"$f":"IF(ISERROR(VLOOKUP(N43,Accueil!$V$17:$V$22,1,0)),1,0)","v":0},{"$f":"IF(ISERROR(VLOOKUP(O43,Accueil!$V$17:$V$22,1,0)),1,0)","v":0},{"$f":"IF(ISERROR(VLOOKUP(P43,Accueil!$V$17:$V$22,1,0)),1,0)","v":0},{"$f":"IF(ISERROR(VLOOKUP(Q43,Accueil!$V$17:$V$22,1,0)),1,0)","v":0},{"$f":"IF(ISERROR(VLOOKUP(R43,Accueil!$V$17:$V$22,1,0)),1,0)","v":0},{"$f":"IF(ISERROR(VLOOKUP(S43,Accueil!$V$17:$V$22,1,0)),1,0)","v":0},{"$f":"IF(ISERROR(VLOOKUP(T43,Accueil!$V$17:$V$22,1,0)),1,0)","v":0},{"$f":"IF(ISERROR(VLOOKUP(U43,Accueil!$V$17:$V$22,1,0)),1,0)","v":0},{"$f":"IF(ISERROR(VLOOKUP(V43,Accueil!$V$17:$V$22,1,0)),1,0)","v":0},{"$f":"IF(ISERROR(VLOOKUP(W43,Accueil!$V$17:$V$22,1,0)),1,0)","v":0},{"$f":"IF(ISERROR(VLOOKUP(X43,Accueil!$V$17:$V$22,1,0)),1,0)","v":0},{"$f":"IF(ISERROR(VLOOKUP(Y43,Accueil!$V$17:$V$22,1,0)),1,0)","v":0},{"$f":"IF(ISERROR(VLOOKUP(Z43,Accueil!$V$17:$V$22,1,0)),1,0)","v":0},{"$f":"IF(ISERROR(VLOOKUP(AA43,Accueil!$V$17:$V$22,1,0)),1,0)","v":0},{"$f":"IF(ISERROR(VLOOKUP(AB43,Accueil!$V$17:$V$22,1,0)),1,0)","v":0},{"$f":"IF(ISERROR(VLOOKUP(AC43,Accueil!$V$17:$V$22,1,0)),1,0)","v":0},{"$f":"IF(ISERROR(VLOOKUP(AD43,Accueil!$V$17:$V$22,1,0)),1,0)","v":0},{"$f":"IF(ISERROR(VLOOKUP(AE43,Accueil!$V$17:$V$22,1,0)),1,0)","v":0},{"$f":"IF(ISERROR(VLOOKUP(AF43,Accueil!$V$17:$V$22,1,0)),1,0)","v":0},{"$f":"IF(ISERROR(VLOOKUP(AG43,Accueil!$V$17:$V$22,1,0)),1,0)","v":0},{"$f":"IF(ISERROR(VLOOKUP(AH43,Accueil!$V$17:$V$22,1,0)),1,0)","v":0},{"$f":"IF(ISERROR(VLOOKUP(AI43,Accueil!$V$17:$V$22,1,0)),1,0)","v":0},{"$f":"IF(ISERROR(VLOOKUP(AJ43,Accueil!$V$17:$V$22,1,0)),1,0)","v":0},{"$f":"IF(ISERROR(VLOOKUP(AK43,Accueil!$V$17:$V$22,1,0)),1,0)","v":0},{"$f":"IF(ISERROR(VLOOKUP(AL43,Accueil!$V$17:$V$22,1,0)),1,0)","v":0},{"$f":"IF(ISERROR(VLOOKUP(AM43,Accueil!$V$17:$V$22,1,0)),1,0)","v":0},{"$f":"IF(ISERROR(VLOOKUP(AN43,Accueil!$V$17:$V$22,1,0)),1,0)","v":0},{"$f":"IF(ISERROR(VLOOKUP(AO43,Accueil!$V$17:$V$22,1,0)),1,0)","v":0},{"$f":"IF(ISERROR(VLOOKUP(AP43,Accueil!$V$17:$V$22,1,0)),1,0)","v":0},{"$f":"IF(ISERROR(VLOOKUP(AQ43,Accueil!$V$17:$V$22,1,0)),1,0)","v":0},{"$f":"IF(ISERROR(VLOOKUP(AR43,Accueil!$V$17:$V$22,1,0)),1,0)","v":0},{"$f":"IF(ISERROR(VLOOKUP(AS43,Accueil!$V$17:$V$22,1,0)),1,0)","v":0},{"$f":"IF(ISERROR(VLOOKUP(AT43,Accueil!$V$17:$V$22,1,0)),1,0)","v":0},{"$f":"IF(ISERROR(VLOOKUP(AU43,Accueil!$V$17:$V$22,1,0)),1,0)","v":0},{"$f":"IF(ISERROR(VLOOKUP(AV43,Accueil!$V$17:$V$22,1,0)),1,0)","v":0},{"$f":"IF(ISERROR(VLOOKUP(AW43,Accueil!$V$17:$V$22,1,0)),1,0)","v":0},{"$f":"IF(ISERROR(VLOOKUP(AX43,Accueil!$V$17:$V$22,1,0)),1,0)","v":0},{"$f":"IF(ISERROR(VLOOKUP(AY43,Accueil!$V$17:$V$22,1,0)),1,0)","v":0},{"$f":"IF(ISERROR(VLOOKUP(AZ43,Accueil!$V$17:$V$22,1,0)),1,0)","v":0},{"$f":"IF(ISERROR(VLOOKUP(BA43,Accueil!$V$17:$V$22,1,0)),1,0)","v":0},{"$f":"IF(ISERROR(VLOOKUP(BB43,Accueil!$V$17:$V$22,1,0)),1,0)","v":0},{"$f":"IF(ISERROR(VLOOKUP(BC43,Accueil!$V$17:$V$22,1,0)),1,0)","v":0},{"$f":"IF(ISERROR(VLOOKUP(BD43,Accueil!$V$17:$V$22,1,0)),1,0)","v":0},{"$f":"IF(ISERROR(VLOOKUP(BE43,Accueil!$V$17:$V$22,1,0)),1,0)","v":0},{"$f":"IF(ISERROR(VLOOKUP(BF43,Accueil!$V$17:$V$22,1,0)),1,0)","v":0},{"$f":"IF(ISERROR(VLOOKUP(BG43,Accueil!$V$17:$V$22,1,0)),1,0)","v":0},{"$f":"IF(ISERROR(VLOOKUP(BH43,Accueil!$V$17:$V$22,1,0)),1,0)","v":0},{"$f":"IF(ISERROR(VLOOKUP(BI43,Accueil!$V$17:$V$22,1,0)),1,0)","v":0},{"$f":"IF(ISERROR(VLOOKUP(BJ43,Accueil!$V$17:$V$22,1,0)),1,0)","v":0},{"$f":"IF(ISERROR(VLOOKUP(BK43,Accueil!$V$17:$V$22,1,0)),1,0)","v":0},{"$f":"IF(ISERROR(VLOOKUP(BL43,Accueil!$V$17:$V$22,1,0)),1,0)","v":0},{"$f":"IF(ISERROR(VLOOKUP(BM43,Accueil!$V$17:$V$22,1,0)),1,0)","v":0},{"$f":"IF(ISERROR(VLOOKUP(BN43,Accueil!$V$17:$V$22,1,0)),1,0)","v":0},{"$f":"IF(ISERROR(VLOOKUP(BO43,Accueil!$V$17:$V$22,1,0)),1,0)","v":0},{"$f":"IF(ISERROR(VLOOKUP(BP43,Accueil!$V$17:$V$22,1,0)),1,0)","v":0},{"$f":"IF(ISERROR(VLOOKUP(BQ43,Accueil!$V$17:$V$22,1,0)),1,0)","v":0},{"$f":"IF(ISERROR(VLOOKUP(BR43,Accueil!$V$17:$V$22,1,0)),1,0)","v":0},{"$f":"IF(ISERROR(VLOOKUP(BS43,Accueil!$V$17:$V$22,1,0)),1,0)","v":0},{"$f":"IF(ISERROR(VLOOKUP(BT43,Accueil!$V$17:$V$22,1,0)),1,0)","v":0},{"$f":"IF(ISERROR(VLOOKUP(BU43,Accueil!$V$17:$V$22,1,0)),1,0)","v":0},{"$f":"IF(ISERROR(VLOOKUP(BV43,Accueil!$V$17:$V$22,1,0)),1,0)","v":0},{"$f":"IF(ISERROR(VLOOKUP(BW43,Accueil!$V$17:$V$22,1,0)),1,0)","v":0},{"$f":"IF(ISERROR(VLOOKUP(BX43,Accueil!$V$17:$V$22,1,0)),1,0)","v":0},{"$f":"IF(ISERROR(VLOOKUP(BY43,Accueil!$V$17:$V$22,1,0)),1,0)","v":0},{"$f":"IF(ISERROR(VLOOKUP(BZ43,Accueil!$V$17:$V$22,1,0)),1,0)","v":0},{"$f":"IF(ISERROR(VLOOKUP(CA43,Accueil!$V$17:$V$22,1,0)),1,0)","v":0},{"$f":"IF(ISERROR(VLOOKUP(CB43,Accueil!$V$17:$V$22,1,0)),1,0)","v":0},{"$f":"IF(ISERROR(VLOOKUP(CC43,Accueil!$V$17:$V$22,1,0)),1,0)","v":0},{"$f":"IF(ISERROR(VLOOKUP(CD43,Accueil!$V$17:$V$22,1,0)),1,0)","v":0},{"$f":"IF(ISERROR(VLOOKUP(CE43,Accueil!$V$17:$V$22,1,0)),1,0)","v":0},{"$f":"IF(ISERROR(VLOOKUP(CF43,Accueil!$V$17:$V$22,1,0)),1,0)","v":0},{"$f":"IF(ISERROR(VLOOKUP(CG43,Accueil!$V$17:$V$22,1,0)),1,0)","v":0},{"$f":"IF(ISERROR(VLOOKUP(CH43,Accueil!$V$17:$V$22,1,0)),1,0)","v":0},{"$f":"IF(ISERROR(VLOOKUP(CI43,Accueil!$V$17:$V$22,1,0)),1,0)","v":0},{"$f":"IF(ISERROR(VLOOKUP(CJ43,Accueil!$V$17:$V$22,1,0)),1,0)","v":0},{"$f":"IF(ISERROR(VLOOKUP(CK43,Accueil!$V$17:$V$22,1,0)),1,0)","v":0},{"$f":"IF(ISERROR(VLOOKUP(CL43,Accueil!$V$17:$V$22,1,0)),1,0)","v":0},{"$f":"IF(ISERROR(VLOOKUP(CM43,Accueil!$V$17:$V$22,1,0)),1,0)","v":0},{"$f":"IF(ISERROR(VLOOKUP(CN43,Accueil!$V$17:$V$22,1,0)),1,0)","v":0},{"$f":"IF(ISERROR(VLOOKUP(CO43,Accueil!$V$17:$V$22,1,0)),1,0)","v":0},{"$f":"IF(ISERROR(VLOOKUP(CP43,Accueil!$V$17:$V$22,1,0)),1,0)","v":0},{"$f":"IF(ISERROR(VLOOKUP(CQ43,Accueil!$V$17:$V$22,1,0)),1,0)","v":0},{"$f":"IF(ISERROR(VLOOKUP(CR43,Accueil!$V$17:$V$22,1,0)),1,0)","v":0},{"$f":"IF(ISERROR(VLOOKUP(CS43,Accueil!$V$17:$V$22,1,0)),1,0)","v":0},{"$f":"IF(ISERROR(VLOOKUP(CT43,Accueil!$V$17:$V$22,1,0)),1,0)","v":0},{"$f":"IF(ISERROR(VLOOKUP(CU43,Accueil!$V$17:$V$22,1,0)),1,0)","v":0},{"$f":"IF(ISERROR(VLOOKUP(CV43,Accueil!$V$17:$V$22,1,0)),1,0)","v":0},{"$f":"IF(ISERROR(VLOOKUP(CW43,Accueil!$V$17:$V$22,1,0)),1,0)","v":0},{"$f":"IF(ISERROR(VLOOKUP(CX43,Accueil!$V$17:$V$22,1,0)),1,0)","v":0},{"$f":"IF(ISERROR(VLOOKUP(CY43,Accueil!$V$17:$V$22,1,0)),1,0)","v":0},{"$f":"IF(ISERROR(VLOOKUP(CZ43,Accueil!$V$17:$V$22,1,0)),1,0)","v":0},{"$f":"IF(ISERROR(VLOOKUP(DA43,Accueil!$V$17:$V$22,1,0)),1,0)","v":0}]
[null,36,{"$f":"IF(Accueil!E48=\"\",\"\",Accueil!E48)","v":""},{"$f":"IF(Accueil!F48=\"\",\"\",Accueil!F48)","v":""},"",null,null,null,null,null,null,null,null,null,null,null,null,null,null,null,null,null,null,null,null,null,null,null,null,null,null,null,null,null,null,null,null,null,null,null,null,null,null,null,null,null,null,null,null,null,null,null,null,null,null,null,null,null,null,null,null,null,null,null,null,null,null,null,null,null,null,null,null,null,null,null,null,null,null,null,null,null,null,null,null,null,null,null,null,null,null,null,null,null,null,null,null,null,null,null,null,null,null,null,null,36,{"$f":"IF(D44=\"\",\"\",COUNTIF(F44:DA44,Accueil!$AA$28)&\" / \"&COUNTIF($F$8:$DA$8,\">0\")-(COUNTIF(F44:DA44,Accueil!$AF$26)))","v":""},{"$f":"IF(D44=\"\",\"\",COUNTIF(F44:DA44,Accueil!$AA$26))","v":""},{"$f":"IF(D44=\"\",\"\",COUNTIF($F$8:$DA$8,\">0\")-(COUNTIF(F44:DA44,Accueil!$AF$26)))","v":""},"","",0,{"$f":"IF(ISERROR(VLOOKUP(F44,Accueil!$V$17:$V$22,1,0)),1,0)","v":0},{"$f":"IF(ISERROR(VLOOKUP(G44,Accueil!$V$17:$V$22,1,0)),1,0)","v":0},{"$f":"IF(ISERROR(VLOOKUP(H44,Accueil!$V$17:$V$22,1,0)),1,0)","v":0},{"$f":"IF(ISERROR(VLOOKUP(I44,Accueil!$V$17:$V$22,1,0)),1,0)","v":0},{"$f":"IF(ISERROR(VLOOKUP(J44,Accueil!$V$17:$V$22,1,0)),1,0)","v":0},{"$f":"IF(ISERROR(VLOOKUP(K44,Accueil!$V$17:$V$22,1,0)),1,0)","v":0},{"$f":"IF(ISERROR(VLOOKUP(L44,Accueil!$V$17:$V$22,1,0)),1,0)","v":0},{"$f":"IF(ISERROR(VLOOKUP(M44,Accueil!$V$17:$V$22,1,0)),1,0)","v":0},{"$f":"IF(ISERROR(VLOOKUP(N44,Accueil!$V$17:$V$22,1,0)),1,0)","v":0},{"$f":"IF(ISERROR(VLOOKUP(O44,Accueil!$V$17:$V$22,1,0)),1,0)","v":0},{"$f":"IF(ISERROR(VLOOKUP(P44,Accueil!$V$17:$V$22,1,0)),1,0)","v":0},{"$f":"IF(ISERROR(VLOOKUP(Q44,Accueil!$V$17:$V$22,1,0)),1,0)","v":0},{"$f":"IF(ISERROR(VLOOKUP(R44,Accueil!$V$17:$V$22,1,0)),1,0)","v":0},{"$f":"IF(ISERROR(VLOOKUP(S44,Accueil!$V$17:$V$22,1,0)),1,0)","v":0},{"$f":"IF(ISERROR(VLOOKUP(T44,Accueil!$V$17:$V$22,1,0)),1,0)","v":0},{"$f":"IF(ISERROR(VLOOKUP(U44,Accueil!$V$17:$V$22,1,0)),1,0)","v":0},{"$f":"IF(ISERROR(VLOOKUP(V44,Accueil!$V$17:$V$22,1,0)),1,0)","v":0},{"$f":"IF(ISERROR(VLOOKUP(W44,Accueil!$V$17:$V$22,1,0)),1,0)","v":0},{"$f":"IF(ISERROR(VLOOKUP(X44,Accueil!$V$17:$V$22,1,0)),1,0)","v":0},{"$f":"IF(ISERROR(VLOOKUP(Y44,Accueil!$V$17:$V$22,1,0)),1,0)","v":0},{"$f":"IF(ISERROR(VLOOKUP(Z44,Accueil!$V$17:$V$22,1,0)),1,0)","v":0},{"$f":"IF(ISERROR(VLOOKUP(AA44,Accueil!$V$17:$V$22,1,0)),1,0)","v":0},{"$f":"IF(ISERROR(VLOOKUP(AB44,Accueil!$V$17:$V$22,1,0)),1,0)","v":0},{"$f":"IF(ISERROR(VLOOKUP(AC44,Accueil!$V$17:$V$22,1,0)),1,0)","v":0},{"$f":"IF(ISERROR(VLOOKUP(AD44,Accueil!$V$17:$V$22,1,0)),1,0)","v":0},{"$f":"IF(ISERROR(VLOOKUP(AE44,Accueil!$V$17:$V$22,1,0)),1,0)","v":0},{"$f":"IF(ISERROR(VLOOKUP(AF44,Accueil!$V$17:$V$22,1,0)),1,0)","v":0},{"$f":"IF(ISERROR(VLOOKUP(AG44,Accueil!$V$17:$V$22,1,0)),1,0)","v":0},{"$f":"IF(ISERROR(VLOOKUP(AH44,Accueil!$V$17:$V$22,1,0)),1,0)","v":0},{"$f":"IF(ISERROR(VLOOKUP(AI44,Accueil!$V$17:$V$22,1,0)),1,0)","v":0},{"$f":"IF(ISERROR(VLOOKUP(AJ44,Accueil!$V$17:$V$22,1,0)),1,0)","v":0},{"$f":"IF(ISERROR(VLOOKUP(AK44,Accueil!$V$17:$V$22,1,0)),1,0)","v":0},{"$f":"IF(ISERROR(VLOOKUP(AL44,Accueil!$V$17:$V$22,1,0)),1,0)","v":0},{"$f":"IF(ISERROR(VLOOKUP(AM44,Accueil!$V$17:$V$22,1,0)),1,0)","v":0},{"$f":"IF(ISERROR(VLOOKUP(AN44,Accueil!$V$17:$V$22,1,0)),1,0)","v":0},{"$f":"IF(ISERROR(VLOOKUP(AO44,Accueil!$V$17:$V$22,1,0)),1,0)","v":0},{"$f":"IF(ISERROR(VLOOKUP(AP44,Accueil!$V$17:$V$22,1,0)),1,0)","v":0},{"$f":"IF(ISERROR(VLOOKUP(AQ44,Accueil!$V$17:$V$22,1,0)),1,0)","v":0},{"$f":"IF(ISERROR(VLOOKUP(AR44,Accueil!$V$17:$V$22,1,0)),1,0)","v":0},{"$f":"IF(ISERROR(VLOOKUP(AS44,Accueil!$V$17:$V$22,1,0)),1,0)","v":0},{"$f":"IF(ISERROR(VLOOKUP(AT44,Accueil!$V$17:$V$22,1,0)),1,0)","v":0},{"$f":"IF(ISERROR(VLOOKUP(AU44,Accueil!$V$17:$V$22,1,0)),1,0)","v":0},{"$f":"IF(ISERROR(VLOOKUP(AV44,Accueil!$V$17:$V$22,1,0)),1,0)","v":0},{"$f":"IF(ISERROR(VLOOKUP(AW44,Accueil!$V$17:$V$22,1,0)),1,0)","v":0},{"$f":"IF(ISERROR(VLOOKUP(AX44,Accueil!$V$17:$V$22,1,0)),1,0)","v":0},{"$f":"IF(ISERROR(VLOOKUP(AY44,Accueil!$V$17:$V$22,1,0)),1,0)","v":0},{"$f":"IF(ISERROR(VLOOKUP(AZ44,Accueil!$V$17:$V$22,1,0)),1,0)","v":0},{"$f":"IF(ISERROR(VLOOKUP(BA44,Accueil!$V$17:$V$22,1,0)),1,0)","v":0},{"$f":"IF(ISERROR(VLOOKUP(BB44,Accueil!$V$17:$V$22,1,0)),1,0)","v":0},{"$f":"IF(ISERROR(VLOOKUP(BC44,Accueil!$V$17:$V$22,1,0)),1,0)","v":0},{"$f":"IF(ISERROR(VLOOKUP(BD44,Accueil!$V$17:$V$22,1,0)),1,0)","v":0},{"$f":"IF(ISERROR(VLOOKUP(BE44,Accueil!$V$17:$V$22,1,0)),1,0)","v":0},{"$f":"IF(ISERROR(VLOOKUP(BF44,Accueil!$V$17:$V$22,1,0)),1,0)","v":0},{"$f":"IF(ISERROR(VLOOKUP(BG44,Accueil!$V$17:$V$22,1,0)),1,0)","v":0},{"$f":"IF(ISERROR(VLOOKUP(BH44,Accueil!$V$17:$V$22,1,0)),1,0)","v":0},{"$f":"IF(ISERROR(VLOOKUP(BI44,Accueil!$V$17:$V$22,1,0)),1,0)","v":0},{"$f":"IF(ISERROR(VLOOKUP(BJ44,Accueil!$V$17:$V$22,1,0)),1,0)","v":0},{"$f":"IF(ISERROR(VLOOKUP(BK44,Accueil!$V$17:$V$22,1,0)),1,0)","v":0},{"$f":"IF(ISERROR(VLOOKUP(BL44,Accueil!$V$17:$V$22,1,0)),1,0)","v":0},{"$f":"IF(ISERROR(VLOOKUP(BM44,Accueil!$V$17:$V$22,1,0)),1,0)","v":0},{"$f":"IF(ISERROR(VLOOKUP(BN44,Accueil!$V$17:$V$22,1,0)),1,0)","v":0},{"$f":"IF(ISERROR(VLOOKUP(BO44,Accueil!$V$17:$V$22,1,0)),1,0)","v":0},{"$f":"IF(ISERROR(VLOOKUP(BP44,Accueil!$V$17:$V$22,1,0)),1,0)","v":0},{"$f":"IF(ISERROR(VLOOKUP(BQ44,Accueil!$V$17:$V$22,1,0)),1,0)","v":0},{"$f":"IF(ISERROR(VLOOKUP(BR44,Accueil!$V$17:$V$22,1,0)),1,0)","v":0},{"$f":"IF(ISERROR(VLOOKUP(BS44,Accueil!$V$17:$V$22,1,0)),1,0)","v":0},{"$f":"IF(ISERROR(VLOOKUP(BT44,Accueil!$V$17:$V$22,1,0)),1,0)","v":0},{"$f":"IF(ISERROR(VLOOKUP(BU44,Accueil!$V$17:$V$22,1,0)),1,0)","v":0},{"$f":"IF(ISERROR(VLOOKUP(BV44,Accueil!$V$17:$V$22,1,0)),1,0)","v":0},{"$f":"IF(ISERROR(VLOOKUP(BW44,Accueil!$V$17:$V$22,1,0)),1,0)","v":0},{"$f":"IF(ISERROR(VLOOKUP(BX44,Accueil!$V$17:$V$22,1,0)),1,0)","v":0},{"$f":"IF(ISERROR(VLOOKUP(BY44,Accueil!$V$17:$V$22,1,0)),1,0)","v":0},{"$f":"IF(ISERROR(VLOOKUP(BZ44,Accueil!$V$17:$V$22,1,0)),1,0)","v":0},{"$f":"IF(ISERROR(VLOOKUP(CA44,Accueil!$V$17:$V$22,1,0)),1,0)","v":0},{"$f":"IF(ISERROR(VLOOKUP(CB44,Accueil!$V$17:$V$22,1,0)),1,0)","v":0},{"$f":"IF(ISERROR(VLOOKUP(CC44,Accueil!$V$17:$V$22,1,0)),1,0)","v":0},{"$f":"IF(ISERROR(VLOOKUP(CD44,Accueil!$V$17:$V$22,1,0)),1,0)","v":0},{"$f":"IF(ISERROR(VLOOKUP(CE44,Accueil!$V$17:$V$22,1,0)),1,0)","v":0},{"$f":"IF(ISERROR(VLOOKUP(CF44,Accueil!$V$17:$V$22,1,0)),1,0)","v":0},{"$f":"IF(ISERROR(VLOOKUP(CG44,Accueil!$V$17:$V$22,1,0)),1,0)","v":0},{"$f":"IF(ISERROR(VLOOKUP(CH44,Accueil!$V$17:$V$22,1,0)),1,0)","v":0},{"$f":"IF(ISERROR(VLOOKUP(CI44,Accueil!$V$17:$V$22,1,0)),1,0)","v":0},{"$f":"IF(ISERROR(VLOOKUP(CJ44,Accueil!$V$17:$V$22,1,0)),1,0)","v":0},{"$f":"IF(ISERROR(VLOOKUP(CK44,Accueil!$V$17:$V$22,1,0)),1,0)","v":0},{"$f":"IF(ISERROR(VLOOKUP(CL44,Accueil!$V$17:$V$22,1,0)),1,0)","v":0},{"$f":"IF(ISERROR(VLOOKUP(CM44,Accueil!$V$17:$V$22,1,0)),1,0)","v":0},{"$f":"IF(ISERROR(VLOOKUP(CN44,Accueil!$V$17:$V$22,1,0)),1,0)","v":0},{"$f":"IF(ISERROR(VLOOKUP(CO44,Accueil!$V$17:$V$22,1,0)),1,0)","v":0},{"$f":"IF(ISERROR(VLOOKUP(CP44,Accueil!$V$17:$V$22,1,0)),1,0)","v":0},{"$f":"IF(ISERROR(VLOOKUP(CQ44,Accueil!$V$17:$V$22,1,0)),1,0)","v":0},{"$f":"IF(ISERROR(VLOOKUP(CR44,Accueil!$V$17:$V$22,1,0)),1,0)","v":0},{"$f":"IF(ISERROR(VLOOKUP(CS44,Accueil!$V$17:$V$22,1,0)),1,0)","v":0},{"$f":"IF(ISERROR(VLOOKUP(CT44,Accueil!$V$17:$V$22,1,0)),1,0)","v":0},{"$f":"IF(ISERROR(VLOOKUP(CU44,Accueil!$V$17:$V$22,1,0)),1,0)","v":0},{"$f":"IF(ISERROR(VLOOKUP(CV44,Accueil!$V$17:$V$22,1,0)),1,0)","v":0},{"$f":"IF(ISERROR(VLOOKUP(CW44,Accueil!$V$17:$V$22,1,0)),1,0)","v":0},{"$f":"IF(ISERROR(VLOOKUP(CX44,Accueil!$V$17:$V$22,1,0)),1,0)","v":0},{"$f":"IF(ISERROR(VLOOKUP(CY44,Accueil!$V$17:$V$22,1,0)),1,0)","v":0},{"$f":"IF(ISERROR(VLOOKUP(CZ44,Accueil!$V$17:$V$22,1,0)),1,0)","v":0},{"$f":"IF(ISERROR(VLOOKUP(DA44,Accueil!$V$17:$V$22,1,0)),1,0)","v":0}]
[null,37,{"$f":"IF(Accueil!E49=\"\",\"\",Accueil!E49)","v":""},{"$f":"IF(Accueil!F49=\"\",\"\",Accueil!F49)","v":""},"",null,null,null,null,null,null,null,null,null,null,null,null,null,null,null,null,null,null,null,null,null,null,null,null,null,null,null,null,null,null,null,null,null,null,null,null,null,null,null,null,null,null,null,null,null,null,null,null,null,null,null,null,null,null,null,null,null,null,null,null,null,null,null,null,null,null,null,null,null,null,null,null,null,null,null,null,null,null,null,null,null,null,null,null,null,null,null,null,null,null,null,null,null,null,null,null,null,null,null,null,37,{"$f":"IF(D45=\"\",\"\",COUNTIF(F45:DA45,Accueil!$AA$28)&\" / \"&COUNTIF($F$8:$DA$8,\">0\")-(COUNTIF(F45:DA45,Accueil!$AF$26)))","v":""},{"$f":"IF(D45=\"\",\"\",COUNTIF(F45:DA45,Accueil!$AA$26))","v":""},{"$f":"IF(D45=\"\",\"\",COUNTIF($F$8:$DA$8,\">0\")-(COUNTIF(F45:DA45,Accueil!$AF$26)))","v":""},"","",0,{"$f":"IF(ISERROR(VLOOKUP(F45,Accueil!$V$17:$V$22,1,0)),1,0)","v":0},{"$f":"IF(ISERROR(VLOOKUP(G45,Accueil!$V$17:$V$22,1,0)),1,0)","v":0},{"$f":"IF(ISERROR(VLOOKUP(H45,Accueil!$V$17:$V$22,1,0)),1,0)","v":0},{"$f":"IF(ISERROR(VLOOKUP(I45,Accueil!$V$17:$V$22,1,0)),1,0)","v":0},{"$f":"IF(ISERROR(VLOOKUP(J45,Accueil!$V$17:$V$22,1,0)),1,0)","v":0},{"$f":"IF(ISERROR(VLOOKUP(K45,Accueil!$V$17:$V$22,1,0)),1,0)","v":0},{"$f":"IF(ISERROR(VLOOKUP(L45,Accueil!$V$17:$V$22,1,0)),1,0)","v":0},{"$f":"IF(ISERROR(VLOOKUP(M45,Accueil!$V$17:$V$22,1,0)),1,0)","v":0},{"$f":"IF(ISERROR(VLOOKUP(N45,Accueil!$V$17:$V$22,1,0)),1,0)","v":0},{"$f":"IF(ISERROR(VLOOKUP(O45,Accueil!$V$17:$V$22,1,0)),1,0)","v":0},{"$f":"IF(ISERROR(VLOOKUP(P45,Accueil!$V$17:$V$22,1,0)),1,0)","v":0},{"$f":"IF(ISERROR(VLOOKUP(Q45,Accueil!$V$17:$V$22,1,0)),1,0)","v":0},{"$f":"IF(ISERROR(VLOOKUP(R45,Accueil!$V$17:$V$22,1,0)),1,0)","v":0},{"$f":"IF(ISERROR(VLOOKUP(S45,Accueil!$V$17:$V$22,1,0)),1,0)","v":0},{"$f":"IF(ISERROR(VLOOKUP(T45,Accueil!$V$17:$V$22,1,0)),1,0)","v":0},{"$f":"IF(ISERROR(VLOOKUP(U45,Accueil!$V$17:$V$22,1,0)),1,0)","v":0},{"$f":"IF(ISERROR(VLOOKUP(V45,Accueil!$V$17:$V$22,1,0)),1,0)","v":0},{"$f":"IF(ISERROR(VLOOKUP(W45,Accueil!$V$17:$V$22,1,0)),1,0)","v":0},{"$f":"IF(ISERROR(VLOOKUP(X45,Accueil!$V$17:$V$22,1,0)),1,0)","v":0},{"$f":"IF(ISERROR(VLOOKUP(Y45,Accueil!$V$17:$V$22,1,0)),1,0)","v":0},{"$f":"IF(ISERROR(VLOOKUP(Z45,Accueil!$V$17:$V$22,1,0)),1,0)","v":0},{"$f":"IF(ISERROR(VLOOKUP(AA45,Accueil!$V$17:$V$22,1,0)),1,0)","v":0},{"$f":"IF(ISERROR(VLOOKUP(AB45,Accueil!$V$17:$V$22,1,0)),1,0)","v":0},{"$f":"IF(ISERROR(VLOOKUP(AC45,Accueil!$V$17:$V$22,1,0)),1,0)","v":0},{"$f":"IF(ISERROR(VLOOKUP(AD45,Accueil!$V$17:$V$22,1,0)),1,0)","v":0},{"$f":"IF(ISERROR(VLOOKUP(AE45,Accueil!$V$17:$V$22,1,0)),1,0)","v":0},{"$f":"IF(ISERROR(VLOOKUP(AF45,Accueil!$V$17:$V$22,1,0)),1,0)","v":0},{"$f":"IF(ISERROR(VLOOKUP(AG45,Accueil!$V$17:$V$22,1,0)),1,0)","v":0},{"$f":"IF(ISERROR(VLOOKUP(AH45,Accueil!$V$17:$V$22,1,0)),1,0)","v":0},{"$f":"IF(ISERROR(VLOOKUP(AI45,Accueil!$V$17:$V$22,1,0)),1,0)","v":0},{"$f":"IF(ISERROR(VLOOKUP(AJ45,Accueil!$V$17:$V$22,1,0)),1,0)","v":0},{"$f":"IF(ISERROR(VLOOKUP(AK45,Accueil!$V$17:$V$22,1,0)),1,0)","v":0},{"$f":"IF(ISERROR(VLOOKUP(AL45,Accueil!$V$17:$V$22,1,0)),1,0)","v":0},{"$f":"IF(ISERROR(VLOOKUP(AM45,Accueil!$V$17:$V$22,1,0)),1,0)","v":0},{"$f":"IF(ISERROR(VLOOKUP(AN45,Accueil!$V$17:$V$22,1,0)),1,0)","v":0},{"$f":"IF(ISERROR(VLOOKUP(AO45,Accueil!$V$17:$V$22,1,0)),1,0)","v":0},{"$f":"IF(ISERROR(VLOOKUP(AP45,Accueil!$V$17:$V$22,1,0)),1,0)","v":0},{"$f":"IF(ISERROR(VLOOKUP(AQ45,Accueil!$V$17:$V$22,1,0)),1,0)","v":0},{"$f":"IF(ISERROR(VLOOKUP(AR45,Accueil!$V$17:$V$22,1,0)),1,0)","v":0},{"$f":"IF(ISERROR(VLOOKUP(AS45,Accueil!$V$17:$V$22,1,0)),1,0)","v":0},{"$f":"IF(ISERROR(VLOOKUP(AT45,Accueil!$V$17:$V$22,1,0)),1,0)","v":0},{"$f":"IF(ISERROR(VLOOKUP(AU45,Accueil!$V$17:$V$22,1,0)),1,0)","v":0},{"$f":"IF(ISERROR(VLOOKUP(AV45,Accueil!$V$17:$V$22,1,0)),1,0)","v":0},{"$f":"IF(ISERROR(VLOOKUP(AW45,Accueil!$V$17:$V$22,1,0)),1,0)","v":0},{"$f":"IF(ISERROR(VLOOKUP(AX45,Accueil!$V$17:$V$22,1,0)),1,0)","v":0},{"$f":"IF(ISERROR(VLOOKUP(AY45,Accueil!$V$17:$V$22,1,0)),1,0)","v":0},{"$f":"IF(ISERROR(VLOOKUP(AZ45,Accueil!$V$17:$V$22,1,0)),1,0)","v":0},{"$f":"IF(ISERROR(VLOOKUP(BA45,Accueil!$V$17:$V$22,1,0)),1,0)","v":0},{"$f":"IF(ISERROR(VLOOKUP(BB45,Accueil!$V$17:$V$22,1,0)),1,0)","v":0},{"$f":"IF(ISERROR(VLOOKUP(BC45,Accueil!$V$17:$V$22,1,0)),1,0)","v":0},{"$f":"IF(ISERROR(VLOOKUP(BD45,Accueil!$V$17:$V$22,1,0)),1,0)","v":0},{"$f":"IF(ISERROR(VLOOKUP(BE45,Accueil!$V$17:$V$22,1,0)),1,0)","v":0},{"$f":"IF(ISERROR(VLOOKUP(BF45,Accueil!$V$17:$V$22,1,0)),1,0)","v":0},{"$f":"IF(ISERROR(VLOOKUP(BG45,Accueil!$V$17:$V$22,1,0)),1,0)","v":0},{"$f":"IF(ISERROR(VLOOKUP(BH45,Accueil!$V$17:$V$22,1,0)),1,0)","v":0},{"$f":"IF(ISERROR(VLOOKUP(BI45,Accueil!$V$17:$V$22,1,0)),1,0)","v":0},{"$f":"IF(ISERROR(VLOOKUP(BJ45,Accueil!$V$17:$V$22,1,0)),1,0)","v":0},{"$f":"IF(ISERROR(VLOOKUP(BK45,Accueil!$V$17:$V$22,1,0)),1,0)","v":0},{"$f":"IF(ISERROR(VLOOKUP(BL45,Accueil!$V$17:$V$22,1,0)),1,0)","v":0},{"$f":"IF(ISERROR(VLOOKUP(BM45,Accueil!$V$17:$V$22,1,0)),1,0)","v":0},{"$f":"IF(ISERROR(VLOOKUP(BN45,Accueil!$V$17:$V$22,1,0)),1,0)","v":0},{"$f":"IF(ISERROR(VLOOKUP(BO45,Accueil!$V$17:$V$22,1,0)),1,0)","v":0},{"$f":"IF(ISERROR(VLOOKUP(BP45,Accueil!$V$17:$V$22,1,0)),1,0)","v":0},{"$f":"IF(ISERROR(VLOOKUP(BQ45,Accueil!$V$17:$V$22,1,0)),1,0)","v":0},{"$f":"IF(ISERROR(VLOOKUP(BR45,Accueil!$V$17:$V$22,1,0)),1,0)","v":0},{"$f":"IF(ISERROR(VLOOKUP(BS45,Accueil!$V$17:$V$22,1,0)),1,0)","v":0},{"$f":"IF(ISERROR(VLOOKUP(BT45,Accueil!$V$17:$V$22,1,0)),1,0)","v":0},{"$f":"IF(ISERROR(VLOOKUP(BU45,Accueil!$V$17:$V$22,1,0)),1,0)","v":0},{"$f":"IF(ISERROR(VLOOKUP(BV45,Accueil!$V$17:$V$22,1,0)),1,0)","v":0},{"$f":"IF(ISERROR(VLOOKUP(BW45,Accueil!$V$17:$V$22,1,0)),1,0)","v":0},{"$f":"IF(ISERROR(VLOOKUP(BX45,Accueil!$V$17:$V$22,1,0)),1,0)","v":0},{"$f":"IF(ISERROR(VLOOKUP(BY45,Accueil!$V$17:$V$22,1,0)),1,0)","v":0},{"$f":"IF(ISERROR(VLOOKUP(BZ45,Accueil!$V$17:$V$22,1,0)),1,0)","v":0},{"$f":"IF(ISERROR(VLOOKUP(CA45,Accueil!$V$17:$V$22,1,0)),1,0)","v":0},{"$f":"IF(ISERROR(VLOOKUP(CB45,Accueil!$V$17:$V$22,1,0)),1,0)","v":0},{"$f":"IF(ISERROR(VLOOKUP(CC45,Accueil!$V$17:$V$22,1,0)),1,0)","v":0},{"$f":"IF(ISERROR(VLOOKUP(CD45,Accueil!$V$17:$V$22,1,0)),1,0)","v":0},{"$f":"IF(ISERROR(VLOOKUP(CE45,Accueil!$V$17:$V$22,1,0)),1,0)","v":0},{"$f":"IF(ISERROR(VLOOKUP(CF45,Accueil!$V$17:$V$22,1,0)),1,0)","v":0},{"$f":"IF(ISERROR(VLOOKUP(CG45,Accueil!$V$17:$V$22,1,0)),1,0)","v":0},{"$f":"IF(ISERROR(VLOOKUP(CH45,Accueil!$V$17:$V$22,1,0)),1,0)","v":0},{"$f":"IF(ISERROR(VLOOKUP(CI45,Accueil!$V$17:$V$22,1,0)),1,0)","v":0},{"$f":"IF(ISERROR(VLOOKUP(CJ45,Accueil!$V$17:$V$22,1,0)),1,0)","v":0},{"$f":"IF(ISERROR(VLOOKUP(CK45,Accueil!$V$17:$V$22,1,0)),1,0)","v":0},{"$f":"IF(ISERROR(VLOOKUP(CL45,Accueil!$V$17:$V$22,1,0)),1,0)","v":0},{"$f":"IF(ISERROR(VLOOKUP(CM45,Accueil!$V$17:$V$22,1,0)),1,0)","v":0},{"$f":"IF(ISERROR(VLOOKUP(CN45,Accueil!$V$17:$V$22,1,0)),1,0)","v":0},{"$f":"IF(ISERROR(VLOOKUP(CO45,Accueil!$V$17:$V$22,1,0)),1,0)","v":0},{"$f":"IF(ISERROR(VLOOKUP(CP45,Accueil!$V$17:$V$22,1,0)),1,0)","v":0},{"$f":"IF(ISERROR(VLOOKUP(CQ45,Accueil!$V$17:$V$22,1,0)),1,0)","v":0},{"$f":"IF(ISERROR(VLOOKUP(CR45,Accueil!$V$17:$V$22,1,0)),1,0)","v":0},{"$f":"IF(ISERROR(VLOOKUP(CS45,Accueil!$V$17:$V$22,1,0)),1,0)","v":0},{"$f":"IF(ISERROR(VLOOKUP(CT45,Accueil!$V$17:$V$22,1,0)),1,0)","v":0},{"$f":"IF(ISERROR(VLOOKUP(CU45,Accueil!$V$17:$V$22,1,0)),1,0)","v":0},{"$f":"IF(ISERROR(VLOOKUP(CV45,Accueil!$V$17:$V$22,1,0)),1,0)","v":0},{"$f":"IF(ISERROR(VLOOKUP(CW45,Accueil!$V$17:$V$22,1,0)),1,0)","v":0},{"$f":"IF(ISERROR(VLOOKUP(CX45,Accueil!$V$17:$V$22,1,0)),1,0)","v":0},{"$f":"IF(ISERROR(VLOOKUP(CY45,Accueil!$V$17:$V$22,1,0)),1,0)","v":0},{"$f":"IF(ISERROR(VLOOKUP(CZ45,Accueil!$V$17:$V$22,1,0)),1,0)","v":0},{"$f":"IF(ISERROR(VLOOKUP(DA45,Accueil!$V$17:$V$22,1,0)),1,0)","v":0}]
[null,38,{"$f":"IF(Accueil!E50=\"\",\"\",Accueil!E50)","v":""},{"$f":"IF(Accueil!F50=\"\",\"\",Accueil!F50)","v":""},"",null,null,null,null,null,null,null,null,null,null,null,null,null,null,null,null,null,null,null,null,null,null,null,null,null,null,null,null,null,null,null,null,null,null,null,null,null,null,null,null,null,null,null,null,null,null,null,null,null,null,null,null,null,null,null,null,null,null,null,null,null,null,null,null,null,null,null,null,null,null,null,null,null,null,null,null,null,null,null,null,null,null,null,null,null,null,null,null,null,null,null,null,null,null,null,null,null,null,null,null,38,{"$f":"IF(D46=\"\",\"\",COUNTIF(F46:DA46,Accueil!$AA$28)&\" / \"&COUNTIF($F$8:$DA$8,\">0\")-(COUNTIF(F46:DA46,Accueil!$AF$26)))","v":""},{"$f":"IF(D46=\"\",\"\",COUNTIF(F46:DA46,Accueil!$AA$26))","v":""},{"$f":"IF(D46=\"\",\"\",COUNTIF($F$8:$DA$8,\">0\")-(COUNTIF(F46:DA46,Accueil!$AF$26)))","v":""},"","",0,{"$f":"IF(ISERROR(VLOOKUP(F46,Accueil!$V$17:$V$22,1,0)),1,0)","v":0},{"$f":"IF(ISERROR(VLOOKUP(G46,Accueil!$V$17:$V$22,1,0)),1,0)","v":0},{"$f":"IF(ISERROR(VLOOKUP(H46,Accueil!$V$17:$V$22,1,0)),1,0)","v":0},{"$f":"IF(ISERROR(VLOOKUP(I46,Accueil!$V$17:$V$22,1,0)),1,0)","v":0},{"$f":"IF(ISERROR(VLOOKUP(J46,Accueil!$V$17:$V$22,1,0)),1,0)","v":0},{"$f":"IF(ISERROR(VLOOKUP(K46,Accueil!$V$17:$V$22,1,0)),1,0)","v":0},{"$f":"IF(ISERROR(VLOOKUP(L46,Accueil!$V$17:$V$22,1,0)),1,0)","v":0},{"$f":"IF(ISERROR(VLOOKUP(M46,Accueil!$V$17:$V$22,1,0)),1,0)","v":0},{"$f":"IF(ISERROR(VLOOKUP(N46,Accueil!$V$17:$V$22,1,0)),1,0)","v":0},{"$f":"IF(ISERROR(VLOOKUP(O46,Accueil!$V$17:$V$22,1,0)),1,0)","v":0},{"$f":"IF(ISERROR(VLOOKUP(P46,Accueil!$V$17:$V$22,1,0)),1,0)","v":0},{"$f":"IF(ISERROR(VLOOKUP(Q46,Accueil!$V$17:$V$22,1,0)),1,0)","v":0},{"$f":"IF(ISERROR(VLOOKUP(R46,Accueil!$V$17:$V$22,1,0)),1,0)","v":0},{"$f":"IF(ISERROR(VLOOKUP(S46,Accueil!$V$17:$V$22,1,0)),1,0)","v":0},{"$f":"IF(ISERROR(VLOOKUP(T46,Accueil!$V$17:$V$22,1,0)),1,0)","v":0},{"$f":"IF(ISERROR(VLOOKUP(U46,Accueil!$V$17:$V$22,1,0)),1,0)","v":0},{"$f":"IF(ISERROR(VLOOKUP(V46,Accueil!$V$17:$V$22,1,0)),1,0)","v":0},{"$f":"IF(ISERROR(VLOOKUP(W46,Accueil!$V$17:$V$22,1,0)),1,0)","v":0},{"$f":"IF(ISERROR(VLOOKUP(X46,Accueil!$V$17:$V$22,1,0)),1,0)","v":0},{"$f":"IF(ISERROR(VLOOKUP(Y46,Accueil!$V$17:$V$22,1,0)),1,0)","v":0},{"$f":"IF(ISERROR(VLOOKUP(Z46,Accueil!$V$17:$V$22,1,0)),1,0)","v":0},{"$f":"IF(ISERROR(VLOOKUP(AA46,Accueil!$V$17:$V$22,1,0)),1,0)","v":0},{"$f":"IF(ISERROR(VLOOKUP(AB46,Accueil!$V$17:$V$22,1,0)),1,0)","v":0},{"$f":"IF(ISERROR(VLOOKUP(AC46,Accueil!$V$17:$V$22,1,0)),1,0)","v":0},{"$f":"IF(ISERROR(VLOOKUP(AD46,Accueil!$V$17:$V$22,1,0)),1,0)","v":0},{"$f":"IF(ISERROR(VLOOKUP(AE46,Accueil!$V$17:$V$22,1,0)),1,0)","v":0},{"$f":"IF(ISERROR(VLOOKUP(AF46,Accueil!$V$17:$V$22,1,0)),1,0)","v":0},{"$f":"IF(ISERROR(VLOOKUP(AG46,Accueil!$V$17:$V$22,1,0)),1,0)","v":0},{"$f":"IF(ISERROR(VLOOKUP(AH46,Accueil!$V$17:$V$22,1,0)),1,0)","v":0},{"$f":"IF(ISERROR(VLOOKUP(AI46,Accueil!$V$17:$V$22,1,0)),1,0)","v":0},{"$f":"IF(ISERROR(VLOOKUP(AJ46,Accueil!$V$17:$V$22,1,0)),1,0)","v":0},{"$f":"IF(ISERROR(VLOOKUP(AK46,Accueil!$V$17:$V$22,1,0)),1,0)","v":0},{"$f":"IF(ISERROR(VLOOKUP(AL46,Accueil!$V$17:$V$22,1,0)),1,0)","v":0},{"$f":"IF(ISERROR(VLOOKUP(AM46,Accueil!$V$17:$V$22,1,0)),1,0)","v":0},{"$f":"IF(ISERROR(VLOOKUP(AN46,Accueil!$V$17:$V$22,1,0)),1,0)","v":0},{"$f":"IF(ISERROR(VLOOKUP(AO46,Accueil!$V$17:$V$22,1,0)),1,0)","v":0},{"$f":"IF(ISERROR(VLOOKUP(AP46,Accueil!$V$17:$V$22,1,0)),1,0)","v":0},{"$f":"IF(ISERROR(VLOOKUP(AQ46,Accueil!$V$17:$V$22,1,0)),1,0)","v":0},{"$f":"IF(ISERROR(VLOOKUP(AR46,Accueil!$V$17:$V$22,1,0)),1,0)","v":0},{"$f":"IF(ISERROR(VLOOKUP(AS46,Accueil!$V$17:$V$22,1,0)),1,0)","v":0},{"$f":"IF(ISERROR(VLOOKUP(AT46,Accueil!$V$17:$V$22,1,0)),1,0)","v":0},{"$f":"IF(ISERROR(VLOOKUP(AU46,Accueil!$V$17:$V$22,1,0)),1,0)","v":0},{"$f":"IF(ISERROR(VLOOKUP(AV46,Accueil!$V$17:$V$22,1,0)),1,0)","v":0},{"$f":"IF(ISERROR(VLOOKUP(AW46,Accueil!$V$17:$V$22,1,0)),1,0)","v":0},{"$f":"IF(ISERROR(VLOOKUP(AX46,Accueil!$V$17:$V$22,1,0)),1,0)","v":0},{"$f":"IF(ISERROR(VLOOKUP(AY46,Accueil!$V$17:$V$22,1,0)),1,0)","v":0},{"$f":"IF(ISERROR(VLOOKUP(AZ46,Accueil!$V$17:$V$22,1,0)),1,0)","v":0},{"$f":"IF(ISERROR(VLOOKUP(BA46,Accueil!$V$17:$V$22,1,0)),1,0)","v":0},{"$f":"IF(ISERROR(VLOOKUP(BB46,Accueil!$V$17:$V$22,1,0)),1,0)","v":0},{"$f":"IF(ISERROR(VLOOKUP(BC46,Accueil!$V$17:$V$22,1,0)),1,0)","v":0},{"$f":"IF(ISERROR(VLOOKUP(BD46,Accueil!$V$17:$V$22,1,0)),1,0)","v":0},{"$f":"IF(ISERROR(VLOOKUP(BE46,Accueil!$V$17:$V$22,1,0)),1,0)","v":0},{"$f":"IF(ISERROR(VLOOKUP(BF46,Accueil!$V$17:$V$22,1,0)),1,0)","v":0},{"$f":"IF(ISERROR(VLOOKUP(BG46,Accueil!$V$17:$V$22,1,0)),1,0)","v":0},{"$f":"IF(ISERROR(VLOOKUP(BH46,Accueil!$V$17:$V$22,1,0)),1,0)","v":0},{"$f":"IF(ISERROR(VLOOKUP(BI46,Accueil!$V$17:$V$22,1,0)),1,0)","v":0},{"$f":"IF(ISERROR(VLOOKUP(BJ46,Accueil!$V$17:$V$22,1,0)),1,0)","v":0},{"$f":"IF(ISERROR(VLOOKUP(BK46,Accueil!$V$17:$V$22,1,0)),1,0)","v":0},{"$f":"IF(ISERROR(VLOOKUP(BL46,Accueil!$V$17:$V$22,1,0)),1,0)","v":0},{"$f":"IF(ISERROR(VLOOKUP(BM46,Accueil!$V$17:$V$22,1,0)),1,0)","v":0},{"$f":"IF(ISERROR(VLOOKUP(BN46,Accueil!$V$17:$V$22,1,0)),1,0)","v":0},{"$f":"IF(ISERROR(VLOOKUP(BO46,Accueil!$V$17:$V$22,1,0)),1,0)","v":0},{"$f":"IF(ISERROR(VLOOKUP(BP46,Accueil!$V$17:$V$22,1,0)),1,0)","v":0},{"$f":"IF(ISERROR(VLOOKUP(BQ46,Accueil!$V$17:$V$22,1,0)),1,0)","v":0},{"$f":"IF(ISERROR(VLOOKUP(BR46,Accueil!$V$17:$V$22,1,0)),1,0)","v":0},{"$f":"IF(ISERROR(VLOOKUP(BS46,Accueil!$V$17:$V$22,1,0)),1,0)","v":0},{"$f":"IF(ISERROR(VLOOKUP(BT46,Accueil!$V$17:$V$22,1,0)),1,0)","v":0},{"$f":"IF(ISERROR(VLOOKUP(BU46,Accueil!$V$17:$V$22,1,0)),1,0)","v":0},{"$f":"IF(ISERROR(VLOOKUP(BV46,Accueil!$V$17:$V$22,1,0)),1,0)","v":0},{"$f":"IF(ISERROR(VLOOKUP(BW46,Accueil!$V$17:$V$22,1,0)),1,0)","v":0},{"$f":"IF(ISERROR(VLOOKUP(BX46,Accueil!$V$17:$V$22,1,0)),1,0)","v":0},{"$f":"IF(ISERROR(VLOOKUP(BY46,Accueil!$V$17:$V$22,1,0)),1,0)","v":0},{"$f":"IF(ISERROR(VLOOKUP(BZ46,Accueil!$V$17:$V$22,1,0)),1,0)","v":0},{"$f":"IF(ISERROR(VLOOKUP(CA46,Accueil!$V$17:$V$22,1,0)),1,0)","v":0},{"$f":"IF(ISERROR(VLOOKUP(CB46,Accueil!$V$17:$V$22,1,0)),1,0)","v":0},{"$f":"IF(ISERROR(VLOOKUP(CC46,Accueil!$V$17:$V$22,1,0)),1,0)","v":0},{"$f":"IF(ISERROR(VLOOKUP(CD46,Accueil!$V$17:$V$22,1,0)),1,0)","v":0},{"$f":"IF(ISERROR(VLOOKUP(CE46,Accueil!$V$17:$V$22,1,0)),1,0)","v":0},{"$f":"IF(ISERROR(VLOOKUP(CF46,Accueil!$V$17:$V$22,1,0)),1,0)","v":0},{"$f":"IF(ISERROR(VLOOKUP(CG46,Accueil!$V$17:$V$22,1,0)),1,0)","v":0},{"$f":"IF(ISERROR(VLOOKUP(CH46,Accueil!$V$17:$V$22,1,0)),1,0)","v":0},{"$f":"IF(ISERROR(VLOOKUP(CI46,Accueil!$V$17:$V$22,1,0)),1,0)","v":0},{"$f":"IF(ISERROR(VLOOKUP(CJ46,Accueil!$V$17:$V$22,1,0)),1,0)","v":0},{"$f":"IF(ISERROR(VLOOKUP(CK46,Accueil!$V$17:$V$22,1,0)),1,0)","v":0},{"$f":"IF(ISERROR(VLOOKUP(CL46,Accueil!$V$17:$V$22,1,0)),1,0)","v":0},{"$f":"IF(ISERROR(VLOOKUP(CM46,Accueil!$V$17:$V$22,1,0)),1,0)","v":0},{"$f":"IF(ISERROR(VLOOKUP(CN46,Accueil!$V$17:$V$22,1,0)),1,0)","v":0},{"$f":"IF(ISERROR(VLOOKUP(CO46,Accueil!$V$17:$V$22,1,0)),1,0)","v":0},{"$f":"IF(ISERROR(VLOOKUP(CP46,Accueil!$V$17:$V$22,1,0)),1,0)","v":0},{"$f":"IF(ISERROR(VLOOKUP(CQ46,Accueil!$V$17:$V$22,1,0)),1,0)","v":0},{"$f":"IF(ISERROR(VLOOKUP(CR46,Accueil!$V$17:$V$22,1,0)),1,0)","v":0},{"$f":"IF(ISERROR(VLOOKUP(CS46,Accueil!$V$17:$V$22,1,0)),1,0)","v":0},{"$f":"IF(ISERROR(VLOOKUP(CT46,Accueil!$V$17:$V$22,1,0)),1,0)","v":0},{"$f":"IF(ISERROR(VLOOKUP(CU46,Accueil!$V$17:$V$22,1,0)),1,0)","v":0},{"$f":"IF(ISERROR(VLOOKUP(CV46,Accueil!$V$17:$V$22,1,0)),1,0)","v":0},{"$f":"IF(ISERROR(VLOOKUP(CW46,Accueil!$V$17:$V$22,1,0)),1,0)","v":0},{"$f":"IF(ISERROR(VLOOKUP(CX46,Accueil!$V$17:$V$22,1,0)),1,0)","v":0},{"$f":"IF(ISERROR(VLOOKUP(CY46,Accueil!$V$17:$V$22,1,0)),1,0)","v":0},{"$f":"IF(ISERROR(VLOOKUP(CZ46,Accueil!$V$17:$V$22,1,0)),1,0)","v":0},{"$f":"IF(ISERROR(VLOOKUP(DA46,Accueil!$V$17:$V$22,1,0)),1,0)","v":0}]
[null,39,{"$f":"IF(Accueil!E51=\"\",\"\",Accueil!E51)","v":""},{"$f":"IF(Accueil!F51=\"\",\"\",Accueil!F51)","v":""},"",null,null,null,null,null,null,null,null,null,null,null,null,null,null,null,null,null,null,null,null,null,null,null,null,null,null,null,null,null,null,null,null,null,null,null,null,null,null,null,null,null,null,null,null,null,null,null,null,null,null,null,null,null,null,null,null,null,null,null,null,null,null,null,null,null,null,null,null,null,null,null,null,null,null,null,null,null,null,null,null,null,null,null,null,null,null,null,null,null,null,null,null,null,null,null,null,null,null,null,null,39,{"$f":"IF(D47=\"\",\"\",COUNTIF(F47:DA47,Accueil!$AA$28)&\" / \"&COUNTIF($F$8:$DA$8,\">0\")-(COUNTIF(F47:DA47,Accueil!$AF$26)))","v":""},{"$f":"IF(D47=\"\",\"\",COUNTIF(F47:DA47,Accueil!$AA$26))","v":""},{"$f":"IF(D47=\"\",\"\",COUNTIF($F$8:$DA$8,\">0\")-(COUNTIF(F47:DA47,Accueil!$AF$26)))","v":""},"","",0,{"$f":"IF(ISERROR(VLOOKUP(F47,Accueil!$V$17:$V$22,1,0)),1,0)","v":0},{"$f":"IF(ISERROR(VLOOKUP(G47,Accueil!$V$17:$V$22,1,0)),1,0)","v":0},{"$f":"IF(ISERROR(VLOOKUP(H47,Accueil!$V$17:$V$22,1,0)),1,0)","v":0},{"$f":"IF(ISERROR(VLOOKUP(I47,Accueil!$V$17:$V$22,1,0)),1,0)","v":0},{"$f":"IF(ISERROR(VLOOKUP(J47,Accueil!$V$17:$V$22,1,0)),1,0)","v":0},{"$f":"IF(ISERROR(VLOOKUP(K47,Accueil!$V$17:$V$22,1,0)),1,0)","v":0},{"$f":"IF(ISERROR(VLOOKUP(L47,Accueil!$V$17:$V$22,1,0)),1,0)","v":0},{"$f":"IF(ISERROR(VLOOKUP(M47,Accueil!$V$17:$V$22,1,0)),1,0)","v":0},{"$f":"IF(ISERROR(VLOOKUP(N47,Accueil!$V$17:$V$22,1,0)),1,0)","v":0},{"$f":"IF(ISERROR(VLOOKUP(O47,Accueil!$V$17:$V$22,1,0)),1,0)","v":0},{"$f":"IF(ISERROR(VLOOKUP(P47,Accueil!$V$17:$V$22,1,0)),1,0)","v":0},{"$f":"IF(ISERROR(VLOOKUP(Q47,Accueil!$V$17:$V$22,1,0)),1,0)","v":0},{"$f":"IF(ISERROR(VLOOKUP(R47,Accueil!$V$17:$V$22,1,0)),1,0)","v":0},{"$f":"IF(ISERROR(VLOOKUP(S47,Accueil!$V$17:$V$22,1,0)),1,0)","v":0},{"$f":"IF(ISERROR(VLOOKUP(T47,Accueil!$V$17:$V$22,1,0)),1,0)","v":0},{"$f":"IF(ISERROR(VLOOKUP(U47,Accueil!$V$17:$V$22,1,0)),1,0)","v":0},{"$f":"IF(ISERROR(VLOOKUP(V47,Accueil!$V$17:$V$22,1,0)),1,0)","v":0},{"$f":"IF(ISERROR(VLOOKUP(W47,Accueil!$V$17:$V$22,1,0)),1,0)","v":0},{"$f":"IF(ISERROR(VLOOKUP(X47,Accueil!$V$17:$V$22,1,0)),1,0)","v":0},{"$f":"IF(ISERROR(VLOOKUP(Y47,Accueil!$V$17:$V$22,1,0)),1,0)","v":0},{"$f":"IF(ISERROR(VLOOKUP(Z47,Accueil!$V$17:$V$22,1,0)),1,0)","v":0},{"$f":"IF(ISERROR(VLOOKUP(AA47,Accueil!$V$17:$V$22,1,0)),1,0)","v":0},{"$f":"IF(ISERROR(VLOOKUP(AB47,Accueil!$V$17:$V$22,1,0)),1,0)","v":0},{"$f":"IF(ISERROR(VLOOKUP(AC47,Accueil!$V$17:$V$22,1,0)),1,0)","v":0},{"$f":"IF(ISERROR(VLOOKUP(AD47,Accueil!$V$17:$V$22,1,0)),1,0)","v":0},{"$f":"IF(ISERROR(VLOOKUP(AE47,Accueil!$V$17:$V$22,1,0)),1,0)","v":0},{"$f":"IF(ISERROR(VLOOKUP(AF47,Accueil!$V$17:$V$22,1,0)),1,0)","v":0},{"$f":"IF(ISERROR(VLOOKUP(AG47,Accueil!$V$17:$V$22,1,0)),1,0)","v":0},{"$f":"IF(ISERROR(VLOOKUP(AH47,Accueil!$V$17:$V$22,1,0)),1,0)","v":0},{"$f":"IF(ISERROR(VLOOKUP(AI47,Accueil!$V$17:$V$22,1,0)),1,0)","v":0},{"$f":"IF(ISERROR(VLOOKUP(AJ47,Accueil!$V$17:$V$22,1,0)),1,0)","v":0},{"$f":"IF(ISERROR(VLOOKUP(AK47,Accueil!$V$17:$V$22,1,0)),1,0)","v":0},{"$f":"IF(ISERROR(VLOOKUP(AL47,Accueil!$V$17:$V$22,1,0)),1,0)","v":0},{"$f":"IF(ISERROR(VLOOKUP(AM47,Accueil!$V$17:$V$22,1,0)),1,0)","v":0},{"$f":"IF(ISERROR(VLOOKUP(AN47,Accueil!$V$17:$V$22,1,0)),1,0)","v":0},{"$f":"IF(ISERROR(VLOOKUP(AO47,Accueil!$V$17:$V$22,1,0)),1,0)","v":0},{"$f":"IF(ISERROR(VLOOKUP(AP47,Accueil!$V$17:$V$22,1,0)),1,0)","v":0},{"$f":"IF(ISERROR(VLOOKUP(AQ47,Accueil!$V$17:$V$22,1,0)),1,0)","v":0},{"$f":"IF(ISERROR(VLOOKUP(AR47,Accueil!$V$17:$V$22,1,0)),1,0)","v":0},{"$f":"IF(ISERROR(VLOOKUP(AS47,Accueil!$V$17:$V$22,1,0)),1,0)","v":0},{"$f":"IF(ISERROR(VLOOKUP(AT47,Accueil!$V$17:$V$22,1,0)),1,0)","v":0},{"$f":"IF(ISERROR(VLOOKUP(AU47,Accueil!$V$17:$V$22,1,0)),1,0)","v":0},{"$f":"IF(ISERROR(VLOOKUP(AV47,Accueil!$V$17:$V$22,1,0)),1,0)","v":0},{"$f":"IF(ISERROR(VLOOKUP(AW47,Accueil!$V$17:$V$22,1,0)),1,0)","v":0},{"$f":"IF(ISERROR(VLOOKUP(AX47,Accueil!$V$17:$V$22,1,0)),1,0)","v":0},{"$f":"IF(ISERROR(VLOOKUP(AY47,Accueil!$V$17:$V$22,1,0)),1,0)","v":0},{"$f":"IF(ISERROR(VLOOKUP(AZ47,Accueil!$V$17:$V$22,1,0)),1,0)","v":0},{"$f":"IF(ISERROR(VLOOKUP(BA47,Accueil!$V$17:$V$22,1,0)),1,0)","v":0},{"$f":"IF(ISERROR(VLOOKUP(BB47,Accueil!$V$17:$V$22,1,0)),1,0)","v":0},{"$f":"IF(ISERROR(VLOOKUP(BC47,Accueil!$V$17:$V$22,1,0)),1,0)","v":0},{"$f":"IF(ISERROR(VLOOKUP(BD47,Accueil!$V$17:$V$22,1,0)),1,0)","v":0},{"$f":"IF(ISERROR(VLOOKUP(BE47,Accueil!$V$17:$V$22,1,0)),1,0)","v":0},{"$f":"IF(ISERROR(VLOOKUP(BF47,Accueil!$V$17:$V$22,1,0)),1,0)","v":0},{"$f":"IF(ISERROR(VLOOKUP(BG47,Accueil!$V$17:$V$22,1,0)),1,0)","v":0},{"$f":"IF(ISERROR(VLOOKUP(BH47,Accueil!$V$17:$V$22,1,0)),1,0)","v":0},{"$f":"IF(ISERROR(VLOOKUP(BI47,Accueil!$V$17:$V$22,1,0)),1,0)","v":0},{"$f":"IF(ISERROR(VLOOKUP(BJ47,Accueil!$V$17:$V$22,1,0)),1,0)","v":0},{"$f":"IF(ISERROR(VLOOKUP(BK47,Accueil!$V$17:$V$22,1,0)),1,0)","v":0},{"$f":"IF(ISERROR(VLOOKUP(BL47,Accueil!$V$17:$V$22,1,0)),1,0)","v":0},{"$f":"IF(ISERROR(VLOOKUP(BM47,Accueil!$V$17:$V$22,1,0)),1,0)","v":0},{"$f":"IF(ISERROR(VLOOKUP(BN47,Accueil!$V$17:$V$22,1,0)),1,0)","v":0},{"$f":"IF(ISERROR(VLOOKUP(BO47,Accueil!$V$17:$V$22,1,0)),1,0)","v":0},{"$f":"IF(ISERROR(VLOOKUP(BP47,Accueil!$V$17:$V$22,1,0)),1,0)","v":0},{"$f":"IF(ISERROR(VLOOKUP(BQ47,Accueil!$V$17:$V$22,1,0)),1,0)","v":0},{"$f":"IF(ISERROR(VLOOKUP(BR47,Accueil!$V$17:$V$22,1,0)),1,0)","v":0},{"$f":"IF(ISERROR(VLOOKUP(BS47,Accueil!$V$17:$V$22,1,0)),1,0)","v":0},{"$f":"IF(ISERROR(VLOOKUP(BT47,Accueil!$V$17:$V$22,1,0)),1,0)","v":0},{"$f":"IF(ISERROR(VLOOKUP(BU47,Accueil!$V$17:$V$22,1,0)),1,0)","v":0},{"$f":"IF(ISERROR(VLOOKUP(BV47,Accueil!$V$17:$V$22,1,0)),1,0)","v":0},{"$f":"IF(ISERROR(VLOOKUP(BW47,Accueil!$V$17:$V$22,1,0)),1,0)","v":0},{"$f":"IF(ISERROR(VLOOKUP(BX47,Accueil!$V$17:$V$22,1,0)),1,0)","v":0},{"$f":"IF(ISERROR(VLOOKUP(BY47,Accueil!$V$17:$V$22,1,0)),1,0)","v":0},{"$f":"IF(ISERROR(VLOOKUP(BZ47,Accueil!$V$17:$V$22,1,0)),1,0)","v":0},{"$f":"IF(ISERROR(VLOOKUP(CA47,Accueil!$V$17:$V$22,1,0)),1,0)","v":0},{"$f":"IF(ISERROR(VLOOKUP(CB47,Accueil!$V$17:$V$22,1,0)),1,0)","v":0},{"$f":"IF(ISERROR(VLOOKUP(CC47,Accueil!$V$17:$V$22,1,0)),1,0)","v":0},{"$f":"IF(ISERROR(VLOOKUP(CD47,Accueil!$V$17:$V$22,1,0)),1,0)","v":0},{"$f":"IF(ISERROR(VLOOKUP(CE47,Accueil!$V$17:$V$22,1,0)),1,0)","v":0},{"$f":"IF(ISERROR(VLOOKUP(CF47,Accueil!$V$17:$V$22,1,0)),1,0)","v":0},{"$f":"IF(ISERROR(VLOOKUP(CG47,Accueil!$V$17:$V$22,1,0)),1,0)","v":0},{"$f":"IF(ISERROR(VLOOKUP(CH47,Accueil!$V$17:$V$22,1,0)),1,0)","v":0},{"$f":"IF(ISERROR(VLOOKUP(CI47,Accueil!$V$17:$V$22,1,0)),1,0)","v":0},{"$f":"IF(ISERROR(VLOOKUP(CJ47,Accueil!$V$17:$V$22,1,0)),1,0)","v":0},{"$f":"IF(ISERROR(VLOOKUP(CK47,Accueil!$V$17:$V$22,1,0)),1,0)","v":0},{"$f":"IF(ISERROR(VLOOKUP(CL47,Accueil!$V$17:$V$22,1,0)),1,0)","v":0},{"$f":"IF(ISERROR(VLOOKUP(CM47,Accueil!$V$17:$V$22,1,0)),1,0)","v":0},{"$f":"IF(ISERROR(VLOOKUP(CN47,Accueil!$V$17:$V$22,1,0)),1,0)","v":0},{"$f":"IF(ISERROR(VLOOKUP(CO47,Accueil!$V$17:$V$22,1,0)),1,0)","v":0},{"$f":"IF(ISERROR(VLOOKUP(CP47,Accueil!$V$17:$V$22,1,0)),1,0)","v":0},{"$f":"IF(ISERROR(VLOOKUP(CQ47,Accueil!$V$17:$V$22,1,0)),1,0)","v":0},{"$f":"IF(ISERROR(VLOOKUP(CR47,Accueil!$V$17:$V$22,1,0)),1,0)","v":0},{"$f":"IF(ISERROR(VLOOKUP(CS47,Accueil!$V$17:$V$22,1,0)),1,0)","v":0},{"$f":"IF(ISERROR(VLOOKUP(CT47,Accueil!$V$17:$V$22,1,0)),1,0)","v":0},{"$f":"IF(ISERROR(VLOOKUP(CU47,Accueil!$V$17:$V$22,1,0)),1,0)","v":0},{"$f":"IF(ISERROR(VLOOKUP(CV47,Accueil!$V$17:$V$22,1,0)),1,0)","v":0},{"$f":"IF(ISERROR(VLOOKUP(CW47,Accueil!$V$17:$V$22,1,0)),1,0)","v":0},{"$f":"IF(ISERROR(VLOOKUP(CX47,Accueil!$V$17:$V$22,1,0)),1,0)","v":0},{"$f":"IF(ISERROR(VLOOKUP(CY47,Accueil!$V$17:$V$22,1,0)),1,0)","v":0},{"$f":"IF(ISERROR(VLOOKUP(CZ47,Accueil!$V$17:$V$22,1,0)),1,0)","v":0},{"$f":"IF(ISERROR(VLOOKUP(DA47,Accueil!$V$17:$V$22,1,0)),1,0)","v":0}]
[null,40,{"$f":"IF(Accueil!E52=\"\",\"\",Accueil!E52)","v":""},{"$f":"IF(Accueil!F52=\"\",\"\",Accueil!F52)","v":""},"",null,null,null,null,null,null,null,null,null,null,null,null,null,null,null,null,null,null,null,null,null,null,null,null,null,null,null,null,null,null,null,null,null,null,null,null,null,null,null,null,null,null,null,null,null,null,null,null,null,null,null,null,null,null,null,null,null,null,null,null,null,null,null,null,null,null,null,null,null,null,null,null,null,null,null,null,null,null,null,null,null,null,null,null,null,null,null,null,null,null,null,null,null,null,null,null,null,null,null,null,40,{"$f":"IF(D48=\"\",\"\",COUNTIF(F48:DA48,Accueil!$AA$28)&\" / \"&COUNTIF($F$8:$DA$8,\">0\")-(COUNTIF(F48:DA48,Accueil!$AF$26)))","v":""},{"$f":"IF(D48=\"\",\"\",COUNTIF(F48:DA48,Accueil!$AA$26))","v":""},{"$f":"IF(D48=\"\",\"\",COUNTIF($F$8:$DA$8,\">0\")-(COUNTIF(F48:DA48,Accueil!$AF$26)))","v":""},"","",0,{"$f":"IF(ISERROR(VLOOKUP(F48,Accueil!$V$17:$V$22,1,0)),1,0)","v":0},{"$f":"IF(ISERROR(VLOOKUP(G48,Accueil!$V$17:$V$22,1,0)),1,0)","v":0},{"$f":"IF(ISERROR(VLOOKUP(H48,Accueil!$V$17:$V$22,1,0)),1,0)","v":0},{"$f":"IF(ISERROR(VLOOKUP(I48,Accueil!$V$17:$V$22,1,0)),1,0)","v":0},{"$f":"IF(ISERROR(VLOOKUP(J48,Accueil!$V$17:$V$22,1,0)),1,0)","v":0},{"$f":"IF(ISERROR(VLOOKUP(K48,Accueil!$V$17:$V$22,1,0)),1,0)","v":0},{"$f":"IF(ISERROR(VLOOKUP(L48,Accueil!$V$17:$V$22,1,0)),1,0)","v":0},{"$f":"IF(ISERROR(VLOOKUP(M48,Accueil!$V$17:$V$22,1,0)),1,0)","v":0},{"$f":"IF(ISERROR(VLOOKUP(N48,Accueil!$V$17:$V$22,1,0)),1,0)","v":0},{"$f":"IF(ISERROR(VLOOKUP(O48,Accueil!$V$17:$V$22,1,0)),1,0)","v":0},{"$f":"IF(ISERROR(VLOOKUP(P48,Accueil!$V$17:$V$22,1,0)),1,0)","v":0},{"$f":"IF(ISERROR(VLOOKUP(Q48,Accueil!$V$17:$V$22,1,0)),1,0)","v":0},{"$f":"IF(ISERROR(VLOOKUP(R48,Accueil!$V$17:$V$22,1,0)),1,0)","v":0},{"$f":"IF(ISERROR(VLOOKUP(S48,Accueil!$V$17:$V$22,1,0)),1,0)","v":0},{"$f":"IF(ISERROR(VLOOKUP(T48,Accueil!$V$17:$V$22,1,0)),1,0)","v":0},{"$f":"IF(ISERROR(VLOOKUP(U48,Accueil!$V$17:$V$22,1,0)),1,0)","v":0},{"$f":"IF(ISERROR(VLOOKUP(V48,Accueil!$V$17:$V$22,1,0)),1,0)","v":0},{"$f":"IF(ISERROR(VLOOKUP(W48,Accueil!$V$17:$V$22,1,0)),1,0)","v":0},{"$f":"IF(ISERROR(VLOOKUP(X48,Accueil!$V$17:$V$22,1,0)),1,0)","v":0},{"$f":"IF(ISERROR(VLOOKUP(Y48,Accueil!$V$17:$V$22,1,0)),1,0)","v":0},{"$f":"IF(ISERROR(VLOOKUP(Z48,Accueil!$V$17:$V$22,1,0)),1,0)","v":0},{"$f":"IF(ISERROR(VLOOKUP(AA48,Accueil!$V$17:$V$22,1,0)),1,0)","v":0},{"$f":"IF(ISERROR(VLOOKUP(AB48,Accueil!$V$17:$V$22,1,0)),1,0)","v":0},{"$f":"IF(ISERROR(VLOOKUP(AC48,Accueil!$V$17:$V$22,1,0)),1,0)","v":0},{"$f":"IF(ISERROR(VLOOKUP(AD48,Accueil!$V$17:$V$22,1,0)),1,0)","v":0},{"$f":"IF(ISERROR(VLOOKUP(AE48,Accueil!$V$17:$V$22,1,0)),1,0)","v":0},{"$f":"IF(ISERROR(VLOOKUP(AF48,Accueil!$V$17:$V$22,1,0)),1,0)","v":0},{"$f":"IF(ISERROR(VLOOKUP(AG48,Accueil!$V$17:$V$22,1,0)),1,0)","v":0},{"$f":"IF(ISERROR(VLOOKUP(AH48,Accueil!$V$17:$V$22,1,0)),1,0)","v":0},{"$f":"IF(ISERROR(VLOOKUP(AI48,Accueil!$V$17:$V$22,1,0)),1,0)","v":0},{"$f":"IF(ISERROR(VLOOKUP(AJ48,Accueil!$V$17:$V$22,1,0)),1,0)","v":0},{"$f":"IF(ISERROR(VLOOKUP(AK48,Accueil!$V$17:$V$22,1,0)),1,0)","v":0},{"$f":"IF(ISERROR(VLOOKUP(AL48,Accueil!$V$17:$V$22,1,0)),1,0)","v":0},{"$f":"IF(ISERROR(VLOOKUP(AM48,Accueil!$V$17:$V$22,1,0)),1,0)","v":0},{"$f":"IF(ISERROR(VLOOKUP(AN48,Accueil!$V$17:$V$22,1,0)),1,0)","v":0},{"$f":"IF(ISERROR(VLOOKUP(AO48,Accueil!$V$17:$V$22,1,0)),1,0)","v":0},{"$f":"IF(ISERROR(VLOOKUP(AP48,Accueil!$V$17:$V$22,1,0)),1,0)","v":0},{"$f":"IF(ISERROR(VLOOKUP(AQ48,Accueil!$V$17:$V$22,1,0)),1,0)","v":0},{"$f":"IF(ISERROR(VLOOKUP(AR48,Accueil!$V$17:$V$22,1,0)),1,0)","v":0},{"$f":"IF(ISERROR(VLOOKUP(AS48,Accueil!$V$17:$V$22,1,0)),1,0)","v":0},{"$f":"IF(ISERROR(VLOOKUP(AT48,Accueil!$V$17:$V$22,1,0)),1,0)","v":0},{"$f":"IF(ISERROR(VLOOKUP(AU48,Accueil!$V$17:$V$22,1,0)),1,0)","v":0},{"$f":"IF(ISERROR(VLOOKUP(AV48,Accueil!$V$17:$V$22,1,0)),1,0)","v":0},{"$f":"IF(ISERROR(VLOOKUP(AW48,Accueil!$V$17:$V$22,1,0)),1,0)","v":0},{"$f":"IF(ISERROR(VLOOKUP(AX48,Accueil!$V$17:$V$22,1,0)),1,0)","v":0},{"$f":"IF(ISERROR(VLOOKUP(AY48,Accueil!$V$17:$V$22,1,0)),1,0)","v":0},{"$f":"IF(ISERROR(VLOOKUP(AZ48,Accueil!$V$17:$V$22,1,0)),1,0)","v":0},{"$f":"IF(ISERROR(VLOOKUP(BA48,Accueil!$V$17:$V$22,1,0)),1,0)","v":0},{"$f":"IF(ISERROR(VLOOKUP(BB48,Accueil!$V$17:$V$22,1,0)),1,0)","v":0},{"$f":"IF(ISERROR(VLOOKUP(BC48,Accueil!$V$17:$V$22,1,0)),1,0)","v":0},{"$f":"IF(ISERROR(VLOOKUP(BD48,Accueil!$V$17:$V$22,1,0)),1,0)","v":0},{"$f":"IF(ISERROR(VLOOKUP(BE48,Accueil!$V$17:$V$22,1,0)),1,0)","v":0},{"$f":"IF(ISERROR(VLOOKUP(BF48,Accueil!$V$17:$V$22,1,0)),1,0)","v":0},{"$f":"IF(ISERROR(VLOOKUP(BG48,Accueil!$V$17:$V$22,1,0)),1,0)","v":0},{"$f":"IF(ISERROR(VLOOKUP(BH48,Accueil!$V$17:$V$22,1,0)),1,0)","v":0},{"$f":"IF(ISERROR(VLOOKUP(BI48,Accueil!$V$17:$V$22,1,0)),1,0)","v":0},{"$f":"IF(ISERROR(VLOOKUP(BJ48,Accueil!$V$17:$V$22,1,0)),1,0)","v":0},{"$f":"IF(ISERROR(VLOOKUP(BK48,Accueil!$V$17:$V$22,1,0)),1,0)","v":0},{"$f":"IF(ISERROR(VLOOKUP(BL48,Accueil!$V$17:$V$22,1,0)),1,0)","v":0},{"$f":"IF(ISERROR(VLOOKUP(BM48,Accueil!$V$17:$V$22,1,0)),1,0)","v":0},{"$f":"IF(ISERROR(VLOOKUP(BN48,Accueil!$V$17:$V$22,1,0)),1,0)","v":0},{"$f":"IF(ISERROR(VLOOKUP(BO48,Accueil!$V$17:$V$22,1,0)),1,0)","v":0},{"$f":"IF(ISERROR(VLOOKUP(BP48,Accueil!$V$17:$V$22,1,0)),1,0)","v":0},{"$f":"IF(ISERROR(VLOOKUP(BQ48,Accueil!$V$17:$V$22,1,0)),1,0)","v":0},{"$f":"IF(ISERROR(VLOOKUP(BR48,Accueil!$V$17:$V$22,1,0)),1,0)","v":0},{"$f":"IF(ISERROR(VLOOKUP(BS48,Accueil!$V$17:$V$22,1,0)),1,0)","v":0},{"$f":"IF(ISERROR(VLOOKUP(BT48,Accueil!$V$17:$V$22,1,0)),1,0)","v":0},{"$f":"IF(ISERROR(VLOOKUP(BU48,Accueil!$V$17:$V$22,1,0)),1,0)","v":0},{"$f":"IF(ISERROR(VLOOKUP(BV48,Accueil!$V$17:$V$22,1,0)),1,0)","v":0},{"$f":"IF(ISERROR(VLOOKUP(BW48,Accueil!$V$17:$V$22,1,0)),1,0)","v":0},{"$f":"IF(ISERROR(VLOOKUP(BX48,Accueil!$V$17:$V$22,1,0)),1,0)","v":0},{"$f":"IF(ISERROR(VLOOKUP(BY48,Accueil!$V$17:$V$22,1,0)),1,0)","v":0},{"$f":"IF(ISERROR(VLOOKUP(BZ48,Accueil!$V$17:$V$22,1,0)),1,0)","v":0},{"$f":"IF(ISERROR(VLOOKUP(CA48,Accueil!$V$17:$V$22,1,0)),1,0)","v":0},{"$f":"IF(ISERROR(VLOOKUP(CB48,Accueil!$V$17:$V$22,1,0)),1,0)","v":0},{"$f":"IF(ISERROR(VLOOKUP(CC48,Accueil!$V$17:$V$22,1,0)),1,0)","v":0},{"$f":"IF(ISERROR(VLOOKUP(CD48,Accueil!$V$17:$V$22,1,0)),1,0)","v":0},{"$f":"IF(ISERROR(VLOOKUP(CE48,Accueil!$V$17:$V$22,1,0)),1,0)","v":0},{"$f":"IF(ISERROR(VLOOKUP(CF48,Accueil!$V$17:$V$22,1,0)),1,0)","v":0},{"$f":"IF(ISERROR(VLOOKUP(CG48,Accueil!$V$17:$V$22,1,0)),1,0)","v":0},{"$f":"IF(ISERROR(VLOOKUP(CH48,Accueil!$V$17:$V$22,1,0)),1,0)","v":0},{"$f":"IF(ISERROR(VLOOKUP(CI48,Accueil!$V$17:$V$22,1,0)),1,0)","v":0},{"$f":"IF(ISERROR(VLOOKUP(CJ48,Accueil!$V$17:$V$22,1,0)),1,0)","v":0},{"$f":"IF(ISERROR(VLOOKUP(CK48,Accueil!$V$17:$V$22,1,0)),1,0)","v":0},{"$f":"IF(ISERROR(VLOOKUP(CL48,Accueil!$V$17:$V$22,1,0)),1,0)","v":0},{"$f":"IF(ISERROR(VLOOKUP(CM48,Accueil!$V$17:$V$22,1,0)),1,0)","v":0},{"$f":"IF(ISERROR(VLOOKUP(CN48,Accueil!$V$17:$V$22,1,0)),1,0)","v":0},{"$f":"IF(ISERROR(VLOOKUP(CO48,Accueil!$V$17:$V$22,1,0)),1,0)","v":0},{"$f":"IF(ISERROR(VLOOKUP(CP48,Accueil!$V$17:$V$22,1,0)),1,0)","v":0},{"$f":"IF(ISERROR(VLOOKUP(CQ48,Accueil!$V$17:$V$22,1,0)),1,0)","v":0},{"$f":"IF(ISERROR(VLOOKUP(CR48,Accueil!$V$17:$V$22,1,0)),1,0)","v":0},{"$f":"IF(ISERROR(VLOOKUP(CS48,Accueil!$V$17:$V$22,1,0)),1,0)","v":0},{"$f":"IF(ISERROR(VLOOKUP(CT48,Accueil!$V$17:$V$22,1,0)),1,0)","v":0},{"$f":"IF(ISERROR(VLOOKUP(CU48,Accueil!$V$17:$V$22,1,0)),1,0)","v":0},{"$f":"IF(ISERROR(VLOOKUP(CV48,Accueil!$V$17:$V$22,1,0)),1,0)","v":0},{"$f":"IF(ISERROR(VLOOKUP(CW48,Accueil!$V$17:$V$22,1,0)),1,0)","v":0},{"$f":"IF(ISERROR(VLOOKUP(CX48,Accueil!$V$17:$V$22,1,0)),1,0)","v":0},{"$f":"IF(ISERROR(VLOOKUP(CY48,Accueil!$V$17:$V$22,1,0)),1,0)","v":0},{"$f":"IF(ISERROR(VLOOKUP(CZ48,Accueil!$V$17:$V$22,1,0)),1,0)","v":0},{"$f":"IF(ISERROR(VLOOKUP(DA48,Accueil!$V$17:$V$22,1,0)),1,0)","v":0}]
[null,"Tableau des résultats","TOTAUX",null,null,1,2,3,4,5,6,7,8,9,10,11,12,13,14,15,16,17,18,19,20,21,22,23,24,25,26,27,28,29,30,31,32,33,34,35,36,37,38,39,40,41,42,43,44,45,46,47,48,49,50,51,52,53,54,55,56,57,58,59,60,61,62,63,64,65,66,67,68,69,70,71,72,73,74,75,76,77,78,79,80,81,82,83,84,85,86,87,88,89,90,91,92,93,94,95,96,97,98,99,100]
[null,null,null,{"$f":"IF(Accueil!AA14=\"\",\"\",Accueil!AA14&IF(Accueil!AA26=\"\",\"\",\" (Code \"&Accueil!AA26&\")\"))","v":"Réponse(s) attendue(s) (Code 1)"},null,{"$f":"IF(F8=\"\",\"\",COUNTIF(F9:F48,1))","v":0},{"$f":"IF(G8=\"\",\"\",COUNTIF(G9:G48,1))","v":0},0,0,0,0,0,0,0,0,0,0,0,0,0,0,0,0,0,0,0,0,0,0,0,0,0,0,0,0,"","","","","","","","","","","","","","","","","","","","","","","","","","","","","","","","","","","",{"$f":"IF(BS8=\"\",\"\",COUNTIF(BS9:BS48,1))","v":""},"","","","","","","","","","","","","","","","","","","","","","","","","","","","","","","","","","",null,null,null,null,{"$f":"\"Total \"&IF(Accueil!AA26=\"\",\"\",\"Code \"&Accueil!AA26)","v":"Total Code 1"},{"$f":"SUM(F50:DA50)","v":0}]
[null,null,null,{"$f":"IF(Accueil!AB14=\"\",\"\",Accueil!AB14&IF(Accueil!AB26=\"\",\"\",\" (Code \"&Accueil!AB26&\")\"))","v":"Réussite partielle sans erreur (Code 3)"},null,{"$f":"IF(F8=\"\",\"\",COUNTIF(F9:F48,3))","v":0},{"$f":"IF(G8=\"\",\"\",COUNTIF(G9:G48,3))","v":0},0,0,0,0,0,0,0,0,0,0,0,0,0,0,0,0,0,0,0,0,0,0,0,0,0,0,0,0,"","","","","","","","","","","","","","","","","","","","","","","","","","","","","","","","","","","",{"$f":"IF(BS8=\"\",\"\",COUNTIF(BS9:BS48,3))","v":""},"","","","","","","","","","","","","","","","","","","","","","","","","","","","","","","","","","",null,null,null,null,{"$f":"\"Total \"&IF(Accueil!AB26=\"\",\"\",\"Code \"&Accueil!AB26)","v":"Total Code 3"},0]
[null,null,null,{"$f":"IF(Accueil!AC14=\"\",\"\",Accueil!AC14&IF(Accueil!AC26=\"\",\"\",\" (Code \"&Accueil!AC26&\")\"))","v":"Réussite partielle avec erreur (Code 4)"},null,{"$f":"IF(F8=\"\",\"\",COUNTIF(F9:F48,4))","v":0},{"$f":"IF(G8=\"\",\"\",COUNTIF(G9:G48,4))","v":0},0,0,0,0,0,0,0,0,0,0,0,0,0,0,0,0,0,0,0,0,0,0,0,0,0,0,0,0,"","","","","","","","","","","","","","","","","","","","","","","","","","","","","","","","","","","",{"$f":"IF(BS8=\"\",\"\",COUNTIF(BS9:BS48,4))","v":""},"","","","","","","","","","","","","","","","","","","","","","","","","","","","","","","","","","",null,null,null,null,{"$f":"\"Total \"&IF(Accueil!AC26=\"\",\"\",\"Code \"&Accueil!AC26)","v":"Total Code 4"},0]
[null,null,null,{"$f":"IF(Accueil!AD14=\"\",\"\",Accueil!AD14&IF(Accueil!AD26=\"\",\"\",\" (Code \"&Accueil!AD26&\")\"))","v":"Autres réponses (Code 9)"},null,{"$f":"IF(F8=\"\",\"\",COUNTIF(F9:F48,9))","v":0},{"$f":"IF(G8=\"\",\"\",COUNTIF(G9:G48,9))","v":0},0,0,0,0,0,0,0,0,0,0,0,0,0,0,0,0,0,0,0,0,0,0,0,0,0,0,0,0,"","","","","","","","","","","","","","","","","","","","","","","","","","","","","","","","","","","",{"$f":"IF(BS8=\"\",\"\",COUNTIF(BS9:BS48,9))","v":""},"","","","","","","","","","","","","","","","","","","","","","","","","","","","","","","","","","",null,null,null,null,{"$f":"\"Total \"&IF(Accueil!AD26=\"\",\"\",\"Code \"&Accueil!AD26)","v":"Total Code 9"},0]
[null,null,null,{"$f":"IF(Accueil!AE14=\"\",\"\",Accueil!AE14&IF(Accueil!AE26=\"\",\"\",\" (Code \"&Accueil!AE26&\")\"))","v":"Absence de réponse (Code 0)"},null,{"$f":"IF(F8=\"\",\"\",COUNTIF(F9:F48,0))","v":0},{"$f":"IF(G8=\"\",\"\",COUNTIF(G9:G48,0))","v":0},0,0,0,0,0,0,0,0,0,0,0,0,0,0,0,0,0,0,0,0,0,0,0,0,0,0,0,0,"","","","","","","","","","","","","","","","","","","","","","","","","","","","","","","","","","","",{"$f":"IF(BS8=\"\",\"\",COUNTIF(BS9:BS48,0))","v":""},"","","","","","","","","","","","","","","","","","","","","","","","","","","","","","","","","","",null,null,null,null,{"$f":"\"Total \"&IF(Accueil!AE26=\"\",\"\",\"Code \"&Accueil!AE26)","v":"Total Code 0"},0]
[null,null,null,{"$f":"IF(Accueil!AF14=\"\",\"\",Accueil!AF14&IF(Accueil!AF26=\"\",\"\",\" (Code \"&Accueil!AF26&\")\"))","v":"Élève absent (Code A)"},null,{"$f":"IF(F8=\"\",\"\",COUNTIF(F9:F48,\"A\"))","v":0},{"$f":"IF(G8=\"\",\"\",COUNTIF(G9:G48,\"A\"))","v":0},0,0,0,0,0,0,0,0,0,0,0,0,0,0,0,0,0,0,0,0,0,0,0,0,0,0,0,0,"","","","","","","","","","","","","","","","","","","","","","","","","","","","","","","","","","","",{"$f":"IF(BS8=\"\",\"\",COUNTIF(BS9:BS48,\"A\"))","v":""},"","","","","","","","","","","","","","","","","","","","","","","","","","","","","","","","","","",null,null,null,null,{"$f":"\"Total \"&IF(Accueil!AF26=\"\",\"\",\"Code \"&Accueil!AF26)","v":"Total Code A"},0]
[null,null,null,"Nombre d'élèves dans la classe",null,{"$f":"IF(F8=\"\",\"\",COUNTIF($E$9:$E$48,1))","v":0},{"$f":"IF(G8=\"\",\"\",COUNTIF($E$9:$E$48,1))","v":0},0,0,0,0,0,0,0,0,0,0,0,0,0,0,0,0,0,0,0,0,0,0,0,0,0,0,0,0,"","","","","","","","","","","","","","","","","","","","","","","","","","","","","","","","","","","",{"$f":"IF(BS8=\"\",\"\",COUNTIF($E$9:$E$48,1))","v":""},"","","","","","","","","","","","","","","","","","","","","","","","","","","","","","","","","","",null,null,null,null,"Total élèves",0]
[null,null,null,"Nombre d'élèves évalués",null,{"$f":"IF(F8=\"\",\"\",COUNTA(F9:F48)-F55)","v":0},{"$f":"IF(G8=\"\",\"\",COUNTA(G9:G48)-G55)","v":0},0,0,0,0,0,0,0,0,0,0,0,0,0,0,0,0,0,0,0,0,0,0,0,0,0,0,0,0,"","","","","","","","","","","","","","","","","","","","","","","","","","","","","","","","","","","",{"$f":"IF(BS8=\"\",\"\",COUNTA(BS9:BS48)-BS55)","v":""},"","","","","","","","","","","","","","","","","","","","","","","","","","","","","","","","","","",null,null,null,null,"Total élèves évalués",0]
[null,null,null,"Taux de réussite",null,{"$f":"IF(F8=\"\",\"\",IF(ISERROR(F50/F57),\"\",ROUND((F50/F57),3)*100&\" %\"))","v":""},{"$f":"IF(G8=\"\",\"\",IF(ISERROR(G50/G57),\"\",ROUND((G50/G57),3)*100&\" %\"))","v":""},"","","","","","","","","","","","","","","","","","","","","","","","","","","","","","","","","","","","","","","","","","","","","","","","","","","","","","","","","","","","","","","",{"$f":"IF(BS8=\"\",\"\",IF(ISERROR(BS50/BS57),\"\",ROUND((BS50/BS57),3)*100&\" %\"))","v":""},"","","","","","","","","","","","","","","","","","","","","","","","","","","","","","","","","","",null,null,null,null,"Taux de réussite",{"$f":"IF(ISERROR(DG50/DG57),\"\",ROUND((DG50/DG57),3)*100&\" %\")","v":""}]

{"sheet":"Résultats élèves","index":2,"n_rows":43,"n_cols":44,"rows_kept":43,"cut":false,"hidden":false,"merged":[[0,3,0,12]]}
[null,null,null,"Français"]
[null,null,null,{"$f":"IF(Accueil!L13=\"\",\"\",Accueil!L13)","v":1},{"$f":"IF(Accueil!L14=\"\",\"\",Accueil!L14)","v":2},{"$f":"IF(Accueil!L15=\"\",\"\",Accueil!L15)","v":3},{"$f":"IF(Accueil!L16=\"\",\"\",Accueil!L16)","v":4},{"$f":"IF(Accueil!L17=\"\",\"\",Accueil!L17)","v":""},{"$f":"IF(Accueil!L18=\"\",\"\",Accueil!L18)","v":""},{"$f":"IF(Accueil!L19=\"\",\"\",Accueil!L19)","v":""},{"$f":"IF(Accueil!L20=\"\",\"\",Accueil!L20)","v":""},{"$f":"IF(Accueil!L21=\"\",\"\",Accueil!L21)","v":""},{"$f":"IF(Accueil!L22=\"\",\"\",Accueil!L22)","v":""}]
[null,null,{"$f":"IF(Nom_etab=\"\",\"\",Nom_etab)","v":""},{"$f":"IF(COMP1=\"\",\"\",COMP1)","v":"CP 1 : Nommer, lire, écrire, représenter des nombres entiers"},{"$f":"IF(COMP2=\"\",\"\",COMP2)","v":"CP 2 : Comprendre et utiliser des nombres entiers pour dénombrer, ordonner, repérer, comparer"},{"$f":"IF(COMP3=\"\",\"\",COMP3)","v":"CP 3 : Résoudre des problèmes en utilisant des nombres entiers et le calcul"},{"$f":"IF(COMP4=\"\",\"\",COMP4)","v":"CP 4 : Calculer avec des nombres entiers"},{"$f":"IF(COMP5=\"\",\"\",COMP5)","v":""},{"$f":"IF(COMP6=\"\",\"\",COMP6)","v":""},{"$f":"IF(COMP7=\"\",\"\",COMP7)","v":""},{"$f":"IF(COMP8=\"\",\"\",COMP8)","v":""},{"$f":"IF(COMP9=\"\",\"\",COMP9)","v":""},{"$f":"IF(COMP10=\"\",\"\",COMP10)","v":""},{"$f":"COMP1","v":"CP 1 : Nommer, lire, écrire, représenter des nombres entiers"},{"$f":"COMP2","v":"CP 2 : Comprendre et utiliser des nombres entiers pour dénombrer, ordonner, repérer, comparer"},{"$f":"COMP3","v":"CP 3 : Résoudre des problèmes en utilisant des nombres entiers et le calcul"},{"$f":"COMP4","v":"CP 4 : Calculer avec des nombres entiers"},{"$f":"COMP5","v":""},{"$f":"COMP6","v":""},{"$f":"COMP7","v":""},{"$f":"COMP8","v":""},{"$f":"COMP9","v":""},{"$f":"COMP10","v":""},null,"Total items validés CP 1","Total items validés CP 2","Total items validés CP 3","Total items validés CP 4","Total items validés CP 5","Total items validés CP 6","Total items validés CP 7","Total items validés CP 8","Total items validés CP 9","Total items validés CP 10","Total items passés CP 1","Total items passés CP 2","Total items passés CP 3","Total items passés CP 4","Total items passés CP 5","Total items passés CP 6","Total items passés CP 7","Total items passés CP 8","Total items passés CP 9","Total items passés CP 10"]
[null,1,{"$f":"IF(Accueil!F13=\"\",\"\",Accueil!F13)","v":""},{"$f":"IF(C4=\"\",\"\",IF($D$3=\"\",\"\",IF(Y4=\"A\",\"A\",IF(ISERROR(Y4/AI4),\"\",ROUND(Y4/AI4,2)))))","v":""},{"$f":"IF(C4=\"\",\"\",IF($E$3=\"\",\"\",IF(Z4=\"A\",\"A\",IF(ISERROR(Z4/AJ4),\"\",ROUND(Z4/AJ4,2)))))","v":""},{"$f":"IF(C4=\"\",\"\",IF($F$3=\"\",\"\",IF(AA4=\"A\",\"A\",IF(ISERROR(AA4/AK4),\"\",ROUND(AA4/AK4,2)))))","v":""},{"$f":"IF(C4=\"\",\"\",IF($G$3=\"\",\"\",IF(AB4=\"A\",\"A\",IF(ISERROR(AB4/AL4),\"\",ROUND(AB4/AL4,2)))))","v":""},{"$f":"IF(C4=\"\",\"\",IF($H$3=\"\",\"\",IF(AC4=\"A\",\"A\",IF(ISERROR(AC4/AM4),\"\",ROUND(AC4/AM4,2)))))","v":""},{"$f":"IF(C4=\"\",\"\",IF($I$3=\"\",\"\",IF(AD4=\"A\",\"A\",IF(ISERROR(AD4/AN4),\"\",ROUND(AD4/AN4,2)))))","v":""},{"$f":"IF(C4=\"\",\"\",IF($J$3=\"\",\"\",IF(AE4=\"A\",\"A\",IF(ISERROR(AE4/AO4),\"\",ROUND(AE4/AO4,2)))))","v":""},{"$f":"IF(C4=\"\",\"\",IF($K$3=\"\",\"\",IF(AF4=\"A\",\"A\",IF(ISERROR(AF4/AP4),\"\",ROUND(AF4/AP4,2)))))","v":""},{"$f":"IF(C4=\"\",\"\",IF($L$3=\"\",\"\",IF(AG4=\"A\",\"A\",IF(ISERROR(AG4/AQ4),\"\",ROUND(AG4/AQ4,2)))))","v":""},{"$f":"IF(C4=\"\",\"\",IF($M$3=\"\",\"\",IF(AH4=\"A\",\"A\",IF(ISERROR(AH4/AR4),\"\",ROUND(AH4/AR4,2)))))","v":""},{"$f":"IF(N3=\"\",\"\",IF(SUMPRODUCT((Stabilo!$F9:$DA9=\"A\")*(Stabilo!$F$5:$DA$5='Résultats élèves'!$D$2))>0,\"ABSENT\",\"PRESENT\"))","v":"PRESENT"},{"$f":"IF(O3=\"\",\"\",IF(SUMPRODUCT((Stabilo!$F9:$DA9=\"A\")*(Stabilo!$F$5:$DA$5='Résultats élèves'!$E$2))>0,\"ABSENT\",\"PRESENT\"))","v":"PRESENT"},{"$f":"IF(P3=\"\",\"\",IF(SUMPRODUCT((Stabilo!$F9:$DA9=\"A\")*(Stabilo!$F$5:$DA$5='Résultats élèves'!$F$2))>0,\"ABSENT\",\"PRESENT\"))","v":"PRESENT"},{"$f":"IF(Q3=\"\",\"\",IF(SUMPRODUCT((Stabilo!$F9:$DA9=\"A\")*(Stabilo!$F$5:$DA$5='Résultats élèves'!$G$2))>0,\"ABSENT\",\"PRESENT\"))","v":"PRESENT"},{"$f":"IF(R3=\"\",\"\",IF(SUMPRODUCT((Stabilo!$F9:$DA9=\"A\")*(Stabilo!$F$5:$DA$5='Résultats élèves'!$H$2))>0,\"ABSENT\",\"PRESENT\"))","v":""},{"$f":"IF(S3=\"\",\"\",IF(SUMPRODUCT((Stabilo!$F9:$DA9=\"A\")*(Stabilo!$F$5:$DA$5='Résultats élèves'!$I$2))>0,\"ABSENT\",\"PRESENT\"))","v":""},{"$f":"IF(T3=\"\",\"\",IF(SUMPRODUCT((Stabilo!$F9:$DA9=\"A\")*(Stabilo!$F$5:$DA$5='Résultats élèves'!$J$2))>0,\"ABSENT\",\"PRESENT\"))","v":""},{"$f":"IF(U3=\"\",\"\",IF(SUMPRODUCT((Stabilo!$F9:$DA9=\"A\")*(Stabilo!$F$5:$DA$5='Résultats élèves'!$K$2))>0,\"ABSENT\",\"PRESENT\"))","v":""},{"$f":"IF(V3=\"\",\"\",IF(SUMPRODUCT((Stabilo!$F9:$DA9=\"A\")*(Stabilo!$F$5:$DA$5='Résultats élèves'!$L$2))>0,\"ABSENT\",\"PRESENT\"))","v":""},{"$f":"IF(W3=\"\",\"\",IF(SUMPRODUCT((Stabilo!$F9:$DA9=\"A\")*(Stabilo!$F$5:$DA$5='Résultats élèves'!$M$2))>0,\"ABSENT\",\"PRESENT\"))","v":""},{"$f":"IF(C4=\"\",\"\",IF(COUNTIF(N4:W4,\"ABSENT\")=COUNT($D$2:$M$2),\"ABSENT\",\"PRESENT\"))","v":""},{"$f":"IF(X4=\"PRESENT\",IF(N4=\"PRESENT\",SUMPRODUCT((Stabilo!$F9:$DA9=1)*(Stabilo!$F$5:$DA$5='Résultats élèves'!$D$2)),\"A\"),\"A\")","v":"A"},{"$f":"IF(X4=\"PRESENT\",IF(O4=\"PRESENT\",SUMPRODUCT((Stabilo!$F9:$DA9=1)*(Stabilo!$F$5:$DA$5='Résultats élèves'!$E$2)),\"A\"),\"A\")","v":"A"},{"$f":"IF(X4=\"PRESENT\",IF(P4=\"PRESENT\",SUMPRODUCT((Stabilo!$F9:$DA9=1)*(Stabilo!$F$5:$DA$5='Résultats élèves'!$F$2)),\"A\"),\"A\")","v":"A"},{"$f":"IF(X4=\"PRESENT\",IF(Q4=\"PRESENT\",SUMPRODUCT((Stabilo!$F9:$DA9=1)*(Stabilo!$F$5:$DA$5='Résultats élèves'!$G$2)),\"A\"),\"A\")","v":"A"},{"$f":"IF(X4=\"PRESENT\",IF(R4=\"PRESENT\",SUMPRODUCT((Stabilo!$F9:$DA9=1)*(Stabilo!$F$5:$DA$5='Résultats élèves'!$H$2)),\"A\"),\"A\")","v":"A"},{"$f":"IF(X4=\"PRESENT\",IF(S4=\"PRESENT\",SUMPRODUCT((Stabilo!$F9:$DA9=1)*(Stabilo!$F$5:$DA$5='Résultats élèves'!$I$2)),\"A\"),\"A\")","v":"A"},{"$f":"IF(X4=\"PRESENT\",IF(T4=\"PRESENT\",SUMPRODUCT((Stabilo!$F9:$DA9=1)*(Stabilo!$F$5:$DA$5='Résultats élèves'!$J$2)),\"A\"),\"A\")","v":"A"},{"$f":"IF(X4=\"PRESENT\",IF(U4=\"PRESENT\",SUMPRODUCT((Stabilo!$F9:$DA9=1)*(Stabilo!$F$5:$DA$5='Résultats élèves'!$K$2)),\"A\"),\"A\")","v":"A"},{"$f":"IF(X4=\"PRESENT\",IF(V4=\"PRESENT\",SUMPRODUCT((Stabilo!$F9:$DA9=1)*(Stabilo!$F$5:$DA$5='Résultats élèves'!$L$2)),\"A\"),\"A\")","v":"A"},{"$f":"IF(X4=\"PRESENT\",IF(W4=\"PRESENT\",SUMPRODUCT((Stabilo!$F9:$DA9=1)*(Stabilo!$F$5:$DA$5='Résultats élèves'!$M$2)),\"A\"),\"A\")","v":"A"},{"$f":"SUMPRODUCT((Stabilo!$F$5:$DA$5=1)*(Stabilo!F9:DA9<>\"\"))","v":0},{"$f":"SUMPRODUCT((Stabilo!$F$5:$DA$5=2)*(Stabilo!F9:DA9<>\"\"))","v":0},{"$f":"SUMPRODUCT((Stabilo!$F$5:$DA$5=3)*(Stabilo!F9:DA9<>\"\"))","v":0},{"$f":"SUMPRODUCT((Stabilo!$F$5:$DA$5=4)*(Stabilo!F9:DA9<>\"\"))","v":0},{"$f":"SUMPRODUCT((Stabilo!$F$5:$DA$5=5)*(Stabilo!F9:DA9<>\"\"))","v":0},{"$f":"SUMPRODUCT((Stabilo!$F$5:$DA$5=6)*(Stabilo!F9:DA9<>\"\"))","v":0},{"$f":"SUMPRODUCT((Stabilo!$F$5:$DA$5=7)*(Stabilo!F9:DA9<>\"\"))","v":0},{"$f":"SUMPRODUCT((Stabilo!$F$5:$DA$5=8)*(Stabilo!F9:DA9<>\"\"))","v":0},{"$f":"SUMPRODUCT((Stabilo!$F$5:$DA$5=9)*(Stabilo!F9:DA9<>\"\"))","v":0},{"$f":"SUMPRODUCT((Stabilo!$F$5:$DA$5=10)*(Stabilo!F9:DA9<>\"\"))","v":0}]
[null,2,{"$f":"IF(Accueil!F14=\"\",\"\",Accueil!F14)","v":""},{"$f":"IF(C5=\"\",\"\",IF($D$3=\"\",\"\",IF(Y5=\"A\",\"A\",IF(ISERROR(Y5/AI5),\"\",ROUND(Y5/AI5,2)))))","v":""},{"$f":"IF(C5=\"\",\"\",IF($E$3=\"\",\"\",IF(Z5=\"A\",\"A\",IF(ISERROR(Z5/AJ5),\"\",ROUND(Z5/AJ5,2)))))","v":""},{"$f":"IF(C5=\"\",\"\",IF($F$3=\"\",\"\",IF(AA5=\"A\",\"A\",IF(ISERROR(AA5/AK5),\"\",ROUND(AA5/AK5,2)))))","v":""},{"$f":"IF(C5=\"\",\"\",IF($G$3=\"\",\"\",IF(AB5=\"A\",\"A\",IF(ISERROR(AB5/AL5),\"\",ROUND(AB5/AL5,2)))))","v":""},{"$f":"IF(C5=\"\",\"\",IF($H$3=\"\",\"\",IF(AC5=\"A\",\"A\",IF(ISERROR(AC5/AM5),\"\",ROUND(AC5/AM5,2)))))","v":""},{"$f":"IF(C5=\"\",\"\",IF($I$3=\"\",\"\",IF(AD5=\"A\",\"A\",IF(ISERROR(AD5/AN5),\"\",ROUND(AD5/AN5,2)))))","v":""},{"$f":"IF(C5=\"\",\"\",IF($J$3=\"\",\"\",IF(AE5=\"A\",\"A\",IF(ISERROR(AE5/AO5),\"\",ROUND(AE5/AO5,2)))))","v":""},{"$f":"IF(C5=\"\",\"\",IF($K$3=\"\",\"\",IF(AF5=\"A\",\"A\",IF(ISERROR(AF5/AP5),\"\",ROUND(AF5/AP5,2)))))","v":""},{"$f":"IF(C5=\"\",\"\",IF($L$3=\"\",\"\",IF(AG5=\"A\",\"A\",IF(ISERROR(AG5/AQ5),\"\",ROUND(AG5/AQ5,2)))))","v":""},{"$f":"IF(C5=\"\",\"\",IF($M$3=\"\",\"\",IF(AH5=\"A\",\"A\",IF(ISERROR(AH5/AR5),\"\",ROUND(AH5/AR5,2)))))","v":""},{"$f":"IF(N4=\"\",\"\",IF(SUMPRODUCT((Stabilo!$F10:$DA10=\"A\")*(Stabilo!$F$5:$DA$5='Résultats élèves'!$D$2))>0,\"ABSENT\",\"PRESENT\"))","v":"PRESENT"},{"$f":"IF(O4=\"\",\"\",IF(SUMPRODUCT((Stabilo!$F10:$DA10=\"A\")*(Stabilo!$F$5:$DA$5='Résultats élèves'!$E$2))>0,\"ABSENT\",\"PRESENT\"))","v":"PRESENT"},{"$f":"IF(P4=\"\",\"\",IF(SUMPRODUCT((Stabilo!$F10:$DA10=\"A\")*(Stabilo!$F$5:$DA$5='Résultats élèves'!$F$2))>0,\"ABSENT\",\"PRESENT\"))","v":"PRESENT"},{"$f":"IF(Q4=\"\",\"\",IF(SUMPRODUCT((Stabilo!$F10:$DA10=\"A\")*(Stabilo!$F$5:$DA$5='Résultats élèves'!$G$2))>0,\"ABSENT\",\"PRESENT\"))","v":"PRESENT"},{"$f":"IF(R4=\"\",\"\",IF(SUMPRODUCT((Stabilo!$F10:$DA10=\"A\")*(Stabilo!$F$5:$DA$5='Résultats élèves'!$H$2))>0,\"ABSENT\",\"PRESENT\"))","v":""},{"$f":"IF(S4=\"\",\"\",IF(SUMPRODUCT((Stabilo!$F10:$DA10=\"A\")*(Stabilo!$F$5:$DA$5='Résultats élèves'!$I$2))>0,\"ABSENT\",\"PRESENT\"))","v":""},{"$f":"IF(T4=\"\",\"\",IF(SUMPRODUCT((Stabilo!$F10:$DA10=\"A\")*(Stabilo!$F$5:$DA$5='Résultats élèves'!$J$2))>0,\"ABSENT\",\"PRESENT\"))","v":""},{"$f":"IF(U4=\"\",\"\",IF(SUMPRODUCT((Stabilo!$F10:$DA10=\"A\")*(Stabilo!$F$5:$DA$5='Résultats élèves'!$K$2))>0,\"ABSENT\",\"PRESENT\"))","v":""},{"$f":"IF(V4=\"\",\"\",IF(SUMPRODUCT((Stabilo!$F10:$DA10=\"A\")*(Stabilo!$F$5:$DA$5='Résultats élèves'!$L$2))>0,\"ABSENT\",\"PRESENT\"))","v":""},{"$f":"IF(W4=\"\",\"\",IF(SUMPRODUCT((Stabilo!$F10:$DA10=\"A\")*(Stabilo!$F$5:$DA$5='Résultats élèves'!$M$2))>0,\"ABSENT\",\"PRESENT\"))","v":""},{"$f":"IF(C5=\"\",\"\",IF(COUNTIF(N5:W5,\"ABSENT\")=COUNT($D$2:$M$2),\"ABSENT\",\"PRESENT\"))","v":""},{"$f":"IF(X5=\"PRESENT\",IF(N5=\"PRESENT\",SUMPRODUCT((Stabilo!$F10:$DA10=1)*(Stabilo!$F$5:$DA$5='Résultats élèves'!$D$2)),\"A\"),\"A\")","v":"A"},{"$f":"IF(X5=\"PRESENT\",IF(O5=\"PRESENT\",SUMPRODUCT((Stabilo!$F10:$DA10=1)*(Stabilo!$F$5:$DA$5='Résultats élèves'!$E$2)),\"A\"),\"A\")","v":"A"},{"$f":"IF(X5=\"PRESENT\",IF(P5=\"PRESENT\",SUMPRODUCT((Stabilo!$F10:$DA10=1)*(Stabilo!$F$5:$DA$5='Résultats élèves'!$F$2)),\"A\"),\"A\")","v":"A"},{"$f":"IF(X5=\"PRESENT\",IF(Q5=\"PRESENT\",SUMPRODUCT((Stabilo!$F10:$DA10=1)*(Stabilo!$F$5:$DA$5='Résultats élèves'!$G$2)),\"A\"),\"A\")","v":"A"},{"$f":"IF(X5=\"PRESENT\",IF(R5=\"PRESENT\",SUMPRODUCT((Stabilo!$F10:$DA10=1)*(Stabilo!$F$5:$DA$5='Résultats élèves'!$H$2)),\"A\"),\"A\")","v":"A"},{"$f":"IF(X5=\"PRESENT\",IF(S5=\"PRESENT\",SUMPRODUCT((Stabilo!$F10:$DA10=1)*(Stabilo!$F$5:$DA$5='Résultats élèves'!$I$2)),\"A\"),\"A\")","v":"A"},{"$f":"IF(X5=\"PRESENT\",IF(T5=\"PRESENT\",SUMPRODUCT((Stabilo!$F10:$DA10=1)*(Stabilo!$F$5:$DA$5='Résultats élèves'!$J$2)),\"A\"),\"A\")","v":"A"},{"$f":"IF(X5=\"PRESENT\",IF(U5=\"PRESENT\",SUMPRODUCT((Stabilo!$F10:$DA10=1)*(Stabilo!$F$5:$DA$5='Résultats élèves'!$K$2)),\"A\"),\"A\")","v":"A"},{"$f":"IF(X5=\"PRESENT\",IF(V5=\"PRESENT\",SUMPRODUCT((Stabilo!$F10:$DA10=1)*(Stabilo!$F$5:$DA$5='Résultats élèves'!$L$2)),\"A\"),\"A\")","v":"A"},{"$f":"IF(X5=\"PRESENT\",IF(W5=\"PRESENT\",SUMPRODUCT((Stabilo!$F10:$DA10=1)*(Stabilo!$F$5:$DA$5='Résultats élèves'!$M$2)),\"A\"),\"A\")","v":"A"},{"$f":"SUMPRODUCT((Stabilo!$F$5:$DA$5=1)*(Stabilo!F10:DA10<>\"\"))","v":0},{"$f":"SUMPRODUCT((Stabilo!$F$5:$DA$5=2)*(Stabilo!F10:DA10<>\"\"))","v":0},{"$f":"SUMPRODUCT((Stabilo!$F$5:$DA$5=3)*(Stabilo!F10:DA10<>\"\"))","v":0},{"$f":"SUMPRODUCT((Stabilo!$F$5:$DA$5=4)*(Stabilo!F10:DA10<>\"\"))","v":0},{"$f":"SUMPRODUCT((Stabilo!$F$5:$DA$5=5)*(Stabilo!F10:DA10<>\"\"))","v":0},{"$f":"SUMPRODUCT((Stabilo!$F$5:$DA$5=6)*(Stabilo!F10:DA10<>\"\"))","v":0},{"$f":"SUMPRODUCT((Stabilo!$F$5:$DA$5=7)*(Stabilo!F10:DA10<>\"\"))","v":0},{"$f":"SUMPRODUCT((Stabilo!$F$5:$DA$5=8)*(Stabilo!F10:DA10<>\"\"))","v":0},{"$f":"SUMPRODUCT((Stabilo!$F$5:$DA$5=9)*(Stabilo!F10:DA10<>\"\"))","v":0},{"$f":"SUMPRODUCT((Stabilo!$F$5:$DA$5=10)*(Stabilo!F10:DA10<>\"\"))","v":0}]
[null,3,{"$f":"IF(Accueil!F15=\"\",\"\",Accueil!F15)","v":""},"","","","","","","","","","",{"$f":"IF(N5=\"\",\"\",IF(SUMPRODUCT((Stabilo!$F11:$DA11=\"A\")*(Stabilo!$F$5:$DA$5='Résultats élèves'!$D$2))>0,\"ABSENT\",\"PRESENT\"))","v":"PRESENT"},{"$f":"IF(O5=\"\",\"\",IF(SUMPRODUCT((Stabilo!$F11:$DA11=\"A\")*(Stabilo!$F$5:$DA$5='Résultats élèves'!$E$2))>0,\"ABSENT\",\"PRESENT\"))","v":"PRESENT"},{"$f":"IF(P5=\"\",\"\",IF(SUMPRODUCT((Stabilo!$F11:$DA11=\"A\")*(Stabilo!$F$5:$DA$5='Résultats élèves'!$F$2))>0,\"ABSENT\",\"PRESENT\"))","v":"PRESENT"},{"$f":"IF(Q5=\"\",\"\",IF(SUMPRODUCT((Stabilo!$F11:$DA11=\"A\")*(Stabilo!$F$5:$DA$5='Résultats élèves'!$G$2))>0,\"ABSENT\",\"PRESENT\"))","v":"PRESENT"},{"$f":"IF(R5=\"\",\"\",IF(SUMPRODUCT((Stabilo!$F11:$DA11=\"A\")*(Stabilo!$F$5:$DA$5='Résultats élèves'!$H$2))>0,\"ABSENT\",\"PRESENT\"))","v":""},{"$f":"IF(S5=\"\",\"\",IF(SUMPRODUCT((Stabilo!$F11:$DA11=\"A\")*(Stabilo!$F$5:$DA$5='Résultats élèves'!$I$2))>0,\"ABSENT\",\"PRESENT\"))","v":""},{"$f":"IF(T5=\"\",\"\",IF(SUMPRODUCT((Stabilo!$F11:$DA11=\"A\")*(Stabilo!$F$5:$DA$5='Résultats élèves'!$J$2))>0,\"ABSENT\",\"PRESENT\"))","v":""},{"$f":"IF(U5=\"\",\"\",IF(SUMPRODUCT((Stabilo!$F11:$DA11=\"A\")*(Stabilo!$F$5:$DA$5='Résultats élèves'!$K$2))>0,\"ABSENT\",\"PRESENT\"))","v":""},{"$f":"IF(V5=\"\",\"\",IF(SUMPRODUCT((Stabilo!$F11:$DA11=\"A\")*(Stabilo!$F$5:$DA$5='Résultats élèves'!$L$2))>0,\"ABSENT\",\"PRESENT\"))","v":""},{"$f":"IF(W5=\"\",\"\",IF(SUMPRODUCT((Stabilo!$F11:$DA11=\"A\")*(Stabilo!$F$5:$DA$5='Résultats élèves'!$M$2))>0,\"ABSENT\",\"PRESENT\"))","v":""},"",{"$f":"IF(X6=\"PRESENT\",IF(N6=\"PRESENT\",SUMPRODUCT((Stabilo!$F11:$DA11=1)*(Stabilo!$F$5:$DA$5='Résultats élèves'!$D$2)),\"A\"),\"A\")","v":"A"},{"$f":"IF(X6=\"PRESENT\",IF(O6=\"PRESENT\",SUMPRODUCT((Stabilo!$F11:$DA11=1)*(Stabilo!$F$5:$DA$5='Résultats élèves'!$E$2)),\"A\"),\"A\")","v":"A"},{"$f":"IF(X6=\"PRESENT\",IF(P6=\"PRESENT\",SUMPRODUCT((Stabilo!$F11:$DA11=1)*(Stabilo!$F$5:$DA$5='Résultats élèves'!$F$2)),\"A\"),\"A\")","v":"A"},{"$f":"IF(X6=\"PRESENT\",IF(Q6=\"PRESENT\",SUMPRODUCT((Stabilo!$F11:$DA11=1)*(Stabilo!$F$5:$DA$5='Résultats élèves'!$G$2)),\"A\"),\"A\")","v":"A"},{"$f":"IF(X6=\"PRESENT\",IF(R6=\"PRESENT\",SUMPRODUCT((Stabilo!$F11:$DA11=1)*(Stabilo!$F$5:$DA$5='Résultats élèves'!$H$2)),\"A\"),\"A\")","v":"A"},{"$f":"IF(X6=\"PRESENT\",IF(S6=\"PRESENT\",SUMPRODUCT((Stabilo!$F11:$DA11=1)*(Stabilo!$F$5:$DA$5='Résultats élèves'!$I$2)),\"A\"),\"A\")","v":"A"},{"$f":"IF(X6=\"PRESENT\",IF(T6=\"PRESENT\",SUMPRODUCT((Stabilo!$F11:$DA11=1)*(Stabilo!$F$5:$DA$5='Résultats élèves'!$J$2)),\"A\"),\"A\")","v":"A"},{"$f":"IF(X6=\"PRESENT\",IF(U6=\"PRESENT\",SUMPRODUCT((Stabilo!$F11:$DA11=1)*(Stabilo!$F$5:$DA$5='Résultats élèves'!$K$2)),\"A\"),\"A\")","v":"A"},{"$f":"IF(X6=\"PRESENT\",IF(V6=\"PRESENT\",SUMPRODUCT((Stabilo!$F11:$DA11=1)*(Stabilo!$F$5:$DA$5='Résultats élèves'!$L$2)),\"A\"),\"A\")","v":"A"},{"$f":"IF(X6=\"PRESENT\",IF(W6=\"PRESENT\",SUMPRODUCT((Stabilo!$F11:$DA11=1)*(Stabilo!$F$5:$DA$5='Résultats élèves'!$M$2)),\"A\"),\"A\")","v":"A"},{"$f":"SUMPRODUCT((Stabilo!$F$5:$DA$5=1)*(Stabilo!F11:DA11<>\"\"))","v":0},{"$f":"SUMPRODUCT((Stabilo!$F$5:$DA$5=2)*(Stabilo!F11:DA11<>\"\"))","v":0},{"$f":"SUMPRODUCT((Stabilo!$F$5:$DA$5=3)*(Stabilo!F11:DA11<>\"\"))","v":0},{"$f":"SUMPRODUCT((Stabilo!$F$5:$DA$5=4)*(Stabilo!F11:DA11<>\"\"))","v":0},{"$f":"SUMPRODUCT((Stabilo!$F$5:$DA$5=5)*(Stabilo!F11:DA11<>\"\"))","v":0},{"$f":"SUMPRODUCT((Stabilo!$F$5:$DA$5=6)*(Stabilo!F11:DA11<>\"\"))","v":0},{"$f":"SUMPRODUCT((Stabilo!$F$5:$DA$5=7)*(Stabilo!F11:DA11<>\"\"))","v":0},{"$f":"SUMPRODUCT((Stabilo!$F$5:$DA$5=8)*(Stabilo!F11:DA11<>\"\"))","v":0},{"$f":"SUMPRODUCT((Stabilo!$F$5:$DA$5=9)*(Stabilo!F11:DA11<>\"\"))","v":0},{"$f":"SUMPRODUCT((Stabilo!$F$5:$DA$5=10)*(Stabilo!F11:DA11<>\"\"))","v":0}]
[null,4,{"$f":"IF(Accueil!F16=\"\",\"\",Accueil!F16)","v":""},"","","","","","","","","","",{"$f":"IF(N6=\"\",\"\",IF(SUMPRODUCT((Stabilo!$F12:$DA12=\"A\")*(Stabilo!$F$5:$DA$5='Résultats élèves'!$D$2))>0,\"ABSENT\",\"PRESENT\"))","v":"PRESENT"},{"$f":"IF(O6=\"\",\"\",IF(SUMPRODUCT((Stabilo!$F12:$DA12=\"A\")*(Stabilo!$F$5:$DA$5='Résultats élèves'!$E$2))>0,\"ABSENT\",\"PRESENT\"))","v":"PRESENT"},{"$f":"IF(P6=\"\",\"\",IF(SUMPRODUCT((Stabilo!$F12:$DA12=\"A\")*(Stabilo!$F$5:$DA$5='Résultats élèves'!$F$2))>0,\"ABSENT\",\"PRESENT\"))","v":"PRESENT"},{"$f":"IF(Q6=\"\",\"\",IF(SUMPRODUCT((Stabilo!$F12:$DA12=\"A\")*(Stabilo!$F$5:$DA$5='Résultats élèves'!$G$2))>0,\"ABSENT\",\"PRESENT\"))","v":"PRESENT"},{"$f":"IF(R6=\"\",\"\",IF(SUMPRODUCT((Stabilo!$F12:$DA12=\"A\")*(Stabilo!$F$5:$DA$5='Résultats élèves'!$H$2))>0,\"ABSENT\",\"PRESENT\"))","v":""},{"$f":"IF(S6=\"\",\"\",IF(SUMPRODUCT((Stabilo!$F12:$DA12=\"A\")*(Stabilo!$F$5:$DA$5='Résultats élèves'!$I$2))>0,\"ABSENT\",\"PRESENT\"))","v":""},{"$f":"IF(T6=\"\",\"\",IF(SUMPRODUCT((Stabilo!$F12:$DA12=\"A\")*(Stabilo!$F$5:$DA$5='Résultats élèves'!$J$2))>0,\"ABSENT\",\"PRESENT\"))","v":""},{"$f":"IF(U6=\"\",\"\",IF(SUMPRODUCT((Stabilo!$F12:$DA12=\"A\")*(Stabilo!$F$5:$DA$5='Résultats élèves'!$K$2))>0,\"ABSENT\",\"PRESENT\"))","v":""},{"$f":"IF(V6=\"\",\"\",IF(SUMPRODUCT((Stabilo!$F12:$DA12=\"A\")*(Stabilo!$F$5:$DA$5='Résultats élèves'!$L$2))>0,\"ABSENT\",\"PRESENT\"))","v":""},{"$f":"IF(W6=\"\",\"\",IF(SUMPRODUCT((Stabilo!$F12:$DA12=\"A\")*(Stabilo!$F$5:$DA$5='Résultats élèves'!$M$2))>0,\"ABSENT\",\"PRESENT\"))","v":""},"",{"$f":"IF(X7=\"PRESENT\",IF(N7=\"PRESENT\",SUMPRODUCT((Stabilo!$F12:$DA12=1)*(Stabilo!$F$5:$DA$5='Résultats élèves'!$D$2)),\"A\"),\"A\")","v":"A"},{"$f":"IF(X7=\"PRESENT\",IF(O7=\"PRESENT\",SUMPRODUCT((Stabilo!$F12:$DA12=1)*(Stabilo!$F$5:$DA$5='Résultats élèves'!$E$2)),\"A\"),\"A\")","v":"A"},{"$f":"IF(X7=\"PRESENT\",IF(P7=\"PRESENT\",SUMPRODUCT((Stabilo!$F12:$DA12=1)*(Stabilo!$F$5:$DA$5='Résultats élèves'!$F$2)),\"A\"),\"A\")","v":"A"},{"$f":"IF(X7=\"PRESENT\",IF(Q7=\"PRESENT\",SUMPRODUCT((Stabilo!$F12:$DA12=1)*(Stabilo!$F$5:$DA$5='Résultats élèves'!$G$2)),\"A\"),\"A\")","v":"A"},{"$f":"IF(X7=\"PRESENT\",IF(R7=\"PRESENT\",SUMPRODUCT((Stabilo!$F12:$DA12=1)*(Stabilo!$F$5:$DA$5='Résultats élèves'!$H$2)),\"A\"),\"A\")","v":"A"},{"$f":"IF(X7=\"PRESENT\",IF(S7=\"PRESENT\",SUMPRODUCT((Stabilo!$F12:$DA12=1)*(Stabilo!$F$5:$DA$5='Résultats élèves'!$I$2)),\"A\"),\"A\")","v":"A"},{"$f":"IF(X7=\"PRESENT\",IF(T7=\"PRESENT\",SUMPRODUCT((Stabilo!$F12:$DA12=1)*(Stabilo!$F$5:$DA$5='Résultats élèves'!$J$2)),\"A\"),\"A\")","v":"A"},{"$f":"IF(X7=\"PRESENT\",IF(U7=\"PRESENT\",SUMPRODUCT((Stabilo!$F12:$DA12=1)*(Stabilo!$F$5:$DA$5='Résultats élèves'!$K$2)),\"A\"),\"A\")","v":"A"},{"$f":"IF(X7=\"PRESENT\",IF(V7=\"PRESENT\",SUMPRODUCT((Stabilo!$F12:$DA12=1)*(Stabilo!$F$5:$DA$5='Résultats élèves'!$L$2)),\"A\"),\"A\")","v":"A"},{"$f":"IF(X7=\"PRESENT\",IF(W7=\"PRESENT\",SUMPRODUCT((Stabilo!$F12:$DA12=1)*(Stabilo!$F$5:$DA$5='Résultats élèves'!$M$2)),\"A\"),\"A\")","v":"A"},{"$f":"SUMPRODUCT((Stabilo!$F$5:$DA$5=1)*(Stabilo!F12:DA12<>\"\"))","v":0},{"$f":"SUMPRODUCT((Stabilo!$F$5:$DA$5=2)*(Stabilo!F12:DA12<>\"\"))","v":0},{"$f":"SUMPRODUCT((Stabilo!$F$5:$DA$5=3)*(Stabilo!F12:DA12<>\"\"))","v":0},{"$f":"SUMPRODUCT((Stabilo!$F$5:$DA$5=4)*(Stabilo!F12:DA12<>\"\"))","v":0},{"$f":"SUMPRODUCT((Stabilo!$F$5:$DA$5=5)*(Stabilo!F12:DA12<>\"\"))","v":0},{"$f":"SUMPRODUCT((Stabilo!$F$5:$DA$5=6)*(Stabilo!F12:DA12<>\"\"))","v":0},{"$f":"SUMPRODUCT((Stabilo!$F$5:$DA$5=7)*(Stabilo!F12:DA12<>\"\"))","v":0},{"$f":"SUMPRODUCT((Stabilo!$F$5:$DA$5=8)*(Stabilo!F12:DA12<>\"\"))","v":0},{"$f":"SUMPRODUCT((Stabilo!$F$5:$DA$5=9)*(Stabilo!F12:DA12<>\"\"))","v":0},{"$f":"SUMPRODUCT((Stabilo!$F$5:$DA$5=10)*(Stabilo!F12:DA12<>\"\"))","v":0}]
[null,5,{"$f":"IF(Accueil!F17=\"\",\"\",Accueil!F17)","v":""},"","","","","","","","","","",{"$f":"IF(N7=\"\",\"\",IF(SUMPRODUCT((Stabilo!$F13:$DA13=\"A\")*(Stabilo!$F$5:$DA$5='Résultats élèves'!$D$2))>0,\"ABSENT\",\"PRESENT\"))","v":"PRESENT"},{"$f":"IF(O7=\"\",\"\",IF(SUMPRODUCT((Stabilo!$F13:$DA13=\"A\")*(Stabilo!$F$5:$DA$5='Résultats élèves'!$E$2))>0,\"ABSENT\",\"PRESENT\"))","v":"PRESENT"},{"$f":"IF(P7=\"\",\"\",IF(SUMPRODUCT((Stabilo!$F13:$DA13=\"A\")*(Stabilo!$F$5:$DA$5='Résultats élèves'!$F$2))>0,\"ABSENT\",\"PRESENT\"))","v":"PRESENT"},{"$f":"IF(Q7=\"\",\"\",IF(SUMPRODUCT((Stabilo!$F13:$DA13=\"A\")*(Stabilo!$F$5:$DA$5='Résultats élèves'!$G$2))>0,\"ABSENT\",\"PRESENT\"))","v":"PRESENT"},{"$f":"IF(R7=\"\",\"\",IF(SUMPRODUCT((Stabilo!$F13:$DA13=\"A\")*(Stabilo!$F$5:$DA$5='Résultats élèves'!$H$2))>0,\"ABSENT\",\"PRESENT\"))","v":""},{"$f":"IF(S7=\"\",\"\",IF(SUMPRODUCT((Stabilo!$F13:$DA13=\"A\")*(Stabilo!$F$5:$DA$5='Résultats élèves'!$I$2))>0,\"ABSENT\",\"PRESENT\"))","v":""},{"$f":"IF(T7=\"\",\"\",IF(SUMPRODUCT((Stabilo!$F13:$DA13=\"A\")*(Stabilo!$F$5:$DA$5='Résultats élèves'!$J$2))>0,\"ABSENT\",\"PRESENT\"))","v":""},{"$f":"IF(U7=\"\",\"\",IF(SUMPRODUCT((Stabilo!$F13:$DA13=\"A\")*(Stabilo!$F$5:$DA$5='Résultats élèves'!$K$2))>0,\"ABSENT\",\"PRESENT\"))","v":""},{"$f":"IF(V7=\"\",\"\",IF(SUMPRODUCT((Stabilo!$F13:$DA13=\"A\")*(Stabilo!$F$5:$DA$5='Résultats élèves'!$L$2))>0,\"ABSENT\",\"PRESENT\"))","v":""},{"$f":"IF(W7=\"\",\"\",IF(SUMPRODUCT((Stabilo!$F13:$DA13=\"A\")*(Stabilo!$F$5:$DA$5='Résultats élèves'!$M$2))>0,\"ABSENT\",\"PRESENT\"))","v":""},"",{"$f":"IF(X8=\"PRESENT\",IF(N8=\"PRESENT\",SUMPRODUCT((Stabilo!$F13:$DA13=1)*(Stabilo!$F$5:$DA$5='Résultats élèves'!$D$2)),\"A\"),\"A\")","v":"A"},{"$f":"IF(X8=\"PRESENT\",IF(O8=\"PRESENT\",SUMPRODUCT((Stabilo!$F13:$DA13=1)*(Stabilo!$F$5:$DA$5='Résultats élèves'!$E$2)),\"A\"),\"A\")","v":"A"},{"$f":"IF(X8=\"PRESENT\",IF(P8=\"PRESENT\",SUMPRODUCT((Stabilo!$F13:$DA13=1)*(Stabilo!$F$5:$DA$5='Résultats élèves'!$F$2)),\"A\"),\"A\")","v":"A"},{"$f":"IF(X8=\"PRESENT\",IF(Q8=\"PRESENT\",SUMPRODUCT((Stabilo!$F13:$DA13=1)*(Stabilo!$F$5:$DA$5='Résultats élèves'!$G$2)),\"A\"),\"A\")","v":"A"},{"$f":"IF(X8=\"PRESENT\",IF(R8=\"PRESENT\",SUMPRODUCT((Stabilo!$F13:$DA13=1)*(Stabilo!$F$5:$DA$5='Résultats élèves'!$H$2)),\"A\"),\"A\")","v":"A"},{"$f":"IF(X8=\"PRESENT\",IF(S8=\"PRESENT\",SUMPRODUCT((Stabilo!$F13:$DA13=1)*(Stabilo!$F$5:$DA$5='Résultats élèves'!$I$2)),\"A\"),\"A\")","v":"A"},{"$f":"IF(X8=\"PRESENT\",IF(T8=\"PRESENT\",SUMPRODUCT((Stabilo!$F13:$DA13=1)*(Stabilo!$F$5:$DA$5='Résultats élèves'!$J$2)),\"A\"),\"A\")","v":"A"},{"$f":"IF(X8=\"PRESENT\",IF(U8=\"PRESENT\",SUMPRODUCT((Stabilo!$F13:$DA13=1)*(Stabilo!$F$5:$DA$5='Résultats élèves'!$K$2)),\"A\"),\"A\")","v":"A"},{"$f":"IF(X8=\"PRESENT\",IF(V8=\"PRESENT\",SUMPRODUCT((Stabilo!$F13:$DA13=1)*(Stabilo!$F$5:$DA$5='Résultats élèves'!$L$2)),\"A\"),\"A\")","v":"A"},{"$f":"IF(X8=\"PRESENT\",IF(W8=\"PRESENT\",SUMPRODUCT((Stabilo!$F13:$DA13=1)*(Stabilo!$F$5:$DA$5='Résultats élèves'!$M$2)),\"A\"),\"A\")","v":"A"},{"$f":"SUMPRODUCT((Stabilo!$F$5:$DA$5=1)*(Stabilo!F13:DA13<>\"\"))","v":0},{"$f":"SUMPRODUCT((Stabilo!$F$5:$DA$5=2)*(Stabilo!F13:DA13<>\"\"))","v":0},{"$f":"SUMPRODUCT((Stabilo!$F$5:$DA$5=3)*(Stabilo!F13:DA13<>\"\"))","v":0},{"$f":"SUMPRODUCT((Stabilo!$F$5:$DA$5=4)*(Stabilo!F13:DA13<>\"\"))","v":0},{"$f":"SUMPRODUCT((Stabilo!$F$5:$DA$5=5)*(Stabilo!F13:DA13<>\"\"))","v":0},{"$f":"SUMPRODUCT((Stabilo!$F$5:$DA$5=6)*(Stabilo!F13:DA13<>\"\"))","v":0},{"$f":"SUMPRODUCT((Stabilo!$F$5:$DA$5=7)*(Stabilo!F13:DA13<>\"\"))","v":0},{"$f":"SUMPRODUCT((Stabilo!$F$5:$DA$5=8)*(Stabilo!F13:DA13<>\"\"))","v":0},{"$f":"SUMPRODUCT((Stabilo!$F$5:$DA$5=9)*(Stabilo!F13:DA13<>\"\"))","v":0},{"$f":"SUMPRODUCT((Stabilo!$F$5:$DA$5=10)*(Stabilo!F13:DA13<>\"\"))","v":0}]
[null,6,{"$f":"IF(Accueil!F18=\"\",\"\",Accueil!F18)","v":""},"","","","","","","","","","",{"$f":"IF(N8=\"\",\"\",IF(SUMPRODUCT((Stabilo!$F14:$DA14=\"A\")*(Stabilo!$F$5:$DA$5='Résultats élèves'!$D$2))>0,\"ABSENT\",\"PRESENT\"))","v":"PRESENT"},{"$f":"IF(O8=\"\",\"\",IF(SUMPRODUCT((Stabilo!$F14:$DA14=\"A\")*(Stabilo!$F$5:$DA$5='Résultats élèves'!$E$2))>0,\"ABSENT\",\"PRESENT\"))","v":"PRESENT"},{"$f":"IF(P8=\"\",\"\",IF(SUMPRODUCT((Stabilo!$F14:$DA14=\"A\")*(Stabilo!$F$5:$DA$5='Résultats élèves'!$F$2))>0,\"ABSENT\",\"PRESENT\"))","v":"PRESENT"},{"$f":"IF(Q8=\"\",\"\",IF(SUMPRODUCT((Stabilo!$F14:$DA14=\"A\")*(Stabilo!$F$5:$DA$5='Résultats élèves'!$G$2))>0,\"ABSENT\",\"PRESENT\"))","v":"PRESENT"},{"$f":"IF(R8=\"\",\"\",IF(SUMPRODUCT((Stabilo!$F14:$DA14=\"A\")*(Stabilo!$F$5:$DA$5='Résultats élèves'!$H$2))>0,\"ABSENT\",\"PRESENT\"))","v":""},{"$f":"IF(S8=\"\",\"\",IF(SUMPRODUCT((Stabilo!$F14:$DA14=\"A\")*(Stabilo!$F$5:$DA$5='Résultats élèves'!$I$2))>0,\"ABSENT\",\"PRESENT\"))","v":""},{"$f":"IF(T8=\"\",\"\",IF(SUMPRODUCT((Stabilo!$F14:$DA14=\"A\")*(Stabilo!$F$5:$DA$5='Résultats élèves'!$J$2))>0,\"ABSENT\",\"PRESENT\"))","v":""},{"$f":"IF(U8=\"\",\"\",IF(SUMPRODUCT((Stabilo!$F14:$DA14=\"A\")*(Stabilo!$F$5:$DA$5='Résultats élèves'!$K$2))>0,\"ABSENT\",\"PRESENT\"))","v":""},{"$f":"IF(V8=\"\",\"\",IF(SUMPRODUCT((Stabilo!$F14:$DA14=\"A\")*(Stabilo!$F$5:$DA$5='Résultats élèves'!$L$2))>0,\"ABSENT\",\"PRESENT\"))","v":""},{"$f":"IF(W8=\"\",\"\",IF(SUMPRODUCT((Stabilo!$F14:$DA14=\"A\")*(Stabilo!$F$5:$DA$5='Résultats élèves'!$M$2))>0,\"ABSENT\",\"PRESENT\"))","v":""},"",{"$f":"IF(X9=\"PRESENT\",IF(N9=\"PRESENT\",SUMPRODUCT((Stabilo!$F14:$DA14=1)*(Stabilo!$F$5:$DA$5='Résultats élèves'!$D$2)),\"A\"),\"A\")","v":"A"},{"$f":"IF(X9=\"PRESENT\",IF(O9=\"PRESENT\",SUMPRODUCT((Stabilo!$F14:$DA14=1)*(Stabilo!$F$5:$DA$5='Résultats élèves'!$E$2)),\"A\"),\"A\")","v":"A"},{"$f":"IF(X9=\"PRESENT\",IF(P9=\"PRESENT\",SUMPRODUCT((Stabilo!$F14:$DA14=1)*(Stabilo!$F$5:$DA$5='Résultats élèves'!$F$2)),\"A\"),\"A\")","v":"A"},{"$f":"IF(X9=\"PRESENT\",IF(Q9=\"PRESENT\",SUMPRODUCT((Stabilo!$F14:$DA14=1)*(Stabilo!$F$5:$DA$5='Résultats élèves'!$G$2)),\"A\"),\"A\")","v":"A"},{"$f":"IF(X9=\"PRESENT\",IF(R9=\"PRESENT\",SUMPRODUCT((Stabilo!$F14:$DA14=1)*(Stabilo!$F$5:$DA$5='Résultats élèves'!$H$2)),\"A\"),\"A\")","v":"A"},{"$f":"IF(X9=\"PRESENT\",IF(S9=\"PRESENT\",SUMPRODUCT((Stabilo!$F14:$DA14=1)*(Stabilo!$F$5:$DA$5='Résultats élèves'!$I$2)),\"A\"),\"A\")","v":"A"},{"$f":"IF(X9=\"PRESENT\",IF(T9=\"PRESENT\",SUMPRODUCT((Stabilo!$F14:$DA14=1)*(Stabilo!$F$5:$DA$5='Résultats élèves'!$J$2)),\"A\"),\"A\")","v":"A"},{"$f":"IF(X9=\"PRESENT\",IF(U9=\"PRESENT\",SUMPRODUCT((Stabilo!$F14:$DA14=1)*(Stabilo!$F$5:$DA$5='Résultats élèves'!$K$2)),\"A\"),\"A\")","v":"A"},{"$f":"IF(X9=\"PRESENT\",IF(V9=\"PRESENT\",SUMPRODUCT((Stabilo!$F14:$DA14=1)*(Stabilo!$F$5:$DA$5='Résultats élèves'!$L$2)),\"A\"),\"A\")","v":"A"},{"$f":"IF(X9=\"PRESENT\",IF(W9=\"PRESENT\",SUMPRODUCT((Stabilo!$F14:$DA14=1)*(Stabilo!$F$5:$DA$5='Résultats élèves'!$M$2)),\"A\"),\"A\")","v":"A"},{"$f":"SUMPRODUCT((Stabilo!$F$5:$DA$5=1)*(Stabilo!F14:DA14<>\"\"))","v":0},{"$f":"SUMPRODUCT((Stabilo!$F$5:$DA$5=2)*(Stabilo!F14:DA14<>\"\"))","v":0},{"$f":"SUMPRODUCT((Stabilo!$F$5:$DA$5=3)*(Stabilo!F14:DA14<>\"\"))","v":0},{"$f":"SUMPRODUCT((Stabilo!$F$5:$DA$5=4)*(Stabilo!F14:DA14<>\"\"))","v":0},{"$f":"SUMPRODUCT((Stabilo!$F$5:$DA$5=5)*(Stabilo!F14:DA14<>\"\"))","v":0},{"$f":"SUMPRODUCT((Stabilo!$F$5:$DA$5=6)*(Stabilo!F14:DA14<>\"\"))","v":0},{"$f":"SUMPRODUCT((Stabilo!$F$5:$DA$5=7)*(Stabilo!F14:DA14<>\"\"))","v":0},{"$f":"SUMPRODUCT((Stabilo!$F$5:$DA$5=8)*(Stabilo!F14:DA14<>\"\"))","v":0},{"$f":"SUMPRODUCT((Stabilo!$F$5:$DA$5=9)*(Stabilo!F14:DA14<>\"\"))","v":0},{"$f":"SUMPRODUCT((Stabilo!$F$5:$DA$5=10)*(Stabilo!F14:DA14<>\"\"))","v":0}]
[null,7,{"$f":"IF(Accueil!F19=\"\",\"\",Accueil!F19)","v":""},"","","","","","","","","","",{"$f":"IF(N9=\"\",\"\",IF(SUMPRODUCT((Stabilo!$F15:$DA15=\"A\")*(Stabilo!$F$5:$DA$5='Résultats élèves'!$D$2))>0,\"ABSENT\",\"PRESENT\"))","v":"PRESENT"},{"$f":"IF(O9=\"\",\"\",IF(SUMPRODUCT((Stabilo!$F15:$DA15=\"A\")*(Stabilo!$F$5:$DA$5='Résultats élèves'!$E$2))>0,\"ABSENT\",\"PRESENT\"))","v":"PRESENT"},{"$f":"IF(P9=\"\",\"\",IF(SUMPRODUCT((Stabilo!$F15:$DA15=\"A\")*(Stabilo!$F$5:$DA$5='Résultats élèves'!$F$2))>0,\"ABSENT\",\"PRESENT\"))","v":"PRESENT"},{"$f":"IF(Q9=\"\",\"\",IF(SUMPRODUCT((Stabilo!$F15:$DA15=\"A\")*(Stabilo!$F$5:$DA$5='Résultats élèves'!$G$2))>0,\"ABSENT\",\"PRESENT\"))","v":"PRESENT"},{"$f":"IF(R9=\"\",\"\",IF(SUMPRODUCT((Stabilo!$F15:$DA15=\"A\")*(Stabilo!$F$5:$DA$5='Résultats élèves'!$H$2))>0,\"ABSENT\",\"PRESENT\"))","v":""},{"$f":"IF(S9=\"\",\"\",IF(SUMPRODUCT((Stabilo!$F15:$DA15=\"A\")*(Stabilo!$F$5:$DA$5='Résultats élèves'!$I$2))>0,\"ABSENT\",\"PRESENT\"))","v":""},{"$f":"IF(T9=\"\",\"\",IF(SUMPRODUCT((Stabilo!$F15:$DA15=\"A\")*(Stabilo!$F$5:$DA$5='Résultats élèves'!$J$2))>0,\"ABSENT\",\"PRESENT\"))","v":""},{"$f":"IF(U9=\"\",\"\",IF(SUMPRODUCT((Stabilo!$F15:$DA15=\"A\")*(Stabilo!$F$5:$DA$5='Résultats élèves'!$K$2))>0,\"ABSENT\",\"PRESENT\"))","v":""},{"$f":"IF(V9=\"\",\"\",IF(SUMPRODUCT((Stabilo!$F15:$DA15=\"A\")*(Stabilo!$F$5:$DA$5='Résultats élèves'!$L$2))>0,\"ABSENT\",\"PRESENT\"))","v":""},{"$f":"IF(W9=\"\",\"\",IF(SUMPRODUCT((Stabilo!$F15:$DA15=\"A\")*(Stabilo!$F$5:$DA$5='Résultats élèves'!$M$2))>0,\"ABSENT\",\"PRESENT\"))","v":""},"",{"$f":"IF(X10=\"PRESENT\",IF(N10=\"PRESENT\",SUMPRODUCT((Stabilo!$F15:$DA15=1)*(Stabilo!$F$5:$DA$5='Résultats élèves'!$D$2)),\"A\"),\"A\")","v":"A"},{"$f":"IF(X10=\"PRESENT\",IF(O10=\"PRESENT\",SUMPRODUCT((Stabilo!$F15:$DA15=1)*(Stabilo!$F$5:$DA$5='Résultats élèves'!$E$2)),\"A\"),\"A\")","v":"A"},{"$f":"IF(X10=\"PRESENT\",IF(P10=\"PRESENT\",SUMPRODUCT((Stabilo!$F15:$DA15=1)*(Stabilo!$F$5:$DA$5='Résultats élèves'!$F$2)),\"A\"),\"A\")","v":"A"},{"$f":"IF(X10=\"PRESENT\",IF(Q10=\"PRESENT\",SUMPRODUCT((Stabilo!$F15:$DA15=1)*(Stabilo!$F$5:$DA$5='Résultats élèves'!$G$2)),\"A\"),\"A\")","v":"A"},{"$f":"IF(X10=\"PRESENT\",IF(R10=\"PRESENT\",SUMPRODUCT((Stabilo!$F15:$DA15=1)*(Stabilo!$F$5:$DA$5='Résultats élèves'!$H$2)),\"A\"),\"A\")","v":"A"},{"$f":"IF(X10=\"PRESENT\",IF(S10=\"PRESENT\",SUMPRODUCT((Stabilo!$F15:$DA15=1)*(Stabilo!$F$5:$DA$5='Résultats élèves'!$I$2)),\"A\"),\"A\")","v":"A"},{"$f":"IF(X10=\"PRESENT\",IF(T10=\"PRESENT\",SUMPRODUCT((Stabilo!$F15:$DA15=1)*(Stabilo!$F$5:$DA$5='Résultats élèves'!$J$2)),\"A\"),\"A\")","v":"A"},{"$f":"IF(X10=\"PRESENT\",IF(U10=\"PRESENT\",SUMPRODUCT((Stabilo!$F15:$DA15=1)*(Stabilo!$F$5:$DA$5='Résultats élèves'!$K$2)),\"A\"),\"A\")","v":"A"},{"$f":"IF(X10=\"PRESENT\",IF(V10=\"PRESENT\",SUMPRODUCT((Stabilo!$F15:$DA15=1)*(Stabilo!$F$5:$DA$5='Résultats élèves'!$L$2)),\"A\"),\"A\")","v":"A"},{"$f":"IF(X10=\"PRESENT\",IF(W10=\"PRESENT\",SUMPRODUCT((Stabilo!$F15:$DA15=1)*(Stabilo!$F$5:$DA$5='Résultats élèves'!$M$2)),\"A\"),\"A\")","v":"A"},{"$f":"SUMPRODUCT((Stabilo!$F$5:$DA$5=1)*(Stabilo!F15:DA15<>\"\"))","v":0},{"$f":"SUMPRODUCT((Stabilo!$F$5:$DA$5=2)*(Stabilo!F15:DA15<>\"\"))","v":0},{"$f":"SUMPRODUCT((Stabilo!$F$5:$DA$5=3)*(Stabilo!F15:DA15<>\"\"))","v":0},{"$f":"SUMPRODUCT((Stabilo!$F$5:$DA$5=4)*(Stabilo!F15:DA15<>\"\"))","v":0},{"$f":"SUMPRODUCT((Stabilo!$F$5:$DA$5=5)*(Stabilo!F15:DA15<>\"\"))","v":0},{"$f":"SUMPRODUCT((Stabilo!$F$5:$DA$5=6)*(Stabilo!F15:DA15<>\"\"))","v":0},{"$f":"SUMPRODUCT((Stabilo!$F$5:$DA$5=7)*(Stabilo!F15:DA15<>\"\"))","v":0},{"$f":"SUMPRODUCT((Stabilo!$F$5:$DA$5=8)*(Stabilo!F15:DA15<>\"\"))","v":0},{"$f":"SUMPRODUCT((Stabilo!$F$5:$DA$5=9)*(Stabilo!F15:DA15<>\"\"))","v":0},{"$f":"SUMPRODUCT((Stabilo!$F$5:$DA$5=10)*(Stabilo!F15:DA15<>\"\"))","v":0}]
[null,8,{"$f":"IF(Accueil!F20=\"\",\"\",Accueil!F20)","v":""},"","","","","","","","","","",{"$f":"IF(N10=\"\",\"\",IF(SUMPRODUCT((Stabilo!$F16:$DA16=\"A\")*(Stabilo!$F$5:$DA$5='Résultats élèves'!$D$2))>0,\"ABSENT\",\"PRESENT\"))","v":"PRESENT"},{"$f":"IF(O10=\"\",\"\",IF(SUMPRODUCT((Stabilo!$F16:$DA16=\"A\")*(Stabilo!$F$5:$DA$5='Résultats élèves'!$E$2))>0,\"ABSENT\",\"PRESENT\"))","v":"PRESENT"},{"$f":"IF(P10=\"\",\"\",IF(SUMPRODUCT((Stabilo!$F16:$DA16=\"A\")*(Stabilo!$F$5:$DA$5='Résultats élèves'!$F$2))>0,\"ABSENT\",\"PRESENT\"))","v":"PRESENT"},{"$f":"IF(Q10=\"\",\"\",IF(SUMPRODUCT((Stabilo!$F16:$DA16=\"A\")*(Stabilo!$F$5:$DA$5='Résultats élèves'!$G$2))>0,\"ABSENT\",\"PRESENT\"))","v":"PRESENT"},{"$f":"IF(R10=\"\",\"\",IF(SUMPRODUCT((Stabilo!$F16:$DA16=\"A\")*(Stabilo!$F$5:$DA$5='Résultats élèves'!$H$2))>0,\"ABSENT\",\"PRESENT\"))","v":""},{"$f":"IF(S10=\"\",\"\",IF(SUMPRODUCT((Stabilo!$F16:$DA16=\"A\")*(Stabilo!$F$5:$DA$5='Résultats élèves'!$I$2))>0,\"ABSENT\",\"PRESENT\"))","v":""},{"$f":"IF(T10=\"\",\"\",IF(SUMPRODUCT((Stabilo!$F16:$DA16=\"A\")*(Stabilo!$F$5:$DA$5='Résultats élèves'!$J$2))>0,\"ABSENT\",\"PRESENT\"))","v":""},{"$f":"IF(U10=\"\",\"\",IF(SUMPRODUCT((Stabilo!$F16:$DA16=\"A\")*(Stabilo!$F$5:$DA$5='Résultats élèves'!$K$2))>0,\"ABSENT\",\"PRESENT\"))","v":""},{"$f":"IF(V10=\"\",\"\",IF(SUMPRODUCT((Stabilo!$F16:$DA16=\"A\")*(Stabilo!$F$5:$DA$5='Résultats élèves'!$L$2))>0,\"ABSENT\",\"PRESENT\"))","v":""},{"$f":"IF(W10=\"\",\"\",IF(SUMPRODUCT((Stabilo!$F16:$DA16=\"A\")*(Stabilo!$F$5:$DA$5='Résultats élèves'!$M$2))>0,\"ABSENT\",\"PRESENT\"))","v":""},"",{"$f":"IF(X11=\"PRESENT\",IF(N11=\"PRESENT\",SUMPRODUCT((Stabilo!$F16:$DA16=1)*(Stabilo!$F$5:$DA$5='Résultats élèves'!$D$2)),\"A\"),\"A\")","v":"A"},{"$f":"IF(X11=\"PRESENT\",IF(O11=\"PRESENT\",SUMPRODUCT((Stabilo!$F16:$DA16=1)*(Stabilo!$F$5:$DA$5='Résultats élèves'!$E$2)),\"A\"),\"A\")","v":"A"},{"$f":"IF(X11=\"PRESENT\",IF(P11=\"PRESENT\",SUMPRODUCT((Stabilo!$F16:$DA16=1)*(Stabilo!$F$5:$DA$5='Résultats élèves'!$F$2)),\"A\"),\"A\")","v":"A"},{"$f":"IF(X11=\"PRESENT\",IF(Q11=\"PRESENT\",SUMPRODUCT((Stabilo!$F16:$DA16=1)*(Stabilo!$F$5:$DA$5='Résultats élèves'!$G$2)),\"A\"),\"A\")","v":"A"},{"$f":"IF(X11=\"PRESENT\",IF(R11=\"PRESENT\",SUMPRODUCT((Stabilo!$F16:$DA16=1)*(Stabilo!$F$5:$DA$5='Résultats élèves'!$H$2)),\"A\"),\"A\")","v":"A"},{"$f":"IF(X11=\"PRESENT\",IF(S11=\"PRESENT\",SUMPRODUCT((Stabilo!$F16:$DA16=1)*(Stabilo!$F$5:$DA$5='Résultats élèves'!$I$2)),\"A\"),\"A\")","v":"A"},{"$f":"IF(X11=\"PRESENT\",IF(T11=\"PRESENT\",SUMPRODUCT((Stabilo!$F16:$DA16=1)*(Stabilo!$F$5:$DA$5='Résultats élèves'!$J$2)),\"A\"),\"A\")","v":"A"},{"$f":"IF(X11=\"PRESENT\",IF(U11=\"PRESENT\",SUMPRODUCT((Stabilo!$F16:$DA16=1)*(Stabilo!$F$5:$DA$5='Résultats élèves'!$K$2)),\"A\"),\"A\")","v":"A"},{"$f":"IF(X11=\"PRESENT\",IF(V11=\"PRESENT\",SUMPRODUCT((Stabilo!$F16:$DA16=1)*(Stabilo!$F$5:$DA$5='Résultats élèves'!$L$2)),\"A\"),\"A\")","v":"A"},{"$f":"IF(X11=\"PRESENT\",IF(W11=\"PRESENT\",SUMPRODUCT((Stabilo!$F16:$DA16=1)*(Stabilo!$F$5:$DA$5='Résultats élèves'!$M$2)),\"A\"),\"A\")","v":"A"},{"$f":"SUMPRODUCT((Stabilo!$F$5:$DA$5=1)*(Stabilo!F16:DA16<>\"\"))","v":0},{"$f":"SUMPRODUCT((Stabilo!$F$5:$DA$5=2)*(Stabilo!F16:DA16<>\"\"))","v":0},{"$f":"SUMPRODUCT((Stabilo!$F$5:$DA$5=3)*(Stabilo!F16:DA16<>\"\"))","v":0},{"$f":"SUMPRODUCT((Stabilo!$F$5:$DA$5=4)*(Stabilo!F16:DA16<>\"\"))","v":0},{"$f":"SUMPRODUCT((Stabilo!$F$5:$DA$5=5)*(Stabilo!F16:DA16<>\"\"))","v":0},{"$f":"SUMPRODUCT((Stabilo!$F$5:$DA$5=6)*(Stabilo!F16:DA16<>\"\"))","v":0},{"$f":"SUMPRODUCT((Stabilo!$F$5:$DA$5=7)*(Stabilo!F16:DA16<>\"\"))","v":0},{"$f":"SUMPRODUCT((Stabilo!$F$5:$DA$5=8)*(Stabilo!F16:DA16<>\"\"))","v":0},{"$f":"SUMPRODUCT((Stabilo!$F$5:$DA$5=9)*(Stabilo!F16:DA16<>\"\"))","v":0},{"$f":"SUMPRODUCT((Stabilo!$F$5:$DA$5=10)*(Stabilo!F16:DA16<>\"\"))","v":0}]
[null,9,{"$f":"IF(Accueil!F21=\"\",\"\",Accueil!F21)","v":""},"","","","","","","","","","",{"$f":"IF(N11=\"\",\"\",IF(SUMPRODUCT((Stabilo!$F17:$DA17=\"A\")*(Stabilo!$F$5:$DA$5='Résultats élèves'!$D$2))>0,\"ABSENT\",\"PRESENT\"))","v":"PRESENT"},{"$f":"IF(O11=\"\",\"\",IF(SUMPRODUCT((Stabilo!$F17:$DA17=\"A\")*(Stabilo!$F$5:$DA$5='Résultats élèves'!$E$2))>0,\"ABSENT\",\"PRESENT\"))","v":"PRESENT"},{"$f":"IF(P11=\"\",\"\",IF(SUMPRODUCT((Stabilo!$F17:$DA17=\"A\")*(Stabilo!$F$5:$DA$5='Résultats élèves'!$F$2))>0,\"ABSENT\",\"PRESENT\"))","v":"PRESENT"},{"$f":"IF(Q11=\"\",\"\",IF(SUMPRODUCT((Stabilo!$F17:$DA17=\"A\")*(Stabilo!$F$5:$DA$5='Résultats élèves'!$G$2))>0,\"ABSENT\",\"PRESENT\"))","v":"PRESENT"},{"$f":"IF(R11=\"\",\"\",IF(SUMPRODUCT((Stabilo!$F17:$DA17=\"A\")*(Stabilo!$F$5:$DA$5='Résultats élèves'!$H$2))>0,\"ABSENT\",\"PRESENT\"))","v":""},{"$f":"IF(S11=\"\",\"\",IF(SUMPRODUCT((Stabilo!$F17:$DA17=\"A\")*(Stabilo!$F$5:$DA$5='Résultats élèves'!$I$2))>0,\"ABSENT\",\"PRESENT\"))","v":""},{"$f":"IF(T11=\"\",\"\",IF(SUMPRODUCT((Stabilo!$F17:$DA17=\"A\")*(Stabilo!$F$5:$DA$5='Résultats élèves'!$J$2))>0,\"ABSENT\",\"PRESENT\"))","v":""},{"$f":"IF(U11=\"\",\"\",IF(SUMPRODUCT((Stabilo!$F17:$DA17=\"A\")*(Stabilo!$F$5:$DA$5='Résultats élèves'!$K$2))>0,\"ABSENT\",\"PRESENT\"))","v":""},{"$f":"IF(V11=\"\",\"\",IF(SUMPRODUCT((Stabilo!$F17:$DA17=\"A\")*(Stabilo!$F$5:$DA$5='Résultats élèves'!$L$2))>0,\"ABSENT\",\"PRESENT\"))","v":""},{"$f":"IF(W11=\"\",\"\",IF(SUMPRODUCT((Stabilo!$F17:$DA17=\"A\")*(Stabilo!$F$5:$DA$5='Résultats élèves'!$M$2))>0,\"ABSENT\",\"PRESENT\"))","v":""},"",{"$f":"IF(X12=\"PRESENT\",IF(N12=\"PRESENT\",SUMPRODUCT((Stabilo!$F17:$DA17=1)*(Stabilo!$F$5:$DA$5='Résultats élèves'!$D$2)),\"A\"),\"A\")","v":"A"},{"$f":"IF(X12=\"PRESENT\",IF(O12=\"PRESENT\",SUMPRODUCT((Stabilo!$F17:$DA17=1)*(Stabilo!$F$5:$DA$5='Résultats élèves'!$E$2)),\"A\"),\"A\")","v":"A"},{"$f":"IF(X12=\"PRESENT\",IF(P12=\"PRESENT\",SUMPRODUCT((Stabilo!$F17:$DA17=1)*(Stabilo!$F$5:$DA$5='Résultats élèves'!$F$2)),\"A\"),\"A\")","v":"A"},{"$f":"IF(X12=\"PRESENT\",IF(Q12=\"PRESENT\",SUMPRODUCT((Stabilo!$F17:$DA17=1)*(Stabilo!$F$5:$DA$5='Résultats élèves'!$G$2)),\"A\"),\"A\")","v":"A"},{"$f":"IF(X12=\"PRESENT\",IF(R12=\"PRESENT\",SUMPRODUCT((Stabilo!$F17:$DA17=1)*(Stabilo!$F$5:$DA$5='Résultats élèves'!$H$2)),\"A\"),\"A\")","v":"A"},{"$f":"IF(X12=\"PRESENT\",IF(S12=\"PRESENT\",SUMPRODUCT((Stabilo!$F17:$DA17=1)*(Stabilo!$F$5:$DA$5='Résultats élèves'!$I$2)),\"A\"),\"A\")","v":"A"},{"$f":"IF(X12=\"PRESENT\",IF(T12=\"PRESENT\",SUMPRODUCT((Stabilo!$F17:$DA17=1)*(Stabilo!$F$5:$DA$5='Résultats élèves'!$J$2)),\"A\"),\"A\")","v":"A"},{"$f":"IF(X12=\"PRESENT\",IF(U12=\"PRESENT\",SUMPRODUCT((Stabilo!$F17:$DA17=1)*(Stabilo!$F$5:$DA$5='Résultats élèves'!$K$2)),\"A\"),\"A\")","v":"A"},{"$f":"IF(X12=\"PRESENT\",IF(V12=\"PRESENT\",SUMPRODUCT((Stabilo!$F17:$DA17=1)*(Stabilo!$F$5:$DA$5='Résultats élèves'!$L$2)),\"A\"),\"A\")","v":"A"},{"$f":"IF(X12=\"PRESENT\",IF(W12=\"PRESENT\",SUMPRODUCT((Stabilo!$F17:$DA17=1)*(Stabilo!$F$5:$DA$5='Résultats élèves'!$M$2)),\"A\"),\"A\")","v":"A"},{"$f":"SUMPRODUCT((Stabilo!$F$5:$DA$5=1)*(Stabilo!F17:DA17<>\"\"))","v":0},{"$f":"SUMPRODUCT((Stabilo!$F$5:$DA$5=2)*(Stabilo!F17:DA17<>\"\"))","v":0},{"$f":"SUMPRODUCT((Stabilo!$F$5:$DA$5=3)*(Stabilo!F17:DA17<>\"\"))","v":0},{"$f":"SUMPRODUCT((Stabilo!$F$5:$DA$5=4)*(Stabilo!F17:DA17<>\"\"))","v":0},{"$f":"SUMPRODUCT((Stabilo!$F$5:$DA$5=5)*(Stabilo!F17:DA17<>\"\"))","v":0},{"$f":"SUMPRODUCT((Stabilo!$F$5:$DA$5=6)*(Stabilo!F17:DA17<>\"\"))","v":0},{"$f":"SUMPRODUCT((Stabilo!$F$5:$DA$5=7)*(Stabilo!F17:DA17<>\"\"))","v":0},{"$f":"SUMPRODUCT((Stabilo!$F$5:$DA$5=8)*(Stabilo!F17:DA17<>\"\"))","v":0},{"$f":"SUMPRODUCT((Stabilo!$F$5:$DA$5=9)*(Stabilo!F17:DA17<>\"\"))","v":0},{"$f":"SUMPRODUCT((Stabilo!$F$5:$DA$5=10)*(Stabilo!F17:DA17<>\"\"))","v":0}]
[null,10,{"$f":"IF(Accueil!F22=\"\",\"\",Accueil!F22)","v":""},"","","","","","","","","","",{"$f":"IF(N12=\"\",\"\",IF(SUMPRODUCT((Stabilo!$F18:$DA18=\"A\")*(Stabilo!$F$5:$DA$5='Résultats élèves'!$D$2))>0,\"ABSENT\",\"PRESENT\"))","v":"PRESENT"},{"$f":"IF(O12=\"\",\"\",IF(SUMPRODUCT((Stabilo!$F18:$DA18=\"A\")*(Stabilo!$F$5:$DA$5='Résultats élèves'!$E$2))>0,\"ABSENT\",\"PRESENT\"))","v":"PRESENT"},{"$f":"IF(P12=\"\",\"\",IF(SUMPRODUCT((Stabilo!$F18:$DA18=\"A\")*(Stabilo!$F$5:$DA$5='Résultats élèves'!$F$2))>0,\"ABSENT\",\"PRESENT\"))","v":"PRESENT"},{"$f":"IF(Q12=\"\",\"\",IF(SUMPRODUCT((Stabilo!$F18:$DA18=\"A\")*(Stabilo!$F$5:$DA$5='Résultats élèves'!$G$2))>0,\"ABSENT\",\"PRESENT\"))","v":"PRESENT"},{"$f":"IF(R12=\"\",\"\",IF(SUMPRODUCT((Stabilo!$F18:$DA18=\"A\")*(Stabilo!$F$5:$DA$5='Résultats élèves'!$H$2))>0,\"ABSENT\",\"PRESENT\"))","v":""},{"$f":"IF(S12=\"\",\"\",IF(SUMPRODUCT((Stabilo!$F18:$DA18=\"A\")*(Stabilo!$F$5:$DA$5='Résultats élèves'!$I$2))>0,\"ABSENT\",\"PRESENT\"))","v":""},{"$f":"IF(T12=\"\",\"\",IF(SUMPRODUCT((Stabilo!$F18:$DA18=\"A\")*(Stabilo!$F$5:$DA$5='Résultats élèves'!$J$2))>0,\"ABSENT\",\"PRESENT\"))","v":""},{"$f":"IF(U12=\"\",\"\",IF(SUMPRODUCT((Stabilo!$F18:$DA18=\"A\")*(Stabilo!$F$5:$DA$5='Résultats élèves'!$K$2))>0,\"ABSENT\",\"PRESENT\"))","v":""},{"$f":"IF(V12=\"\",\"\",IF(SUMPRODUCT((Stabilo!$F18:$DA18=\"A\")*(Stabilo!$F$5:$DA$5='Résultats élèves'!$L$2))>0,\"ABSENT\",\"PRESENT\"))","v":""},{"$f":"IF(W12=\"\",\"\",IF(SUMPRODUCT((Stabilo!$F18:$DA18=\"A\")*(Stabilo!$F$5:$DA$5='Résultats élèves'!$M$2))>0,\"ABSENT\",\"PRESENT\"))","v":""},"",{"$f":"IF(X13=\"PRESENT\",IF(N13=\"PRESENT\",SUMPRODUCT((Stabilo!$F18:$DA18=1)*(Stabilo!$F$5:$DA$5='Résultats élèves'!$D$2)),\"A\"),\"A\")","v":"A"},{"$f":"IF(X13=\"PRESENT\",IF(O13=\"PRESENT\",SUMPRODUCT((Stabilo!$F18:$DA18=1)*(Stabilo!$F$5:$DA$5='Résultats élèves'!$E$2)),\"A\"),\"A\")","v":"A"},{"$f":"IF(X13=\"PRESENT\",IF(P13=\"PRESENT\",SUMPRODUCT((Stabilo!$F18:$DA18=1)*(Stabilo!$F$5:$DA$5='Résultats élèves'!$F$2)),\"A\"),\"A\")","v":"A"},{"$f":"IF(X13=\"PRESENT\",IF(Q13=\"PRESENT\",SUMPRODUCT((Stabilo!$F18:$DA18=1)*(Stabilo!$F$5:$DA$5='Résultats élèves'!$G$2)),\"A\"),\"A\")","v":"A"},{"$f":"IF(X13=\"PRESENT\",IF(R13=\"PRESENT\",SUMPRODUCT((Stabilo!$F18:$DA18=1)*(Stabilo!$F$5:$DA$5='Résultats élèves'!$H$2)),\"A\"),\"A\")","v":"A"},{"$f":"IF(X13=\"PRESENT\",IF(S13=\"PRESENT\",SUMPRODUCT((Stabilo!$F18:$DA18=1)*(Stabilo!$F$5:$DA$5='Résultats élèves'!$I$2)),\"A\"),\"A\")","v":"A"},{"$f":"IF(X13=\"PRESENT\",IF(T13=\"PRESENT\",SUMPRODUCT((Stabilo!$F18:$DA18=1)*(Stabilo!$F$5:$DA$5='Résultats élèves'!$J$2)),\"A\"),\"A\")","v":"A"},{"$f":"IF(X13=\"PRESENT\",IF(U13=\"PRESENT\",SUMPRODUCT((Stabilo!$F18:$DA18=1)*(Stabilo!$F$5:$DA$5='Résultats élèves'!$K$2)),\"A\"),\"A\")","v":"A"},{"$f":"IF(X13=\"PRESENT\",IF(V13=\"PRESENT\",SUMPRODUCT((Stabilo!$F18:$DA18=1)*(Stabilo!$F$5:$DA$5='Résultats élèves'!$L$2)),\"A\"),\"A\")","v":"A"},{"$f":"IF(X13=\"PRESENT\",IF(W13=\"PRESENT\",SUMPRODUCT((Stabilo!$F18:$DA18=1)*(Stabilo!$F$5:$DA$5='Résultats élèves'!$M$2)),\"A\"),\"A\")","v":"A"},{"$f":"SUMPRODUCT((Stabilo!$F$5:$DA$5=1)*(Stabilo!F18:DA18<>\"\"))","v":0},{"$f":"SUMPRODUCT((Stabilo!$F$5:$DA$5=2)*(Stabilo!F18:DA18<>\"\"))","v":0},{"$f":"SUMPRODUCT((Stabilo!$F$5:$DA$5=3)*(Stabilo!F18:DA18<>\"\"))","v":0},{"$f":"SUMPRODUCT((Stabilo!$F$5:$DA$5=4)*(Stabilo!F18:DA18<>\"\"))","v":0},{"$f":"SUMPRODUCT((Stabilo!$F$5:$DA$5=5)*(Stabilo!F18:DA18<>\"\"))","v":0},{"$f":"SUMPRODUCT((Stabilo!$F$5:$DA$5=6)*(Stabilo!F18:DA18<>\"\"))","v":0},{"$f":"SUMPRODUCT((Stabilo!$F$5:$DA$5=7)*(Stabilo!F18:DA18<>\"\"))","v":0},{"$f":"SUMPRODUCT((Stabilo!$F$5:$DA$5=8)*(Stabilo!F18:DA18<>\"\"))","v":0},{"$f":"SUMPRODUCT((Stabilo!$F$5:$DA$5=9)*(Stabilo!F18:DA18<>\"\"))","v":0},{"$f":"SUMPRODUCT((Stabilo!$F$5:$DA$5=10)*(Stabilo!F18:DA18<>\"\"))","v":0}]
[null,11,{"$f":"IF(Accueil!F23=\"\",\"\",Accueil!F23)","v":""},"","","","","","","","","","",{"$f":"IF(N13=\"\",\"\",IF(SUMPRODUCT((Stabilo!$F19:$DA19=\"A\")*(Stabilo!$F$5:$DA$5='Résultats élèves'!$D$2))>0,\"ABSENT\",\"PRESENT\"))","v":"PRESENT"},{"$f":"IF(O13=\"\",\"\",IF(SUMPRODUCT((Stabilo!$F19:$DA19=\"A\")*(Stabilo!$F$5:$DA$5='Résultats élèves'!$E$2))>0,\"ABSENT\",\"PRESENT\"))","v":"PRESENT"},{"$f":"IF(P13=\"\",\"\",IF(SUMPRODUCT((Stabilo!$F19:$DA19=\"A\")*(Stabilo!$F$5:$DA$5='Résultats élèves'!$F$2))>0,\"ABSENT\",\"PRESENT\"))","v":"PRESENT"},{"$f":"IF(Q13=\"\",\"\",IF(SUMPRODUCT((Stabilo!$F19:$DA19=\"A\")*(Stabilo!$F$5:$DA$5='Résultats élèves'!$G$2))>0,\"ABSENT\",\"PRESENT\"))","v":"PRESENT"},{"$f":"IF(R13=\"\",\"\",IF(SUMPRODUCT((Stabilo!$F19:$DA19=\"A\")*(Stabilo!$F$5:$DA$5='Résultats élèves'!$H$2))>0,\"ABSENT\",\"PRESENT\"))","v":""},{"$f":"IF(S13=\"\",\"\",IF(SUMPRODUCT((Stabilo!$F19:$DA19=\"A\")*(Stabilo!$F$5:$DA$5='Résultats élèves'!$I$2))>0,\"ABSENT\",\"PRESENT\"))","v":""},{"$f":"IF(T13=\"\",\"\",IF(SUMPRODUCT((Stabilo!$F19:$DA19=\"A\")*(Stabilo!$F$5:$DA$5='Résultats élèves'!$J$2))>0,\"ABSENT\",\"PRESENT\"))","v":""},{"$f":"IF(U13=\"\",\"\",IF(SUMPRODUCT((Stabilo!$F19:$DA19=\"A\")*(Stabilo!$F$5:$DA$5='Résultats élèves'!$K$2))>0,\"ABSENT\",\"PRESENT\"))","v":""},{"$f":"IF(V13=\"\",\"\",IF(SUMPRODUCT((Stabilo!$F19:$DA19=\"A\")*(Stabilo!$F$5:$DA$5='Résultats élèves'!$L$2))>0,\"ABSENT\",\"PRESENT\"))","v":""},{"$f":"IF(W13=\"\",\"\",IF(SUMPRODUCT((Stabilo!$F19:$DA19=\"A\")*(Stabilo!$F$5:$DA$5='Résultats élèves'!$M$2))>0,\"ABSENT\",\"PRESENT\"))","v":""},"",{"$f":"IF(X14=\"PRESENT\",IF(N14=\"PRESENT\",SUMPRODUCT((Stabilo!$F19:$DA19=1)*(Stabilo!$F$5:$DA$5='Résultats élèves'!$D$2)),\"A\"),\"A\")","v":"A"},{"$f":"IF(X14=\"PRESENT\",IF(O14=\"PRESENT\",SUMPRODUCT((Stabilo!$F19:$DA19=1)*(Stabilo!$F$5:$DA$5='Résultats élèves'!$E$2)),\"A\"),\"A\")","v":"A"},{"$f":"IF(X14=\"PRESENT\",IF(P14=\"PRESENT\",SUMPRODUCT((Stabilo!$F19:$DA19=1)*(Stabilo!$F$5:$DA$5='Résultats élèves'!$F$2)),\"A\"),\"A\")","v":"A"},{"$f":"IF(X14=\"PRESENT\",IF(Q14=\"PRESENT\",SUMPRODUCT((Stabilo!$F19:$DA19=1)*(Stabilo!$F$5:$DA$5='Résultats élèves'!$G$2)),\"A\"),\"A\")","v":"A"},{"$f":"IF(X14=\"PRESENT\",IF(R14=\"PRESENT\",SUMPRODUCT((Stabilo!$F19:$DA19=1)*(Stabilo!$F$5:$DA$5='Résultats élèves'!$H$2)),\"A\"),\"A\")","v":"A"},{"$f":"IF(X14=\"PRESENT\",IF(S14=\"PRESENT\",SUMPRODUCT((Stabilo!$F19:$DA19=1)*(Stabilo!$F$5:$DA$5='Résultats élèves'!$I$2)),\"A\"),\"A\")","v":"A"},{"$f":"IF(X14=\"PRESENT\",IF(T14=\"PRESENT\",SUMPRODUCT((Stabilo!$F19:$DA19=1)*(Stabilo!$F$5:$DA$5='Résultats élèves'!$J$2)),\"A\"),\"A\")","v":"A"},{"$f":"IF(X14=\"PRESENT\",IF(U14=\"PRESENT\",SUMPRODUCT((Stabilo!$F19:$DA19=1)*(Stabilo!$F$5:$DA$5='Résultats élèves'!$K$2)),\"A\"),\"A\")","v":"A"},{"$f":"IF(X14=\"PRESENT\",IF(V14=\"PRESENT\",SUMPRODUCT((Stabilo!$F19:$DA19=1)*(Stabilo!$F$5:$DA$5='Résultats élèves'!$L$2)),\"A\"),\"A\")","v":"A"},{"$f":"IF(X14=\"PRESENT\",IF(W14=\"PRESENT\",SUMPRODUCT((Stabilo!$F19:$DA19=1)*(Stabilo!$F$5:$DA$5='Résultats élèves'!$M$2)),\"A\"),\"A\")","v":"A"},{"$f":"SUMPRODUCT((Stabilo!$F$5:$DA$5=1)*(Stabilo!F19:DA19<>\"\"))","v":0},{"$f":"SUMPRODUCT((Stabilo!$F$5:$DA$5=2)*(Stabilo!F19:DA19<>\"\"))","v":0},{"$f":"SUMPRODUCT((Stabilo!$F$5:$DA$5=3)*(Stabilo!F19:DA19<>\"\"))","v":0},{"$f":"SUMPRODUCT((Stabilo!$F$5:$DA$5=4)*(Stabilo!F19:DA19<>\"\"))","v":0},{"$f":"SUMPRODUCT((Stabilo!$F$5:$DA$5=5)*(Stabilo!F19:DA19<>\"\"))","v":0},{"$f":"SUMPRODUCT((Stabilo!$F$5:$DA$5=6)*(Stabilo!F19:DA19<>\"\"))","v":0},{"$f":"SUMPRODUCT((Stabilo!$F$5:$DA$5=7)*(Stabilo!F19:DA19<>\"\"))","v":0},{"$f":"SUMPRODUCT((Stabilo!$F$5:$DA$5=8)*(Stabilo!F19:DA19<>\"\"))","v":0},{"$f":"SUMPRODUCT((Stabilo!$F$5:$DA$5=9)*(Stabilo!F19:DA19<>\"\"))","v":0},{"$f":"SUMPRODUCT((Stabilo!$F$5:$DA$5=10)*(Stabilo!F19:DA19<>\"\"))","v":0}]
[null,12,{"$f":"IF(Accueil!F24=\"\",\"\",Accueil!F24)","v":""},"","","","","","","","","","",{"$f":"IF(N14=\"\",\"\",IF(SUMPRODUCT((Stabilo!$F20:$DA20=\"A\")*(Stabilo!$F$5:$DA$5='Résultats élèves'!$D$2))>0,\"ABSENT\",\"PRESENT\"))","v":"PRESENT"},{"$f":"IF(O14=\"\",\"\",IF(SUMPRODUCT((Stabilo!$F20:$DA20=\"A\")*(Stabilo!$F$5:$DA$5='Résultats élèves'!$E$2))>0,\"ABSENT\",\"PRESENT\"))","v":"PRESENT"},{"$f":"IF(P14=\"\",\"\",IF(SUMPRODUCT((Stabilo!$F20:$DA20=\"A\")*(Stabilo!$F$5:$DA$5='Résultats élèves'!$F$2))>0,\"ABSENT\",\"PRESENT\"))","v":"PRESENT"},{"$f":"IF(Q14=\"\",\"\",IF(SUMPRODUCT((Stabilo!$F20:$DA20=\"A\")*(Stabilo!$F$5:$DA$5='Résultats élèves'!$G$2))>0,\"ABSENT\",\"PRESENT\"))","v":"PRESENT"},{"$f":"IF(R14=\"\",\"\",IF(SUMPRODUCT((Stabilo!$F20:$DA20=\"A\")*(Stabilo!$F$5:$DA$5='Résultats élèves'!$H$2))>0,\"ABSENT\",\"PRESENT\"))","v":""},{"$f":"IF(S14=\"\",\"\",IF(SUMPRODUCT((Stabilo!$F20:$DA20=\"A\")*(Stabilo!$F$5:$DA$5='Résultats élèves'!$I$2))>0,\"ABSENT\",\"PRESENT\"))","v":""},{"$f":"IF(T14=\"\",\"\",IF(SUMPRODUCT((Stabilo!$F20:$DA20=\"A\")*(Stabilo!$F$5:$DA$5='Résultats élèves'!$J$2))>0,\"ABSENT\",\"PRESENT\"))","v":""},{"$f":"IF(U14=\"\",\"\",IF(SUMPRODUCT((Stabilo!$F20:$DA20=\"A\")*(Stabilo!$F$5:$DA$5='Résultats élèves'!$K$2))>0,\"ABSENT\",\"PRESENT\"))","v":""},{"$f":"IF(V14=\"\",\"\",IF(SUMPRODUCT((Stabilo!$F20:$DA20=\"A\")*(Stabilo!$F$5:$DA$5='Résultats élèves'!$L$2))>0,\"ABSENT\",\"PRESENT\"))","v":""},{"$f":"IF(W14=\"\",\"\",IF(SUMPRODUCT((Stabilo!$F20:$DA20=\"A\")*(Stabilo!$F$5:$DA$5='Résultats élèves'!$M$2))>0,\"ABSENT\",\"PRESENT\"))","v":""},"",{"$f":"IF(X15=\"PRESENT\",IF(N15=\"PRESENT\",SUMPRODUCT((Stabilo!$F20:$DA20=1)*(Stabilo!$F$5:$DA$5='Résultats élèves'!$D$2)),\"A\"),\"A\")","v":"A"},{"$f":"IF(X15=\"PRESENT\",IF(O15=\"PRESENT\",SUMPRODUCT((Stabilo!$F20:$DA20=1)*(Stabilo!$F$5:$DA$5='Résultats élèves'!$E$2)),\"A\"),\"A\")","v":"A"},{"$f":"IF(X15=\"PRESENT\",IF(P15=\"PRESENT\",SUMPRODUCT((Stabilo!$F20:$DA20=1)*(Stabilo!$F$5:$DA$5='Résultats élèves'!$F$2)),\"A\"),\"A\")","v":"A"},{"$f":"IF(X15=\"PRESENT\",IF(Q15=\"PRESENT\",SUMPRODUCT((Stabilo!$F20:$DA20=1)*(Stabilo!$F$5:$DA$5='Résultats élèves'!$G$2)),\"A\"),\"A\")","v":"A"},{"$f":"IF(X15=\"PRESENT\",IF(R15=\"PRESENT\",SUMPRODUCT((Stabilo!$F20:$DA20=1)*(Stabilo!$F$5:$DA$5='Résultats élèves'!$H$2)),\"A\"),\"A\")","v":"A"},{"$f":"IF(X15=\"PRESENT\",IF(S15=\"PRESENT\",SUMPRODUCT((Stabilo!$F20:$DA20=1)*(Stabilo!$F$5:$DA$5='Résultats élèves'!$I$2)),\"A\"),\"A\")","v":"A"},{"$f":"IF(X15=\"PRESENT\",IF(T15=\"PRESENT\",SUMPRODUCT((Stabilo!$F20:$DA20=1)*(Stabilo!$F$5:$DA$5='Résultats élèves'!$J$2)),\"A\"),\"A\")","v":"A"},{"$f":"IF(X15=\"PRESENT\",IF(U15=\"PRESENT\",SUMPRODUCT((Stabilo!$F20:$DA20=1)*(Stabilo!$F$5:$DA$5='Résultats élèves'!$K$2)),\"A\"),\"A\")","v":"A"},{"$f":"IF(X15=\"PRESENT\",IF(V15=\"PRESENT\",SUMPRODUCT((Stabilo!$F20:$DA20=1)*(Stabilo!$F$5:$DA$5='Résultats élèves'!$L$2)),\"A\"),\"A\")","v":"A"},{"$f":"IF(X15=\"PRESENT\",IF(W15=\"PRESENT\",SUMPRODUCT((Stabilo!$F20:$DA20=1)*(Stabilo!$F$5:$DA$5='Résultats élèves'!$M$2)),\"A\"),\"A\")","v":"A"},{"$f":"SUMPRODUCT((Stabilo!$F$5:$DA$5=1)*(Stabilo!F20:DA20<>\"\"))","v":0},{"$f":"SUMPRODUCT((Stabilo!$F$5:$DA$5=2)*(Stabilo!F20:DA20<>\"\"))","v":0},{"$f":"SUMPRODUCT((Stabilo!$F$5:$DA$5=3)*(Stabilo!F20:DA20<>\"\"))","v":0},{"$f":"SUMPRODUCT((Stabilo!$F$5:$DA$5=4)*(Stabilo!F20:DA20<>\"\"))","v":0},{"$f":"SUMPRODUCT((Stabilo!$F$5:$DA$5=5)*(Stabilo!F20:DA20<>\"\"))","v":0},{"$f":"SUMPRODUCT((Stabilo!$F$5:$DA$5=6)*(Stabilo!F20:DA20<>\"\"))","v":0},{"$f":"SUMPRODUCT((Stabilo!$F$5:$DA$5=7)*(Stabilo!F20:DA20<>\"\"))","v":0},{"$f":"SUMPRODUCT((Stabilo!$F$5:$DA$5=8)*(Stabilo!F20:DA20<>\"\"))","v":0},{"$f":"SUMPRODUCT((Stabilo!$F$5:$DA$5=9)*(Stabilo!F20:DA20<>\"\"))","v":0},{"$f":"SUMPRODUCT((Stabilo!$F$5:$DA$5=10)*(Stabilo!F20:DA20<>\"\"))","v":0}]
[null,13,{"$f":"IF(Accueil!F25=\"\",\"\",Accueil!F25)","v":""},"","","","","","","","","","",{"$f":"IF(N15=\"\",\"\",IF(SUMPRODUCT((Stabilo!$F21:$DA21=\"A\")*(Stabilo!$F$5:$DA$5='Résultats élèves'!$D$2))>0,\"ABSENT\",\"PRESENT\"))","v":"PRESENT"},{"$f":"IF(O15=\"\",\"\",IF(SUMPRODUCT((Stabilo!$F21:$DA21=\"A\")*(Stabilo!$F$5:$DA$5='Résultats élèves'!$E$2))>0,\"ABSENT\",\"PRESENT\"))","v":"PRESENT"},{"$f":"IF(P15=\"\",\"\",IF(SUMPRODUCT((Stabilo!$F21:$DA21=\"A\")*(Stabilo!$F$5:$DA$5='Résultats élèves'!$F$2))>0,\"ABSENT\",\"PRESENT\"))","v":"PRESENT"},{"$f":"IF(Q15=\"\",\"\",IF(SUMPRODUCT((Stabilo!$F21:$DA21=\"A\")*(Stabilo!$F$5:$DA$5='Résultats élèves'!$G$2))>0,\"ABSENT\",\"PRESENT\"))","v":"PRESENT"},{"$f":"IF(R15=\"\",\"\",IF(SUMPRODUCT((Stabilo!$F21:$DA21=\"A\")*(Stabilo!$F$5:$DA$5='Résultats élèves'!$H$2))>0,\"ABSENT\",\"PRESENT\"))","v":""},{"$f":"IF(S15=\"\",\"\",IF(SUMPRODUCT((Stabilo!$F21:$DA21=\"A\")*(Stabilo!$F$5:$DA$5='Résultats élèves'!$I$2))>0,\"ABSENT\",\"PRESENT\"))","v":""},{"$f":"IF(T15=\"\",\"\",IF(SUMPRODUCT((Stabilo!$F21:$DA21=\"A\")*(Stabilo!$F$5:$DA$5='Résultats élèves'!$J$2))>0,\"ABSENT\",\"PRESENT\"))","v":""},{"$f":"IF(U15=\"\",\"\",IF(SUMPRODUCT((Stabilo!$F21:$DA21=\"A\")*(Stabilo!$F$5:$DA$5='Résultats élèves'!$K$2))>0,\"ABSENT\",\"PRESENT\"))","v":""},{"$f":"IF(V15=\"\",\"\",IF(SUMPRODUCT((Stabilo!$F21:$DA21=\"A\")*(Stabilo!$F$5:$DA$5='Résultats élèves'!$L$2))>0,\"ABSENT\",\"PRESENT\"))","v":""},{"$f":"IF(W15=\"\",\"\",IF(SUMPRODUCT((Stabilo!$F21:$DA21=\"A\")*(Stabilo!$F$5:$DA$5='Résultats élèves'!$M$2))>0,\"ABSENT\",\"PRESENT\"))","v":""},"",{"$f":"IF(X16=\"PRESENT\",IF(N16=\"PRESENT\",SUMPRODUCT((Stabilo!$F21:$DA21=1)*(Stabilo!$F$5:$DA$5='Résultats élèves'!$D$2)),\"A\"),\"A\")","v":"A"},{"$f":"IF(X16=\"PRESENT\",IF(O16=\"PRESENT\",SUMPRODUCT((Stabilo!$F21:$DA21=1)*(Stabilo!$F$5:$DA$5='Résultats élèves'!$E$2)),\"A\"),\"A\")","v":"A"},{"$f":"IF(X16=\"PRESENT\",IF(P16=\"PRESENT\",SUMPRODUCT((Stabilo!$F21:$DA21=1)*(Stabilo!$F$5:$DA$5='Résultats élèves'!$F$2)),\"A\"),\"A\")","v":"A"},{"$f":"IF(X16=\"PRESENT\",IF(Q16=\"PRESENT\",SUMPRODUCT((Stabilo!$F21:$DA21=1)*(Stabilo!$F$5:$DA$5='Résultats élèves'!$G$2)),\"A\"),\"A\")","v":"A"},{"$f":"IF(X16=\"PRESENT\",IF(R16=\"PRESENT\",SUMPRODUCT((Stabilo!$F21:$DA21=1)*(Stabilo!$F$5:$DA$5='Résultats élèves'!$H$2)),\"A\"),\"A\")","v":"A"},{"$f":"IF(X16=\"PRESENT\",IF(S16=\"PRESENT\",SUMPRODUCT((Stabilo!$F21:$DA21=1)*(Stabilo!$F$5:$DA$5='Résultats élèves'!$I$2)),\"A\"),\"A\")","v":"A"},{"$f":"IF(X16=\"PRESENT\",IF(T16=\"PRESENT\",SUMPRODUCT((Stabilo!$F21:$DA21=1)*(Stabilo!$F$5:$DA$5='Résultats élèves'!$J$2)),\"A\"),\"A\")","v":"A"},{"$f":"IF(X16=\"PRESENT\",IF(U16=\"PRESENT\",SUMPRODUCT((Stabilo!$F21:$DA21=1)*(Stabilo!$F$5:$DA$5='Résultats élèves'!$K$2)),\"A\"),\"A\")","v":"A"},{"$f":"IF(X16=\"PRESENT\",IF(V16=\"PRESENT\",SUMPRODUCT((Stabilo!$F21:$DA21=1)*(Stabilo!$F$5:$DA$5='Résultats élèves'!$L$2)),\"A\"),\"A\")","v":"A"},{"$f":"IF(X16=\"PRESENT\",IF(W16=\"PRESENT\",SUMPRODUCT((Stabilo!$F21:$DA21=1)*(Stabilo!$F$5:$DA$5='Résultats élèves'!$M$2)),\"A\"),\"A\")","v":"A"},{"$f":"SUMPRODUCT((Stabilo!$F$5:$DA$5=1)*(Stabilo!F21:DA21<>\"\"))","v":0},{"$f":"SUMPRODUCT((Stabilo!$F$5:$DA$5=2)*(Stabilo!F21:DA21<>\"\"))","v":0},{"$f":"SUMPRODUCT((Stabilo!$F$5:$DA$5=3)*(Stabilo!F21:DA21<>\"\"))","v":0},{"$f":"SUMPRODUCT((Stabilo!$F$5:$DA$5=4)*(Stabilo!F21:DA21<>\"\"))","v":0},{"$f":"SUMPRODUCT((Stabilo!$F$5:$DA$5=5)*(Stabilo!F21:DA21<>\"\"))","v":0},{"$f":"SUMPRODUCT((Stabilo!$F$5:$DA$5=6)*(Stabilo!F21:DA21<>\"\"))","v":0},{"$f":"SUMPRODUCT((Stabilo!$F$5:$DA$5=7)*(Stabilo!F21:DA21<>\"\"))","v":0},{"$f":"SUMPRODUCT((Stabilo!$F$5:$DA$5=8)*(Stabilo!F21:DA21<>\"\"))","v":0},{"$f":"SUMPRODUCT((Stabilo!$F$5:$DA$5=9)*(Stabilo!F21:DA21<>\"\"))","v":0},{"$f":"SUMPRODUCT((Stabilo!$F$5:$DA$5=10)*(Stabilo!F21:DA21<>\"\"))","v":0}]
[null,14,{"$f":"IF(Accueil!F26=\"\",\"\",Accueil!F26)","v":""},"","","","","","","","","","",{"$f":"IF(N16=\"\",\"\",IF(SUMPRODUCT((Stabilo!$F22:$DA22=\"A\")*(Stabilo!$F$5:$DA$5='Résultats élèves'!$D$2))>0,\"ABSENT\",\"PRESENT\"))","v":"PRESENT"},{"$f":"IF(O16=\"\",\"\",IF(SUMPRODUCT((Stabilo!$F22:$DA22=\"A\")*(Stabilo!$F$5:$DA$5='Résultats élèves'!$E$2))>0,\"ABSENT\",\"PRESENT\"))","v":"PRESENT"},{"$f":"IF(P16=\"\",\"\",IF(SUMPRODUCT((Stabilo!$F22:$DA22=\"A\")*(Stabilo!$F$5:$DA$5='Résultats élèves'!$F$2))>0,\"ABSENT\",\"PRESENT\"))","v":"PRESENT"},{"$f":"IF(Q16=\"\",\"\",IF(SUMPRODUCT((Stabilo!$F22:$DA22=\"A\")*(Stabilo!$F$5:$DA$5='Résultats élèves'!$G$2))>0,\"ABSENT\",\"PRESENT\"))","v":"PRESENT"},{"$f":"IF(R16=\"\",\"\",IF(SUMPRODUCT((Stabilo!$F22:$DA22=\"A\")*(Stabilo!$F$5:$DA$5='Résultats élèves'!$H$2))>0,\"ABSENT\",\"PRESENT\"))","v":""},{"$f":"IF(S16=\"\",\"\",IF(SUMPRODUCT((Stabilo!$F22:$DA22=\"A\")*(Stabilo!$F$5:$DA$5='Résultats élèves'!$I$2))>0,\"ABSENT\",\"PRESENT\"))","v":""},{"$f":"IF(T16=\"\",\"\",IF(SUMPRODUCT((Stabilo!$F22:$DA22=\"A\")*(Stabilo!$F$5:$DA$5='Résultats élèves'!$J$2))>0,\"ABSENT\",\"PRESENT\"))","v":""},{"$f":"IF(U16=\"\",\"\",IF(SUMPRODUCT((Stabilo!$F22:$DA22=\"A\")*(Stabilo!$F$5:$DA$5='Résultats élèves'!$K$2))>0,\"ABSENT\",\"PRESENT\"))","v":""},{"$f":"IF(V16=\"\",\"\",IF(SUMPRODUCT((Stabilo!$F22:$DA22=\"A\")*(Stabilo!$F$5:$DA$5='Résultats élèves'!$L$2))>0,\"ABSENT\",\"PRESENT\"))","v":""},{"$f":"IF(W16=\"\",\"\",IF(SUMPRODUCT((Stabilo!$F22:$DA22=\"A\")*(Stabilo!$F$5:$DA$5='Résultats élèves'!$M$2))>0,\"ABSENT\",\"PRESENT\"))","v":""},"",{"$f":"IF(X17=\"PRESENT\",IF(N17=\"PRESENT\",SUMPRODUCT((Stabilo!$F22:$DA22=1)*(Stabilo!$F$5:$DA$5='Résultats élèves'!$D$2)),\"A\"),\"A\")","v":"A"},{"$f":"IF(X17=\"PRESENT\",IF(O17=\"PRESENT\",SUMPRODUCT((Stabilo!$F22:$DA22=1)*(Stabilo!$F$5:$DA$5='Résultats élèves'!$E$2)),\"A\"),\"A\")","v":"A"},{"$f":"IF(X17=\"PRESENT\",IF(P17=\"PRESENT\",SUMPRODUCT((Stabilo!$F22:$DA22=1)*(Stabilo!$F$5:$DA$5='Résultats élèves'!$F$2)),\"A\"),\"A\")","v":"A"},{"$f":"IF(X17=\"PRESENT\",IF(Q17=\"PRESENT\",SUMPRODUCT((Stabilo!$F22:$DA22=1)*(Stabilo!$F$5:$DA$5='Résultats élèves'!$G$2)),\"A\"),\"A\")","v":"A"},{"$f":"IF(X17=\"PRESENT\",IF(R17=\"PRESENT\",SUMPRODUCT((Stabilo!$F22:$DA22=1)*(Stabilo!$F$5:$DA$5='Résultats élèves'!$H$2)),\"A\"),\"A\")","v":"A"},{"$f":"IF(X17=\"PRESENT\",IF(S17=\"PRESENT\",SUMPRODUCT((Stabilo!$F22:$DA22=1)*(Stabilo!$F$5:$DA$5='Résultats élèves'!$I$2)),\"A\"),\"A\")","v":"A"},{"$f":"IF(X17=\"PRESENT\",IF(T17=\"PRESENT\",SUMPRODUCT((Stabilo!$F22:$DA22=1)*(Stabilo!$F$5:$DA$5='Résultats élèves'!$J$2)),\"A\"),\"A\")","v":"A"},{"$f":"IF(X17=\"PRESENT\",IF(U17=\"PRESENT\",SUMPRODUCT((Stabilo!$F22:$DA22=1)*(Stabilo!$F$5:$DA$5='Résultats élèves'!$K$2)),\"A\"),\"A\")","v":"A"},{"$f":"IF(X17=\"PRESENT\",IF(V17=\"PRESENT\",SUMPRODUCT((Stabilo!$F22:$DA22=1)*(Stabilo!$F$5:$DA$5='Résultats élèves'!$L$2)),\"A\"),\"A\")","v":"A"},{"$f":"IF(X17=\"PRESENT\",IF(W17=\"PRESENT\",SUMPRODUCT((Stabilo!$F22:$DA22=1)*(Stabilo!$F$5:$DA$5='Résultats élèves'!$M$2)),\"A\"),\"A\")","v":"A"},{"$f":"SUMPRODUCT((Stabilo!$F$5:$DA$5=1)*(Stabilo!F22:DA22<>\"\"))","v":0},{"$f":"SUMPRODUCT((Stabilo!$F$5:$DA$5=2)*(Stabilo!F22:DA22<>\"\"))","v":0},{"$f":"SUMPRODUCT((Stabilo!$F$5:$DA$5=3)*(Stabilo!F22:DA22<>\"\"))","v":0},{"$f":"SUMPRODUCT((Stabilo!$F$5:$DA$5=4)*(Stabilo!F22:DA22<>\"\"))","v":0},{"$f":"SUMPRODUCT((Stabilo!$F$5:$DA$5=5)*(Stabilo!F22:DA22<>\"\"))","v":0},{"$f":"SUMPRODUCT((Stabilo!$F$5:$DA$5=6)*(Stabilo!F22:DA22<>\"\"))","v":0},{"$f":"SUMPRODUCT((Stabilo!$F$5:$DA$5=7)*(Stabilo!F22:DA22<>\"\"))","v":0},{"$f":"SUMPRODUCT((Stabilo!$F$5:$DA$5=8)*(Stabilo!F22:DA22<>\"\"))","v":0},{"$f":"SUMPRODUCT((Stabilo!$F$5:$DA$5=9)*(Stabilo!F22:DA22<>\"\"))","v":0},{"$f":"SUMPRODUCT((Stabilo!$F$5:$DA$5=10)*(Stabilo!F22:DA22<>\"\"))","v":0}]
[null,15,{"$f":"IF(Accueil!F27=\"\",\"\",Accueil!F27)","v":""},"","","","","","","","","","",{"$f":"IF(N17=\"\",\"\",IF(SUMPRODUCT((Stabilo!$F23:$DA23=\"A\")*(Stabilo!$F$5:$DA$5='Résultats élèves'!$D$2))>0,\"ABSENT\",\"PRESENT\"))","v":"PRESENT"},{"$f":"IF(O17=\"\",\"\",IF(SUMPRODUCT((Stabilo!$F23:$DA23=\"A\")*(Stabilo!$F$5:$DA$5='Résultats élèves'!$E$2))>0,\"ABSENT\",\"PRESENT\"))","v":"PRESENT"},{"$f":"IF(P17=\"\",\"\",IF(SUMPRODUCT((Stabilo!$F23:$DA23=\"A\")*(Stabilo!$F$5:$DA$5='Résultats élèves'!$F$2))>0,\"ABSENT\",\"PRESENT\"))","v":"PRESENT"},{"$f":"IF(Q17=\"\",\"\",IF(SUMPRODUCT((Stabilo!$F23:$DA23=\"A\")*(Stabilo!$F$5:$DA$5='Résultats élèves'!$G$2))>0,\"ABSENT\",\"PRESENT\"))","v":"PRESENT"},{"$f":"IF(R17=\"\",\"\",IF(SUMPRODUCT((Stabilo!$F23:$DA23=\"A\")*(Stabilo!$F$5:$DA$5='Résultats élèves'!$H$2))>0,\"ABSENT\",\"PRESENT\"))","v":""},{"$f":"IF(S17=\"\",\"\",IF(SUMPRODUCT((Stabilo!$F23:$DA23=\"A\")*(Stabilo!$F$5:$DA$5='Résultats élèves'!$I$2))>0,\"ABSENT\",\"PRESENT\"))","v":""},{"$f":"IF(T17=\"\",\"\",IF(SUMPRODUCT((Stabilo!$F23:$DA23=\"A\")*(Stabilo!$F$5:$DA$5='Résultats élèves'!$J$2))>0,\"ABSENT\",\"PRESENT\"))","v":""},{"$f":"IF(U17=\"\",\"\",IF(SUMPRODUCT((Stabilo!$F23:$DA23=\"A\")*(Stabilo!$F$5:$DA$5='Résultats élèves'!$K$2))>0,\"ABSENT\",\"PRESENT\"))","v":""},{"$f":"IF(V17=\"\",\"\",IF(SUMPRODUCT((Stabilo!$F23:$DA23=\"A\")*(Stabilo!$F$5:$DA$5='Résultats élèves'!$L$2))>0,\"ABSENT\",\"PRESENT\"))","v":""},{"$f":"IF(W17=\"\",\"\",IF(SUMPRODUCT((Stabilo!$F23:$DA23=\"A\")*(Stabilo!$F$5:$DA$5='Résultats élèves'!$M$2))>0,\"ABSENT\",\"PRESENT\"))","v":""},"",{"$f":"IF(X18=\"PRESENT\",IF(N18=\"PRESENT\",SUMPRODUCT((Stabilo!$F23:$DA23=1)*(Stabilo!$F$5:$DA$5='Résultats élèves'!$D$2)),\"A\"),\"A\")","v":"A"},{"$f":"IF(X18=\"PRESENT\",IF(O18=\"PRESENT\",SUMPRODUCT((Stabilo!$F23:$DA23=1)*(Stabilo!$F$5:$DA$5='Résultats élèves'!$E$2)),\"A\"),\"A\")","v":"A"},{"$f":"IF(X18=\"PRESENT\",IF(P18=\"PRESENT\",SUMPRODUCT((Stabilo!$F23:$DA23=1)*(Stabilo!$F$5:$DA$5='Résultats élèves'!$F$2)),\"A\"),\"A\")","v":"A"},{"$f":"IF(X18=\"PRESENT\",IF(Q18=\"PRESENT\",SUMPRODUCT((Stabilo!$F23:$DA23=1)*(Stabilo!$F$5:$DA$5='Résultats élèves'!$G$2)),\"A\"),\"A\")","v":"A"},{"$f":"IF(X18=\"PRESENT\",IF(R18=\"PRESENT\",SUMPRODUCT((Stabilo!$F23:$DA23=1)*(Stabilo!$F$5:$DA$5='Résultats élèves'!$H$2)),\"A\"),\"A\")","v":"A"},{"$f":"IF(X18=\"PRESENT\",IF(S18=\"PRESENT\",SUMPRODUCT((Stabilo!$F23:$DA23=1)*(Stabilo!$F$5:$DA$5='Résultats élèves'!$I$2)),\"A\"),\"A\")","v":"A"},{"$f":"IF(X18=\"PRESENT\",IF(T18=\"PRESENT\",SUMPRODUCT((Stabilo!$F23:$DA23=1)*(Stabilo!$F$5:$DA$5='Résultats élèves'!$J$2)),\"A\"),\"A\")","v":"A"},{"$f":"IF(X18=\"PRESENT\",IF(U18=\"PRESENT\",SUMPRODUCT((Stabilo!$F23:$DA23=1)*(Stabilo!$F$5:$DA$5='Résultats élèves'!$K$2)),\"A\"),\"A\")","v":"A"},{"$f":"IF(X18=\"PRESENT\",IF(V18=\"PRESENT\",SUMPRODUCT((Stabilo!$F23:$DA23=1)*(Stabilo!$F$5:$DA$5='Résultats élèves'!$L$2)),\"A\"),\"A\")","v":"A"},{"$f":"IF(X18=\"PRESENT\",IF(W18=\"PRESENT\",SUMPRODUCT((Stabilo!$F23:$DA23=1)*(Stabilo!$F$5:$DA$5='Résultats élèves'!$M$2)),\"A\"),\"A\")","v":"A"},{"$f":"SUMPRODUCT((Stabilo!$F$5:$DA$5=1)*(Stabilo!F23:DA23<>\"\"))","v":0},{"$f":"SUMPRODUCT((Stabilo!$F$5:$DA$5=2)*(Stabilo!F23:DA23<>\"\"))","v":0},{"$f":"SUMPRODUCT((Stabilo!$F$5:$DA$5=3)*(Stabilo!F23:DA23<>\"\"))","v":0},{"$f":"SUMPRODUCT((Stabilo!$F$5:$DA$5=4)*(Stabilo!F23:DA23<>\"\"))","v":0},{"$f":"SUMPRODUCT((Stabilo!$F$5:$DA$5=5)*(Stabilo!F23:DA23<>\"\"))","v":0},{"$f":"SUMPRODUCT((Stabilo!$F$5:$DA$5=6)*(Stabilo!F23:DA23<>\"\"))","v":0},{"$f":"SUMPRODUCT((Stabilo!$F$5:$DA$5=7)*(Stabilo!F23:DA23<>\"\"))","v":0},{"$f":"SUMPRODUCT((Stabilo!$F$5:$DA$5=8)*(Stabilo!F23:DA23<>\"\"))","v":0},{"$f":"SUMPRODUCT((Stabilo!$F$5:$DA$5=9)*(Stabilo!F23:DA23<>\"\"))","v":0},{"$f":"SUMPRODUCT((Stabilo!$F$5:$DA$5=10)*(Stabilo!F23:DA23<>\"\"))","v":0}]
[null,16,{"$f":"IF(Accueil!F28=\"\",\"\",Accueil!F28)","v":""},"","","","","","","","","","",{"$f":"IF(N18=\"\",\"\",IF(SUMPRODUCT((Stabilo!$F24:$DA24=\"A\")*(Stabilo!$F$5:$DA$5='Résultats élèves'!$D$2))>0,\"ABSENT\",\"PRESENT\"))","v":"PRESENT"},{"$f":"IF(O18=\"\",\"\",IF(SUMPRODUCT((Stabilo!$F24:$DA24=\"A\")*(Stabilo!$F$5:$DA$5='Résultats élèves'!$E$2))>0,\"ABSENT\",\"PRESENT\"))","v":"PRESENT"},{"$f":"IF(P18=\"\",\"\",IF(SUMPRODUCT((Stabilo!$F24:$DA24=\"A\")*(Stabilo!$F$5:$DA$5='Résultats élèves'!$F$2))>0,\"ABSENT\",\"PRESENT\"))","v":"PRESENT"},{"$f":"IF(Q18=\"\",\"\",IF(SUMPRODUCT((Stabilo!$F24:$DA24=\"A\")*(Stabilo!$F$5:$DA$5='Résultats élèves'!$G$2))>0,\"ABSENT\",\"PRESENT\"))","v":"PRESENT"},{"$f":"IF(R18=\"\",\"\",IF(SUMPRODUCT((Stabilo!$F24:$DA24=\"A\")*(Stabilo!$F$5:$DA$5='Résultats élèves'!$H$2))>0,\"ABSENT\",\"PRESENT\"))","v":""},{"$f":"IF(S18=\"\",\"\",IF(SUMPRODUCT((Stabilo!$F24:$DA24=\"A\")*(Stabilo!$F$5:$DA$5='Résultats élèves'!$I$2))>0,\"ABSENT\",\"PRESENT\"))","v":""},{"$f":"IF(T18=\"\",\"\",IF(SUMPRODUCT((Stabilo!$F24:$DA24=\"A\")*(Stabilo!$F$5:$DA$5='Résultats élèves'!$J$2))>0,\"ABSENT\",\"PRESENT\"))","v":""},{"$f":"IF(U18=\"\",\"\",IF(SUMPRODUCT((Stabilo!$F24:$DA24=\"A\")*(Stabilo!$F$5:$DA$5='Résultats élèves'!$K$2))>0,\"ABSENT\",\"PRESENT\"))","v":""},{"$f":"IF(V18=\"\",\"\",IF(SUMPRODUCT((Stabilo!$F24:$DA24=\"A\")*(Stabilo!$F$5:$DA$5='Résultats élèves'!$L$2))>0,\"ABSENT\",\"PRESENT\"))","v":""},{"$f":"IF(W18=\"\",\"\",IF(SUMPRODUCT((Stabilo!$F24:$DA24=\"A\")*(Stabilo!$F$5:$DA$5='Résultats élèves'!$M$2))>0,\"ABSENT\",\"PRESENT\"))","v":""},"",{"$f":"IF(X19=\"PRESENT\",IF(N19=\"PRESENT\",SUMPRODUCT((Stabilo!$F24:$DA24=1)*(Stabilo!$F$5:$DA$5='Résultats élèves'!$D$2)),\"A\"),\"A\")","v":"A"},{"$f":"IF(X19=\"PRESENT\",IF(O19=\"PRESENT\",SUMPRODUCT((Stabilo!$F24:$DA24=1)*(Stabilo!$F$5:$DA$5='Résultats élèves'!$E$2)),\"A\"),\"A\")","v":"A"},{"$f":"IF(X19=\"PRESENT\",IF(P19=\"PRESENT\",SUMPRODUCT((Stabilo!$F24:$DA24=1)*(Stabilo!$F$5:$DA$5='Résultats élèves'!$F$2)),\"A\"),\"A\")","v":"A"},{"$f":"IF(X19=\"PRESENT\",IF(Q19=\"PRESENT\",SUMPRODUCT((Stabilo!$F24:$DA24=1)*(Stabilo!$F$5:$DA$5='Résultats élèves'!$G$2)),\"A\"),\"A\")","v":"A"},{"$f":"IF(X19=\"PRESENT\",IF(R19=\"PRESENT\",SUMPRODUCT((Stabilo!$F24:$DA24=1)*(Stabilo!$F$5:$DA$5='Résultats élèves'!$H$2)),\"A\"),\"A\")","v":"A"},{"$f":"IF(X19=\"PRESENT\",IF(S19=\"PRESENT\",SUMPRODUCT((Stabilo!$F24:$DA24=1)*(Stabilo!$F$5:$DA$5='Résultats élèves'!$I$2)),\"A\"),\"A\")","v":"A"},{"$f":"IF(X19=\"PRESENT\",IF(T19=\"PRESENT\",SUMPRODUCT((Stabilo!$F24:$DA24=1)*(Stabilo!$F$5:$DA$5='Résultats élèves'!$J$2)),\"A\"),\"A\")","v":"A"},{"$f":"IF(X19=\"PRESENT\",IF(U19=\"PRESENT\",SUMPRODUCT((Stabilo!$F24:$DA24=1)*(Stabilo!$F$5:$DA$5='Résultats élèves'!$K$2)),\"A\"),\"A\")","v":"A"},{"$f":"IF(X19=\"PRESENT\",IF(V19=\"PRESENT\",SUMPRODUCT((Stabilo!$F24:$DA24=1)*(Stabilo!$F$5:$DA$5='Résultats élèves'!$L$2)),\"A\"),\"A\")","v":"A"},{"$f":"IF(X19=\"PRESENT\",IF(W19=\"PRESENT\",SUMPRODUCT((Stabilo!$F24:$DA24=1)*(Stabilo!$F$5:$DA$5='Résultats élèves'!$M$2)),\"A\"),\"A\")","v":"A"},{"$f":"SUMPRODUCT((Stabilo!$F$5:$DA$5=1)*(Stabilo!F24:DA24<>\"\"))","v":0},{"$f":"SUMPRODUCT((Stabilo!$F$5:$DA$5=2)*(Stabilo!F24:DA24<>\"\"))","v":0},{"$f":"SUMPRODUCT((Stabilo!$F$5:$DA$5=3)*(Stabilo!F24:DA24<>\"\"))","v":0},{"$f":"SUMPRODUCT((Stabilo!$F$5:$DA$5=4)*(Stabilo!F24:DA24<>\"\"))","v":0},{"$f":"SUMPRODUCT((Stabilo!$F$5:$DA$5=5)*(Stabilo!F24:DA24<>\"\"))","v":0},{"$f":"SUMPRODUCT((Stabilo!$F$5:$DA$5=6)*(Stabilo!F24:DA24<>\"\"))","v":0},{"$f":"SUMPRODUCT((Stabilo!$F$5:$DA$5=7)*(Stabilo!F24:DA24<>\"\"))","v":0},{"$f":"SUMPRODUCT((Stabilo!$F$5:$DA$5=8)*(Stabilo!F24:DA24<>\"\"))","v":0},{"$f":"SUMPRODUCT((Stabilo!$F$5:$DA$5=9)*(Stabilo!F24:DA24<>\"\"))","v":0},{"$f":"SUMPRODUCT((Stabilo!$F$5:$DA$5=10)*(Stabilo!F24:DA24<>\"\"))","v":0}]
[null,17,{"$f":"IF(Accueil!F29=\"\",\"\",Accueil!F29)","v":""},"","","","","","","","","","",{"$f":"IF(N19=\"\",\"\",IF(SUMPRODUCT((Stabilo!$F25:$DA25=\"A\")*(Stabilo!$F$5:$DA$5='Résultats élèves'!$D$2))>0,\"ABSENT\",\"PRESENT\"))","v":"PRESENT"},{"$f":"IF(O19=\"\",\"\",IF(SUMPRODUCT((Stabilo!$F25:$DA25=\"A\")*(Stabilo!$F$5:$DA$5='Résultats élèves'!$E$2))>0,\"ABSENT\",\"PRESENT\"))","v":"PRESENT"},{"$f":"IF(P19=\"\",\"\",IF(SUMPRODUCT((Stabilo!$F25:$DA25=\"A\")*(Stabilo!$F$5:$DA$5='Résultats élèves'!$F$2))>0,\"ABSENT\",\"PRESENT\"))","v":"PRESENT"},{"$f":"IF(Q19=\"\",\"\",IF(SUMPRODUCT((Stabilo!$F25:$DA25=\"A\")*(Stabilo!$F$5:$DA$5='Résultats élèves'!$G$2))>0,\"ABSENT\",\"PRESENT\"))","v":"PRESENT"},{"$f":"IF(R19=\"\",\"\",IF(SUMPRODUCT((Stabilo!$F25:$DA25=\"A\")*(Stabilo!$F$5:$DA$5='Résultats élèves'!$H$2))>0,\"ABSENT\",\"PRESENT\"))","v":""},{"$f":"IF(S19=\"\",\"\",IF(SUMPRODUCT((Stabilo!$F25:$DA25=\"A\")*(Stabilo!$F$5:$DA$5='Résultats élèves'!$I$2))>0,\"ABSENT\",\"PRESENT\"))","v":""},{"$f":"IF(T19=\"\",\"\",IF(SUMPRODUCT((Stabilo!$F25:$DA25=\"A\")*(Stabilo!$F$5:$DA$5='Résultats élèves'!$J$2))>0,\"ABSENT\",\"PRESENT\"))","v":""},{"$f":"IF(U19=\"\",\"\",IF(SUMPRODUCT((Stabilo!$F25:$DA25=\"A\")*(Stabilo!$F$5:$DA$5='Résultats élèves'!$K$2))>0,\"ABSENT\",\"PRESENT\"))","v":""},{"$f":"IF(V19=\"\",\"\",IF(SUMPRODUCT((Stabilo!$F25:$DA25=\"A\")*(Stabilo!$F$5:$DA$5='Résultats élèves'!$L$2))>0,\"ABSENT\",\"PRESENT\"))","v":""},{"$f":"IF(W19=\"\",\"\",IF(SUMPRODUCT((Stabilo!$F25:$DA25=\"A\")*(Stabilo!$F$5:$DA$5='Résultats élèves'!$M$2))>0,\"ABSENT\",\"PRESENT\"))","v":""},"",{"$f":"IF(X20=\"PRESENT\",IF(N20=\"PRESENT\",SUMPRODUCT((Stabilo!$F25:$DA25=1)*(Stabilo!$F$5:$DA$5='Résultats élèves'!$D$2)),\"A\"),\"A\")","v":"A"},{"$f":"IF(X20=\"PRESENT\",IF(O20=\"PRESENT\",SUMPRODUCT((Stabilo!$F25:$DA25=1)*(Stabilo!$F$5:$DA$5='Résultats élèves'!$E$2)),\"A\"),\"A\")","v":"A"},{"$f":"IF(X20=\"PRESENT\",IF(P20=\"PRESENT\",SUMPRODUCT((Stabilo!$F25:$DA25=1)*(Stabilo!$F$5:$DA$5='Résultats élèves'!$F$2)),\"A\"),\"A\")","v":"A"},{"$f":"IF(X20=\"PRESENT\",IF(Q20=\"PRESENT\",SUMPRODUCT((Stabilo!$F25:$DA25=1)*(Stabilo!$F$5:$DA$5='Résultats élèves'!$G$2)),\"A\"),\"A\")","v":"A"},{"$f":"IF(X20=\"PRESENT\",IF(R20=\"PRESENT\",SUMPRODUCT((Stabilo!$F25:$DA25=1)*(Stabilo!$F$5:$DA$5='Résultats élèves'!$H$2)),\"A\"),\"A\")","v":"A"},{"$f":"IF(X20=\"PRESENT\",IF(S20=\"PRESENT\",SUMPRODUCT((Stabilo!$F25:$DA25=1)*(Stabilo!$F$5:$DA$5='Résultats élèves'!$I$2)),\"A\"),\"A\")","v":"A"},{"$f":"IF(X20=\"PRESENT\",IF(T20=\"PRESENT\",SUMPRODUCT((Stabilo!$F25:$DA25=1)*(Stabilo!$F$5:$DA$5='Résultats élèves'!$J$2)),\"A\"),\"A\")","v":"A"},{"$f":"IF(X20=\"PRESENT\",IF(U20=\"PRESENT\",SUMPRODUCT((Stabilo!$F25:$DA25=1)*(Stabilo!$F$5:$DA$5='Résultats élèves'!$K$2)),\"A\"),\"A\")","v":"A"},{"$f":"IF(X20=\"PRESENT\",IF(V20=\"PRESENT\",SUMPRODUCT((Stabilo!$F25:$DA25=1)*(Stabilo!$F$5:$DA$5='Résultats élèves'!$L$2)),\"A\"),\"A\")","v":"A"},{"$f":"IF(X20=\"PRESENT\",IF(W20=\"PRESENT\",SUMPRODUCT((Stabilo!$F25:$DA25=1)*(Stabilo!$F$5:$DA$5='Résultats élèves'!$M$2)),\"A\"),\"A\")","v":"A"},{"$f":"SUMPRODUCT((Stabilo!$F$5:$DA$5=1)*(Stabilo!F25:DA25<>\"\"))","v":0},{"$f":"SUMPRODUCT((Stabilo!$F$5:$DA$5=2)*(Stabilo!F25:DA25<>\"\"))","v":0},{"$f":"SUMPRODUCT((Stabilo!$F$5:$DA$5=3)*(Stabilo!F25:DA25<>\"\"))","v":0},{"$f":"SUMPRODUCT((Stabilo!$F$5:$DA$5=4)*(Stabilo!F25:DA25<>\"\"))","v":0},{"$f":"SUMPRODUCT((Stabilo!$F$5:$DA$5=5)*(Stabilo!F25:DA25<>\"\"))","v":0},{"$f":"SUMPRODUCT((Stabilo!$F$5:$DA$5=6)*(Stabilo!F25:DA25<>\"\"))","v":0},{"$f":"SUMPRODUCT((Stabilo!$F$5:$DA$5=7)*(Stabilo!F25:DA25<>\"\"))","v":0},{"$f":"SUMPRODUCT((Stabilo!$F$5:$DA$5=8)*(Stabilo!F25:DA25<>\"\"))","v":0},{"$f":"SUMPRODUCT((Stabilo!$F$5:$DA$5=9)*(Stabilo!F25:DA25<>\"\"))","v":0},{"$f":"SUMPRODUCT((Stabilo!$F$5:$DA$5=10)*(Stabilo!F25:DA25<>\"\"))","v":0}]
[null,18,{"$f":"IF(Accueil!F30=\"\",\"\",Accueil!F30)","v":""},"","","","","","","","","","",{"$f":"IF(N20=\"\",\"\",IF(SUMPRODUCT((Stabilo!$F26:$DA26=\"A\")*(Stabilo!$F$5:$DA$5='Résultats élèves'!$D$2))>0,\"ABSENT\",\"PRESENT\"))","v":"PRESENT"},{"$f":"IF(O20=\"\",\"\",IF(SUMPRODUCT((Stabilo!$F26:$DA26=\"A\")*(Stabilo!$F$5:$DA$5='Résultats élèves'!$E$2))>0,\"ABSENT\",\"PRESENT\"))","v":"PRESENT"},{"$f":"IF(P20=\"\",\"\",IF(SUMPRODUCT((Stabilo!$F26:$DA26=\"A\")*(Stabilo!$F$5:$DA$5='Résultats élèves'!$F$2))>0,\"ABSENT\",\"PRESENT\"))","v":"PRESENT"},{"$f":"IF(Q20=\"\",\"\",IF(SUMPRODUCT((Stabilo!$F26:$DA26=\"A\")*(Stabilo!$F$5:$DA$5='Résultats élèves'!$G$2))>0,\"ABSENT\",\"PRESENT\"))","v":"PRESENT"},{"$f":"IF(R20=\"\",\"\",IF(SUMPRODUCT((Stabilo!$F26:$DA26=\"A\")*(Stabilo!$F$5:$DA$5='Résultats élèves'!$H$2))>0,\"ABSENT\",\"PRESENT\"))","v":""},{"$f":"IF(S20=\"\",\"\",IF(SUMPRODUCT((Stabilo!$F26:$DA26=\"A\")*(Stabilo!$F$5:$DA$5='Résultats élèves'!$I$2))>0,\"ABSENT\",\"PRESENT\"))","v":""},{"$f":"IF(T20=\"\",\"\",IF(SUMPRODUCT((Stabilo!$F26:$DA26=\"A\")*(Stabilo!$F$5:$DA$5='Résultats élèves'!$J$2))>0,\"ABSENT\",\"PRESENT\"))","v":""},{"$f":"IF(U20=\"\",\"\",IF(SUMPRODUCT((Stabilo!$F26:$DA26=\"A\")*(Stabilo!$F$5:$DA$5='Résultats élèves'!$K$2))>0,\"ABSENT\",\"PRESENT\"))","v":""},{"$f":"IF(V20=\"\",\"\",IF(SUMPRODUCT((Stabilo!$F26:$DA26=\"A\")*(Stabilo!$F$5:$DA$5='Résultats élèves'!$L$2))>0,\"ABSENT\",\"PRESENT\"))","v":""},{"$f":"IF(W20=\"\",\"\",IF(SUMPRODUCT((Stabilo!$F26:$DA26=\"A\")*(Stabilo!$F$5:$DA$5='Résultats élèves'!$M$2))>0,\"ABSENT\",\"PRESENT\"))","v":""},"",{"$f":"IF(X21=\"PRESENT\",IF(N21=\"PRESENT\",SUMPRODUCT((Stabilo!$F26:$DA26=1)*(Stabilo!$F$5:$DA$5='Résultats élèves'!$D$2)),\"A\"),\"A\")","v":"A"},{"$f":"IF(X21=\"PRESENT\",IF(O21=\"PRESENT\",SUMPRODUCT((Stabilo!$F26:$DA26=1)*(Stabilo!$F$5:$DA$5='Résultats élèves'!$E$2)),\"A\"),\"A\")","v":"A"},{"$f":"IF(X21=\"PRESENT\",IF(P21=\"PRESENT\",SUMPRODUCT((Stabilo!$F26:$DA26=1)*(Stabilo!$F$5:$DA$5='Résultats élèves'!$F$2)),\"A\"),\"A\")","v":"A"},{"$f":"IF(X21=\"PRESENT\",IF(Q21=\"PRESENT\",SUMPRODUCT((Stabilo!$F26:$DA26=1)*(Stabilo!$F$5:$DA$5='Résultats élèves'!$G$2)),\"A\"),\"A\")","v":"A"},{"$f":"IF(X21=\"PRESENT\",IF(R21=\"PRESENT\",SUMPRODUCT((Stabilo!$F26:$DA26=1)*(Stabilo!$F$5:$DA$5='Résultats élèves'!$H$2)),\"A\"),\"A\")","v":"A"},{"$f":"IF(X21=\"PRESENT\",IF(S21=\"PRESENT\",SUMPRODUCT((Stabilo!$F26:$DA26=1)*(Stabilo!$F$5:$DA$5='Résultats élèves'!$I$2)),\"A\"),\"A\")","v":"A"},{"$f":"IF(X21=\"PRESENT\",IF(T21=\"PRESENT\",SUMPRODUCT((Stabilo!$F26:$DA26=1)*(Stabilo!$F$5:$DA$5='Résultats élèves'!$J$2)),\"A\"),\"A\")","v":"A"},{"$f":"IF(X21=\"PRESENT\",IF(U21=\"PRESENT\",SUMPRODUCT((Stabilo!$F26:$DA26=1)*(Stabilo!$F$5:$DA$5='Résultats élèves'!$K$2)),\"A\"),\"A\")","v":"A"},{"$f":"IF(X21=\"PRESENT\",IF(V21=\"PRESENT\",SUMPRODUCT((Stabilo!$F26:$DA26=1)*(Stabilo!$F$5:$DA$5='Résultats élèves'!$L$2)),\"A\"),\"A\")","v":"A"},{"$f":"IF(X21=\"PRESENT\",IF(W21=\"PRESENT\",SUMPRODUCT((Stabilo!$F26:$DA26=1)*(Stabilo!$F$5:$DA$5='Résultats élèves'!$M$2)),\"A\"),\"A\")","v":"A"},{"$f":"SUMPRODUCT((Stabilo!$F$5:$DA$5=1)*(Stabilo!F26:DA26<>\"\"))","v":0},{"$f":"SUMPRODUCT((Stabilo!$F$5:$DA$5=2)*(Stabilo!F26:DA26<>\"\"))","v":0},{"$f":"SUMPRODUCT((Stabilo!$F$5:$DA$5=3)*(Stabilo!F26:DA26<>\"\"))","v":0},{"$f":"SUMPRODUCT((Stabilo!$F$5:$DA$5=4)*(Stabilo!F26:DA26<>\"\"))","v":0},{"$f":"SUMPRODUCT((Stabilo!$F$5:$DA$5=5)*(Stabilo!F26:DA26<>\"\"))","v":0},{"$f":"SUMPRODUCT((Stabilo!$F$5:$DA$5=6)*(Stabilo!F26:DA26<>\"\"))","v":0},{"$f":"SUMPRODUCT((Stabilo!$F$5:$DA$5=7)*(Stabilo!F26:DA26<>\"\"))","v":0},{"$f":"SUMPRODUCT((Stabilo!$F$5:$DA$5=8)*(Stabilo!F26:DA26<>\"\"))","v":0},{"$f":"SUMPRODUCT((Stabilo!$F$5:$DA$5=9)*(Stabilo!F26:DA26<>\"\"))","v":0},{"$f":"SUMPRODUCT((Stabilo!$F$5:$DA$5=10)*(Stabilo!F26:DA26<>\"\"))","v":0}]
[null,19,{"$f":"IF(Accueil!F31=\"\",\"\",Accueil!F31)","v":""},"","","","","","","","","","",{"$f":"IF(N21=\"\",\"\",IF(SUMPRODUCT((Stabilo!$F27:$DA27=\"A\")*(Stabilo!$F$5:$DA$5='Résultats élèves'!$D$2))>0,\"ABSENT\",\"PRESENT\"))","v":"PRESENT"},{"$f":"IF(O21=\"\",\"\",IF(SUMPRODUCT((Stabilo!$F27:$DA27=\"A\")*(Stabilo!$F$5:$DA$5='Résultats élèves'!$E$2))>0,\"ABSENT\",\"PRESENT\"))","v":"PRESENT"},{"$f":"IF(P21=\"\",\"\",IF(SUMPRODUCT((Stabilo!$F27:$DA27=\"A\")*(Stabilo!$F$5:$DA$5='Résultats élèves'!$F$2))>0,\"ABSENT\",\"PRESENT\"))","v":"PRESENT"},{"$f":"IF(Q21=\"\",\"\",IF(SUMPRODUCT((Stabilo!$F27:$DA27=\"A\")*(Stabilo!$F$5:$DA$5='Résultats élèves'!$G$2))>0,\"ABSENT\",\"PRESENT\"))","v":"PRESENT"},{"$f":"IF(R21=\"\",\"\",IF(SUMPRODUCT((Stabilo!$F27:$DA27=\"A\")*(Stabilo!$F$5:$DA$5='Résultats élèves'!$H$2))>0,\"ABSENT\",\"PRESENT\"))","v":""},{"$f":"IF(S21=\"\",\"\",IF(SUMPRODUCT((Stabilo!$F27:$DA27=\"A\")*(Stabilo!$F$5:$DA$5='Résultats élèves'!$I$2))>0,\"ABSENT\",\"PRESENT\"))","v":""},{"$f":"IF(T21=\"\",\"\",IF(SUMPRODUCT((Stabilo!$F27:$DA27=\"A\")*(Stabilo!$F$5:$DA$5='Résultats élèves'!$J$2))>0,\"ABSENT\",\"PRESENT\"))","v":""},{"$f":"IF(U21=\"\",\"\",IF(SUMPRODUCT((Stabilo!$F27:$DA27=\"A\")*(Stabilo!$F$5:$DA$5='Résultats élèves'!$K$2))>0,\"ABSENT\",\"PRESENT\"))","v":""},{"$f":"IF(V21=\"\",\"\",IF(SUMPRODUCT((Stabilo!$F27:$DA27=\"A\")*(Stabilo!$F$5:$DA$5='Résultats élèves'!$L$2))>0,\"ABSENT\",\"PRESENT\"))","v":""},{"$f":"IF(W21=\"\",\"\",IF(SUMPRODUCT((Stabilo!$F27:$DA27=\"A\")*(Stabilo!$F$5:$DA$5='Résultats élèves'!$M$2))>0,\"ABSENT\",\"PRESENT\"))","v":""},"",{"$f":"IF(X22=\"PRESENT\",IF(N22=\"PRESENT\",SUMPRODUCT((Stabilo!$F27:$DA27=1)*(Stabilo!$F$5:$DA$5='Résultats élèves'!$D$2)),\"A\"),\"A\")","v":"A"},{"$f":"IF(X22=\"PRESENT\",IF(O22=\"PRESENT\",SUMPRODUCT((Stabilo!$F27:$DA27=1)*(Stabilo!$F$5:$DA$5='Résultats élèves'!$E$2)),\"A\"),\"A\")","v":"A"},{"$f":"IF(X22=\"PRESENT\",IF(P22=\"PRESENT\",SUMPRODUCT((Stabilo!$F27:$DA27=1)*(Stabilo!$F$5:$DA$5='Résultats élèves'!$F$2)),\"A\"),\"A\")","v":"A"},{"$f":"IF(X22=\"PRESENT\",IF(Q22=\"PRESENT\",SUMPRODUCT((Stabilo!$F27:$DA27=1)*(Stabilo!$F$5:$DA$5='Résultats élèves'!$G$2)),\"A\"),\"A\")","v":"A"},{"$f":"IF(X22=\"PRESENT\",IF(R22=\"PRESENT\",SUMPRODUCT((Stabilo!$F27:$DA27=1)*(Stabilo!$F$5:$DA$5='Résultats élèves'!$H$2)),\"A\"),\"A\")","v":"A"},{"$f":"IF(X22=\"PRESENT\",IF(S22=\"PRESENT\",SUMPRODUCT((Stabilo!$F27:$DA27=1)*(Stabilo!$F$5:$DA$5='Résultats élèves'!$I$2)),\"A\"),\"A\")","v":"A"},{"$f":"IF(X22=\"PRESENT\",IF(T22=\"PRESENT\",SUMPRODUCT((Stabilo!$F27:$DA27=1)*(Stabilo!$F$5:$DA$5='Résultats élèves'!$J$2)),\"A\"),\"A\")","v":"A"},{"$f":"IF(X22=\"PRESENT\",IF(U22=\"PRESENT\",SUMPRODUCT((Stabilo!$F27:$DA27=1)*(Stabilo!$F$5:$DA$5='Résultats élèves'!$K$2)),\"A\"),\"A\")","v":"A"},{"$f":"IF(X22=\"PRESENT\",IF(V22=\"PRESENT\",SUMPRODUCT((Stabilo!$F27:$DA27=1)*(Stabilo!$F$5:$DA$5='Résultats élèves'!$L$2)),\"A\"),\"A\")","v":"A"},{"$f":"IF(X22=\"PRESENT\",IF(W22=\"PRESENT\",SUMPRODUCT((Stabilo!$F27:$DA27=1)*(Stabilo!$F$5:$DA$5='Résultats élèves'!$M$2)),\"A\"),\"A\")","v":"A"},{"$f":"SUMPRODUCT((Stabilo!$F$5:$DA$5=1)*(Stabilo!F27:DA27<>\"\"))","v":0},{"$f":"SUMPRODUCT((Stabilo!$F$5:$DA$5=2)*(Stabilo!F27:DA27<>\"\"))","v":0},{"$f":"SUMPRODUCT((Stabilo!$F$5:$DA$5=3)*(Stabilo!F27:DA27<>\"\"))","v":0},{"$f":"SUMPRODUCT((Stabilo!$F$5:$DA$5=4)*(Stabilo!F27:DA27<>\"\"))","v":0},{"$f":"SUMPRODUCT((Stabilo!$F$5:$DA$5=5)*(Stabilo!F27:DA27<>\"\"))","v":0},{"$f":"SUMPRODUCT((Stabilo!$F$5:$DA$5=6)*(Stabilo!F27:DA27<>\"\"))","v":0},{"$f":"SUMPRODUCT((Stabilo!$F$5:$DA$5=7)*(Stabilo!F27:DA27<>\"\"))","v":0},{"$f":"SUMPRODUCT((Stabilo!$F$5:$DA$5=8)*(Stabilo!F27:DA27<>\"\"))","v":0},{"$f":"SUMPRODUCT((Stabilo!$F$5:$DA$5=9)*(Stabilo!F27:DA27<>\"\"))","v":0},{"$f":"SUMPRODUCT((Stabilo!$F$5:$DA$5=10)*(Stabilo!F27:DA27<>\"\"))","v":0}]
[null,20,{"$f":"IF(Accueil!F32=\"\",\"\",Accueil!F32)","v":""},"","","","","","","","","","",{"$f":"IF(N22=\"\",\"\",IF(SUMPRODUCT((Stabilo!$F28:$DA28=\"A\")*(Stabilo!$F$5:$DA$5='Résultats élèves'!$D$2))>0,\"ABSENT\",\"PRESENT\"))","v":"PRESENT"},{"$f":"IF(O22=\"\",\"\",IF(SUMPRODUCT((Stabilo!$F28:$DA28=\"A\")*(Stabilo!$F$5:$DA$5='Résultats élèves'!$E$2))>0,\"ABSENT\",\"PRESENT\"))","v":"PRESENT"},{"$f":"IF(P22=\"\",\"\",IF(SUMPRODUCT((Stabilo!$F28:$DA28=\"A\")*(Stabilo!$F$5:$DA$5='Résultats élèves'!$F$2))>0,\"ABSENT\",\"PRESENT\"))","v":"PRESENT"},{"$f":"IF(Q22=\"\",\"\",IF(SUMPRODUCT((Stabilo!$F28:$DA28=\"A\")*(Stabilo!$F$5:$DA$5='Résultats élèves'!$G$2))>0,\"ABSENT\",\"PRESENT\"))","v":"PRESENT"},{"$f":"IF(R22=\"\",\"\",IF(SUMPRODUCT((Stabilo!$F28:$DA28=\"A\")*(Stabilo!$F$5:$DA$5='Résultats élèves'!$H$2))>0,\"ABSENT\",\"PRESENT\"))","v":""},{"$f":"IF(S22=\"\",\"\",IF(SUMPRODUCT((Stabilo!$F28:$DA28=\"A\")*(Stabilo!$F$5:$DA$5='Résultats élèves'!$I$2))>0,\"ABSENT\",\"PRESENT\"))","v":""},{"$f":"IF(T22=\"\",\"\",IF(SUMPRODUCT((Stabilo!$F28:$DA28=\"A\")*(Stabilo!$F$5:$DA$5='Résultats élèves'!$J$2))>0,\"ABSENT\",\"PRESENT\"))","v":""},{"$f":"IF(U22=\"\",\"\",IF(SUMPRODUCT((Stabilo!$F28:$DA28=\"A\")*(Stabilo!$F$5:$DA$5='Résultats élèves'!$K$2))>0,\"ABSENT\",\"PRESENT\"))","v":""},{"$f":"IF(V22=\"\",\"\",IF(SUMPRODUCT((Stabilo!$F28:$DA28=\"A\")*(Stabilo!$F$5:$DA$5='Résultats élèves'!$L$2))>0,\"ABSENT\",\"PRESENT\"))","v":""},{"$f":"IF(W22=\"\",\"\",IF(SUMPRODUCT((Stabilo!$F28:$DA28=\"A\")*(Stabilo!$F$5:$DA$5='Résultats élèves'!$M$2))>0,\"ABSENT\",\"PRESENT\"))","v":""},"",{"$f":"IF(X23=\"PRESENT\",IF(N23=\"PRESENT\",SUMPRODUCT((Stabilo!$F28:$DA28=1)*(Stabilo!$F$5:$DA$5='Résultats élèves'!$D$2)),\"A\"),\"A\")","v":"A"},{"$f":"IF(X23=\"PRESENT\",IF(O23=\"PRESENT\",SUMPRODUCT((Stabilo!$F28:$DA28=1)*(Stabilo!$F$5:$DA$5='Résultats élèves'!$E$2)),\"A\"),\"A\")","v":"A"},{"$f":"IF(X23=\"PRESENT\",IF(P23=\"PRESENT\",SUMPRODUCT((Stabilo!$F28:$DA28=1)*(Stabilo!$F$5:$DA$5='Résultats élèves'!$F$2)),\"A\"),\"A\")","v":"A"},{"$f":"IF(X23=\"PRESENT\",IF(Q23=\"PRESENT\",SUMPRODUCT((Stabilo!$F28:$DA28=1)*(Stabilo!$F$5:$DA$5='Résultats élèves'!$G$2)),\"A\"),\"A\")","v":"A"},{"$f":"IF(X23=\"PRESENT\",IF(R23=\"PRESENT\",SUMPRODUCT((Stabilo!$F28:$DA28=1)*(Stabilo!$F$5:$DA$5='Résultats élèves'!$H$2)),\"A\"),\"A\")","v":"A"},{"$f":"IF(X23=\"PRESENT\",IF(S23=\"PRESENT\",SUMPRODUCT((Stabilo!$F28:$DA28=1)*(Stabilo!$F$5:$DA$5='Résultats élèves'!$I$2)),\"A\"),\"A\")","v":"A"},{"$f":"IF(X23=\"PRESENT\",IF(T23=\"PRESENT\",SUMPRODUCT((Stabilo!$F28:$DA28=1)*(Stabilo!$F$5:$DA$5='Résultats élèves'!$J$2)),\"A\"),\"A\")","v":"A"},{"$f":"IF(X23=\"PRESENT\",IF(U23=\"PRESENT\",SUMPRODUCT((Stabilo!$F28:$DA28=1)*(Stabilo!$F$5:$DA$5='Résultats élèves'!$K$2)),\"A\"),\"A\")","v":"A"},{"$f":"IF(X23=\"PRESENT\",IF(V23=\"PRESENT\",SUMPRODUCT((Stabilo!$F28:$DA28=1)*(Stabilo!$F$5:$DA$5='Résultats élèves'!$L$2)),\"A\"),\"A\")","v":"A"},{"$f":"IF(X23=\"PRESENT\",IF(W23=\"PRESENT\",SUMPRODUCT((Stabilo!$F28:$DA28=1)*(Stabilo!$F$5:$DA$5='Résultats élèves'!$M$2)),\"A\"),\"A\")","v":"A"},{"$f":"SUMPRODUCT((Stabilo!$F$5:$DA$5=1)*(Stabilo!F28:DA28<>\"\"))","v":0},{"$f":"SUMPRODUCT((Stabilo!$F$5:$DA$5=2)*(Stabilo!F28:DA28<>\"\"))","v":0},{"$f":"SUMPRODUCT((Stabilo!$F$5:$DA$5=3)*(Stabilo!F28:DA28<>\"\"))","v":0},{"$f":"SUMPRODUCT((Stabilo!$F$5:$DA$5=4)*(Stabilo!F28:DA28<>\"\"))","v":0},{"$f":"SUMPRODUCT((Stabilo!$F$5:$DA$5=5)*(Stabilo!F28:DA28<>\"\"))","v":0},{"$f":"SUMPRODUCT((Stabilo!$F$5:$DA$5=6)*(Stabilo!F28:DA28<>\"\"))","v":0},{"$f":"SUMPRODUCT((Stabilo!$F$5:$DA$5=7)*(Stabilo!F28:DA28<>\"\"))","v":0},{"$f":"SUMPRODUCT((Stabilo!$F$5:$DA$5=8)*(Stabilo!F28:DA28<>\"\"))","v":0},{"$f":"SUMPRODUCT((Stabilo!$F$5:$DA$5=9)*(Stabilo!F28:DA28<>\"\"))","v":0},{"$f":"SUMPRODUCT((Stabilo!$F$5:$DA$5=10)*(Stabilo!F28:DA28<>\"\"))","v":0}]
[null,21,{"$f":"IF(Accueil!F33=\"\",\"\",Accueil!F33)","v":""},"","","","","","","","","","",{"$f":"IF(N23=\"\",\"\",IF(SUMPRODUCT((Stabilo!$F29:$DA29=\"A\")*(Stabilo!$F$5:$DA$5='Résultats élèves'!$D$2))>0,\"ABSENT\",\"PRESENT\"))","v":"PRESENT"},{"$f":"IF(O23=\"\",\"\",IF(SUMPRODUCT((Stabilo!$F29:$DA29=\"A\")*(Stabilo!$F$5:$DA$5='Résultats élèves'!$E$2))>0,\"ABSENT\",\"PRESENT\"))","v":"PRESENT"},{"$f":"IF(P23=\"\",\"\",IF(SUMPRODUCT((Stabilo!$F29:$DA29=\"A\")*(Stabilo!$F$5:$DA$5='Résultats élèves'!$F$2))>0,\"ABSENT\",\"PRESENT\"))","v":"PRESENT"},{"$f":"IF(Q23=\"\",\"\",IF(SUMPRODUCT((Stabilo!$F29:$DA29=\"A\")*(Stabilo!$F$5:$DA$5='Résultats élèves'!$G$2))>0,\"ABSENT\",\"PRESENT\"))","v":"PRESENT"},{"$f":"IF(R23=\"\",\"\",IF(SUMPRODUCT((Stabilo!$F29:$DA29=\"A\")*(Stabilo!$F$5:$DA$5='Résultats élèves'!$H$2))>0,\"ABSENT\",\"PRESENT\"))","v":""},{"$f":"IF(S23=\"\",\"\",IF(SUMPRODUCT((Stabilo!$F29:$DA29=\"A\")*(Stabilo!$F$5:$DA$5='Résultats élèves'!$I$2))>0,\"ABSENT\",\"PRESENT\"))","v":""},{"$f":"IF(T23=\"\",\"\",IF(SUMPRODUCT((Stabilo!$F29:$DA29=\"A\")*(Stabilo!$F$5:$DA$5='Résultats élèves'!$J$2))>0,\"ABSENT\",\"PRESENT\"))","v":""},{"$f":"IF(U23=\"\",\"\",IF(SUMPRODUCT((Stabilo!$F29:$DA29=\"A\")*(Stabilo!$F$5:$DA$5='Résultats élèves'!$K$2))>0,\"ABSENT\",\"PRESENT\"))","v":""},{"$f":"IF(V23=\"\",\"\",IF(SUMPRODUCT((Stabilo!$F29:$DA29=\"A\")*(Stabilo!$F$5:$DA$5='Résultats élèves'!$L$2))>0,\"ABSENT\",\"PRESENT\"))","v":""},{"$f":"IF(W23=\"\",\"\",IF(SUMPRODUCT((Stabilo!$F29:$DA29=\"A\")*(Stabilo!$F$5:$DA$5='Résultats élèves'!$M$2))>0,\"ABSENT\",\"PRESENT\"))","v":""},"",{"$f":"IF(X24=\"PRESENT\",IF(N24=\"PRESENT\",SUMPRODUCT((Stabilo!$F29:$DA29=1)*(Stabilo!$F$5:$DA$5='Résultats élèves'!$D$2)),\"A\"),\"A\")","v":"A"},{"$f":"IF(X24=\"PRESENT\",IF(O24=\"PRESENT\",SUMPRODUCT((Stabilo!$F29:$DA29=1)*(Stabilo!$F$5:$DA$5='Résultats élèves'!$E$2)),\"A\"),\"A\")","v":"A"},{"$f":"IF(X24=\"PRESENT\",IF(P24=\"PRESENT\",SUMPRODUCT((Stabilo!$F29:$DA29=1)*(Stabilo!$F$5:$DA$5='Résultats élèves'!$F$2)),\"A\"),\"A\")","v":"A"},{"$f":"IF(X24=\"PRESENT\",IF(Q24=\"PRESENT\",SUMPRODUCT((Stabilo!$F29:$DA29=1)*(Stabilo!$F$5:$DA$5='Résultats élèves'!$G$2)),\"A\"),\"A\")","v":"A"},{"$f":"IF(X24=\"PRESENT\",IF(R24=\"PRESENT\",SUMPRODUCT((Stabilo!$F29:$DA29=1)*(Stabilo!$F$5:$DA$5='Résultats élèves'!$H$2)),\"A\"),\"A\")","v":"A"},{"$f":"IF(X24=\"PRESENT\",IF(S24=\"PRESENT\",SUMPRODUCT((Stabilo!$F29:$DA29=1)*(Stabilo!$F$5:$DA$5='Résultats élèves'!$I$2)),\"A\"),\"A\")","v":"A"},{"$f":"IF(X24=\"PRESENT\",IF(T24=\"PRESENT\",SUMPRODUCT((Stabilo!$F29:$DA29=1)*(Stabilo!$F$5:$DA$5='Résultats élèves'!$J$2)),\"A\"),\"A\")","v":"A"},{"$f":"IF(X24=\"PRESENT\",IF(U24=\"PRESENT\",SUMPRODUCT((Stabilo!$F29:$DA29=1)*(Stabilo!$F$5:$DA$5='Résultats élèves'!$K$2)),\"A\"),\"A\")","v":"A"},{"$f":"IF(X24=\"PRESENT\",IF(V24=\"PRESENT\",SUMPRODUCT((Stabilo!$F29:$DA29=1)*(Stabilo!$F$5:$DA$5='Résultats élèves'!$L$2)),\"A\"),\"A\")","v":"A"},{"$f":"IF(X24=\"PRESENT\",IF(W24=\"PRESENT\",SUMPRODUCT((Stabilo!$F29:$DA29=1)*(Stabilo!$F$5:$DA$5='Résultats élèves'!$M$2)),\"A\"),\"A\")","v":"A"},{"$f":"SUMPRODUCT((Stabilo!$F$5:$DA$5=1)*(Stabilo!F29:DA29<>\"\"))","v":0},{"$f":"SUMPRODUCT((Stabilo!$F$5:$DA$5=2)*(Stabilo!F29:DA29<>\"\"))","v":0},{"$f":"SUMPRODUCT((Stabilo!$F$5:$DA$5=3)*(Stabilo!F29:DA29<>\"\"))","v":0},{"$f":"SUMPRODUCT((Stabilo!$F$5:$DA$5=4)*(Stabilo!F29:DA29<>\"\"))","v":0},{"$f":"SUMPRODUCT((Stabilo!$F$5:$DA$5=5)*(Stabilo!F29:DA29<>\"\"))","v":0},{"$f":"SUMPRODUCT((Stabilo!$F$5:$DA$5=6)*(Stabilo!F29:DA29<>\"\"))","v":0},{"$f":"SUMPRODUCT((Stabilo!$F$5:$DA$5=7)*(Stabilo!F29:DA29<>\"\"))","v":0},{"$f":"SUMPRODUCT((Stabilo!$F$5:$DA$5=8)*(Stabilo!F29:DA29<>\"\"))","v":0},{"$f":"SUMPRODUCT((Stabilo!$F$5:$DA$5=9)*(Stabilo!F29:DA29<>\"\"))","v":0},{"$f":"SUMPRODUCT((Stabilo!$F$5:$DA$5=10)*(Stabilo!F29:DA29<>\"\"))","v":0}]
[null,22,{"$f":"IF(Accueil!F34=\"\",\"\",Accueil!F34)","v":""},"","","","","","","","","","",{"$f":"IF(N24=\"\",\"\",IF(SUMPRODUCT((Stabilo!$F30:$DA30=\"A\")*(Stabilo!$F$5:$DA$5='Résultats élèves'!$D$2))>0,\"ABSENT\",\"PRESENT\"))","v":"PRESENT"},{"$f":"IF(O24=\"\",\"\",IF(SUMPRODUCT((Stabilo!$F30:$DA30=\"A\")*(Stabilo!$F$5:$DA$5='Résultats élèves'!$E$2))>0,\"ABSENT\",\"PRESENT\"))","v":"PRESENT"},{"$f":"IF(P24=\"\",\"\",IF(SUMPRODUCT((Stabilo!$F30:$DA30=\"A\")*(Stabilo!$F$5:$DA$5='Résultats élèves'!$F$2))>0,\"ABSENT\",\"PRESENT\"))","v":"PRESENT"},{"$f":"IF(Q24=\"\",\"\",IF(SUMPRODUCT((Stabilo!$F30:$DA30=\"A\")*(Stabilo!$F$5:$DA$5='Résultats élèves'!$G$2))>0,\"ABSENT\",\"PRESENT\"))","v":"PRESENT"},{"$f":"IF(R24=\"\",\"\",IF(SUMPRODUCT((Stabilo!$F30:$DA30=\"A\")*(Stabilo!$F$5:$DA$5='Résultats élèves'!$H$2))>0,\"ABSENT\",\"PRESENT\"))","v":""},{"$f":"IF(S24=\"\",\"\",IF(SUMPRODUCT((Stabilo!$F30:$DA30=\"A\")*(Stabilo!$F$5:$DA$5='Résultats élèves'!$I$2))>0,\"ABSENT\",\"PRESENT\"))","v":""},{"$f":"IF(T24=\"\",\"\",IF(SUMPRODUCT((Stabilo!$F30:$DA30=\"A\")*(Stabilo!$F$5:$DA$5='Résultats élèves'!$J$2))>0,\"ABSENT\",\"PRESENT\"))","v":""},{"$f":"IF(U24=\"\",\"\",IF(SUMPRODUCT((Stabilo!$F30:$DA30=\"A\")*(Stabilo!$F$5:$DA$5='Résultats élèves'!$K$2))>0,\"ABSENT\",\"PRESENT\"))","v":""},{"$f":"IF(V24=\"\",\"\",IF(SUMPRODUCT((Stabilo!$F30:$DA30=\"A\")*(Stabilo!$F$5:$DA$5='Résultats élèves'!$L$2))>0,\"ABSENT\",\"PRESENT\"))","v":""},{"$f":"IF(W24=\"\",\"\",IF(SUMPRODUCT((Stabilo!$F30:$DA30=\"A\")*(Stabilo!$F$5:$DA$5='Résultats élèves'!$M$2))>0,\"ABSENT\",\"PRESENT\"))","v":""},"",{"$f":"IF(X25=\"PRESENT\",IF(N25=\"PRESENT\",SUMPRODUCT((Stabilo!$F30:$DA30=1)*(Stabilo!$F$5:$DA$5='Résultats élèves'!$D$2)),\"A\"),\"A\")","v":"A"},{"$f":"IF(X25=\"PRESENT\",IF(O25=\"PRESENT\",SUMPRODUCT((Stabilo!$F30:$DA30=1)*(Stabilo!$F$5:$DA$5='Résultats élèves'!$E$2)),\"A\"),\"A\")","v":"A"},{"$f":"IF(X25=\"PRESENT\",IF(P25=\"PRESENT\",SUMPRODUCT((Stabilo!$F30:$DA30=1)*(Stabilo!$F$5:$DA$5='Résultats élèves'!$F$2)),\"A\"),\"A\")","v":"A"},{"$f":"IF(X25=\"PRESENT\",IF(Q25=\"PRESENT\",SUMPRODUCT((Stabilo!$F30:$DA30=1)*(Stabilo!$F$5:$DA$5='Résultats élèves'!$G$2)),\"A\"),\"A\")","v":"A"},{"$f":"IF(X25=\"PRESENT\",IF(R25=\"PRESENT\",SUMPRODUCT((Stabilo!$F30:$DA30=1)*(Stabilo!$F$5:$DA$5='Résultats élèves'!$H$2)),\"A\"),\"A\")","v":"A"},{"$f":"IF(X25=\"PRESENT\",IF(S25=\"PRESENT\",SUMPRODUCT((Stabilo!$F30:$DA30=1)*(Stabilo!$F$5:$DA$5='Résultats élèves'!$I$2)),\"A\"),\"A\")","v":"A"},{"$f":"IF(X25=\"PRESENT\",IF(T25=\"PRESENT\",SUMPRODUCT((Stabilo!$F30:$DA30=1)*(Stabilo!$F$5:$DA$5='Résultats élèves'!$J$2)),\"A\"),\"A\")","v":"A"},{"$f":"IF(X25=\"PRESENT\",IF(U25=\"PRESENT\",SUMPRODUCT((Stabilo!$F30:$DA30=1)*(Stabilo!$F$5:$DA$5='Résultats élèves'!$K$2)),\"A\"),\"A\")","v":"A"},{"$f":"IF(X25=\"PRESENT\",IF(V25=\"PRESENT\",SUMPRODUCT((Stabilo!$F30:$DA30=1)*(Stabilo!$F$5:$DA$5='Résultats élèves'!$L$2)),\"A\"),\"A\")","v":"A"},{"$f":"IF(X25=\"PRESENT\",IF(W25=\"PRESENT\",SUMPRODUCT((Stabilo!$F30:$DA30=1)*(Stabilo!$F$5:$DA$5='Résultats élèves'!$M$2)),\"A\"),\"A\")","v":"A"},{"$f":"SUMPRODUCT((Stabilo!$F$5:$DA$5=1)*(Stabilo!F30:DA30<>\"\"))","v":0},{"$f":"SUMPRODUCT((Stabilo!$F$5:$DA$5=2)*(Stabilo!F30:DA30<>\"\"))","v":0},{"$f":"SUMPRODUCT((Stabilo!$F$5:$DA$5=3)*(Stabilo!F30:DA30<>\"\"))","v":0},{"$f":"SUMPRODUCT((Stabilo!$F$5:$DA$5=4)*(Stabilo!F30:DA30<>\"\"))","v":0},{"$f":"SUMPRODUCT((Stabilo!$F$5:$DA$5=5)*(Stabilo!F30:DA30<>\"\"))","v":0},{"$f":"SUMPRODUCT((Stabilo!$F$5:$DA$5=6)*(Stabilo!F30:DA30<>\"\"))","v":0},{"$f":"SUMPRODUCT((Stabilo!$F$5:$DA$5=7)*(Stabilo!F30:DA30<>\"\"))","v":0},{"$f":"SUMPRODUCT((Stabilo!$F$5:$DA$5=8)*(Stabilo!F30:DA30<>\"\"))","v":0},{"$f":"SUMPRODUCT((Stabilo!$F$5:$DA$5=9)*(Stabilo!F30:DA30<>\"\"))","v":0},{"$f":"SUMPRODUCT((Stabilo!$F$5:$DA$5=10)*(Stabilo!F30:DA30<>\"\"))","v":0}]
[null,23,{"$f":"IF(Accueil!F35=\"\",\"\",Accueil!F35)","v":""},"","","","","","","","","","",{"$f":"IF(N25=\"\",\"\",IF(SUMPRODUCT((Stabilo!$F31:$DA31=\"A\")*(Stabilo!$F$5:$DA$5='Résultats élèves'!$D$2))>0,\"ABSENT\",\"PRESENT\"))","v":"PRESENT"},{"$f":"IF(O25=\"\",\"\",IF(SUMPRODUCT((Stabilo!$F31:$DA31=\"A\")*(Stabilo!$F$5:$DA$5='Résultats élèves'!$E$2))>0,\"ABSENT\",\"PRESENT\"))","v":"PRESENT"},{"$f":"IF(P25=\"\",\"\",IF(SUMPRODUCT((Stabilo!$F31:$DA31=\"A\")*(Stabilo!$F$5:$DA$5='Résultats élèves'!$F$2))>0,\"ABSENT\",\"PRESENT\"))","v":"PRESENT"},{"$f":"IF(Q25=\"\",\"\",IF(SUMPRODUCT((Stabilo!$F31:$DA31=\"A\")*(Stabilo!$F$5:$DA$5='Résultats élèves'!$G$2))>0,\"ABSENT\",\"PRESENT\"))","v":"PRESENT"},{"$f":"IF(R25=\"\",\"\",IF(SUMPRODUCT((Stabilo!$F31:$DA31=\"A\")*(Stabilo!$F$5:$DA$5='Résultats élèves'!$H$2))>0,\"ABSENT\",\"PRESENT\"))","v":""},{"$f":"IF(S25=\"\",\"\",IF(SUMPRODUCT((Stabilo!$F31:$DA31=\"A\")*(Stabilo!$F$5:$DA$5='Résultats élèves'!$I$2))>0,\"ABSENT\",\"PRESENT\"))","v":""},{"$f":"IF(T25=\"\",\"\",IF(SUMPRODUCT((Stabilo!$F31:$DA31=\"A\")*(Stabilo!$F$5:$DA$5='Résultats élèves'!$J$2))>0,\"ABSENT\",\"PRESENT\"))","v":""},{"$f":"IF(U25=\"\",\"\",IF(SUMPRODUCT((Stabilo!$F31:$DA31=\"A\")*(Stabilo!$F$5:$DA$5='Résultats élèves'!$K$2))>0,\"ABSENT\",\"PRESENT\"))","v":""},{"$f":"IF(V25=\"\",\"\",IF(SUMPRODUCT((Stabilo!$F31:$DA31=\"A\")*(Stabilo!$F$5:$DA$5='Résultats élèves'!$L$2))>0,\"ABSENT\",\"PRESENT\"))","v":""},{"$f":"IF(W25=\"\",\"\",IF(SUMPRODUCT((Stabilo!$F31:$DA31=\"A\")*(Stabilo!$F$5:$DA$5='Résultats élèves'!$M$2))>0,\"ABSENT\",\"PRESENT\"))","v":""},"",{"$f":"IF(X26=\"PRESENT\",IF(N26=\"PRESENT\",SUMPRODUCT((Stabilo!$F31:$DA31=1)*(Stabilo!$F$5:$DA$5='Résultats élèves'!$D$2)),\"A\"),\"A\")","v":"A"},{"$f":"IF(X26=\"PRESENT\",IF(O26=\"PRESENT\",SUMPRODUCT((Stabilo!$F31:$DA31=1)*(Stabilo!$F$5:$DA$5='Résultats élèves'!$E$2)),\"A\"),\"A\")","v":"A"},{"$f":"IF(X26=\"PRESENT\",IF(P26=\"PRESENT\",SUMPRODUCT((Stabilo!$F31:$DA31=1)*(Stabilo!$F$5:$DA$5='Résultats élèves'!$F$2)),\"A\"),\"A\")","v":"A"},{"$f":"IF(X26=\"PRESENT\",IF(Q26=\"PRESENT\",SUMPRODUCT((Stabilo!$F31:$DA31=1)*(Stabilo!$F$5:$DA$5='Résultats élèves'!$G$2)),\"A\"),\"A\")","v":"A"},{"$f":"IF(X26=\"PRESENT\",IF(R26=\"PRESENT\",SUMPRODUCT((Stabilo!$F31:$DA31=1)*(Stabilo!$F$5:$DA$5='Résultats élèves'!$H$2)),\"A\"),\"A\")","v":"A"},{"$f":"IF(X26=\"PRESENT\",IF(S26=\"PRESENT\",SUMPRODUCT((Stabilo!$F31:$DA31=1)*(Stabilo!$F$5:$DA$5='Résultats élèves'!$I$2)),\"A\"),\"A\")","v":"A"},{"$f":"IF(X26=\"PRESENT\",IF(T26=\"PRESENT\",SUMPRODUCT((Stabilo!$F31:$DA31=1)*(Stabilo!$F$5:$DA$5='Résultats élèves'!$J$2)),\"A\"),\"A\")","v":"A"},{"$f":"IF(X26=\"PRESENT\",IF(U26=\"PRESENT\",SUMPRODUCT((Stabilo!$F31:$DA31=1)*(Stabilo!$F$5:$DA$5='Résultats élèves'!$K$2)),\"A\"),\"A\")","v":"A"},{"$f":"IF(X26=\"PRESENT\",IF(V26=\"PRESENT\",SUMPRODUCT((Stabilo!$F31:$DA31=1)*(Stabilo!$F$5:$DA$5='Résultats élèves'!$L$2)),\"A\"),\"A\")","v":"A"},{"$f":"IF(X26=\"PRESENT\",IF(W26=\"PRESENT\",SUMPRODUCT((Stabilo!$F31:$DA31=1)*(Stabilo!$F$5:$DA$5='Résultats élèves'!$M$2)),\"A\"),\"A\")","v":"A"},{"$f":"SUMPRODUCT((Stabilo!$F$5:$DA$5=1)*(Stabilo!F31:DA31<>\"\"))","v":0},{"$f":"SUMPRODUCT((Stabilo!$F$5:$DA$5=2)*(Stabilo!F31:DA31<>\"\"))","v":0},{"$f":"SUMPRODUCT((Stabilo!$F$5:$DA$5=3)*(Stabilo!F31:DA31<>\"\"))","v":0},{"$f":"SUMPRODUCT((Stabilo!$F$5:$DA$5=4)*(Stabilo!F31:DA31<>\"\"))","v":0},{"$f":"SUMPRODUCT((Stabilo!$F$5:$DA$5=5)*(Stabilo!F31:DA31<>\"\"))","v":0},{"$f":"SUMPRODUCT((Stabilo!$F$5:$DA$5=6)*(Stabilo!F31:DA31<>\"\"))","v":0},{"$f":"SUMPRODUCT((Stabilo!$F$5:$DA$5=7)*(Stabilo!F31:DA31<>\"\"))","v":0},{"$f":"SUMPRODUCT((Stabilo!$F$5:$DA$5=8)*(Stabilo!F31:DA31<>\"\"))","v":0},{"$f":"SUMPRODUCT((Stabilo!$F$5:$DA$5=9)*(Stabilo!F31:DA31<>\"\"))","v":0},{"$f":"SUMPRODUCT((Stabilo!$F$5:$DA$5=10)*(Stabilo!F31:DA31<>\"\"))","v":0}]
[null,24,{"$f":"IF(Accueil!F36=\"\",\"\",Accueil!F36)","v":""},"","","","","","","","","","",{"$f":"IF(N26=\"\",\"\",IF(SUMPRODUCT((Stabilo!$F32:$DA32=\"A\")*(Stabilo!$F$5:$DA$5='Résultats élèves'!$D$2))>0,\"ABSENT\",\"PRESENT\"))","v":"PRESENT"},{"$f":"IF(O26=\"\",\"\",IF(SUMPRODUCT((Stabilo!$F32:$DA32=\"A\")*(Stabilo!$F$5:$DA$5='Résultats élèves'!$E$2))>0,\"ABSENT\",\"PRESENT\"))","v":"PRESENT"},{"$f":"IF(P26=\"\",\"\",IF(SUMPRODUCT((Stabilo!$F32:$DA32=\"A\")*(Stabilo!$F$5:$DA$5='Résultats élèves'!$F$2))>0,\"ABSENT\",\"PRESENT\"))","v":"PRESENT"},{"$f":"IF(Q26=\"\",\"\",IF(SUMPRODUCT((Stabilo!$F32:$DA32=\"A\")*(Stabilo!$F$5:$DA$5='Résultats élèves'!$G$2))>0,\"ABSENT\",\"PRESENT\"))","v":"PRESENT"},{"$f":"IF(R26=\"\",\"\",IF(SUMPRODUCT((Stabilo!$F32:$DA32=\"A\")*(Stabilo!$F$5:$DA$5='Résultats élèves'!$H$2))>0,\"ABSENT\",\"PRESENT\"))","v":""},{"$f":"IF(S26=\"\",\"\",IF(SUMPRODUCT((Stabilo!$F32:$DA32=\"A\")*(Stabilo!$F$5:$DA$5='Résultats élèves'!$I$2))>0,\"ABSENT\",\"PRESENT\"))","v":""},{"$f":"IF(T26=\"\",\"\",IF(SUMPRODUCT((Stabilo!$F32:$DA32=\"A\")*(Stabilo!$F$5:$DA$5='Résultats élèves'!$J$2))>0,\"ABSENT\",\"PRESENT\"))","v":""},{"$f":"IF(U26=\"\",\"\",IF(SUMPRODUCT((Stabilo!$F32:$DA32=\"A\")*(Stabilo!$F$5:$DA$5='Résultats élèves'!$K$2))>0,\"ABSENT\",\"PRESENT\"))","v":""},{"$f":"IF(V26=\"\",\"\",IF(SUMPRODUCT((Stabilo!$F32:$DA32=\"A\")*(Stabilo!$F$5:$DA$5='Résultats élèves'!$L$2))>0,\"ABSENT\",\"PRESENT\"))","v":""},{"$f":"IF(W26=\"\",\"\",IF(SUMPRODUCT((Stabilo!$F32:$DA32=\"A\")*(Stabilo!$F$5:$DA$5='Résultats élèves'!$M$2))>0,\"ABSENT\",\"PRESENT\"))","v":""},"",{"$f":"IF(X27=\"PRESENT\",IF(N27=\"PRESENT\",SUMPRODUCT((Stabilo!$F32:$DA32=1)*(Stabilo!$F$5:$DA$5='Résultats élèves'!$D$2)),\"A\"),\"A\")","v":"A"},{"$f":"IF(X27=\"PRESENT\",IF(O27=\"PRESENT\",SUMPRODUCT((Stabilo!$F32:$DA32=1)*(Stabilo!$F$5:$DA$5='Résultats élèves'!$E$2)),\"A\"),\"A\")","v":"A"},{"$f":"IF(X27=\"PRESENT\",IF(P27=\"PRESENT\",SUMPRODUCT((Stabilo!$F32:$DA32=1)*(Stabilo!$F$5:$DA$5='Résultats élèves'!$F$2)),\"A\"),\"A\")","v":"A"},{"$f":"IF(X27=\"PRESENT\",IF(Q27=\"PRESENT\",SUMPRODUCT((Stabilo!$F32:$DA32=1)*(Stabilo!$F$5:$DA$5='Résultats élèves'!$G$2)),\"A\"),\"A\")","v":"A"},{"$f":"IF(X27=\"PRESENT\",IF(R27=\"PRESENT\",SUMPRODUCT((Stabilo!$F32:$DA32=1)*(Stabilo!$F$5:$DA$5='Résultats élèves'!$H$2)),\"A\"),\"A\")","v":"A"},{"$f":"IF(X27=\"PRESENT\",IF(S27=\"PRESENT\",SUMPRODUCT((Stabilo!$F32:$DA32=1)*(Stabilo!$F$5:$DA$5='Résultats élèves'!$I$2)),\"A\"),\"A\")","v":"A"},{"$f":"IF(X27=\"PRESENT\",IF(T27=\"PRESENT\",SUMPRODUCT((Stabilo!$F32:$DA32=1)*(Stabilo!$F$5:$DA$5='Résultats élèves'!$J$2)),\"A\"),\"A\")","v":"A"},{"$f":"IF(X27=\"PRESENT\",IF(U27=\"PRESENT\",SUMPRODUCT((Stabilo!$F32:$DA32=1)*(Stabilo!$F$5:$DA$5='Résultats élèves'!$K$2)),\"A\"),\"A\")","v":"A"},{"$f":"IF(X27=\"PRESENT\",IF(V27=\"PRESENT\",SUMPRODUCT((Stabilo!$F32:$DA32=1)*(Stabilo!$F$5:$DA$5='Résultats élèves'!$L$2)),\"A\"),\"A\")","v":"A"},{"$f":"IF(X27=\"PRESENT\",IF(W27=\"PRESENT\",SUMPRODUCT((Stabilo!$F32:$DA32=1)*(Stabilo!$F$5:$DA$5='Résultats élèves'!$M$2)),\"A\"),\"A\")","v":"A"},{"$f":"SUMPRODUCT((Stabilo!$F$5:$DA$5=1)*(Stabilo!F32:DA32<>\"\"))","v":0},{"$f":"SUMPRODUCT((Stabilo!$F$5:$DA$5=2)*(Stabilo!F32:DA32<>\"\"))","v":0},{"$f":"SUMPRODUCT((Stabilo!$F$5:$DA$5=3)*(Stabilo!F32:DA32<>\"\"))","v":0},{"$f":"SUMPRODUCT((Stabilo!$F$5:$DA$5=4)*(Stabilo!F32:DA32<>\"\"))","v":0},{"$f":"SUMPRODUCT((Stabilo!$F$5:$DA$5=5)*(Stabilo!F32:DA32<>\"\"))","v":0},{"$f":"SUMPRODUCT((Stabilo!$F$5:$DA$5=6)*(Stabilo!F32:DA32<>\"\"))","v":0},{"$f":"SUMPRODUCT((Stabilo!$F$5:$DA$5=7)*(Stabilo!F32:DA32<>\"\"))","v":0},{"$f":"SUMPRODUCT((Stabilo!$F$5:$DA$5=8)*(Stabilo!F32:DA32<>\"\"))","v":0},{"$f":"SUMPRODUCT((Stabilo!$F$5:$DA$5=9)*(Stabilo!F32:DA32<>\"\"))","v":0},{"$f":"SUMPRODUCT((Stabilo!$F$5:$DA$5=10)*(Stabilo!F32:DA32<>\"\"))","v":0}]
[null,25,{"$f":"IF(Accueil!F37=\"\",\"\",Accueil!F37)","v":""},"","","","","","","","","","",{"$f":"IF(N27=\"\",\"\",IF(SUMPRODUCT((Stabilo!$F33:$DA33=\"A\")*(Stabilo!$F$5:$DA$5='Résultats élèves'!$D$2))>0,\"ABSENT\",\"PRESENT\"))","v":"PRESENT"},{"$f":"IF(O27=\"\",\"\",IF(SUMPRODUCT((Stabilo!$F33:$DA33=\"A\")*(Stabilo!$F$5:$DA$5='Résultats élèves'!$E$2))>0,\"ABSENT\",\"PRESENT\"))","v":"PRESENT"},{"$f":"IF(P27=\"\",\"\",IF(SUMPRODUCT((Stabilo!$F33:$DA33=\"A\")*(Stabilo!$F$5:$DA$5='Résultats élèves'!$F$2))>0,\"ABSENT\",\"PRESENT\"))","v":"PRESENT"},{"$f":"IF(Q27=\"\",\"\",IF(SUMPRODUCT((Stabilo!$F33:$DA33=\"A\")*(Stabilo!$F$5:$DA$5='Résultats élèves'!$G$2))>0,\"ABSENT\",\"PRESENT\"))","v":"PRESENT"},{"$f":"IF(R27=\"\",\"\",IF(SUMPRODUCT((Stabilo!$F33:$DA33=\"A\")*(Stabilo!$F$5:$DA$5='Résultats élèves'!$H$2))>0,\"ABSENT\",\"PRESENT\"))","v":""},{"$f":"IF(S27=\"\",\"\",IF(SUMPRODUCT((Stabilo!$F33:$DA33=\"A\")*(Stabilo!$F$5:$DA$5='Résultats élèves'!$I$2))>0,\"ABSENT\",\"PRESENT\"))","v":""},{"$f":"IF(T27=\"\",\"\",IF(SUMPRODUCT((Stabilo!$F33:$DA33=\"A\")*(Stabilo!$F$5:$DA$5='Résultats élèves'!$J$2))>0,\"ABSENT\",\"PRESENT\"))","v":""},{"$f":"IF(U27=\"\",\"\",IF(SUMPRODUCT((Stabilo!$F33:$DA33=\"A\")*(Stabilo!$F$5:$DA$5='Résultats élèves'!$K$2))>0,\"ABSENT\",\"PRESENT\"))","v":""},{"$f":"IF(V27=\"\",\"\",IF(SUMPRODUCT((Stabilo!$F33:$DA33=\"A\")*(Stabilo!$F$5:$DA$5='Résultats élèves'!$L$2))>0,\"ABSENT\",\"PRESENT\"))","v":""},{"$f":"IF(W27=\"\",\"\",IF(SUMPRODUCT((Stabilo!$F33:$DA33=\"A\")*(Stabilo!$F$5:$DA$5='Résultats élèves'!$M$2))>0,\"ABSENT\",\"PRESENT\"))","v":""},"",{"$f":"IF(X28=\"PRESENT\",IF(N28=\"PRESENT\",SUMPRODUCT((Stabilo!$F33:$DA33=1)*(Stabilo!$F$5:$DA$5='Résultats élèves'!$D$2)),\"A\"),\"A\")","v":"A"},{"$f":"IF(X28=\"PRESENT\",IF(O28=\"PRESENT\",SUMPRODUCT((Stabilo!$F33:$DA33=1)*(Stabilo!$F$5:$DA$5='Résultats élèves'!$E$2)),\"A\"),\"A\")","v":"A"},{"$f":"IF(X28=\"PRESENT\",IF(P28=\"PRESENT\",SUMPRODUCT((Stabilo!$F33:$DA33=1)*(Stabilo!$F$5:$DA$5='Résultats élèves'!$F$2)),\"A\"),\"A\")","v":"A"},{"$f":"IF(X28=\"PRESENT\",IF(Q28=\"PRESENT\",SUMPRODUCT((Stabilo!$F33:$DA33=1)*(Stabilo!$F$5:$DA$5='Résultats élèves'!$G$2)),\"A\"),\"A\")","v":"A"},{"$f":"IF(X28=\"PRESENT\",IF(R28=\"PRESENT\",SUMPRODUCT((Stabilo!$F33:$DA33=1)*(Stabilo!$F$5:$DA$5='Résultats élèves'!$H$2)),\"A\"),\"A\")","v":"A"},{"$f":"IF(X28=\"PRESENT\",IF(S28=\"PRESENT\",SUMPRODUCT((Stabilo!$F33:$DA33=1)*(Stabilo!$F$5:$DA$5='Résultats élèves'!$I$2)),\"A\"),\"A\")","v":"A"},{"$f":"IF(X28=\"PRESENT\",IF(T28=\"PRESENT\",SUMPRODUCT((Stabilo!$F33:$DA33=1)*(Stabilo!$F$5:$DA$5='Résultats élèves'!$J$2)),\"A\"),\"A\")","v":"A"},{"$f":"IF(X28=\"PRESENT\",IF(U28=\"PRESENT\",SUMPRODUCT((Stabilo!$F33:$DA33=1)*(Stabilo!$F$5:$DA$5='Résultats élèves'!$K$2)),\"A\"),\"A\")","v":"A"},{"$f":"IF(X28=\"PRESENT\",IF(V28=\"PRESENT\",SUMPRODUCT((Stabilo!$F33:$DA33=1)*(Stabilo!$F$5:$DA$5='Résultats élèves'!$L$2)),\"A\"),\"A\")","v":"A"},{"$f":"IF(X28=\"PRESENT\",IF(W28=\"PRESENT\",SUMPRODUCT((Stabilo!$F33:$DA33=1)*(Stabilo!$F$5:$DA$5='Résultats élèves'!$M$2)),\"A\"),\"A\")","v":"A"},{"$f":"SUMPRODUCT((Stabilo!$F$5:$DA$5=1)*(Stabilo!F33:DA33<>\"\"))","v":0},{"$f":"SUMPRODUCT((Stabilo!$F$5:$DA$5=2)*(Stabilo!F33:DA33<>\"\"))","v":0},{"$f":"SUMPRODUCT((Stabilo!$F$5:$DA$5=3)*(Stabilo!F33:DA33<>\"\"))","v":0},{"$f":"SUMPRODUCT((Stabilo!$F$5:$DA$5=4)*(Stabilo!F33:DA33<>\"\"))","v":0},{"$f":"SUMPRODUCT((Stabilo!$F$5:$DA$5=5)*(Stabilo!F33:DA33<>\"\"))","v":0},{"$f":"SUMPRODUCT((Stabilo!$F$5:$DA$5=6)*(Stabilo!F33:DA33<>\"\"))","v":0},{"$f":"SUMPRODUCT((Stabilo!$F$5:$DA$5=7)*(Stabilo!F33:DA33<>\"\"))","v":0},{"$f":"SUMPRODUCT((Stabilo!$F$5:$DA$5=8)*(Stabilo!F33:DA33<>\"\"))","v":0},{"$f":"SUMPRODUCT((Stabilo!$F$5:$DA$5=9)*(Stabilo!F33:DA33<>\"\"))","v":0},{"$f":"SUMPRODUCT((Stabilo!$F$5:$DA$5=10)*(Stabilo!F33:DA33<>\"\"))","v":0}]
[null,26,{"$f":"IF(Accueil!F38=\"\",\"\",Accueil!F38)","v":""},"","","","","","","","","","",{"$f":"IF(N28=\"\",\"\",IF(SUMPRODUCT((Stabilo!$F34:$DA34=\"A\")*(Stabilo!$F$5:$DA$5='Résultats élèves'!$D$2))>0,\"ABSENT\",\"PRESENT\"))","v":"PRESENT"},{"$f":"IF(O28=\"\",\"\",IF(SUMPRODUCT((Stabilo!$F34:$DA34=\"A\")*(Stabilo!$F$5:$DA$5='Résultats élèves'!$E$2))>0,\"ABSENT\",\"PRESENT\"))","v":"PRESENT"},{"$f":"IF(P28=\"\",\"\",IF(SUMPRODUCT((Stabilo!$F34:$DA34=\"A\")*(Stabilo!$F$5:$DA$5='Résultats élèves'!$F$2))>0,\"ABSENT\",\"PRESENT\"))","v":"PRESENT"},{"$f":"IF(Q28=\"\",\"\",IF(SUMPRODUCT((Stabilo!$F34:$DA34=\"A\")*(Stabilo!$F$5:$DA$5='Résultats élèves'!$G$2))>0,\"ABSENT\",\"PRESENT\"))","v":"PRESENT"},{"$f":"IF(R28=\"\",\"\",IF(SUMPRODUCT((Stabilo!$F34:$DA34=\"A\")*(Stabilo!$F$5:$DA$5='Résultats élèves'!$H$2))>0,\"ABSENT\",\"PRESENT\"))","v":""},{"$f":"IF(S28=\"\",\"\",IF(SUMPRODUCT((Stabilo!$F34:$DA34=\"A\")*(Stabilo!$F$5:$DA$5='Résultats élèves'!$I$2))>0,\"ABSENT\",\"PRESENT\"))","v":""},{"$f":"IF(T28=\"\",\"\",IF(SUMPRODUCT((Stabilo!$F34:$DA34=\"A\")*(Stabilo!$F$5:$DA$5='Résultats élèves'!$J$2))>0,\"ABSENT\",\"PRESENT\"))","v":""},{"$f":"IF(U28=\"\",\"\",IF(SUMPRODUCT((Stabilo!$F34:$DA34=\"A\")*(Stabilo!$F$5:$DA$5='Résultats élèves'!$K$2))>0,\"ABSENT\",\"PRESENT\"))","v":""},{"$f":"IF(V28=\"\",\"\",IF(SUMPRODUCT((Stabilo!$F34:$DA34=\"A\")*(Stabilo!$F$5:$DA$5='Résultats élèves'!$L$2))>0,\"ABSENT\",\"PRESENT\"))","v":""},{"$f":"IF(W28=\"\",\"\",IF(SUMPRODUCT((Stabilo!$F34:$DA34=\"A\")*(Stabilo!$F$5:$DA$5='Résultats élèves'!$M$2))>0,\"ABSENT\",\"PRESENT\"))","v":""},"",{"$f":"IF(X29=\"PRESENT\",IF(N29=\"PRESENT\",SUMPRODUCT((Stabilo!$F34:$DA34=1)*(Stabilo!$F$5:$DA$5='Résultats élèves'!$D$2)),\"A\"),\"A\")","v":"A"},{"$f":"IF(X29=\"PRESENT\",IF(O29=\"PRESENT\",SUMPRODUCT((Stabilo!$F34:$DA34=1)*(Stabilo!$F$5:$DA$5='Résultats élèves'!$E$2)),\"A\"),\"A\")","v":"A"},{"$f":"IF(X29=\"PRESENT\",IF(P29=\"PRESENT\",SUMPRODUCT((Stabilo!$F34:$DA34=1)*(Stabilo!$F$5:$DA$5='Résultats élèves'!$F$2)),\"A\"),\"A\")","v":"A"},{"$f":"IF(X29=\"PRESENT\",IF(Q29=\"PRESENT\",SUMPRODUCT((Stabilo!$F34:$DA34=1)*(Stabilo!$F$5:$DA$5='Résultats élèves'!$G$2)),\"A\"),\"A\")","v":"A"},{"$f":"IF(X29=\"PRESENT\",IF(R29=\"PRESENT\",SUMPRODUCT((Stabilo!$F34:$DA34=1)*(Stabilo!$F$5:$DA$5='Résultats élèves'!$H$2)),\"A\"),\"A\")","v":"A"},{"$f":"IF(X29=\"PRESENT\",IF(S29=\"PRESENT\",SUMPRODUCT((Stabilo!$F34:$DA34=1)*(Stabilo!$F$5:$DA$5='Résultats élèves'!$I$2)),\"A\"),\"A\")","v":"A"},{"$f":"IF(X29=\"PRESENT\",IF(T29=\"PRESENT\",SUMPRODUCT((Stabilo!$F34:$DA34=1)*(Stabilo!$F$5:$DA$5='Résultats élèves'!$J$2)),\"A\"),\"A\")","v":"A"},{"$f":"IF(X29=\"PRESENT\",IF(U29=\"PRESENT\",SUMPRODUCT((Stabilo!$F34:$DA34=1)*(Stabilo!$F$5:$DA$5='Résultats élèves'!$K$2)),\"A\"),\"A\")","v":"A"},{"$f":"IF(X29=\"PRESENT\",IF(V29=\"PRESENT\",SUMPRODUCT((Stabilo!$F34:$DA34=1)*(Stabilo!$F$5:$DA$5='Résultats élèves'!$L$2)),\"A\"),\"A\")","v":"A"},{"$f":"IF(X29=\"PRESENT\",IF(W29=\"PRESENT\",SUMPRODUCT((Stabilo!$F34:$DA34=1)*(Stabilo!$F$5:$DA$5='Résultats élèves'!$M$2)),\"A\"),\"A\")","v":"A"},{"$f":"SUMPRODUCT((Stabilo!$F$5:$DA$5=1)*(Stabilo!F34:DA34<>\"\"))","v":0},{"$f":"SUMPRODUCT((Stabilo!$F$5:$DA$5=2)*(Stabilo!F34:DA34<>\"\"))","v":0},{"$f":"SUMPRODUCT((Stabilo!$F$5:$DA$5=3)*(Stabilo!F34:DA34<>\"\"))","v":0},{"$f":"SUMPRODUCT((Stabilo!$F$5:$DA$5=4)*(Stabilo!F34:DA34<>\"\"))","v":0},{"$f":"SUMPRODUCT((Stabilo!$F$5:$DA$5=5)*(Stabilo!F34:DA34<>\"\"))","v":0},{"$f":"SUMPRODUCT((Stabilo!$F$5:$DA$5=6)*(Stabilo!F34:DA34<>\"\"))","v":0},{"$f":"SUMPRODUCT((Stabilo!$F$5:$DA$5=7)*(Stabilo!F34:DA34<>\"\"))","v":0},{"$f":"SUMPRODUCT((Stabilo!$F$5:$DA$5=8)*(Stabilo!F34:DA34<>\"\"))","v":0},{"$f":"SUMPRODUCT((Stabilo!$F$5:$DA$5=9)*(Stabilo!F34:DA34<>\"\"))","v":0},{"$f":"SUMPRODUCT((Stabilo!$F$5:$DA$5=10)*(Stabilo!F34:DA34<>\"\"))","v":0}]
[null,27,{"$f":"IF(Accueil!F39=\"\",\"\",Accueil!F39)","v":""},"","","","","","","","","","",{"$f":"IF(N29=\"\",\"\",IF(SUMPRODUCT((Stabilo!$F35:$DA35=\"A\")*(Stabilo!$F$5:$DA$5='Résultats élèves'!$D$2))>0,\"ABSENT\",\"PRESENT\"))","v":"PRESENT"},{"$f":"IF(O29=\"\",\"\",IF(SUMPRODUCT((Stabilo!$F35:$DA35=\"A\")*(Stabilo!$F$5:$DA$5='Résultats élèves'!$E$2))>0,\"ABSENT\",\"PRESENT\"))","v":"PRESENT"},{"$f":"IF(P29=\"\",\"\",IF(SUMPRODUCT((Stabilo!$F35:$DA35=\"A\")*(Stabilo!$F$5:$DA$5='Résultats élèves'!$F$2))>0,\"ABSENT\",\"PRESENT\"))","v":"PRESENT"},{"$f":"IF(Q29=\"\",\"\",IF(SUMPRODUCT((Stabilo!$F35:$DA35=\"A\")*(Stabilo!$F$5:$DA$5='Résultats élèves'!$G$2))>0,\"ABSENT\",\"PRESENT\"))","v":"PRESENT"},{"$f":"IF(R29=\"\",\"\",IF(SUMPRODUCT((Stabilo!$F35:$DA35=\"A\")*(Stabilo!$F$5:$DA$5='Résultats élèves'!$H$2))>0,\"ABSENT\",\"PRESENT\"))","v":""},{"$f":"IF(S29=\"\",\"\",IF(SUMPRODUCT((Stabilo!$F35:$DA35=\"A\")*(Stabilo!$F$5:$DA$5='Résultats élèves'!$I$2))>0,\"ABSENT\",\"PRESENT\"))","v":""},{"$f":"IF(T29=\"\",\"\",IF(SUMPRODUCT((Stabilo!$F35:$DA35=\"A\")*(Stabilo!$F$5:$DA$5='Résultats élèves'!$J$2))>0,\"ABSENT\",\"PRESENT\"))","v":""},{"$f":"IF(U29=\"\",\"\",IF(SUMPRODUCT((Stabilo!$F35:$DA35=\"A\")*(Stabilo!$F$5:$DA$5='Résultats élèves'!$K$2))>0,\"ABSENT\",\"PRESENT\"))","v":""},{"$f":"IF(V29=\"\",\"\",IF(SUMPRODUCT((Stabilo!$F35:$DA35=\"A\")*(Stabilo!$F$5:$DA$5='Résultats élèves'!$L$2))>0,\"ABSENT\",\"PRESENT\"))","v":""},{"$f":"IF(W29=\"\",\"\",IF(SUMPRODUCT((Stabilo!$F35:$DA35=\"A\")*(Stabilo!$F$5:$DA$5='Résultats élèves'!$M$2))>0,\"ABSENT\",\"PRESENT\"))","v":""},"",{"$f":"IF(X30=\"PRESENT\",IF(N30=\"PRESENT\",SUMPRODUCT((Stabilo!$F35:$DA35=1)*(Stabilo!$F$5:$DA$5='Résultats élèves'!$D$2)),\"A\"),\"A\")","v":"A"},{"$f":"IF(X30=\"PRESENT\",IF(O30=\"PRESENT\",SUMPRODUCT((Stabilo!$F35:$DA35=1)*(Stabilo!$F$5:$DA$5='Résultats élèves'!$E$2)),\"A\"),\"A\")","v":"A"},{"$f":"IF(X30=\"PRESENT\",IF(P30=\"PRESENT\",SUMPRODUCT((Stabilo!$F35:$DA35=1)*(Stabilo!$F$5:$DA$5='Résultats élèves'!$F$2)),\"A\"),\"A\")","v":"A"},{"$f":"IF(X30=\"PRESENT\",IF(Q30=\"PRESENT\",SUMPRODUCT((Stabilo!$F35:$DA35=1)*(Stabilo!$F$5:$DA$5='Résultats élèves'!$G$2)),\"A\"),\"A\")","v":"A"},{"$f":"IF(X30=\"PRESENT\",IF(R30=\"PRESENT\",SUMPRODUCT((Stabilo!$F35:$DA35=1)*(Stabilo!$F$5:$DA$5='Résultats élèves'!$H$2)),\"A\"),\"A\")","v":"A"},{"$f":"IF(X30=\"PRESENT\",IF(S30=\"PRESENT\",SUMPRODUCT((Stabilo!$F35:$DA35=1)*(Stabilo!$F$5:$DA$5='Résultats élèves'!$I$2)),\"A\"),\"A\")","v":"A"},{"$f":"IF(X30=\"PRESENT\",IF(T30=\"PRESENT\",SUMPRODUCT((Stabilo!$F35:$DA35=1)*(Stabilo!$F$5:$DA$5='Résultats élèves'!$J$2)),\"A\"),\"A\")","v":"A"},{"$f":"IF(X30=\"PRESENT\",IF(U30=\"PRESENT\",SUMPRODUCT((Stabilo!$F35:$DA35=1)*(Stabilo!$F$5:$DA$5='Résultats élèves'!$K$2)),\"A\"),\"A\")","v":"A"},{"$f":"IF(X30=\"PRESENT\",IF(V30=\"PRESENT\",SUMPRODUCT((Stabilo!$F35:$DA35=1)*(Stabilo!$F$5:$DA$5='Résultats élèves'!$L$2)),\"A\"),\"A\")","v":"A"},{"$f":"IF(X30=\"PRESENT\",IF(W30=\"PRESENT\",SUMPRODUCT((Stabilo!$F35:$DA35=1)*(Stabilo!$F$5:$DA$5='Résultats élèves'!$M$2)),\"A\"),\"A\")","v":"A"},{"$f":"SUMPRODUCT((Stabilo!$F$5:$DA$5=1)*(Stabilo!F35:DA35<>\"\"))","v":0},{"$f":"SUMPRODUCT((Stabilo!$F$5:$DA$5=2)*(Stabilo!F35:DA35<>\"\"))","v":0},{"$f":"SUMPRODUCT((Stabilo!$F$5:$DA$5=3)*(Stabilo!F35:DA35<>\"\"))","v":0},{"$f":"SUMPRODUCT((Stabilo!$F$5:$DA$5=4)*(Stabilo!F35:DA35<>\"\"))","v":0},{"$f":"SUMPRODUCT((Stabilo!$F$5:$DA$5=5)*(Stabilo!F35:DA35<>\"\"))","v":0},{"$f":"SUMPRODUCT((Stabilo!$F$5:$DA$5=6)*(Stabilo!F35:DA35<>\"\"))","v":0},{"$f":"SUMPRODUCT((Stabilo!$F$5:$DA$5=7)*(Stabilo!F35:DA35<>\"\"))","v":0},{"$f":"SUMPRODUCT((Stabilo!$F$5:$DA$5=8)*(Stabilo!F35:DA35<>\"\"))","v":0},{"$f":"SUMPRODUCT((Stabilo!$F$5:$DA$5=9)*(Stabilo!F35:DA35<>\"\"))","v":0},{"$f":"SUMPRODUCT((Stabilo!$F$5:$DA$5=10)*(Stabilo!F35:DA35<>\"\"))","v":0}]
[null,28,{"$f":"IF(Accueil!F40=\"\",\"\",Accueil!F40)","v":""},"","","","","","","","","","",{"$f":"IF(N30=\"\",\"\",IF(SUMPRODUCT((Stabilo!$F36:$DA36=\"A\")*(Stabilo!$F$5:$DA$5='Résultats élèves'!$D$2))>0,\"ABSENT\",\"PRESENT\"))","v":"PRESENT"},{"$f":"IF(O30=\"\",\"\",IF(SUMPRODUCT((Stabilo!$F36:$DA36=\"A\")*(Stabilo!$F$5:$DA$5='Résultats élèves'!$E$2))>0,\"ABSENT\",\"PRESENT\"))","v":"PRESENT"},{"$f":"IF(P30=\"\",\"\",IF(SUMPRODUCT((Stabilo!$F36:$DA36=\"A\")*(Stabilo!$F$5:$DA$5='Résultats élèves'!$F$2))>0,\"ABSENT\",\"PRESENT\"))","v":"PRESENT"},{"$f":"IF(Q30=\"\",\"\",IF(SUMPRODUCT((Stabilo!$F36:$DA36=\"A\")*(Stabilo!$F$5:$DA$5='Résultats élèves'!$G$2))>0,\"ABSENT\",\"PRESENT\"))","v":"PRESENT"},{"$f":"IF(R30=\"\",\"\",IF(SUMPRODUCT((Stabilo!$F36:$DA36=\"A\")*(Stabilo!$F$5:$DA$5='Résultats élèves'!$H$2))>0,\"ABSENT\",\"PRESENT\"))","v":""},{"$f":"IF(S30=\"\",\"\",IF(SUMPRODUCT((Stabilo!$F36:$DA36=\"A\")*(Stabilo!$F$5:$DA$5='Résultats élèves'!$I$2))>0,\"ABSENT\",\"PRESENT\"))","v":""},{"$f":"IF(T30=\"\",\"\",IF(SUMPRODUCT((Stabilo!$F36:$DA36=\"A\")*(Stabilo!$F$5:$DA$5='Résultats élèves'!$J$2))>0,\"ABSENT\",\"PRESENT\"))","v":""},{"$f":"IF(U30=\"\",\"\",IF(SUMPRODUCT((Stabilo!$F36:$DA36=\"A\")*(Stabilo!$F$5:$DA$5='Résultats élèves'!$K$2))>0,\"ABSENT\",\"PRESENT\"))","v":""},{"$f":"IF(V30=\"\",\"\",IF(SUMPRODUCT((Stabilo!$F36:$DA36=\"A\")*(Stabilo!$F$5:$DA$5='Résultats élèves'!$L$2))>0,\"ABSENT\",\"PRESENT\"))","v":""},{"$f":"IF(W30=\"\",\"\",IF(SUMPRODUCT((Stabilo!$F36:$DA36=\"A\")*(Stabilo!$F$5:$DA$5='Résultats élèves'!$M$2))>0,\"ABSENT\",\"PRESENT\"))","v":""},"",{"$f":"IF(X31=\"PRESENT\",IF(N31=\"PRESENT\",SUMPRODUCT((Stabilo!$F36:$DA36=1)*(Stabilo!$F$5:$DA$5='Résultats élèves'!$D$2)),\"A\"),\"A\")","v":"A"},{"$f":"IF(X31=\"PRESENT\",IF(O31=\"PRESENT\",SUMPRODUCT((Stabilo!$F36:$DA36=1)*(Stabilo!$F$5:$DA$5='Résultats élèves'!$E$2)),\"A\"),\"A\")","v":"A"},{"$f":"IF(X31=\"PRESENT\",IF(P31=\"PRESENT\",SUMPRODUCT((Stabilo!$F36:$DA36=1)*(Stabilo!$F$5:$DA$5='Résultats élèves'!$F$2)),\"A\"),\"A\")","v":"A"},{"$f":"IF(X31=\"PRESENT\",IF(Q31=\"PRESENT\",SUMPRODUCT((Stabilo!$F36:$DA36=1)*(Stabilo!$F$5:$DA$5='Résultats élèves'!$G$2)),\"A\"),\"A\")","v":"A"},{"$f":"IF(X31=\"PRESENT\",IF(R31=\"PRESENT\",SUMPRODUCT((Stabilo!$F36:$DA36=1)*(Stabilo!$F$5:$DA$5='Résultats élèves'!$H$2)),\"A\"),\"A\")","v":"A"},{"$f":"IF(X31=\"PRESENT\",IF(S31=\"PRESENT\",SUMPRODUCT((Stabilo!$F36:$DA36=1)*(Stabilo!$F$5:$DA$5='Résultats élèves'!$I$2)),\"A\"),\"A\")","v":"A"},{"$f":"IF(X31=\"PRESENT\",IF(T31=\"PRESENT\",SUMPRODUCT((Stabilo!$F36:$DA36=1)*(Stabilo!$F$5:$DA$5='Résultats élèves'!$J$2)),\"A\"),\"A\")","v":"A"},{"$f":"IF(X31=\"PRESENT\",IF(U31=\"PRESENT\",SUMPRODUCT((Stabilo!$F36:$DA36=1)*(Stabilo!$F$5:$DA$5='Résultats élèves'!$K$2)),\"A\"),\"A\")","v":"A"},{"$f":"IF(X31=\"PRESENT\",IF(V31=\"PRESENT\",SUMPRODUCT((Stabilo!$F36:$DA36=1)*(Stabilo!$F$5:$DA$5='Résultats élèves'!$L$2)),\"A\"),\"A\")","v":"A"},{"$f":"IF(X31=\"PRESENT\",IF(W31=\"PRESENT\",SUMPRODUCT((Stabilo!$F36:$DA36=1)*(Stabilo!$F$5:$DA$5='Résultats élèves'!$M$2)),\"A\"),\"A\")","v":"A"},{"$f":"SUMPRODUCT((Stabilo!$F$5:$DA$5=1)*(Stabilo!F36:DA36<>\"\"))","v":0},{"$f":"SUMPRODUCT((Stabilo!$F$5:$DA$5=2)*(Stabilo!F36:DA36<>\"\"))","v":0},{"$f":"SUMPRODUCT((Stabilo!$F$5:$DA$5=3)*(Stabilo!F36:DA36<>\"\"))","v":0},{"$f":"SUMPRODUCT((Stabilo!$F$5:$DA$5=4)*(Stabilo!F36:DA36<>\"\"))","v":0},{"$f":"SUMPRODUCT((Stabilo!$F$5:$DA$5=5)*(Stabilo!F36:DA36<>\"\"))","v":0},{"$f":"SUMPRODUCT((Stabilo!$F$5:$DA$5=6)*(Stabilo!F36:DA36<>\"\"))","v":0},{"$f":"SUMPRODUCT((Stabilo!$F$5:$DA$5=7)*(Stabilo!F36:DA36<>\"\"))","v":0},{"$f":"SUMPRODUCT((Stabilo!$F$5:$DA$5=8)*(Stabilo!F36:DA36<>\"\"))","v":0},{"$f":"SUMPRODUCT((Stabilo!$F$5:$DA$5=9)*(Stabilo!F36:DA36<>\"\"))","v":0},{"$f":"SUMPRODUCT((Stabilo!$F$5:$DA$5=10)*(Stabilo!F36:DA36<>\"\"))","v":0}]
[null,29,{"$f":"IF(Accueil!F41=\"\",\"\",Accueil!F41)","v":""},"","","","","","","","","","",{"$f":"IF(N31=\"\",\"\",IF(SUMPRODUCT((Stabilo!$F37:$DA37=\"A\")*(Stabilo!$F$5:$DA$5='Résultats élèves'!$D$2))>0,\"ABSENT\",\"PRESENT\"))","v":"PRESENT"},{"$f":"IF(O31=\"\",\"\",IF(SUMPRODUCT((Stabilo!$F37:$DA37=\"A\")*(Stabilo!$F$5:$DA$5='Résultats élèves'!$E$2))>0,\"ABSENT\",\"PRESENT\"))","v":"PRESENT"},{"$f":"IF(P31=\"\",\"\",IF(SUMPRODUCT((Stabilo!$F37:$DA37=\"A\")*(Stabilo!$F$5:$DA$5='Résultats élèves'!$F$2))>0,\"ABSENT\",\"PRESENT\"))","v":"PRESENT"},{"$f":"IF(Q31=\"\",\"\",IF(SUMPRODUCT((Stabilo!$F37:$DA37=\"A\")*(Stabilo!$F$5:$DA$5='Résultats élèves'!$G$2))>0,\"ABSENT\",\"PRESENT\"))","v":"PRESENT"},{"$f":"IF(R31=\"\",\"\",IF(SUMPRODUCT((Stabilo!$F37:$DA37=\"A\")*(Stabilo!$F$5:$DA$5='Résultats élèves'!$H$2))>0,\"ABSENT\",\"PRESENT\"))","v":""},{"$f":"IF(S31=\"\",\"\",IF(SUMPRODUCT((Stabilo!$F37:$DA37=\"A\")*(Stabilo!$F$5:$DA$5='Résultats élèves'!$I$2))>0,\"ABSENT\",\"PRESENT\"))","v":""},{"$f":"IF(T31=\"\",\"\",IF(SUMPRODUCT((Stabilo!$F37:$DA37=\"A\")*(Stabilo!$F$5:$DA$5='Résultats élèves'!$J$2))>0,\"ABSENT\",\"PRESENT\"))","v":""},{"$f":"IF(U31=\"\",\"\",IF(SUMPRODUCT((Stabilo!$F37:$DA37=\"A\")*(Stabilo!$F$5:$DA$5='Résultats élèves'!$K$2))>0,\"ABSENT\",\"PRESENT\"))","v":""},{"$f":"IF(V31=\"\",\"\",IF(SUMPRODUCT((Stabilo!$F37:$DA37=\"A\")*(Stabilo!$F$5:$DA$5='Résultats élèves'!$L$2))>0,\"ABSENT\",\"PRESENT\"))","v":""},{"$f":"IF(W31=\"\",\"\",IF(SUMPRODUCT((Stabilo!$F37:$DA37=\"A\")*(Stabilo!$F$5:$DA$5='Résultats élèves'!$M$2))>0,\"ABSENT\",\"PRESENT\"))","v":""},"",{"$f":"IF(X32=\"PRESENT\",IF(N32=\"PRESENT\",SUMPRODUCT((Stabilo!$F37:$DA37=1)*(Stabilo!$F$5:$DA$5='Résultats élèves'!$D$2)),\"A\"),\"A\")","v":"A"},{"$f":"IF(X32=\"PRESENT\",IF(O32=\"PRESENT\",SUMPRODUCT((Stabilo!$F37:$DA37=1)*(Stabilo!$F$5:$DA$5='Résultats élèves'!$E$2)),\"A\"),\"A\")","v":"A"},{"$f":"IF(X32=\"PRESENT\",IF(P32=\"PRESENT\",SUMPRODUCT((Stabilo!$F37:$DA37=1)*(Stabilo!$F$5:$DA$5='Résultats élèves'!$F$2)),\"A\"),\"A\")","v":"A"},{"$f":"IF(X32=\"PRESENT\",IF(Q32=\"PRESENT\",SUMPRODUCT((Stabilo!$F37:$DA37=1)*(Stabilo!$F$5:$DA$5='Résultats élèves'!$G$2)),\"A\"),\"A\")","v":"A"},{"$f":"IF(X32=\"PRESENT\",IF(R32=\"PRESENT\",SUMPRODUCT((Stabilo!$F37:$DA37=1)*(Stabilo!$F$5:$DA$5='Résultats élèves'!$H$2)),\"A\"),\"A\")","v":"A"},{"$f":"IF(X32=\"PRESENT\",IF(S32=\"PRESENT\",SUMPRODUCT((Stabilo!$F37:$DA37=1)*(Stabilo!$F$5:$DA$5='Résultats élèves'!$I$2)),\"A\"),\"A\")","v":"A"},{"$f":"IF(X32=\"PRESENT\",IF(T32=\"PRESENT\",SUMPRODUCT((Stabilo!$F37:$DA37=1)*(Stabilo!$F$5:$DA$5='Résultats élèves'!$J$2)),\"A\"),\"A\")","v":"A"},{"$f":"IF(X32=\"PRESENT\",IF(U32=\"PRESENT\",SUMPRODUCT((Stabilo!$F37:$DA37=1)*(Stabilo!$F$5:$DA$5='Résultats élèves'!$K$2)),\"A\"),\"A\")","v":"A"},{"$f":"IF(X32=\"PRESENT\",IF(V32=\"PRESENT\",SUMPRODUCT((Stabilo!$F37:$DA37=1)*(Stabilo!$F$5:$DA$5='Résultats élèves'!$L$2)),\"A\"),\"A\")","v":"A"},{"$f":"IF(X32=\"PRESENT\",IF(W32=\"PRESENT\",SUMPRODUCT((Stabilo!$F37:$DA37=1)*(Stabilo!$F$5:$DA$5='Résultats élèves'!$M$2)),\"A\"),\"A\")","v":"A"},{"$f":"SUMPRODUCT((Stabilo!$F$5:$DA$5=1)*(Stabilo!F37:DA37<>\"\"))","v":0},{"$f":"SUMPRODUCT((Stabilo!$F$5:$DA$5=2)*(Stabilo!F37:DA37<>\"\"))","v":0},{"$f":"SUMPRODUCT((Stabilo!$F$5:$DA$5=3)*(Stabilo!F37:DA37<>\"\"))","v":0},{"$f":"SUMPRODUCT((Stabilo!$F$5:$DA$5=4)*(Stabilo!F37:DA37<>\"\"))","v":0},{"$f":"SUMPRODUCT((Stabilo!$F$5:$DA$5=5)*(Stabilo!F37:DA37<>\"\"))","v":0},{"$f":"SUMPRODUCT((Stabilo!$F$5:$DA$5=6)*(Stabilo!F37:DA37<>\"\"))","v":0},{"$f":"SUMPRODUCT((Stabilo!$F$5:$DA$5=7)*(Stabilo!F37:DA37<>\"\"))","v":0},{"$f":"SUMPRODUCT((Stabilo!$F$5:$DA$5=8)*(Stabilo!F37:DA37<>\"\"))","v":0},{"$f":"SUMPRODUCT((Stabilo!$F$5:$DA$5=9)*(Stabilo!F37:DA37<>\"\"))","v":0},{"$f":"SUMPRODUCT((Stabilo!$F$5:$DA$5=10)*(Stabilo!F37:DA37<>\"\"))","v":0}]
[null,30,{"$f":"IF(Accueil!F42=\"\",\"\",Accueil!F42)","v":""},"","","","","","","","","","",{"$f":"IF(N32=\"\",\"\",IF(SUMPRODUCT((Stabilo!$F38:$DA38=\"A\")*(Stabilo!$F$5:$DA$5='Résultats élèves'!$D$2))>0,\"ABSENT\",\"PRESENT\"))","v":"PRESENT"},{"$f":"IF(O32=\"\",\"\",IF(SUMPRODUCT((Stabilo!$F38:$DA38=\"A\")*(Stabilo!$F$5:$DA$5='Résultats élèves'!$E$2))>0,\"ABSENT\",\"PRESENT\"))","v":"PRESENT"},{"$f":"IF(P32=\"\",\"\",IF(SUMPRODUCT((Stabilo!$F38:$DA38=\"A\")*(Stabilo!$F$5:$DA$5='Résultats élèves'!$F$2))>0,\"ABSENT\",\"PRESENT\"))","v":"PRESENT"},{"$f":"IF(Q32=\"\",\"\",IF(SUMPRODUCT((Stabilo!$F38:$DA38=\"A\")*(Stabilo!$F$5:$DA$5='Résultats élèves'!$G$2))>0,\"ABSENT\",\"PRESENT\"))","v":"PRESENT"},{"$f":"IF(R32=\"\",\"\",IF(SUMPRODUCT((Stabilo!$F38:$DA38=\"A\")*(Stabilo!$F$5:$DA$5='Résultats élèves'!$H$2))>0,\"ABSENT\",\"PRESENT\"))","v":""},{"$f":"IF(S32=\"\",\"\",IF(SUMPRODUCT((Stabilo!$F38:$DA38=\"A\")*(Stabilo!$F$5:$DA$5='Résultats élèves'!$I$2))>0,\"ABSENT\",\"PRESENT\"))","v":""},{"$f":"IF(T32=\"\",\"\",IF(SUMPRODUCT((Stabilo!$F38:$DA38=\"A\")*(Stabilo!$F$5:$DA$5='Résultats élèves'!$J$2))>0,\"ABSENT\",\"PRESENT\"))","v":""},{"$f":"IF(U32=\"\",\"\",IF(SUMPRODUCT((Stabilo!$F38:$DA38=\"A\")*(Stabilo!$F$5:$DA$5='Résultats élèves'!$K$2))>0,\"ABSENT\",\"PRESENT\"))","v":""},{"$f":"IF(V32=\"\",\"\",IF(SUMPRODUCT((Stabilo!$F38:$DA38=\"A\")*(Stabilo!$F$5:$DA$5='Résultats élèves'!$L$2))>0,\"ABSENT\",\"PRESENT\"))","v":""},{"$f":"IF(W32=\"\",\"\",IF(SUMPRODUCT((Stabilo!$F38:$DA38=\"A\")*(Stabilo!$F$5:$DA$5='Résultats élèves'!$M$2))>0,\"ABSENT\",\"PRESENT\"))","v":""},"",{"$f":"IF(X33=\"PRESENT\",IF(N33=\"PRESENT\",SUMPRODUCT((Stabilo!$F38:$DA38=1)*(Stabilo!$F$5:$DA$5='Résultats élèves'!$D$2)),\"A\"),\"A\")","v":"A"},{"$f":"IF(X33=\"PRESENT\",IF(O33=\"PRESENT\",SUMPRODUCT((Stabilo!$F38:$DA38=1)*(Stabilo!$F$5:$DA$5='Résultats élèves'!$E$2)),\"A\"),\"A\")","v":"A"},{"$f":"IF(X33=\"PRESENT\",IF(P33=\"PRESENT\",SUMPRODUCT((Stabilo!$F38:$DA38=1)*(Stabilo!$F$5:$DA$5='Résultats élèves'!$F$2)),\"A\"),\"A\")","v":"A"},{"$f":"IF(X33=\"PRESENT\",IF(Q33=\"PRESENT\",SUMPRODUCT((Stabilo!$F38:$DA38=1)*(Stabilo!$F$5:$DA$5='Résultats élèves'!$G$2)),\"A\"),\"A\")","v":"A"},{"$f":"IF(X33=\"PRESENT\",IF(R33=\"PRESENT\",SUMPRODUCT((Stabilo!$F38:$DA38=1)*(Stabilo!$F$5:$DA$5='Résultats élèves'!$H$2)),\"A\"),\"A\")","v":"A"},{"$f":"IF(X33=\"PRESENT\",IF(S33=\"PRESENT\",SUMPRODUCT((Stabilo!$F38:$DA38=1)*(Stabilo!$F$5:$DA$5='Résultats élèves'!$I$2)),\"A\"),\"A\")","v":"A"},{"$f":"IF(X33=\"PRESENT\",IF(T33=\"PRESENT\",SUMPRODUCT((Stabilo!$F38:$DA38=1)*(Stabilo!$F$5:$DA$5='Résultats élèves'!$J$2)),\"A\"),\"A\")","v":"A"},{"$f":"IF(X33=\"PRESENT\",IF(U33=\"PRESENT\",SUMPRODUCT((Stabilo!$F38:$DA38=1)*(Stabilo!$F$5:$DA$5='Résultats élèves'!$K$2)),\"A\"),\"A\")","v":"A"},{"$f":"IF(X33=\"PRESENT\",IF(V33=\"PRESENT\",SUMPRODUCT((Stabilo!$F38:$DA38=1)*(Stabilo!$F$5:$DA$5='Résultats élèves'!$L$2)),\"A\"),\"A\")","v":"A"},{"$f":"IF(X33=\"PRESENT\",IF(W33=\"PRESENT\",SUMPRODUCT((Stabilo!$F38:$DA38=1)*(Stabilo!$F$5:$DA$5='Résultats élèves'!$M$2)),\"A\"),\"A\")","v":"A"},{"$f":"SUMPRODUCT((Stabilo!$F$5:$DA$5=1)*(Stabilo!F38:DA38<>\"\"))","v":0},{"$f":"SUMPRODUCT((Stabilo!$F$5:$DA$5=2)*(Stabilo!F38:DA38<>\"\"))","v":0},{"$f":"SUMPRODUCT((Stabilo!$F$5:$DA$5=3)*(Stabilo!F38:DA38<>\"\"))","v":0},{"$f":"SUMPRODUCT((Stabilo!$F$5:$DA$5=4)*(Stabilo!F38:DA38<>\"\"))","v":0},{"$f":"SUMPRODUCT((Stabilo!$F$5:$DA$5=5)*(Stabilo!F38:DA38<>\"\"))","v":0},{"$f":"SUMPRODUCT((Stabilo!$F$5:$DA$5=6)*(Stabilo!F38:DA38<>\"\"))","v":0},{"$f":"SUMPRODUCT((Stabilo!$F$5:$DA$5=7)*(Stabilo!F38:DA38<>\"\"))","v":0},{"$f":"SUMPRODUCT((Stabilo!$F$5:$DA$5=8)*(Stabilo!F38:DA38<>\"\"))","v":0},{"$f":"SUMPRODUCT((Stabilo!$F$5:$DA$5=9)*(Stabilo!F38:DA38<>\"\"))","v":0},{"$f":"SUMPRODUCT((Stabilo!$F$5:$DA$5=10)*(Stabilo!F38:DA38<>\"\"))","v":0}]
[null,31,{"$f":"IF(Accueil!F43=\"\",\"\",Accueil!F43)","v":""},"","","","","","","","","","",{"$f":"IF(N33=\"\",\"\",IF(SUMPRODUCT((Stabilo!$F39:$DA39=\"A\")*(Stabilo!$F$5:$DA$5='Résultats élèves'!$D$2))>0,\"ABSENT\",\"PRESENT\"))","v":"PRESENT"},{"$f":"IF(O33=\"\",\"\",IF(SUMPRODUCT((Stabilo!$F39:$DA39=\"A\")*(Stabilo!$F$5:$DA$5='Résultats élèves'!$E$2))>0,\"ABSENT\",\"PRESENT\"))","v":"PRESENT"},{"$f":"IF(P33=\"\",\"\",IF(SUMPRODUCT((Stabilo!$F39:$DA39=\"A\")*(Stabilo!$F$5:$DA$5='Résultats élèves'!$F$2))>0,\"ABSENT\",\"PRESENT\"))","v":"PRESENT"},{"$f":"IF(Q33=\"\",\"\",IF(SUMPRODUCT((Stabilo!$F39:$DA39=\"A\")*(Stabilo!$F$5:$DA$5='Résultats élèves'!$G$2))>0,\"ABSENT\",\"PRESENT\"))","v":"PRESENT"},{"$f":"IF(R33=\"\",\"\",IF(SUMPRODUCT((Stabilo!$F39:$DA39=\"A\")*(Stabilo!$F$5:$DA$5='Résultats élèves'!$H$2))>0,\"ABSENT\",\"PRESENT\"))","v":""},{"$f":"IF(S33=\"\",\"\",IF(SUMPRODUCT((Stabilo!$F39:$DA39=\"A\")*(Stabilo!$F$5:$DA$5='Résultats élèves'!$I$2))>0,\"ABSENT\",\"PRESENT\"))","v":""},{"$f":"IF(T33=\"\",\"\",IF(SUMPRODUCT((Stabilo!$F39:$DA39=\"A\")*(Stabilo!$F$5:$DA$5='Résultats élèves'!$J$2))>0,\"ABSENT\",\"PRESENT\"))","v":""},{"$f":"IF(U33=\"\",\"\",IF(SUMPRODUCT((Stabilo!$F39:$DA39=\"A\")*(Stabilo!$F$5:$DA$5='Résultats élèves'!$K$2))>0,\"ABSENT\",\"PRESENT\"))","v":""},{"$f":"IF(V33=\"\",\"\",IF(SUMPRODUCT((Stabilo!$F39:$DA39=\"A\")*(Stabilo!$F$5:$DA$5='Résultats élèves'!$L$2))>0,\"ABSENT\",\"PRESENT\"))","v":""},{"$f":"IF(W33=\"\",\"\",IF(SUMPRODUCT((Stabilo!$F39:$DA39=\"A\")*(Stabilo!$F$5:$DA$5='Résultats élèves'!$M$2))>0,\"ABSENT\",\"PRESENT\"))","v":""},"",{"$f":"IF(X34=\"PRESENT\",IF(N34=\"PRESENT\",SUMPRODUCT((Stabilo!$F39:$DA39=1)*(Stabilo!$F$5:$DA$5='Résultats élèves'!$D$2)),\"A\"),\"A\")","v":"A"},{"$f":"IF(X34=\"PRESENT\",IF(O34=\"PRESENT\",SUMPRODUCT((Stabilo!$F39:$DA39=1)*(Stabilo!$F$5:$DA$5='Résultats élèves'!$E$2)),\"A\"),\"A\")","v":"A"},{"$f":"IF(X34=\"PRESENT\",IF(P34=\"PRESENT\",SUMPRODUCT((Stabilo!$F39:$DA39=1)*(Stabilo!$F$5:$DA$5='Résultats élèves'!$F$2)),\"A\"),\"A\")","v":"A"},{"$f":"IF(X34=\"PRESENT\",IF(Q34=\"PRESENT\",SUMPRODUCT((Stabilo!$F39:$DA39=1)*(Stabilo!$F$5:$DA$5='Résultats élèves'!$G$2)),\"A\"),\"A\")","v":"A"},{"$f":"IF(X34=\"PRESENT\",IF(R34=\"PRESENT\",SUMPRODUCT((Stabilo!$F39:$DA39=1)*(Stabilo!$F$5:$DA$5='Résultats élèves'!$H$2)),\"A\"),\"A\")","v":"A"},{"$f":"IF(X34=\"PRESENT\",IF(S34=\"PRESENT\",SUMPRODUCT((Stabilo!$F39:$DA39=1)*(Stabilo!$F$5:$DA$5='Résultats élèves'!$I$2)),\"A\"),\"A\")","v":"A"},{"$f":"IF(X34=\"PRESENT\",IF(T34=\"PRESENT\",SUMPRODUCT((Stabilo!$F39:$DA39=1)*(Stabilo!$F$5:$DA$5='Résultats élèves'!$J$2)),\"A\"),\"A\")","v":"A"},{"$f":"IF(X34=\"PRESENT\",IF(U34=\"PRESENT\",SUMPRODUCT((Stabilo!$F39:$DA39=1)*(Stabilo!$F$5:$DA$5='Résultats élèves'!$K$2)),\"A\"),\"A\")","v":"A"},{"$f":"IF(X34=\"PRESENT\",IF(V34=\"PRESENT\",SUMPRODUCT((Stabilo!$F39:$DA39=1)*(Stabilo!$F$5:$DA$5='Résultats élèves'!$L$2)),\"A\"),\"A\")","v":"A"},{"$f":"IF(X34=\"PRESENT\",IF(W34=\"PRESENT\",SUMPRODUCT((Stabilo!$F39:$DA39=1)*(Stabilo!$F$5:$DA$5='Résultats élèves'!$M$2)),\"A\"),\"A\")","v":"A"},{"$f":"SUMPRODUCT((Stabilo!$F$5:$DA$5=1)*(Stabilo!F39:DA39<>\"\"))","v":0},{"$f":"SUMPRODUCT((Stabilo!$F$5:$DA$5=2)*(Stabilo!F39:DA39<>\"\"))","v":0},{"$f":"SUMPRODUCT((Stabilo!$F$5:$DA$5=3)*(Stabilo!F39:DA39<>\"\"))","v":0},{"$f":"SUMPRODUCT((Stabilo!$F$5:$DA$5=4)*(Stabilo!F39:DA39<>\"\"))","v":0},{"$f":"SUMPRODUCT((Stabilo!$F$5:$DA$5=5)*(Stabilo!F39:DA39<>\"\"))","v":0},{"$f":"SUMPRODUCT((Stabilo!$F$5:$DA$5=6)*(Stabilo!F39:DA39<>\"\"))","v":0},{"$f":"SUMPRODUCT((Stabilo!$F$5:$DA$5=7)*(Stabilo!F39:DA39<>\"\"))","v":0},{"$f":"SUMPRODUCT((Stabilo!$F$5:$DA$5=8)*(Stabilo!F39:DA39<>\"\"))","v":0},{"$f":"SUMPRODUCT((Stabilo!$F$5:$DA$5=9)*(Stabilo!F39:DA39<>\"\"))","v":0},{"$f":"SUMPRODUCT((Stabilo!$F$5:$DA$5=10)*(Stabilo!F39:DA39<>\"\"))","v":0}]
[null,32,{"$f":"IF(Accueil!F44=\"\",\"\",Accueil!F44)","v":""},"","","","","","","","","","",{"$f":"IF(N34=\"\",\"\",IF(SUMPRODUCT((Stabilo!$F40:$DA40=\"A\")*(Stabilo!$F$5:$DA$5='Résultats élèves'!$D$2))>0,\"ABSENT\",\"PRESENT\"))","v":"PRESENT"},{"$f":"IF(O34=\"\",\"\",IF(SUMPRODUCT((Stabilo!$F40:$DA40=\"A\")*(Stabilo!$F$5:$DA$5='Résultats élèves'!$E$2))>0,\"ABSENT\",\"PRESENT\"))","v":"PRESENT"},{"$f":"IF(P34=\"\",\"\",IF(SUMPRODUCT((Stabilo!$F40:$DA40=\"A\")*(Stabilo!$F$5:$DA$5='Résultats élèves'!$F$2))>0,\"ABSENT\",\"PRESENT\"))","v":"PRESENT"},{"$f":"IF(Q34=\"\",\"\",IF(SUMPRODUCT((Stabilo!$F40:$DA40=\"A\")*(Stabilo!$F$5:$DA$5='Résultats élèves'!$G$2))>0,\"ABSENT\",\"PRESENT\"))","v":"PRESENT"},{"$f":"IF(R34=\"\",\"\",IF(SUMPRODUCT((Stabilo!$F40:$DA40=\"A\")*(Stabilo!$F$5:$DA$5='Résultats élèves'!$H$2))>0,\"ABSENT\",\"PRESENT\"))","v":""},{"$f":"IF(S34=\"\",\"\",IF(SUMPRODUCT((Stabilo!$F40:$DA40=\"A\")*(Stabilo!$F$5:$DA$5='Résultats élèves'!$I$2))>0,\"ABSENT\",\"PRESENT\"))","v":""},{"$f":"IF(T34=\"\",\"\",IF(SUMPRODUCT((Stabilo!$F40:$DA40=\"A\")*(Stabilo!$F$5:$DA$5='Résultats élèves'!$J$2))>0,\"ABSENT\",\"PRESENT\"))","v":""},{"$f":"IF(U34=\"\",\"\",IF(SUMPRODUCT((Stabilo!$F40:$DA40=\"A\")*(Stabilo!$F$5:$DA$5='Résultats élèves'!$K$2))>0,\"ABSENT\",\"PRESENT\"))","v":""},{"$f":"IF(V34=\"\",\"\",IF(SUMPRODUCT((Stabilo!$F40:$DA40=\"A\")*(Stabilo!$F$5:$DA$5='Résultats élèves'!$L$2))>0,\"ABSENT\",\"PRESENT\"))","v":""},{"$f":"IF(W34=\"\",\"\",IF(SUMPRODUCT((Stabilo!$F40:$DA40=\"A\")*(Stabilo!$F$5:$DA$5='Résultats élèves'!$M$2))>0,\"ABSENT\",\"PRESENT\"))","v":""},"",{"$f":"IF(X35=\"PRESENT\",IF(N35=\"PRESENT\",SUMPRODUCT((Stabilo!$F40:$DA40=1)*(Stabilo!$F$5:$DA$5='Résultats élèves'!$D$2)),\"A\"),\"A\")","v":"A"},{"$f":"IF(X35=\"PRESENT\",IF(O35=\"PRESENT\",SUMPRODUCT((Stabilo!$F40:$DA40=1)*(Stabilo!$F$5:$DA$5='Résultats élèves'!$E$2)),\"A\"),\"A\")","v":"A"},{"$f":"IF(X35=\"PRESENT\",IF(P35=\"PRESENT\",SUMPRODUCT((Stabilo!$F40:$DA40=1)*(Stabilo!$F$5:$DA$5='Résultats élèves'!$F$2)),\"A\"),\"A\")","v":"A"},{"$f":"IF(X35=\"PRESENT\",IF(Q35=\"PRESENT\",SUMPRODUCT((Stabilo!$F40:$DA40=1)*(Stabilo!$F$5:$DA$5='Résultats élèves'!$G$2)),\"A\"),\"A\")","v":"A"},{"$f":"IF(X35=\"PRESENT\",IF(R35=\"PRESENT\",SUMPRODUCT((Stabilo!$F40:$DA40=1)*(Stabilo!$F$5:$DA$5='Résultats élèves'!$H$2)),\"A\"),\"A\")","v":"A"},{"$f":"IF(X35=\"PRESENT\",IF(S35=\"PRESENT\",SUMPRODUCT((Stabilo!$F40:$DA40=1)*(Stabilo!$F$5:$DA$5='Résultats élèves'!$I$2)),\"A\"),\"A\")","v":"A"},{"$f":"IF(X35=\"PRESENT\",IF(T35=\"PRESENT\",SUMPRODUCT((Stabilo!$F40:$DA40=1)*(Stabilo!$F$5:$DA$5='Résultats élèves'!$J$2)),\"A\"),\"A\")","v":"A"},{"$f":"IF(X35=\"PRESENT\",IF(U35=\"PRESENT\",SUMPRODUCT((Stabilo!$F40:$DA40=1)*(Stabilo!$F$5:$DA$5='Résultats élèves'!$K$2)),\"A\"),\"A\")","v":"A"},{"$f":"IF(X35=\"PRESENT\",IF(V35=\"PRESENT\",SUMPRODUCT((Stabilo!$F40:$DA40=1)*(Stabilo!$F$5:$DA$5='Résultats élèves'!$L$2)),\"A\"),\"A\")","v":"A"},{"$f":"IF(X35=\"PRESENT\",IF(W35=\"PRESENT\",SUMPRODUCT((Stabilo!$F40:$DA40=1)*(Stabilo!$F$5:$DA$5='Résultats élèves'!$M$2)),\"A\"),\"A\")","v":"A"},{"$f":"SUMPRODUCT((Stabilo!$F$5:$DA$5=1)*(Stabilo!F40:DA40<>\"\"))","v":0},{"$f":"SUMPRODUCT((Stabilo!$F$5:$DA$5=2)*(Stabilo!F40:DA40<>\"\"))","v":0},{"$f":"SUMPRODUCT((Stabilo!$F$5:$DA$5=3)*(Stabilo!F40:DA40<>\"\"))","v":0},{"$f":"SUMPRODUCT((Stabilo!$F$5:$DA$5=4)*(Stabilo!F40:DA40<>\"\"))","v":0},{"$f":"SUMPRODUCT((Stabilo!$F$5:$DA$5=5)*(Stabilo!F40:DA40<>\"\"))","v":0},{"$f":"SUMPRODUCT((Stabilo!$F$5:$DA$5=6)*(Stabilo!F40:DA40<>\"\"))","v":0},{"$f":"SUMPRODUCT((Stabilo!$F$5:$DA$5=7)*(Stabilo!F40:DA40<>\"\"))","v":0},{"$f":"SUMPRODUCT((Stabilo!$F$5:$DA$5=8)*(Stabilo!F40:DA40<>\"\"))","v":0},{"$f":"SUMPRODUCT((Stabilo!$F$5:$DA$5=9)*(Stabilo!F40:DA40<>\"\"))","v":0},{"$f":"SUMPRODUCT((Stabilo!$F$5:$DA$5=10)*(Stabilo!F40:DA40<>\"\"))","v":0}]
[null,33,{"$f":"IF(Accueil!F45=\"\",\"\",Accueil!F45)","v":""},"","","","","","","","","","",{"$f":"IF(N35=\"\",\"\",IF(SUMPRODUCT((Stabilo!$F41:$DA41=\"A\")*(Stabilo!$F$5:$DA$5='Résultats élèves'!$D$2))>0,\"ABSENT\",\"PRESENT\"))","v":"PRESENT"},{"$f":"IF(O35=\"\",\"\",IF(SUMPRODUCT((Stabilo!$F41:$DA41=\"A\")*(Stabilo!$F$5:$DA$5='Résultats élèves'!$E$2))>0,\"ABSENT\",\"PRESENT\"))","v":"PRESENT"},{"$f":"IF(P35=\"\",\"\",IF(SUMPRODUCT((Stabilo!$F41:$DA41=\"A\")*(Stabilo!$F$5:$DA$5='Résultats élèves'!$F$2))>0,\"ABSENT\",\"PRESENT\"))","v":"PRESENT"},{"$f":"IF(Q35=\"\",\"\",IF(SUMPRODUCT((Stabilo!$F41:$DA41=\"A\")*(Stabilo!$F$5:$DA$5='Résultats élèves'!$G$2))>0,\"ABSENT\",\"PRESENT\"))","v":"PRESENT"},{"$f":"IF(R35=\"\",\"\",IF(SUMPRODUCT((Stabilo!$F41:$DA41=\"A\")*(Stabilo!$F$5:$DA$5='Résultats élèves'!$H$2))>0,\"ABSENT\",\"PRESENT\"))","v":""},{"$f":"IF(S35=\"\",\"\",IF(SUMPRODUCT((Stabilo!$F41:$DA41=\"A\")*(Stabilo!$F$5:$DA$5='Résultats élèves'!$I$2))>0,\"ABSENT\",\"PRESENT\"))","v":""},{"$f":"IF(T35=\"\",\"\",IF(SUMPRODUCT((Stabilo!$F41:$DA41=\"A\")*(Stabilo!$F$5:$DA$5='Résultats élèves'!$J$2))>0,\"ABSENT\",\"PRESENT\"))","v":""},{"$f":"IF(U35=\"\",\"\",IF(SUMPRODUCT((Stabilo!$F41:$DA41=\"A\")*(Stabilo!$F$5:$DA$5='Résultats élèves'!$K$2))>0,\"ABSENT\",\"PRESENT\"))","v":""},{"$f":"IF(V35=\"\",\"\",IF(SUMPRODUCT((Stabilo!$F41:$DA41=\"A\")*(Stabilo!$F$5:$DA$5='Résultats élèves'!$L$2))>0,\"ABSENT\",\"PRESENT\"))","v":""},{"$f":"IF(W35=\"\",\"\",IF(SUMPRODUCT((Stabilo!$F41:$DA41=\"A\")*(Stabilo!$F$5:$DA$5='Résultats élèves'!$M$2))>0,\"ABSENT\",\"PRESENT\"))","v":""},"",{"$f":"IF(X36=\"PRESENT\",IF(N36=\"PRESENT\",SUMPRODUCT((Stabilo!$F41:$DA41=1)*(Stabilo!$F$5:$DA$5='Résultats élèves'!$D$2)),\"A\"),\"A\")","v":"A"},{"$f":"IF(X36=\"PRESENT\",IF(O36=\"PRESENT\",SUMPRODUCT((Stabilo!$F41:$DA41=1)*(Stabilo!$F$5:$DA$5='Résultats élèves'!$E$2)),\"A\"),\"A\")","v":"A"},{"$f":"IF(X36=\"PRESENT\",IF(P36=\"PRESENT\",SUMPRODUCT((Stabilo!$F41:$DA41=1)*(Stabilo!$F$5:$DA$5='Résultats élèves'!$F$2)),\"A\"),\"A\")","v":"A"},{"$f":"IF(X36=\"PRESENT\",IF(Q36=\"PRESENT\",SUMPRODUCT((Stabilo!$F41:$DA41=1)*(Stabilo!$F$5:$DA$5='Résultats élèves'!$G$2)),\"A\"),\"A\")","v":"A"},{"$f":"IF(X36=\"PRESENT\",IF(R36=\"PRESENT\",SUMPRODUCT((Stabilo!$F41:$DA41=1)*(Stabilo!$F$5:$DA$5='Résultats élèves'!$H$2)),\"A\"),\"A\")","v":"A"},{"$f":"IF(X36=\"PRESENT\",IF(S36=\"PRESENT\",SUMPRODUCT((Stabilo!$F41:$DA41=1)*(Stabilo!$F$5:$DA$5='Résultats élèves'!$I$2)),\"A\"),\"A\")","v":"A"},{"$f":"IF(X36=\"PRESENT\",IF(T36=\"PRESENT\",SUMPRODUCT((Stabilo!$F41:$DA41=1)*(Stabilo!$F$5:$DA$5='Résultats élèves'!$J$2)),\"A\"),\"A\")","v":"A"},{"$f":"IF(X36=\"PRESENT\",IF(U36=\"PRESENT\",SUMPRODUCT((Stabilo!$F41:$DA41=1)*(Stabilo!$F$5:$DA$5='Résultats élèves'!$K$2)),\"A\"),\"A\")","v":"A"},{"$f":"IF(X36=\"PRESENT\",IF(V36=\"PRESENT\",SUMPRODUCT((Stabilo!$F41:$DA41=1)*(Stabilo!$F$5:$DA$5='Résultats élèves'!$L$2)),\"A\"),\"A\")","v":"A"},{"$f":"IF(X36=\"PRESENT\",IF(W36=\"PRESENT\",SUMPRODUCT((Stabilo!$F41:$DA41=1)*(Stabilo!$F$5:$DA$5='Résultats élèves'!$M$2)),\"A\"),\"A\")","v":"A"},{"$f":"SUMPRODUCT((Stabilo!$F$5:$DA$5=1)*(Stabilo!F41:DA41<>\"\"))","v":0},{"$f":"SUMPRODUCT((Stabilo!$F$5:$DA$5=2)*(Stabilo!F41:DA41<>\"\"))","v":0},{"$f":"SUMPRODUCT((Stabilo!$F$5:$DA$5=3)*(Stabilo!F41:DA41<>\"\"))","v":0},{"$f":"SUMPRODUCT((Stabilo!$F$5:$DA$5=4)*(Stabilo!F41:DA41<>\"\"))","v":0},{"$f":"SUMPRODUCT((Stabilo!$F$5:$DA$5=5)*(Stabilo!F41:DA41<>\"\"))","v":0},{"$f":"SUMPRODUCT((Stabilo!$F$5:$DA$5=6)*(Stabilo!F41:DA41<>\"\"))","v":0},{"$f":"SUMPRODUCT((Stabilo!$F$5:$DA$5=7)*(Stabilo!F41:DA41<>\"\"))","v":0},{"$f":"SUMPRODUCT((Stabilo!$F$5:$DA$5=8)*(Stabilo!F41:DA41<>\"\"))","v":0},{"$f":"SUMPRODUCT((Stabilo!$F$5:$DA$5=9)*(Stabilo!F41:DA41<>\"\"))","v":0},{"$f":"SUMPRODUCT((Stabilo!$F$5:$DA$5=10)*(Stabilo!F41:DA41<>\"\"))","v":0}]
[null,34,{"$f":"IF(Accueil!F46=\"\",\"\",Accueil!F46)","v":""},"","","","","","","","","","",{"$f":"IF(N36=\"\",\"\",IF(SUMPRODUCT((Stabilo!$F42:$DA42=\"A\")*(Stabilo!$F$5:$DA$5='Résultats élèves'!$D$2))>0,\"ABSENT\",\"PRESENT\"))","v":"PRESENT"},{"$f":"IF(O36=\"\",\"\",IF(SUMPRODUCT((Stabilo!$F42:$DA42=\"A\")*(Stabilo!$F$5:$DA$5='Résultats élèves'!$E$2))>0,\"ABSENT\",\"PRESENT\"))","v":"PRESENT"},{"$f":"IF(P36=\"\",\"\",IF(SUMPRODUCT((Stabilo!$F42:$DA42=\"A\")*(Stabilo!$F$5:$DA$5='Résultats élèves'!$F$2))>0,\"ABSENT\",\"PRESENT\"))","v":"PRESENT"},{"$f":"IF(Q36=\"\",\"\",IF(SUMPRODUCT((Stabilo!$F42:$DA42=\"A\")*(Stabilo!$F$5:$DA$5='Résultats élèves'!$G$2))>0,\"ABSENT\",\"PRESENT\"))","v":"PRESENT"},{"$f":"IF(R36=\"\",\"\",IF(SUMPRODUCT((Stabilo!$F42:$DA42=\"A\")*(Stabilo!$F$5:$DA$5='Résultats élèves'!$H$2))>0,\"ABSENT\",\"PRESENT\"))","v":""},{"$f":"IF(S36=\"\",\"\",IF(SUMPRODUCT((Stabilo!$F42:$DA42=\"A\")*(Stabilo!$F$5:$DA$5='Résultats élèves'!$I$2))>0,\"ABSENT\",\"PRESENT\"))","v":""},{"$f":"IF(T36=\"\",\"\",IF(SUMPRODUCT((Stabilo!$F42:$DA42=\"A\")*(Stabilo!$F$5:$DA$5='Résultats élèves'!$J$2))>0,\"ABSENT\",\"PRESENT\"))","v":""},{"$f":"IF(U36=\"\",\"\",IF(SUMPRODUCT((Stabilo!$F42:$DA42=\"A\")*(Stabilo!$F$5:$DA$5='Résultats élèves'!$K$2))>0,\"ABSENT\",\"PRESENT\"))","v":""},{"$f":"IF(V36=\"\",\"\",IF(SUMPRODUCT((Stabilo!$F42:$DA42=\"A\")*(Stabilo!$F$5:$DA$5='Résultats élèves'!$L$2))>0,\"ABSENT\",\"PRESENT\"))","v":""},{"$f":"IF(W36=\"\",\"\",IF(SUMPRODUCT((Stabilo!$F42:$DA42=\"A\")*(Stabilo!$F$5:$DA$5='Résultats élèves'!$M$2))>0,\"ABSENT\",\"PRESENT\"))","v":""},"",{"$f":"IF(X37=\"PRESENT\",IF(N37=\"PRESENT\",SUMPRODUCT((Stabilo!$F42:$DA42=1)*(Stabilo!$F$5:$DA$5='Résultats élèves'!$D$2)),\"A\"),\"A\")","v":"A"},{"$f":"IF(X37=\"PRESENT\",IF(O37=\"PRESENT\",SUMPRODUCT((Stabilo!$F42:$DA42=1)*(Stabilo!$F$5:$DA$5='Résultats élèves'!$E$2)),\"A\"),\"A\")","v":"A"},{"$f":"IF(X37=\"PRESENT\",IF(P37=\"PRESENT\",SUMPRODUCT((Stabilo!$F42:$DA42=1)*(Stabilo!$F$5:$DA$5='Résultats élèves'!$F$2)),\"A\"),\"A\")","v":"A"},{"$f":"IF(X37=\"PRESENT\",IF(Q37=\"PRESENT\",SUMPRODUCT((Stabilo!$F42:$DA42=1)*(Stabilo!$F$5:$DA$5='Résultats élèves'!$G$2)),\"A\"),\"A\")","v":"A"},{"$f":"IF(X37=\"PRESENT\",IF(R37=\"PRESENT\",SUMPRODUCT((Stabilo!$F42:$DA42=1)*(Stabilo!$F$5:$DA$5='Résultats élèves'!$H$2)),\"A\"),\"A\")","v":"A"},{"$f":"IF(X37=\"PRESENT\",IF(S37=\"PRESENT\",SUMPRODUCT((Stabilo!$F42:$DA42=1)*(Stabilo!$F$5:$DA$5='Résultats élèves'!$I$2)),\"A\"),\"A\")","v":"A"},{"$f":"IF(X37=\"PRESENT\",IF(T37=\"PRESENT\",SUMPRODUCT((Stabilo!$F42:$DA42=1)*(Stabilo!$F$5:$DA$5='Résultats élèves'!$J$2)),\"A\"),\"A\")","v":"A"},{"$f":"IF(X37=\"PRESENT\",IF(U37=\"PRESENT\",SUMPRODUCT((Stabilo!$F42:$DA42=1)*(Stabilo!$F$5:$DA$5='Résultats élèves'!$K$2)),\"A\"),\"A\")","v":"A"},{"$f":"IF(X37=\"PRESENT\",IF(V37=\"PRESENT\",SUMPRODUCT((Stabilo!$F42:$DA42=1)*(Stabilo!$F$5:$DA$5='Résultats élèves'!$L$2)),\"A\"),\"A\")","v":"A"},{"$f":"IF(X37=\"PRESENT\",IF(W37=\"PRESENT\",SUMPRODUCT((Stabilo!$F42:$DA42=1)*(Stabilo!$F$5:$DA$5='Résultats élèves'!$M$2)),\"A\"),\"A\")","v":"A"},{"$f":"SUMPRODUCT((Stabilo!$F$5:$DA$5=1)*(Stabilo!F42:DA42<>\"\"))","v":0},{"$f":"SUMPRODUCT((Stabilo!$F$5:$DA$5=2)*(Stabilo!F42:DA42<>\"\"))","v":0},{"$f":"SUMPRODUCT((Stabilo!$F$5:$DA$5=3)*(Stabilo!F42:DA42<>\"\"))","v":0},{"$f":"SUMPRODUCT((Stabilo!$F$5:$DA$5=4)*(Stabilo!F42:DA42<>\"\"))","v":0},{"$f":"SUMPRODUCT((Stabilo!$F$5:$DA$5=5)*(Stabilo!F42:DA42<>\"\"))","v":0},{"$f":"SUMPRODUCT((Stabilo!$F$5:$DA$5=6)*(Stabilo!F42:DA42<>\"\"))","v":0},{"$f":"SUMPRODUCT((Stabilo!$F$5:$DA$5=7)*(Stabilo!F42:DA42<>\"\"))","v":0},{"$f":"SUMPRODUCT((Stabilo!$F$5:$DA$5=8)*(Stabilo!F42:DA42<>\"\"))","v":0},{"$f":"SUMPRODUCT((Stabilo!$F$5:$DA$5=9)*(Stabilo!F42:DA42<>\"\"))","v":0},{"$f":"SUMPRODUCT((Stabilo!$F$5:$DA$5=10)*(Stabilo!F42:DA42<>\"\"))","v":0}]
[null,35,{"$f":"IF(Accueil!F47=\"\",\"\",Accueil!F47)","v":""},"","","","","","","","","","",{"$f":"IF(N37=\"\",\"\",IF(SUMPRODUCT((Stabilo!$F43:$DA43=\"A\")*(Stabilo!$F$5:$DA$5='Résultats élèves'!$D$2))>0,\"ABSENT\",\"PRESENT\"))","v":"PRESENT"},{"$f":"IF(O37=\"\",\"\",IF(SUMPRODUCT((Stabilo!$F43:$DA43=\"A\")*(Stabilo!$F$5:$DA$5='Résultats élèves'!$E$2))>0,\"ABSENT\",\"PRESENT\"))","v":"PRESENT"},{"$f":"IF(P37=\"\",\"\",IF(SUMPRODUCT((Stabilo!$F43:$DA43=\"A\")*(Stabilo!$F$5:$DA$5='Résultats élèves'!$F$2))>0,\"ABSENT\",\"PRESENT\"))","v":"PRESENT"},{"$f":"IF(Q37=\"\",\"\",IF(SUMPRODUCT((Stabilo!$F43:$DA43=\"A\")*(Stabilo!$F$5:$DA$5='Résultats élèves'!$G$2))>0,\"ABSENT\",\"PRESENT\"))","v":"PRESENT"},{"$f":"IF(R37=\"\",\"\",IF(SUMPRODUCT((Stabilo!$F43:$DA43=\"A\")*(Stabilo!$F$5:$DA$5='Résultats élèves'!$H$2))>0,\"ABSENT\",\"PRESENT\"))","v":""},{"$f":"IF(S37=\"\",\"\",IF(SUMPRODUCT((Stabilo!$F43:$DA43=\"A\")*(Stabilo!$F$5:$DA$5='Résultats élèves'!$I$2))>0,\"ABSENT\",\"PRESENT\"))","v":""},{"$f":"IF(T37=\"\",\"\",IF(SUMPRODUCT((Stabilo!$F43:$DA43=\"A\")*(Stabilo!$F$5:$DA$5='Résultats élèves'!$J$2))>0,\"ABSENT\",\"PRESENT\"))","v":""},{"$f":"IF(U37=\"\",\"\",IF(SUMPRODUCT((Stabilo!$F43:$DA43=\"A\")*(Stabilo!$F$5:$DA$5='Résultats élèves'!$K$2))>0,\"ABSENT\",\"PRESENT\"))","v":""},{"$f":"IF(V37=\"\",\"\",IF(SUMPRODUCT((Stabilo!$F43:$DA43=\"A\")*(Stabilo!$F$5:$DA$5='Résultats élèves'!$L$2))>0,\"ABSENT\",\"PRESENT\"))","v":""},{"$f":"IF(W37=\"\",\"\",IF(SUMPRODUCT((Stabilo!$F43:$DA43=\"A\")*(Stabilo!$F$5:$DA$5='Résultats élèves'!$M$2))>0,\"ABSENT\",\"PRESENT\"))","v":""},"",{"$f":"IF(X38=\"PRESENT\",IF(N38=\"PRESENT\",SUMPRODUCT((Stabilo!$F43:$DA43=1)*(Stabilo!$F$5:$DA$5='Résultats élèves'!$D$2)),\"A\"),\"A\")","v":"A"},{"$f":"IF(X38=\"PRESENT\",IF(O38=\"PRESENT\",SUMPRODUCT((Stabilo!$F43:$DA43=1)*(Stabilo!$F$5:$DA$5='Résultats élèves'!$E$2)),\"A\"),\"A\")","v":"A"},{"$f":"IF(X38=\"PRESENT\",IF(P38=\"PRESENT\",SUMPRODUCT((Stabilo!$F43:$DA43=1)*(Stabilo!$F$5:$DA$5='Résultats élèves'!$F$2)),\"A\"),\"A\")","v":"A"},{"$f":"IF(X38=\"PRESENT\",IF(Q38=\"PRESENT\",SUMPRODUCT((Stabilo!$F43:$DA43=1)*(Stabilo!$F$5:$DA$5='Résultats élèves'!$G$2)),\"A\"),\"A\")","v":"A"},{"$f":"IF(X38=\"PRESENT\",IF(R38=\"PRESENT\",SUMPRODUCT((Stabilo!$F43:$DA43=1)*(Stabilo!$F$5:$DA$5='Résultats élèves'!$H$2)),\"A\"),\"A\")","v":"A"},{"$f":"IF(X38=\"PRESENT\",IF(S38=\"PRESENT\",SUMPRODUCT((Stabilo!$F43:$DA43=1)*(Stabilo!$F$5:$DA$5='Résultats élèves'!$I$2)),\"A\"),\"A\")","v":"A"},{"$f":"IF(X38=\"PRESENT\",IF(T38=\"PRESENT\",SUMPRODUCT((Stabilo!$F43:$DA43=1)*(Stabilo!$F$5:$DA$5='Résultats élèves'!$J$2)),\"A\"),\"A\")","v":"A"},{"$f":"IF(X38=\"PRESENT\",IF(U38=\"PRESENT\",SUMPRODUCT((Stabilo!$F43:$DA43=1)*(Stabilo!$F$5:$DA$5='Résultats élèves'!$K$2)),\"A\"),\"A\")","v":"A"},{"$f":"IF(X38=\"PRESENT\",IF(V38=\"PRESENT\",SUMPRODUCT((Stabilo!$F43:$DA43=1)*(Stabilo!$F$5:$DA$5='Résultats élèves'!$L$2)),\"A\"),\"A\")","v":"A"},{"$f":"IF(X38=\"PRESENT\",IF(W38=\"PRESENT\",SUMPRODUCT((Stabilo!$F43:$DA43=1)*(Stabilo!$F$5:$DA$5='Résultats élèves'!$M$2)),\"A\"),\"A\")","v":"A"},{"$f":"SUMPRODUCT((Stabilo!$F$5:$DA$5=1)*(Stabilo!F43:DA43<>\"\"))","v":0},{"$f":"SUMPRODUCT((Stabilo!$F$5:$DA$5=2)*(Stabilo!F43:DA43<>\"\"))","v":0},{"$f":"SUMPRODUCT((Stabilo!$F$5:$DA$5=3)*(Stabilo!F43:DA43<>\"\"))","v":0},{"$f":"SUMPRODUCT((Stabilo!$F$5:$DA$5=4)*(Stabilo!F43:DA43<>\"\"))","v":0},{"$f":"SUMPRODUCT((Stabilo!$F$5:$DA$5=5)*(Stabilo!F43:DA43<>\"\"))","v":0},{"$f":"SUMPRODUCT((Stabilo!$F$5:$DA$5=6)*(Stabilo!F43:DA43<>\"\"))","v":0},{"$f":"SUMPRODUCT((Stabilo!$F$5:$DA$5=7)*(Stabilo!F43:DA43<>\"\"))","v":0},{"$f":"SUMPRODUCT((Stabilo!$F$5:$DA$5=8)*(Stabilo!F43:DA43<>\"\"))","v":0},{"$f":"SUMPRODUCT((Stabilo!$F$5:$DA$5=9)*(Stabilo!F43:DA43<>\"\"))","v":0},{"$f":"SUMPRODUCT((Stabilo!$F$5:$DA$5=10)*(Stabilo!F43:DA43<>\"\"))","v":0}]
[null,36,{"$f":"IF(Accueil!F48=\"\",\"\",Accueil!F48)","v":""},"","","","","","","","","","",{"$f":"IF(N38=\"\",\"\",IF(SUMPRODUCT((Stabilo!$F44:$DA44=\"A\")*(Stabilo!$F$5:$DA$5='Résultats élèves'!$D$2))>0,\"ABSENT\",\"PRESENT\"))","v":"PRESENT"},{"$f":"IF(O38=\"\",\"\",IF(SUMPRODUCT((Stabilo!$F44:$DA44=\"A\")*(Stabilo!$F$5:$DA$5='Résultats élèves'!$E$2))>0,\"ABSENT\",\"PRESENT\"))","v":"PRESENT"},{"$f":"IF(P38=\"\",\"\",IF(SUMPRODUCT((Stabilo!$F44:$DA44=\"A\")*(Stabilo!$F$5:$DA$5='Résultats élèves'!$F$2))>0,\"ABSENT\",\"PRESENT\"))","v":"PRESENT"},{"$f":"IF(Q38=\"\",\"\",IF(SUMPRODUCT((Stabilo!$F44:$DA44=\"A\")*(Stabilo!$F$5:$DA$5='Résultats élèves'!$G$2))>0,\"ABSENT\",\"PRESENT\"))","v":"PRESENT"},{"$f":"IF(R38=\"\",\"\",IF(SUMPRODUCT((Stabilo!$F44:$DA44=\"A\")*(Stabilo!$F$5:$DA$5='Résultats élèves'!$H$2))>0,\"ABSENT\",\"PRESENT\"))","v":""},{"$f":"IF(S38=\"\",\"\",IF(SUMPRODUCT((Stabilo!$F44:$DA44=\"A\")*(Stabilo!$F$5:$DA$5='Résultats élèves'!$I$2))>0,\"ABSENT\",\"PRESENT\"))","v":""},{"$f":"IF(T38=\"\",\"\",IF(SUMPRODUCT((Stabilo!$F44:$DA44=\"A\")*(Stabilo!$F$5:$DA$5='Résultats élèves'!$J$2))>0,\"ABSENT\",\"PRESENT\"))","v":""},{"$f":"IF(U38=\"\",\"\",IF(SUMPRODUCT((Stabilo!$F44:$DA44=\"A\")*(Stabilo!$F$5:$DA$5='Résultats élèves'!$K$2))>0,\"ABSENT\",\"PRESENT\"))","v":""},{"$f":"IF(V38=\"\",\"\",IF(SUMPRODUCT((Stabilo!$F44:$DA44=\"A\")*(Stabilo!$F$5:$DA$5='Résultats élèves'!$L$2))>0,\"ABSENT\",\"PRESENT\"))","v":""},{"$f":"IF(W38=\"\",\"\",IF(SUMPRODUCT((Stabilo!$F44:$DA44=\"A\")*(Stabilo!$F$5:$DA$5='Résultats élèves'!$M$2))>0,\"ABSENT\",\"PRESENT\"))","v":""},"",{"$f":"IF(X39=\"PRESENT\",IF(N39=\"PRESENT\",SUMPRODUCT((Stabilo!$F44:$DA44=1)*(Stabilo!$F$5:$DA$5='Résultats élèves'!$D$2)),\"A\"),\"A\")","v":"A"},{"$f":"IF(X39=\"PRESENT\",IF(O39=\"PRESENT\",SUMPRODUCT((Stabilo!$F44:$DA44=1)*(Stabilo!$F$5:$DA$5='Résultats élèves'!$E$2)),\"A\"),\"A\")","v":"A"},{"$f":"IF(X39=\"PRESENT\",IF(P39=\"PRESENT\",SUMPRODUCT((Stabilo!$F44:$DA44=1)*(Stabilo!$F$5:$DA$5='Résultats élèves'!$F$2)),\"A\"),\"A\")","v":"A"},{"$f":"IF(X39=\"PRESENT\",IF(Q39=\"PRESENT\",SUMPRODUCT((Stabilo!$F44:$DA44=1)*(Stabilo!$F$5:$DA$5='Résultats élèves'!$G$2)),\"A\"),\"A\")","v":"A"},{"$f":"IF(X39=\"PRESENT\",IF(R39=\"PRESENT\",SUMPRODUCT((Stabilo!$F44:$DA44=1)*(Stabilo!$F$5:$DA$5='Résultats élèves'!$H$2)),\"A\"),\"A\")","v":"A"},{"$f":"IF(X39=\"PRESENT\",IF(S39=\"PRESENT\",SUMPRODUCT((Stabilo!$F44:$DA44=1)*(Stabilo!$F$5:$DA$5='Résultats élèves'!$I$2)),\"A\"),\"A\")","v":"A"},{"$f":"IF(X39=\"PRESENT\",IF(T39=\"PRESENT\",SUMPRODUCT((Stabilo!$F44:$DA44=1)*(Stabilo!$F$5:$DA$5='Résultats élèves'!$J$2)),\"A\"),\"A\")","v":"A"},{"$f":"IF(X39=\"PRESENT\",IF(U39=\"PRESENT\",SUMPRODUCT((Stabilo!$F44:$DA44=1)*(Stabilo!$F$5:$DA$5='Résultats élèves'!$K$2)),\"A\"),\"A\")","v":"A"},{"$f":"IF(X39=\"PRESENT\",IF(V39=\"PRESENT\",SUMPRODUCT((Stabilo!$F44:$DA44=1)*(Stabilo!$F$5:$DA$5='Résultats élèves'!$L$2)),\"A\"),\"A\")","v":"A"},{"$f":"IF(X39=\"PRESENT\",IF(W39=\"PRESENT\",SUMPRODUCT((Stabilo!$F44:$DA44=1)*(Stabilo!$F$5:$DA$5='Résultats élèves'!$M$2)),\"A\"),\"A\")","v":"A"},{"$f":"SUMPRODUCT((Stabilo!$F$5:$DA$5=1)*(Stabilo!F44:DA44<>\"\"))","v":0},{"$f":"SUMPRODUCT((Stabilo!$F$5:$DA$5=2)*(Stabilo!F44:DA44<>\"\"))","v":0},{"$f":"SUMPRODUCT((Stabilo!$F$5:$DA$5=3)*(Stabilo!F44:DA44<>\"\"))","v":0},{"$f":"SUMPRODUCT((Stabilo!$F$5:$DA$5=4)*(Stabilo!F44:DA44<>\"\"))","v":0},{"$f":"SUMPRODUCT((Stabilo!$F$5:$DA$5=5)*(Stabilo!F44:DA44<>\"\"))","v":0},{"$f":"SUMPRODUCT((Stabilo!$F$5:$DA$5=6)*(Stabilo!F44:DA44<>\"\"))","v":0},{"$f":"SUMPRODUCT((Stabilo!$F$5:$DA$5=7)*(Stabilo!F44:DA44<>\"\"))","v":0},{"$f":"SUMPRODUCT((Stabilo!$F$5:$DA$5=8)*(Stabilo!F44:DA44<>\"\"))","v":0},{"$f":"SUMPRODUCT((Stabilo!$F$5:$DA$5=9)*(Stabilo!F44:DA44<>\"\"))","v":0},{"$f":"SUMPRODUCT((Stabilo!$F$5:$DA$5=10)*(Stabilo!F44:DA44<>\"\"))","v":0}]
[null,37,{"$f":"IF(Accueil!F49=\"\",\"\",Accueil!F49)","v":""},"","","","","","","","","","",{"$f":"IF(N39=\"\",\"\",IF(SUMPRODUCT((Stabilo!$F45:$DA45=\"A\")*(Stabilo!$F$5:$DA$5='Résultats élèves'!$D$2))>0,\"ABSENT\",\"PRESENT\"))","v":"PRESENT"},{"$f":"IF(O39=\"\",\"\",IF(SUMPRODUCT((Stabilo!$F45:$DA45=\"A\")*(Stabilo!$F$5:$DA$5='Résultats élèves'!$E$2))>0,\"ABSENT\",\"PRESENT\"))","v":"PRESENT"},{"$f":"IF(P39=\"\",\"\",IF(SUMPRODUCT((Stabilo!$F45:$DA45=\"A\")*(Stabilo!$F$5:$DA$5='Résultats élèves'!$F$2))>0,\"ABSENT\",\"PRESENT\"))","v":"PRESENT"},{"$f":"IF(Q39=\"\",\"\",IF(SUMPRODUCT((Stabilo!$F45:$DA45=\"A\")*(Stabilo!$F$5:$DA$5='Résultats élèves'!$G$2))>0,\"ABSENT\",\"PRESENT\"))","v":"PRESENT"},{"$f":"IF(R39=\"\",\"\",IF(SUMPRODUCT((Stabilo!$F45:$DA45=\"A\")*(Stabilo!$F$5:$DA$5='Résultats élèves'!$H$2))>0,\"ABSENT\",\"PRESENT\"))","v":""},{"$f":"IF(S39=\"\",\"\",IF(SUMPRODUCT((Stabilo!$F45:$DA45=\"A\")*(Stabilo!$F$5:$DA$5='Résultats élèves'!$I$2))>0,\"ABSENT\",\"PRESENT\"))","v":""},{"$f":"IF(T39=\"\",\"\",IF(SUMPRODUCT((Stabilo!$F45:$DA45=\"A\")*(Stabilo!$F$5:$DA$5='Résultats élèves'!$J$2))>0,\"ABSENT\",\"PRESENT\"))","v":""},{"$f":"IF(U39=\"\",\"\",IF(SUMPRODUCT((Stabilo!$F45:$DA45=\"A\")*(Stabilo!$F$5:$DA$5='Résultats élèves'!$K$2))>0,\"ABSENT\",\"PRESENT\"))","v":""},{"$f":"IF(V39=\"\",\"\",IF(SUMPRODUCT((Stabilo!$F45:$DA45=\"A\")*(Stabilo!$F$5:$DA$5='Résultats élèves'!$L$2))>0,\"ABSENT\",\"PRESENT\"))","v":""},{"$f":"IF(W39=\"\",\"\",IF(SUMPRODUCT((Stabilo!$F45:$DA45=\"A\")*(Stabilo!$F$5:$DA$5='Résultats élèves'!$M$2))>0,\"ABSENT\",\"PRESENT\"))","v":""},"",{"$f":"IF(X40=\"PRESENT\",IF(N40=\"PRESENT\",SUMPRODUCT((Stabilo!$F45:$DA45=1)*(Stabilo!$F$5:$DA$5='Résultats élèves'!$D$2)),\"A\"),\"A\")","v":"A"},{"$f":"IF(X40=\"PRESENT\",IF(O40=\"PRESENT\",SUMPRODUCT((Stabilo!$F45:$DA45=1)*(Stabilo!$F$5:$DA$5='Résultats élèves'!$E$2)),\"A\"),\"A\")","v":"A"},{"$f":"IF(X40=\"PRESENT\",IF(P40=\"PRESENT\",SUMPRODUCT((Stabilo!$F45:$DA45=1)*(Stabilo!$F$5:$DA$5='Résultats élèves'!$F$2)),\"A\"),\"A\")","v":"A"},{"$f":"IF(X40=\"PRESENT\",IF(Q40=\"PRESENT\",SUMPRODUCT((Stabilo!$F45:$DA45=1)*(Stabilo!$F$5:$DA$5='Résultats élèves'!$G$2)),\"A\"),\"A\")","v":"A"},{"$f":"IF(X40=\"PRESENT\",IF(R40=\"PRESENT\",SUMPRODUCT((Stabilo!$F45:$DA45=1)*(Stabilo!$F$5:$DA$5='Résultats élèves'!$H$2)),\"A\"),\"A\")","v":"A"},{"$f":"IF(X40=\"PRESENT\",IF(S40=\"PRESENT\",SUMPRODUCT((Stabilo!$F45:$DA45=1)*(Stabilo!$F$5:$DA$5='Résultats élèves'!$I$2)),\"A\"),\"A\")","v":"A"},{"$f":"IF(X40=\"PRESENT\",IF(T40=\"PRESENT\",SUMPRODUCT((Stabilo!$F45:$DA45=1)*(Stabilo!$F$5:$DA$5='Résultats élèves'!$J$2)),\"A\"),\"A\")","v":"A"},{"$f":"IF(X40=\"PRESENT\",IF(U40=\"PRESENT\",SUMPRODUCT((Stabilo!$F45:$DA45=1)*(Stabilo!$F$5:$DA$5='Résultats élèves'!$K$2)),\"A\"),\"A\")","v":"A"},{"$f":"IF(X40=\"PRESENT\",IF(V40=\"PRESENT\",SUMPRODUCT((Stabilo!$F45:$DA45=1)*(Stabilo!$F$5:$DA$5='Résultats élèves'!$L$2)),\"A\"),\"A\")","v":"A"},{"$f":"IF(X40=\"PRESENT\",IF(W40=\"PRESENT\",SUMPRODUCT((Stabilo!$F45:$DA45=1)*(Stabilo!$F$5:$DA$5='Résultats élèves'!$M$2)),\"A\"),\"A\")","v":"A"},{"$f":"SUMPRODUCT((Stabilo!$F$5:$DA$5=1)*(Stabilo!F45:DA45<>\"\"))","v":0},{"$f":"SUMPRODUCT((Stabilo!$F$5:$DA$5=2)*(Stabilo!F45:DA45<>\"\"))","v":0},{"$f":"SUMPRODUCT((Stabilo!$F$5:$DA$5=3)*(Stabilo!F45:DA45<>\"\"))","v":0},{"$f":"SUMPRODUCT((Stabilo!$F$5:$DA$5=4)*(Stabilo!F45:DA45<>\"\"))","v":0},{"$f":"SUMPRODUCT((Stabilo!$F$5:$DA$5=5)*(Stabilo!F45:DA45<>\"\"))","v":0},{"$f":"SUMPRODUCT((Stabilo!$F$5:$DA$5=6)*(Stabilo!F45:DA45<>\"\"))","v":0},{"$f":"SUMPRODUCT((Stabilo!$F$5:$DA$5=7)*(Stabilo!F45:DA45<>\"\"))","v":0},{"$f":"SUMPRODUCT((Stabilo!$F$5:$DA$5=8)*(Stabilo!F45:DA45<>\"\"))","v":0},{"$f":"SUMPRODUCT((Stabilo!$F$5:$DA$5=9)*(Stabilo!F45:DA45<>\"\"))","v":0},{"$f":"SUMPRODUCT((Stabilo!$F$5:$DA$5=10)*(Stabilo!F45:DA45<>\"\"))","v":0}]
[null,38,{"$f":"IF(Accueil!F50=\"\",\"\",Accueil!F50)","v":""},"","","","","","","","","","",{"$f":"IF(N40=\"\",\"\",IF(SUMPRODUCT((Stabilo!$F46:$DA46=\"A\")*(Stabilo!$F$5:$DA$5='Résultats élèves'!$D$2))>0,\"ABSENT\",\"PRESENT\"))","v":"PRESENT"},{"$f":"IF(O40=\"\",\"\",IF(SUMPRODUCT((Stabilo!$F46:$DA46=\"A\")*(Stabilo!$F$5:$DA$5='Résultats élèves'!$E$2))>0,\"ABSENT\",\"PRESENT\"))","v":"PRESENT"},{"$f":"IF(P40=\"\",\"\",IF(SUMPRODUCT((Stabilo!$F46:$DA46=\"A\")*(Stabilo!$F$5:$DA$5='Résultats élèves'!$F$2))>0,\"ABSENT\",\"PRESENT\"))","v":"PRESENT"},{"$f":"IF(Q40=\"\",\"\",IF(SUMPRODUCT((Stabilo!$F46:$DA46=\"A\")*(Stabilo!$F$5:$DA$5='Résultats élèves'!$G$2))>0,\"ABSENT\",\"PRESENT\"))","v":"PRESENT"},{"$f":"IF(R40=\"\",\"\",IF(SUMPRODUCT((Stabilo!$F46:$DA46=\"A\")*(Stabilo!$F$5:$DA$5='Résultats élèves'!$H$2))>0,\"ABSENT\",\"PRESENT\"))","v":""},{"$f":"IF(S40=\"\",\"\",IF(SUMPRODUCT((Stabilo!$F46:$DA46=\"A\")*(Stabilo!$F$5:$DA$5='Résultats élèves'!$I$2))>0,\"ABSENT\",\"PRESENT\"))","v":""},{"$f":"IF(T40=\"\",\"\",IF(SUMPRODUCT((Stabilo!$F46:$DA46=\"A\")*(Stabilo!$F$5:$DA$5='Résultats élèves'!$J$2))>0,\"ABSENT\",\"PRESENT\"))","v":""},{"$f":"IF(U40=\"\",\"\",IF(SUMPRODUCT((Stabilo!$F46:$DA46=\"A\")*(Stabilo!$F$5:$DA$5='Résultats élèves'!$K$2))>0,\"ABSENT\",\"PRESENT\"))","v":""},{"$f":"IF(V40=\"\",\"\",IF(SUMPRODUCT((Stabilo!$F46:$DA46=\"A\")*(Stabilo!$F$5:$DA$5='Résultats élèves'!$L$2))>0,\"ABSENT\",\"PRESENT\"))","v":""},{"$f":"IF(W40=\"\",\"\",IF(SUMPRODUCT((Stabilo!$F46:$DA46=\"A\")*(Stabilo!$F$5:$DA$5='Résultats élèves'!$M$2))>0,\"ABSENT\",\"PRESENT\"))","v":""},"",{"$f":"IF(X41=\"PRESENT\",IF(N41=\"PRESENT\",SUMPRODUCT((Stabilo!$F46:$DA46=1)*(Stabilo!$F$5:$DA$5='Résultats élèves'!$D$2)),\"A\"),\"A\")","v":"A"},{"$f":"IF(X41=\"PRESENT\",IF(O41=\"PRESENT\",SUMPRODUCT((Stabilo!$F46:$DA46=1)*(Stabilo!$F$5:$DA$5='Résultats élèves'!$E$2)),\"A\"),\"A\")","v":"A"},{"$f":"IF(X41=\"PRESENT\",IF(P41=\"PRESENT\",SUMPRODUCT((Stabilo!$F46:$DA46=1)*(Stabilo!$F$5:$DA$5='Résultats élèves'!$F$2)),\"A\"),\"A\")","v":"A"},{"$f":"IF(X41=\"PRESENT\",IF(Q41=\"PRESENT\",SUMPRODUCT((Stabilo!$F46:$DA46=1)*(Stabilo!$F$5:$DA$5='Résultats élèves'!$G$2)),\"A\"),\"A\")","v":"A"},{"$f":"IF(X41=\"PRESENT\",IF(R41=\"PRESENT\",SUMPRODUCT((Stabilo!$F46:$DA46=1)*(Stabilo!$F$5:$DA$5='Résultats élèves'!$H$2)),\"A\"),\"A\")","v":"A"},{"$f":"IF(X41=\"PRESENT\",IF(S41=\"PRESENT\",SUMPRODUCT((Stabilo!$F46:$DA46=1)*(Stabilo!$F$5:$DA$5='Résultats élèves'!$I$2)),\"A\"),\"A\")","v":"A"},{"$f":"IF(X41=\"PRESENT\",IF(T41=\"PRESENT\",SUMPRODUCT((Stabilo!$F46:$DA46=1)*(Stabilo!$F$5:$DA$5='Résultats élèves'!$J$2)),\"A\"),\"A\")","v":"A"},{"$f":"IF(X41=\"PRESENT\",IF(U41=\"PRESENT\",SUMPRODUCT((Stabilo!$F46:$DA46=1)*(Stabilo!$F$5:$DA$5='Résultats élèves'!$K$2)),\"A\"),\"A\")","v":"A"},{"$f":"IF(X41=\"PRESENT\",IF(V41=\"PRESENT\",SUMPRODUCT((Stabilo!$F46:$DA46=1)*(Stabilo!$F$5:$DA$5='Résultats élèves'!$L$2)),\"A\"),\"A\")","v":"A"},{"$f":"IF(X41=\"PRESENT\",IF(W41=\"PRESENT\",SUMPRODUCT((Stabilo!$F46:$DA46=1)*(Stabilo!$F$5:$DA$5='Résultats élèves'!$M$2)),\"A\"),\"A\")","v":"A"},{"$f":"SUMPRODUCT((Stabilo!$F$5:$DA$5=1)*(Stabilo!F46:DA46<>\"\"))","v":0},{"$f":"SUMPRODUCT((Stabilo!$F$5:$DA$5=2)*(Stabilo!F46:DA46<>\"\"))","v":0},{"$f":"SUMPRODUCT((Stabilo!$F$5:$DA$5=3)*(Stabilo!F46:DA46<>\"\"))","v":0},{"$f":"SUMPRODUCT((Stabilo!$F$5:$DA$5=4)*(Stabilo!F46:DA46<>\"\"))","v":0},{"$f":"SUMPRODUCT((Stabilo!$F$5:$DA$5=5)*(Stabilo!F46:DA46<>\"\"))","v":0},{"$f":"SUMPRODUCT((Stabilo!$F$5:$DA$5=6)*(Stabilo!F46:DA46<>\"\"))","v":0},{"$f":"SUMPRODUCT((Stabilo!$F$5:$DA$5=7)*(Stabilo!F46:DA46<>\"\"))","v":0},{"$f":"SUMPRODUCT((Stabilo!$F$5:$DA$5=8)*(Stabilo!F46:DA46<>\"\"))","v":0},{"$f":"SUMPRODUCT((Stabilo!$F$5:$DA$5=9)*(Stabilo!F46:DA46<>\"\"))","v":0},{"$f":"SUMPRODUCT((Stabilo!$F$5:$DA$5=10)*(Stabilo!F46:DA46<>\"\"))","v":0}]
[null,39,{"$f":"IF(Accueil!F51=\"\",\"\",Accueil!F51)","v":""},"","","","","","","","","","",{"$f":"IF(N41=\"\",\"\",IF(SUMPRODUCT((Stabilo!$F47:$DA47=\"A\")*(Stabilo!$F$5:$DA$5='Résultats élèves'!$D$2))>0,\"ABSENT\",\"PRESENT\"))","v":"PRESENT"},{"$f":"IF(O41=\"\",\"\",IF(SUMPRODUCT((Stabilo!$F47:$DA47=\"A\")*(Stabilo!$F$5:$DA$5='Résultats élèves'!$E$2))>0,\"ABSENT\",\"PRESENT\"))","v":"PRESENT"},{"$f":"IF(P41=\"\",\"\",IF(SUMPRODUCT((Stabilo!$F47:$DA47=\"A\")*(Stabilo!$F$5:$DA$5='Résultats élèves'!$F$2))>0,\"ABSENT\",\"PRESENT\"))","v":"PRESENT"},{"$f":"IF(Q41=\"\",\"\",IF(SUMPRODUCT((Stabilo!$F47:$DA47=\"A\")*(Stabilo!$F$5:$DA$5='Résultats élèves'!$G$2))>0,\"ABSENT\",\"PRESENT\"))","v":"PRESENT"},{"$f":"IF(R41=\"\",\"\",IF(SUMPRODUCT((Stabilo!$F47:$DA47=\"A\")*(Stabilo!$F$5:$DA$5='Résultats élèves'!$H$2))>0,\"ABSENT\",\"PRESENT\"))","v":""},{"$f":"IF(S41=\"\",\"\",IF(SUMPRODUCT((Stabilo!$F47:$DA47=\"A\")*(Stabilo!$F$5:$DA$5='Résultats élèves'!$I$2))>0,\"ABSENT\",\"PRESENT\"))","v":""},{"$f":"IF(T41=\"\",\"\",IF(SUMPRODUCT((Stabilo!$F47:$DA47=\"A\")*(Stabilo!$F$5:$DA$5='Résultats élèves'!$J$2))>0,\"ABSENT\",\"PRESENT\"))","v":""},{"$f":"IF(U41=\"\",\"\",IF(SUMPRODUCT((Stabilo!$F47:$DA47=\"A\")*(Stabilo!$F$5:$DA$5='Résultats élèves'!$K$2))>0,\"ABSENT\",\"PRESENT\"))","v":""},{"$f":"IF(V41=\"\",\"\",IF(SUMPRODUCT((Stabilo!$F47:$DA47=\"A\")*(Stabilo!$F$5:$DA$5='Résultats élèves'!$L$2))>0,\"ABSENT\",\"PRESENT\"))","v":""},{"$f":"IF(W41=\"\",\"\",IF(SUMPRODUCT((Stabilo!$F47:$DA47=\"A\")*(Stabilo!$F$5:$DA$5='Résultats élèves'!$M$2))>0,\"ABSENT\",\"PRESENT\"))","v":""},"",{"$f":"IF(X42=\"PRESENT\",IF(N42=\"PRESENT\",SUMPRODUCT((Stabilo!$F47:$DA47=1)*(Stabilo!$F$5:$DA$5='Résultats élèves'!$D$2)),\"A\"),\"A\")","v":"A"},{"$f":"IF(X42=\"PRESENT\",IF(O42=\"PRESENT\",SUMPRODUCT((Stabilo!$F47:$DA47=1)*(Stabilo!$F$5:$DA$5='Résultats élèves'!$E$2)),\"A\"),\"A\")","v":"A"},{"$f":"IF(X42=\"PRESENT\",IF(P42=\"PRESENT\",SUMPRODUCT((Stabilo!$F47:$DA47=1)*(Stabilo!$F$5:$DA$5='Résultats élèves'!$F$2)),\"A\"),\"A\")","v":"A"},{"$f":"IF(X42=\"PRESENT\",IF(Q42=\"PRESENT\",SUMPRODUCT((Stabilo!$F47:$DA47=1)*(Stabilo!$F$5:$DA$5='Résultats élèves'!$G$2)),\"A\"),\"A\")","v":"A"},{"$f":"IF(X42=\"PRESENT\",IF(R42=\"PRESENT\",SUMPRODUCT((Stabilo!$F47:$DA47=1)*(Stabilo!$F$5:$DA$5='Résultats élèves'!$H$2)),\"A\"),\"A\")","v":"A"},{"$f":"IF(X42=\"PRESENT\",IF(S42=\"PRESENT\",SUMPRODUCT((Stabilo!$F47:$DA47=1)*(Stabilo!$F$5:$DA$5='Résultats élèves'!$I$2)),\"A\"),\"A\")","v":"A"},{"$f":"IF(X42=\"PRESENT\",IF(T42=\"PRESENT\",SUMPRODUCT((Stabilo!$F47:$DA47=1)*(Stabilo!$F$5:$DA$5='Résultats élèves'!$J$2)),\"A\"),\"A\")","v":"A"},{"$f":"IF(X42=\"PRESENT\",IF(U42=\"PRESENT\",SUMPRODUCT((Stabilo!$F47:$DA47=1)*(Stabilo!$F$5:$DA$5='Résultats élèves'!$K$2)),\"A\"),\"A\")","v":"A"},{"$f":"IF(X42=\"PRESENT\",IF(V42=\"PRESENT\",SUMPRODUCT((Stabilo!$F47:$DA47=1)*(Stabilo!$F$5:$DA$5='Résultats élèves'!$L$2)),\"A\"),\"A\")","v":"A"},{"$f":"IF(X42=\"PRESENT\",IF(W42=\"PRESENT\",SUMPRODUCT((Stabilo!$F47:$DA47=1)*(Stabilo!$F$5:$DA$5='Résultats élèves'!$M$2)),\"A\"),\"A\")","v":"A"},{"$f":"SUMPRODUCT((Stabilo!$F$5:$DA$5=1)*(Stabilo!F47:DA47<>\"\"))","v":0},{"$f":"SUMPRODUCT((Stabilo!$F$5:$DA$5=2)*(Stabilo!F47:DA47<>\"\"))","v":0},{"$f":"SUMPRODUCT((Stabilo!$F$5:$DA$5=3)*(Stabilo!F47:DA47<>\"\"))","v":0},{"$f":"SUMPRODUCT((Stabilo!$F$5:$DA$5=4)*(Stabilo!F47:DA47<>\"\"))","v":0},{"$f":"SUMPRODUCT((Stabilo!$F$5:$DA$5=5)*(Stabilo!F47:DA47<>\"\"))","v":0},{"$f":"SUMPRODUCT((Stabilo!$F$5:$DA$5=6)*(Stabilo!F47:DA47<>\"\"))","v":0},{"$f":"SUMPRODUCT((Stabilo!$F$5:$DA$5=7)*(Stabilo!F47:DA47<>\"\"))","v":0},{"$f":"SUMPRODUCT((Stabilo!$F$5:$DA$5=8)*(Stabilo!F47:DA47<>\"\"))","v":0},{"$f":"SUMPRODUCT((Stabilo!$F$5:$DA$5=9)*(Stabilo!F47:DA47<>\"\"))","v":0},{"$f":"SUMPRODUCT((Stabilo!$F$5:$DA$5=10)*(Stabilo!F47:DA47<>\"\"))","v":0}]
[null,40,{"$f":"IF(Accueil!F52=\"\",\"\",Accueil!F52)","v":""},"","","","","","","","","","",{"$f":"IF(N42=\"\",\"\",IF(SUMPRODUCT((Stabilo!$F48:$DA48=\"A\")*(Stabilo!$F$5:$DA$5='Résultats élèves'!$D$2))>0,\"ABSENT\",\"PRESENT\"))","v":"PRESENT"},{"$f":"IF(O42=\"\",\"\",IF(SUMPRODUCT((Stabilo!$F48:$DA48=\"A\")*(Stabilo!$F$5:$DA$5='Résultats élèves'!$E$2))>0,\"ABSENT\",\"PRESENT\"))","v":"PRESENT"},{"$f":"IF(P42=\"\",\"\",IF(SUMPRODUCT((Stabilo!$F48:$DA48=\"A\")*(Stabilo!$F$5:$DA$5='Résultats élèves'!$F$2))>0,\"ABSENT\",\"PRESENT\"))","v":"PRESENT"},{"$f":"IF(Q42=\"\",\"\",IF(SUMPRODUCT((Stabilo!$F48:$DA48=\"A\")*(Stabilo!$F$5:$DA$5='Résultats élèves'!$G$2))>0,\"ABSENT\",\"PRESENT\"))","v":"PRESENT"},{"$f":"IF(R42=\"\",\"\",IF(SUMPRODUCT((Stabilo!$F48:$DA48=\"A\")*(Stabilo!$F$5:$DA$5='Résultats élèves'!$H$2))>0,\"ABSENT\",\"PRESENT\"))","v":""},{"$f":"IF(S42=\"\",\"\",IF(SUMPRODUCT((Stabilo!$F48:$DA48=\"A\")*(Stabilo!$F$5:$DA$5='Résultats élèves'!$I$2))>0,\"ABSENT\",\"PRESENT\"))","v":""},{"$f":"IF(T42=\"\",\"\",IF(SUMPRODUCT((Stabilo!$F48:$DA48=\"A\")*(Stabilo!$F$5:$DA$5='Résultats élèves'!$J$2))>0,\"ABSENT\",\"PRESENT\"))","v":""},{"$f":"IF(U42=\"\",\"\",IF(SUMPRODUCT((Stabilo!$F48:$DA48=\"A\")*(Stabilo!$F$5:$DA$5='Résultats élèves'!$K$2))>0,\"ABSENT\",\"PRESENT\"))","v":""},{"$f":"IF(V42=\"\",\"\",IF(SUMPRODUCT((Stabilo!$F48:$DA48=\"A\")*(Stabilo!$F$5:$DA$5='Résultats élèves'!$L$2))>0,\"ABSENT\",\"PRESENT\"))","v":""},{"$f":"IF(W42=\"\",\"\",IF(SUMPRODUCT((Stabilo!$F48:$DA48=\"A\")*(Stabilo!$F$5:$DA$5='Résultats élèves'!$M$2))>0,\"ABSENT\",\"PRESENT\"))","v":""},"",{"$f":"IF(X43=\"PRESENT\",IF(N43=\"PRESENT\",SUMPRODUCT((Stabilo!$F48:$DA48=1)*(Stabilo!$F$5:$DA$5='Résultats élèves'!$D$2)),\"A\"),\"A\")","v":"A"},{"$f":"IF(X43=\"PRESENT\",IF(O43=\"PRESENT\",SUMPRODUCT((Stabilo!$F48:$DA48=1)*(Stabilo!$F$5:$DA$5='Résultats élèves'!$E$2)),\"A\"),\"A\")","v":"A"},{"$f":"IF(X43=\"PRESENT\",IF(P43=\"PRESENT\",SUMPRODUCT((Stabilo!$F48:$DA48=1)*(Stabilo!$F$5:$DA$5='Résultats élèves'!$F$2)),\"A\"),\"A\")","v":"A"},{"$f":"IF(X43=\"PRESENT\",IF(Q43=\"PRESENT\",SUMPRODUCT((Stabilo!$F48:$DA48=1)*(Stabilo!$F$5:$DA$5='Résultats élèves'!$G$2)),\"A\"),\"A\")","v":"A"},{"$f":"IF(X43=\"PRESENT\",IF(R43=\"PRESENT\",SUMPRODUCT((Stabilo!$F48:$DA48=1)*(Stabilo!$F$5:$DA$5='Résultats élèves'!$H$2)),\"A\"),\"A\")","v":"A"},{"$f":"IF(X43=\"PRESENT\",IF(S43=\"PRESENT\",SUMPRODUCT((Stabilo!$F48:$DA48=1)*(Stabilo!$F$5:$DA$5='Résultats élèves'!$I$2)),\"A\"),\"A\")","v":"A"},{"$f":"IF(X43=\"PRESENT\",IF(T43=\"PRESENT\",SUMPRODUCT((Stabilo!$F48:$DA48=1)*(Stabilo!$F$5:$DA$5='Résultats élèves'!$J$2)),\"A\"),\"A\")","v":"A"},{"$f":"IF(X43=\"PRESENT\",IF(U43=\"PRESENT\",SUMPRODUCT((Stabilo!$F48:$DA48=1)*(Stabilo!$F$5:$DA$5='Résultats élèves'!$K$2)),\"A\"),\"A\")","v":"A"},{"$f":"IF(X43=\"PRESENT\",IF(V43=\"PRESENT\",SUMPRODUCT((Stabilo!$F48:$DA48=1)*(Stabilo!$F$5:$DA$5='Résultats élèves'!$L$2)),\"A\"),\"A\")","v":"A"},{"$f":"IF(X43=\"PRESENT\",IF(W43=\"PRESENT\",SUMPRODUCT((Stabilo!$F48:$DA48=1)*(Stabilo!$F$5:$DA$5='Résultats élèves'!$M$2)),\"A\"),\"A\")","v":"A"},{"$f":"SUMPRODUCT((Stabilo!$F$5:$DA$5=1)*(Stabilo!F48:DA48<>\"\"))","v":0},{"$f":"SUMPRODUCT((Stabilo!$F$5:$DA$5=2)*(Stabilo!F48:DA48<>\"\"))","v":0},{"$f":"SUMPRODUCT((Stabilo!$F$5:$DA$5=3)*(Stabilo!F48:DA48<>\"\"))","v":0},{"$f":"SUMPRODUCT((Stabilo!$F$5:$DA$5=4)*(Stabilo!F48:DA48<>\"\"))","v":0},{"$f":"SUMPRODUCT((Stabilo!$F$5:$DA$5=5)*(Stabilo!F48:DA48<>\"\"))","v":0},{"$f":"SUMPRODUCT((Stabilo!$F$5:$DA$5=6)*(Stabilo!F48:DA48<>\"\"))","v":0},{"$f":"SUMPRODUCT((Stabilo!$F$5:$DA$5=7)*(Stabilo!F48:DA48<>\"\"))","v":0},{"$f":"SUMPRODUCT((Stabilo!$F$5:$DA$5=8)*(Stabilo!F48:DA48<>\"\"))","v":0},{"$f":"SUMPRODUCT((Stabilo!$F$5:$DA$5=9)*(Stabilo!F48:DA48<>\"\"))","v":0},{"$f":"SUMPRODUCT((Stabilo!$F$5:$DA$5=10)*(Stabilo!F48:DA48<>\"\"))","v":0}]

{"sheet":"Synthèse classe","index":3,"n_rows":66,"n_cols":16,"rows_kept":66,"cut":false,"hidden":false,"merged":[[23,0,32,0],[20,12,22,12],[23,12,26,12],[18,13,22,13],[23,13,32,13],[18,12,19,12],[27,12,30,12],[18,1,19,1],[23,1,26,1],[20,1,22,1],[27,1,30,1],[31,12,32,12],[7,12,9,12],[10,12,12,12],[13,12,15,12],[16,12,17,12],[18,0,22,0],[102,1,102,12],[51,0,51,13],[65,0,65,13],[53,1,53,9],[54,1,54,9],[55,1,55,9],[56,1,56,9],[57,1,57,9],[58,1,58,9],[59,1,59,9],[0,0,2,0],[0,1,2,1],[0,2,2,2],[0,3,2,3],[13,1,15,1],[3,0,12,0],[13,0,17,0],[7,1,9,1],[10,1,12,1],[0,4,2,4],[60,1,60,9],[61,1,61,9],[62,1,62,9],[0,14,2,14],[0,5,2,5],[0,6,2,6],[0,7,2,7],[0,8,2,8],[0,9,2,9],[3,13,12,13],[3,1,5,1],[16,1,17,1],[31,1,32,1],[13,13,17,13],[3,12,5,12],[0,15,2,15],[0,11,2,11],[0,12,2,12],[0,13,2,13],[0,10,2,10]]}
[{"$f":"IF(Nom_etab=\"\",\"\",Nom_etab)","v":""},{"$f":"IF(Accueil!A2=\"\",\"\",Accueil!A2)","v":"Évaluations mathématiques CM1"},"Items",{"$f":"IF(Stabilo!$D$57=\"\",\"\",Stabilo!$D$57)","v":"Nombre d'élèves évalués"},{"$f":"IF(Stabilo!$D$50=\"\",\"\",Stabilo!D50)","v":"Réponse(s) attendue(s) (Code 1)"},{"$f":"IF(Stabilo!$D$51=\"\",\"\",Stabilo!D51)","v":"Réussite partielle sans erreur (Code 3)"},{"$f":"IF(Stabilo!$D$52=\"\",\"\",Stabilo!D52)","v":"Réussite partielle avec erreur (Code 4)"},{"$f":"IF(Stabilo!$D$53=\"\",\"\",Stabilo!D53)","v":"Autres réponses (Code 9)"},{"$f":"IF(Stabilo!$D$54=\"\",\"\",Stabilo!D54)","v":"Absence de réponse (Code 0)"},{"$f":"IF(Stabilo!$D$55=\"\",\"\",Stabilo!D55)","v":"Élève absent (Code A)"},"Taux de réussite","Taux de réussite partielle","Taux de réussite\nde la composante","Taux de réussite\nde la compétence","Numéro de compétence","Numéro de composante"]
[]
[]
[{"$f":"IF(COMP1=\"\",\"\",COMP1)","v":"CP 1 : Nommer, lire, écrire, représenter des nombres entiers"},{"$f":"IF(COMS1=\"\",\"\",COMS1)","v":"Écrire des nombres entiers jusqu’à 10 000 "},1,{"$f":"IF(ISERROR(HLOOKUP(C4,Resultats_ecole,9)),\"\",HLOOKUP(C4,Resultats_ecole,9))","v":0},{"$f":"IF(ISERROR(HLOOKUP(C4,Resultats_ecole,2)),\"\",HLOOKUP(C4,Resultats_ecole,2))","v":0},{"$f":"IF(ISERROR(HLOOKUP(C4,Resultats_ecole,3)),\"\",HLOOKUP(C4,Resultats_ecole,3))","v":0},{"$f":"IF(ISERROR(HLOOKUP(C4,Resultats_ecole,4)),\"\",HLOOKUP(C4,Resultats_ecole,4))","v":0},{"$f":"IF(ISERROR(HLOOKUP(C4,Resultats_ecole,5)),\"\",HLOOKUP(C4,Resultats_ecole,5))","v":0},{"$f":"IF(ISERROR(HLOOKUP(C4,Resultats_ecole,6)),\"\",HLOOKUP(C4,Resultats_ecole,6))","v":0},{"$f":"IF(ISERROR(HLOOKUP(C4,Resultats_ecole,7)),\"\",HLOOKUP(C4,Resultats_ecole,7))","v":0},{"$f":"IF(ISERROR(E4/D4),\"\",ROUND(E4/D4,2))","v":""},{"$f":"IF(ISERROR((F4+G4)/D4),\"\",ROUND((F4+G4)/D4,2))","v":""},{"$f":"IF(ISERROR(SUMIF($P$4:$P$50,P4,$E$4:$E$50)/SUMIF($P$4:$P$50,P4,$D$4:$D$50)),\"\",ROUND(SUMIF($P$4:$P$50,P4,$E$4:$E$50)/SUMIF($P$4:$P$50,P4,$D$4:$D$50),3))","v":""},{"$f":"IF(ISERROR(SUMIF($O$4:$O$50,O4,$E$4:$E$50)/SUMIF($O$4:$O$50,O4,$D$4:$D$50)),\"\",ROUND(SUMIF($O$4:$O$50,O4,$E$4:$E$50)/SUMIF($O$4:$O$50,O4,$D$4:$D$50),3))","v":""},{"$f":"IF(ISERROR(INDEX(Accueil!$M$27:$N$56,MATCH(VLOOKUP(C4,Accueil!$Q$27:$R$126,2),Accueil!$M$27:$M$56,0),2)),\"\",INDEX(Accueil!$M$27:$N$56,MATCH(VLOOKUP(C4,Accueil!$Q$27:$R$126,2),Accueil!$M$27:$M$56,0),2))","v":1},{"$f":"IF(ISERROR(INDEX(Accueil!$L$27:$M$56,MATCH(VLOOKUP(C4,Accueil!$Q$27:$R$126,2),Accueil!$M$27:$M$56,0),1)),\"\",INDEX(Accueil!$L$27:$M$56,MATCH(VLOOKUP(C4,Accueil!$Q$27:$R$126,2),Accueil!$M$27:$M$56,0),1))","v":1}]
[null,null,2,{"$f":"IF(ISERROR(HLOOKUP(C5,Resultats_ecole,9)),\"\",HLOOKUP(C5,Resultats_ecole,9))","v":0},{"$f":"IF(ISERROR(HLOOKUP(C5,Resultats_ecole,2)),\"\",HLOOKUP(C5,Resultats_ecole,2))","v":0},{"$f":"IF(ISERROR(HLOOKUP(C5,Resultats_ecole,3)),\"\",HLOOKUP(C5,Resultats_ecole,3))","v":0},{"$f":"IF(ISERROR(HLOOKUP(C5,Resultats_ecole,4)),\"\",HLOOKUP(C5,Resultats_ecole,4))","v":0},{"$f":"IF(ISERROR(HLOOKUP(C5,Resultats_ecole,5)),\"\",HLOOKUP(C5,Resultats_ecole,5))","v":0},{"$f":"IF(ISERROR(HLOOKUP(C5,Resultats_ecole,6)),\"\",HLOOKUP(C5,Resultats_ecole,6))","v":0},{"$f":"IF(ISERROR(HLOOKUP(C5,Resultats_ecole,7)),\"\",HLOOKUP(C5,Resultats_ecole,7))","v":0},{"$f":"IF(ISERROR(E5/D5),\"\",ROUND(E5/D5,2))","v":""},{"$f":"IF(ISERROR((F5+G5)/D5),\"\",ROUND((F5+G5)/D5,2))","v":""},null,null,{"$f":"IF(ISERROR(INDEX(Accueil!$M$27:$N$56,MATCH(VLOOKUP(C5,Accueil!$Q$27:$R$126,2),Accueil!$M$27:$M$56,0),2)),\"\",INDEX(Accueil!$M$27:$N$56,MATCH(VLOOKUP(C5,Accueil!$Q$27:$R$126,2),Accueil!$M$27:$M$56,0),2))","v":1},{"$f":"IF(ISERROR(INDEX(Accueil!$L$27:$M$56,MATCH(VLOOKUP(C5,Accueil!$Q$27:$R$126,2),Accueil!$M$27:$M$56,0),1)),\"\",INDEX(Accueil!$L$27:$M$56,MATCH(VLOOKUP(C5,Accueil!$Q$27:$R$126,2),Accueil!$M$27:$M$56,0),1))","v":1}]
[null,null,3,0,0,0,0,0,0,0,"","",null,null,{"$f":"IF(ISERROR(INDEX(Accueil!$M$27:$N$56,MATCH(VLOOKUP(C6,Accueil!$Q$27:$R$126,2),Accueil!$M$27:$M$56,0),2)),\"\",INDEX(Accueil!$M$27:$N$56,MATCH(VLOOKUP(C6,Accueil!$Q$27:$R$126,2),Accueil!$M$27:$M$56,0),2))","v":1},{"$f":"IF(ISERROR(INDEX(Accueil!$L$27:$M$56,MATCH(VLOOKUP(C6,Accueil!$Q$27:$R$126,2),Accueil!$M$27:$M$56,0),1)),\"\",INDEX(Accueil!$L$27:$M$56,MATCH(VLOOKUP(C6,Accueil!$Q$27:$R$126,2),Accueil!$M$27:$M$56,0),1))","v":1}]
[null,{"$f":"IF(COMS2=\"\",\"\",COMS2)","v":"Associer un nombre entendu à l’oral à son écriture chiffrée "},14,0,0,0,0,0,0,0,"","",{"$f":"IF(ISERROR(SUMIF($P$4:$P$50,P7,$E$4:$E$50)/SUMIF($P$4:$P$50,P7,$D$4:$D$50)),\"\",ROUND(SUMIF($P$4:$P$50,P7,$E$4:$E$50)/SUMIF($P$4:$P$50,P7,$D$4:$D$50),3))","v":""},null,{"$f":"IF(ISERROR(INDEX(Accueil!$M$27:$N$56,MATCH(VLOOKUP(C7,Accueil!$Q$27:$R$126,2),Accueil!$M$27:$M$56,0),2)),\"\",INDEX(Accueil!$M$27:$N$56,MATCH(VLOOKUP(C7,Accueil!$Q$27:$R$126,2),Accueil!$M$27:$M$56,0),2))","v":1},{"$f":"IF(ISERROR(INDEX(Accueil!$L$27:$M$56,MATCH(VLOOKUP(C7,Accueil!$Q$27:$R$126,2),Accueil!$M$27:$M$56,0),1)),\"\",INDEX(Accueil!$L$27:$M$56,MATCH(VLOOKUP(C7,Accueil!$Q$27:$R$126,2),Accueil!$M$27:$M$56,0),1))","v":2}]
[null,{"$f":"IF(COMS3=\"\",\"\",COMS3)","v":"Associer un nombre écrit en chiffre avec différentes représentations"},26,0,0,0,0,0,0,0,"","",{"$f":"IF(ISERROR(SUMIF($P$4:$P$50,P8,$E$4:$E$50)/SUMIF($P$4:$P$50,P8,$D$4:$D$50)),\"\",ROUND(SUMIF($P$4:$P$50,P8,$E$4:$E$50)/SUMIF($P$4:$P$50,P8,$D$4:$D$50),3))","v":""},null,{"$f":"IF(ISERROR(INDEX(Accueil!$M$27:$N$56,MATCH(VLOOKUP(C8,Accueil!$Q$27:$R$126,2),Accueil!$M$27:$M$56,0),2)),\"\",INDEX(Accueil!$M$27:$N$56,MATCH(VLOOKUP(C8,Accueil!$Q$27:$R$126,2),Accueil!$M$27:$M$56,0),2))","v":1},{"$f":"IF(ISERROR(INDEX(Accueil!$L$27:$M$56,MATCH(VLOOKUP(C8,Accueil!$Q$27:$R$126,2),Accueil!$M$27:$M$56,0),1)),\"\",INDEX(Accueil!$L$27:$M$56,MATCH(VLOOKUP(C8,Accueil!$Q$27:$R$126,2),Accueil!$M$27:$M$56,0),1))","v":3}]
[null,null,27,0,0,0,0,0,0,0,"","",null,null,{"$f":"IF(ISERROR(INDEX(Accueil!$M$27:$N$56,MATCH(VLOOKUP(C9,Accueil!$Q$27:$R$126,2),Accueil!$M$27:$M$56,0),2)),\"\",INDEX(Accueil!$M$27:$N$56,MATCH(VLOOKUP(C9,Accueil!$Q$27:$R$126,2),Accueil!$M$27:$M$56,0),2))","v":1},{"$f":"IF(ISERROR(INDEX(Accueil!$L$27:$M$56,MATCH(VLOOKUP(C9,Accueil!$Q$27:$R$126,2),Accueil!$M$27:$M$56,0),1)),\"\",INDEX(Accueil!$L$27:$M$56,MATCH(VLOOKUP(C9,Accueil!$Q$27:$R$126,2),Accueil!$M$27:$M$56,0),1))","v":3}]
[null,null,28,0,0,0,0,0,0,0,"","",null,null,{"$f":"IF(ISERROR(INDEX(Accueil!$M$27:$N$56,MATCH(VLOOKUP(C10,Accueil!$Q$27:$R$126,2),Accueil!$M$27:$M$56,0),2)),\"\",INDEX(Accueil!$M$27:$N$56,MATCH(VLOOKUP(C10,Accueil!$Q$27:$R$126,2),Accueil!$M$27:$M$56,0),2))","v":1},{"$f":"IF(ISERROR(INDEX(Accueil!$L$27:$M$56,MATCH(VLOOKUP(C10,Accueil!$Q$27:$R$126,2),Accueil!$M$27:$M$56,0),1)),\"\",INDEX(Accueil!$L$27:$M$56,MATCH(VLOOKUP(C10,Accueil!$Q$27:$R$126,2),Accueil!$M$27:$M$56,0),1))","v":3}]
[null,{"$f":"IF(COMS4=\"\",\"\",COMS4)","v":"Associer un nombre entier à une position sur une demi-droite graduée "},5,0,0,0,0,0,0,0,"","",{"$f":"IF(ISERROR(SUMIF($P$4:$P$50,P11,$E$4:$E$50)/SUMIF($P$4:$P$50,P11,$D$4:$D$50)),\"\",ROUND(SUMIF($P$4:$P$50,P11,$E$4:$E$50)/SUMIF($P$4:$P$50,P11,$D$4:$D$50),3))","v":""},null,{"$f":"IF(ISERROR(INDEX(Accueil!$M$27:$N$56,MATCH(VLOOKUP(C11,Accueil!$Q$27:$R$126,2),Accueil!$M$27:$M$56,0),2)),\"\",INDEX(Accueil!$M$27:$N$56,MATCH(VLOOKUP(C11,Accueil!$Q$27:$R$126,2),Accueil!$M$27:$M$56,0),2))","v":1},{"$f":"IF(ISERROR(INDEX(Accueil!$L$27:$M$56,MATCH(VLOOKUP(C11,Accueil!$Q$27:$R$126,2),Accueil!$M$27:$M$56,0),1)),\"\",INDEX(Accueil!$L$27:$M$56,MATCH(VLOOKUP(C11,Accueil!$Q$27:$R$126,2),Accueil!$M$27:$M$56,0),1))","v":4}]
[null,null,6,0,0,0,0,0,0,0,"","",null,null,{"$f":"IF(ISERROR(INDEX(Accueil!$M$27:$N$56,MATCH(VLOOKUP(C12,Accueil!$Q$27:$R$126,2),Accueil!$M$27:$M$56,0),2)),\"\",INDEX(Accueil!$M$27:$N$56,MATCH(VLOOKUP(C12,Accueil!$Q$27:$R$126,2),Accueil!$M$27:$M$56,0),2))","v":1},{"$f":"IF(ISERROR(INDEX(Accueil!$L$27:$M$56,MATCH(VLOOKUP(C12,Accueil!$Q$27:$R$126,2),Accueil!$M$27:$M$56,0),1)),\"\",INDEX(Accueil!$L$27:$M$56,MATCH(VLOOKUP(C12,Accueil!$Q$27:$R$126,2),Accueil!$M$27:$M$56,0),1))","v":4}]
[null,null,7,0,0,0,0,0,0,0,"","",null,null,{"$f":"IF(ISERROR(INDEX(Accueil!$M$27:$N$56,MATCH(VLOOKUP(C13,Accueil!$Q$27:$R$126,2),Accueil!$M$27:$M$56,0),2)),\"\",INDEX(Accueil!$M$27:$N$56,MATCH(VLOOKUP(C13,Accueil!$Q$27:$R$126,2),Accueil!$M$27:$M$56,0),2))","v":1},{"$f":"IF(ISERROR(INDEX(Accueil!$L$27:$M$56,MATCH(VLOOKUP(C13,Accueil!$Q$27:$R$126,2),Accueil!$M$27:$M$56,0),1)),\"\",INDEX(Accueil!$L$27:$M$56,MATCH(VLOOKUP(C13,Accueil!$Q$27:$R$126,2),Accueil!$M$27:$M$56,0),1))","v":4}]
[{"$f":"IF(COMP2=\"\",\"\",COMP2)","v":"CP 2 : Comprendre et utiliser des nombres entiers pour dénombrer, ordonner, repérer, comparer"},{"$f":"IF(COMS5=\"\",\"\",COMS5)","v":"Comparer, ranger, encadrer, ordonner, intercaler des nombres entiers"},20,0,0,0,0,0,0,0,"","",{"$f":"IF(ISERROR(SUMIF($P$4:$P$50,P14,$E$4:$E$50)/SUMIF($P$4:$P$50,P14,$D$4:$D$50)),\"\",ROUND(SUMIF($P$4:$P$50,P14,$E$4:$E$50)/SUMIF($P$4:$P$50,P14,$D$4:$D$50),3))","v":""},{"$f":"IF(ISERROR(SUMIF($O$4:$O$50,O14,$E$4:$E$50)/SUMIF($O$4:$O$50,O14,$D$4:$D$50)),\"\",ROUND(SUMIF($O$4:$O$50,O14,$E$4:$E$50)/SUMIF($O$4:$O$50,O14,$D$4:$D$50),3))","v":""},{"$f":"IF(ISERROR(INDEX(Accueil!$M$27:$N$56,MATCH(VLOOKUP(C14,Accueil!$Q$27:$R$126,2),Accueil!$M$27:$M$56,0),2)),\"\",INDEX(Accueil!$M$27:$N$56,MATCH(VLOOKUP(C14,Accueil!$Q$27:$R$126,2),Accueil!$M$27:$M$56,0),2))","v":2},{"$f":"IF(ISERROR(INDEX(Accueil!$L$27:$M$56,MATCH(VLOOKUP(C14,Accueil!$Q$27:$R$126,2),Accueil!$M$27:$M$56,0),1)),\"\",INDEX(Accueil!$L$27:$M$56,MATCH(VLOOKUP(C14,Accueil!$Q$27:$R$126,2),Accueil!$M$27:$M$56,0),1))","v":5}]
[null,null,21,0,0,0,0,0,0,0,"","",null,null,{"$f":"IF(ISERROR(INDEX(Accueil!$M$27:$N$56,MATCH(VLOOKUP(C15,Accueil!$Q$27:$R$126,2),Accueil!$M$27:$M$56,0),2)),\"\",INDEX(Accueil!$M$27:$N$56,MATCH(VLOOKUP(C15,Accueil!$Q$27:$R$126,2),Accueil!$M$27:$M$56,0),2))","v":2},{"$f":"IF(ISERROR(INDEX(Accueil!$L$27:$M$56,MATCH(VLOOKUP(C15,Accueil!$Q$27:$R$126,2),Accueil!$M$27:$M$56,0),1)),\"\",INDEX(Accueil!$L$27:$M$56,MATCH(VLOOKUP(C15,Accueil!$Q$27:$R$126,2),Accueil!$M$27:$M$56,0),1))","v":5}]
[null,null,22,0,0,0,0,0,0,0,"","",null,null,{"$f":"IF(ISERROR(INDEX(Accueil!$M$27:$N$56,MATCH(VLOOKUP(C16,Accueil!$Q$27:$R$126,2),Accueil!$M$27:$M$56,0),2)),\"\",INDEX(Accueil!$M$27:$N$56,MATCH(VLOOKUP(C16,Accueil!$Q$27:$R$126,2),Accueil!$M$27:$M$56,0),2))","v":2},{"$f":"IF(ISERROR(INDEX(Accueil!$L$27:$M$56,MATCH(VLOOKUP(C16,Accueil!$Q$27:$R$126,2),Accueil!$M$27:$M$56,0),1)),\"\",INDEX(Accueil!$L$27:$M$56,MATCH(VLOOKUP(C16,Accueil!$Q$27:$R$126,2),Accueil!$M$27:$M$56,0),1))","v":5}]
[null,{"$f":"IF(COMS6=\"\",\"\",COMS6)","v":"Dénombrer, constituer et comparer des collections en utilisant diverses stratégies de dénombrement"},12,0,0,0,0,0,0,0,"","",{"$f":"IF(ISERROR(SUMIF($P$4:$P$50,P17,$E$4:$E$50)/SUMIF($P$4:$P$50,P17,$D$4:$D$50)),\"\",ROUND(SUMIF($P$4:$P$50,P17,$E$4:$E$50)/SUMIF($P$4:$P$50,P17,$D$4:$D$50),3))","v":""},null,{"$f":"IF(ISERROR(INDEX(Accueil!$M$27:$N$56,MATCH(VLOOKUP(C17,Accueil!$Q$27:$R$126,2),Accueil!$M$27:$M$56,0),2)),\"\",INDEX(Accueil!$M$27:$N$56,MATCH(VLOOKUP(C17,Accueil!$Q$27:$R$126,2),Accueil!$M$27:$M$56,0),2))","v":2},{"$f":"IF(ISERROR(INDEX(Accueil!$L$27:$M$56,MATCH(VLOOKUP(C17,Accueil!$Q$27:$R$126,2),Accueil!$M$27:$M$56,0),1)),\"\",INDEX(Accueil!$L$27:$M$56,MATCH(VLOOKUP(C17,Accueil!$Q$27:$R$126,2),Accueil!$M$27:$M$56,0),1))","v":6}]
[null,null,13,0,0,0,0,0,0,0,"","",null,null,{"$f":"IF(ISERROR(INDEX(Accueil!$M$27:$N$56,MATCH(VLOOKUP(C18,Accueil!$Q$27:$R$126,2),Accueil!$M$27:$M$56,0),2)),\"\",INDEX(Accueil!$M$27:$N$56,MATCH(VLOOKUP(C18,Accueil!$Q$27:$R$126,2),Accueil!$M$27:$M$56,0),2))","v":2},{"$f":"IF(ISERROR(INDEX(Accueil!$L$27:$M$56,MATCH(VLOOKUP(C18,Accueil!$Q$27:$R$126,2),Accueil!$M$27:$M$56,0),1)),\"\",INDEX(Accueil!$L$27:$M$56,MATCH(VLOOKUP(C18,Accueil!$Q$27:$R$126,2),Accueil!$M$27:$M$56,0),1))","v":6}]
[{"$f":"IF(COMP3=\"\",\"\",COMP3)","v":"CP 3 : Résoudre des problèmes en utilisant des nombres entiers et le calcul"},{"$f":"IF(COMS7=\"\",\"\",COMS7)","v":"Résoudre des problèmes issus de situations de la vie quotidienne : problèmes relevant des structures additives"},4,0,0,0,0,0,0,0,"","",{"$f":"IF(ISERROR(SUMIF($P$4:$P$50,P19,$E$4:$E$50)/SUMIF($P$4:$P$50,P19,$D$4:$D$50)),\"\",ROUND(SUMIF($P$4:$P$50,P19,$E$4:$E$50)/SUMIF($P$4:$P$50,P19,$D$4:$D$50),3))","v":""},{"$f":"IF(ISERROR(SUMIF($O$4:$O$50,O19,$E$4:$E$50)/SUMIF($O$4:$O$50,O19,$D$4:$D$50)),\"\",ROUND(SUMIF($O$4:$O$50,O19,$E$4:$E$50)/SUMIF($O$4:$O$50,O19,$D$4:$D$50),3))","v":""},{"$f":"IF(ISERROR(INDEX(Accueil!$M$27:$N$56,MATCH(VLOOKUP(C19,Accueil!$Q$27:$R$126,2),Accueil!$M$27:$M$56,0),2)),\"\",INDEX(Accueil!$M$27:$N$56,MATCH(VLOOKUP(C19,Accueil!$Q$27:$R$126,2),Accueil!$M$27:$M$56,0),2))","v":3},{"$f":"IF(ISERROR(INDEX(Accueil!$L$27:$M$56,MATCH(VLOOKUP(C19,Accueil!$Q$27:$R$126,2),Accueil!$M$27:$M$56,0),1)),\"\",INDEX(Accueil!$L$27:$M$56,MATCH(VLOOKUP(C19,Accueil!$Q$27:$R$126,2),Accueil!$M$27:$M$56,0),1))","v":7}]
[null,null,29,0,0,0,0,0,0,0,"","",null,null,{"$f":"IF(ISERROR(INDEX(Accueil!$M$27:$N$56,MATCH(VLOOKUP(C20,Accueil!$Q$27:$R$126,2),Accueil!$M$27:$M$56,0),2)),\"\",INDEX(Accueil!$M$27:$N$56,MATCH(VLOOKUP(C20,Accueil!$Q$27:$R$126,2),Accueil!$M$27:$M$56,0),2))","v":3},{"$f":"IF(ISERROR(INDEX(Accueil!$L$27:$M$56,MATCH(VLOOKUP(C20,Accueil!$Q$27:$R$126,2),Accueil!$M$27:$M$56,0),1)),\"\",INDEX(Accueil!$L$27:$M$56,MATCH(VLOOKUP(C20,Accueil!$Q$27:$R$126,2),Accueil!$M$27:$M$56,0),1))","v":7}]
[null,{"$f":"IF(COMS8=\"\",\"\",COMS8)","v":"Exploiter des données numériques d'un graphique pour répondre à des questions"},23,{"$f":"IF(ISERROR(HLOOKUP(C21,Resultats_ecole,9)),\"\",HLOOKUP(C21,Resultats_ecole,9))","v":0},{"$f":"IF(ISERROR(HLOOKUP(C21,Resultats_ecole,2)),\"\",HLOOKUP(C21,Resultats_ecole,2))","v":0},{"$f":"IF(ISERROR(HLOOKUP(C21,Resultats_ecole,3)),\"\",HLOOKUP(C21,Resultats_ecole,3))","v":0},{"$f":"IF(ISERROR(HLOOKUP(C21,Resultats_ecole,4)),\"\",HLOOKUP(C21,Resultats_ecole,4))","v":0},{"$f":"IF(ISERROR(HLOOKUP(C21,Resultats_ecole,5)),\"\",HLOOKUP(C21,Resultats_ecole,5))","v":0},{"$f":"IF(ISERROR(HLOOKUP(C21,Resultats_ecole,6)),\"\",HLOOKUP(C21,Resultats_ecole,6))","v":0},{"$f":"IF(ISERROR(HLOOKUP(C21,Resultats_ecole,7)),\"\",HLOOKUP(C21,Resultats_ecole,7))","v":0},"","",{"$f":"IF(ISERROR(SUMIF($P$4:$P$50,P23,$E$4:$E$50)/SUMIF($P$4:$P$50,P23,$D$4:$D$50)),\"\",ROUND(SUMIF($P$4:$P$50,P23,$E$4:$E$50)/SUMIF($P$4:$P$50,P23,$D$4:$D$50),3))","v":""},null,{"$f":"IF(ISERROR(INDEX(Accueil!$M$27:$N$56,MATCH(VLOOKUP(C21,Accueil!$Q$27:$R$126,2),Accueil!$M$27:$M$56,0),2)),\"\",INDEX(Accueil!$M$27:$N$56,MATCH(VLOOKUP(C21,Accueil!$Q$27:$R$126,2),Accueil!$M$27:$M$56,0),2))","v":3},{"$f":"IF(ISERROR(INDEX(Accueil!$L$27:$M$56,MATCH(VLOOKUP(C21,Accueil!$Q$27:$R$126,2),Accueil!$M$27:$M$56,0),1)),\"\",INDEX(Accueil!$L$27:$M$56,MATCH(VLOOKUP(C21,Accueil!$Q$27:$R$126,2),Accueil!$M$27:$M$56,0),1))","v":8}]
[null,null,24,0,0,0,0,0,0,0,"","",null,null,{"$f":"IF(ISERROR(INDEX(Accueil!$M$27:$N$56,MATCH(VLOOKUP(C22,Accueil!$Q$27:$R$126,2),Accueil!$M$27:$M$56,0),2)),\"\",INDEX(Accueil!$M$27:$N$56,MATCH(VLOOKUP(C22,Accueil!$Q$27:$R$126,2),Accueil!$M$27:$M$56,0),2))","v":3},{"$f":"IF(ISERROR(INDEX(Accueil!$L$27:$M$56,MATCH(VLOOKUP(C22,Accueil!$Q$27:$R$126,2),Accueil!$M$27:$M$56,0),1)),\"\",INDEX(Accueil!$L$27:$M$56,MATCH(VLOOKUP(C22,Accueil!$Q$27:$R$126,2),Accueil!$M$27:$M$56,0),1))","v":8}]
[null,null,25,{"$f":"IF(ISERROR(HLOOKUP(C23,Resultats_ecole,9)),\"\",HLOOKUP(C23,Resultats_ecole,9))","v":0},{"$f":"IF(ISERROR(HLOOKUP(C23,Resultats_ecole,2)),\"\",HLOOKUP(C23,Resultats_ecole,2))","v":0},{"$f":"IF(ISERROR(HLOOKUP(C23,Resultats_ecole,3)),\"\",HLOOKUP(C23,Resultats_ecole,3))","v":0},{"$f":"IF(ISERROR(HLOOKUP(C23,Resultats_ecole,4)),\"\",HLOOKUP(C23,Resultats_ecole,4))","v":0},{"$f":"IF(ISERROR(HLOOKUP(C23,Resultats_ecole,5)),\"\",HLOOKUP(C23,Resultats_ecole,5))","v":0},{"$f":"IF(ISERROR(HLOOKUP(C23,Resultats_ecole,6)),\"\",HLOOKUP(C23,Resultats_ecole,6))","v":0},{"$f":"IF(ISERROR(HLOOKUP(C23,Resultats_ecole,7)),\"\",HLOOKUP(C23,Resultats_ecole,7))","v":0},"","",null,null,{"$f":"IF(ISERROR(INDEX(Accueil!$M$27:$N$56,MATCH(VLOOKUP(C23,Accueil!$Q$27:$R$126,2),Accueil!$M$27:$M$56,0),2)),\"\",INDEX(Accueil!$M$27:$N$56,MATCH(VLOOKUP(C23,Accueil!$Q$27:$R$126,2),Accueil!$M$27:$M$56,0),2))","v":3},{"$f":"IF(ISERROR(INDEX(Accueil!$L$27:$M$56,MATCH(VLOOKUP(C23,Accueil!$Q$27:$R$126,2),Accueil!$M$27:$M$56,0),1)),\"\",INDEX(Accueil!$L$27:$M$56,MATCH(VLOOKUP(C23,Accueil!$Q$27:$R$126,2),Accueil!$M$27:$M$56,0),1))","v":8}]
[{"$f":"IF(COMP4=\"\",\"\",COMP4)","v":"CP 4 : Calculer avec des nombres entiers"},{"$f":"IF(COMS9=\"\",\"\",COMS9)","v":"Mémoriser des faits numériques"},8,0,0,0,0,0,0,0,"","",{"$f":"IF(ISERROR(SUMIF($P$4:$P$50,P24,$E$4:$E$50)/SUMIF($P$4:$P$50,P24,$D$4:$D$50)),\"\",ROUND(SUMIF($P$4:$P$50,P24,$E$4:$E$50)/SUMIF($P$4:$P$50,P24,$D$4:$D$50),3))","v":""},{"$f":"IF(ISERROR(SUMIF($O$4:$O$50,O24,$E$4:$E$50)/SUMIF($O$4:$O$50,O24,$D$4:$D$50)),\"\",ROUND(SUMIF($O$4:$O$50,O24,$E$4:$E$50)/SUMIF($O$4:$O$50,O24,$D$4:$D$50),3))","v":""},{"$f":"IF(ISERROR(INDEX(Accueil!$M$27:$N$56,MATCH(VLOOKUP(C24,Accueil!$Q$27:$R$126,2),Accueil!$M$27:$M$56,0),2)),\"\",INDEX(Accueil!$M$27:$N$56,MATCH(VLOOKUP(C24,Accueil!$Q$27:$R$126,2),Accueil!$M$27:$M$56,0),2))","v":4},{"$f":"IF(ISERROR(INDEX(Accueil!$L$27:$M$56,MATCH(VLOOKUP(C24,Accueil!$Q$27:$R$126,2),Accueil!$M$27:$M$56,0),1)),\"\",INDEX(Accueil!$L$27:$M$56,MATCH(VLOOKUP(C24,Accueil!$Q$27:$R$126,2),Accueil!$M$27:$M$56,0),1))","v":9}]
[null,null,9,0,0,0,0,0,0,0,"","",null,null,{"$f":"IF(ISERROR(INDEX(Accueil!$M$27:$N$56,MATCH(VLOOKUP(C25,Accueil!$Q$27:$R$126,2),Accueil!$M$27:$M$56,0),2)),\"\",INDEX(Accueil!$M$27:$N$56,MATCH(VLOOKUP(C25,Accueil!$Q$27:$R$126,2),Accueil!$M$27:$M$56,0),2))","v":4},{"$f":"IF(ISERROR(INDEX(Accueil!$L$27:$M$56,MATCH(VLOOKUP(C25,Accueil!$Q$27:$R$126,2),Accueil!$M$27:$M$56,0),1)),\"\",INDEX(Accueil!$L$27:$M$56,MATCH(VLOOKUP(C25,Accueil!$Q$27:$R$126,2),Accueil!$M$27:$M$56,0),1))","v":9}]
[null,null,10,0,0,0,0,0,0,0,"","",null,null,{"$f":"IF(ISERROR(INDEX(Accueil!$M$27:$N$56,MATCH(VLOOKUP(C26,Accueil!$Q$27:$R$126,2),Accueil!$M$27:$M$56,0),2)),\"\",INDEX(Accueil!$M$27:$N$56,MATCH(VLOOKUP(C26,Accueil!$Q$27:$R$126,2),Accueil!$M$27:$M$56,0),2))","v":4},{"$f":"IF(ISERROR(INDEX(Accueil!$L$27:$M$56,MATCH(VLOOKUP(C26,Accueil!$Q$27:$R$126,2),Accueil!$M$27:$M$56,0),1)),\"\",INDEX(Accueil!$L$27:$M$56,MATCH(VLOOKUP(C26,Accueil!$Q$27:$R$126,2),Accueil!$M$27:$M$56,0),1))","v":9}]
[null,null,11,0,0,0,0,0,0,0,"","",null,null,{"$f":"IF(ISERROR(INDEX(Accueil!$M$27:$N$56,MATCH(VLOOKUP(C27,Accueil!$Q$27:$R$126,2),Accueil!$M$27:$M$56,0),2)),\"\",INDEX(Accueil!$M$27:$N$56,MATCH(VLOOKUP(C27,Accueil!$Q$27:$R$126,2),Accueil!$M$27:$M$56,0),2))","v":4},{"$f":"IF(ISERROR(INDEX(Accueil!$L$27:$M$56,MATCH(VLOOKUP(C27,Accueil!$Q$27:$R$126,2),Accueil!$M$27:$M$56,0),1)),\"\",INDEX(Accueil!$L$27:$M$56,MATCH(VLOOKUP(C27,Accueil!$Q$27:$R$126,2),Accueil!$M$27:$M$56,0),1))","v":9}]
[null,{"$f":"IF(COMS10=\"\",\"\",COMS10)","v":"Calculer en utilisant des écritures en ligne additives, soustractives, multiplicatives, mixtes"},15,0,0,0,0,0,0,0,"","",{"$f":"IF(ISERROR(SUMIF($P$4:$P$50,P28,$E$4:$E$50)/SUMIF($P$4:$P$50,P28,$D$4:$D$50)),\"\",ROUND(SUMIF($P$4:$P$50,P28,$E$4:$E$50)/SUMIF($P$4:$P$50,P28,$D$4:$D$50),3))","v":""},null,{"$f":"IF(ISERROR(INDEX(Accueil!$M$27:$N$56,MATCH(VLOOKUP(C28,Accueil!$Q$27:$R$126,2),Accueil!$M$27:$M$56,0),2)),\"\",INDEX(Accueil!$M$27:$N$56,MATCH(VLOOKUP(C28,Accueil!$Q$27:$R$126,2),Accueil!$M$27:$M$56,0),2))","v":4},{"$f":"IF(ISERROR(INDEX(Accueil!$L$27:$M$56,MATCH(VLOOKUP(C28,Accueil!$Q$27:$R$126,2),Accueil!$M$27:$M$56,0),1)),\"\",INDEX(Accueil!$L$27:$M$56,MATCH(VLOOKUP(C28,Accueil!$Q$27:$R$126,2),Accueil!$M$27:$M$56,0),1))","v":10}]
[null,null,16,0,0,0,0,0,0,0,"","",null,null,{"$f":"IF(ISERROR(INDEX(Accueil!$M$27:$N$56,MATCH(VLOOKUP(C29,Accueil!$Q$27:$R$126,2),Accueil!$M$27:$M$56,0),2)),\"\",INDEX(Accueil!$M$27:$N$56,MATCH(VLOOKUP(C29,Accueil!$Q$27:$R$126,2),Accueil!$M$27:$M$56,0),2))","v":4},{"$f":"IF(ISERROR(INDEX(Accueil!$L$27:$M$56,MATCH(VLOOKUP(C29,Accueil!$Q$27:$R$126,2),Accueil!$M$27:$M$56,0),1)),\"\",INDEX(Accueil!$L$27:$M$56,MATCH(VLOOKUP(C29,Accueil!$Q$27:$R$126,2),Accueil!$M$27:$M$56,0),1))","v":10}]
[null,null,17,0,0,0,0,0,0,0,"","",null,null,{"$f":"IF(ISERROR(INDEX(Accueil!$M$27:$N$56,MATCH(VLOOKUP(C30,Accueil!$Q$27:$R$126,2),Accueil!$M$27:$M$56,0),2)),\"\",INDEX(Accueil!$M$27:$N$56,MATCH(VLOOKUP(C30,Accueil!$Q$27:$R$126,2),Accueil!$M$27:$M$56,0),2))","v":4},{"$f":"IF(ISERROR(INDEX(Accueil!$L$27:$M$56,MATCH(VLOOKUP(C30,Accueil!$Q$27:$R$126,2),Accueil!$M$27:$M$56,0),1)),\"\",INDEX(Accueil!$L$27:$M$56,MATCH(VLOOKUP(C30,Accueil!$Q$27:$R$126,2),Accueil!$M$27:$M$56,0),1))","v":10}]
[null,null,30,0,0,0,0,0,0,0,"","",null,null,{"$f":"IF(ISERROR(INDEX(Accueil!$M$27:$N$56,MATCH(VLOOKUP(C31,Accueil!$Q$27:$R$126,2),Accueil!$M$27:$M$56,0),2)),\"\",INDEX(Accueil!$M$27:$N$56,MATCH(VLOOKUP(C31,Accueil!$Q$27:$R$126,2),Accueil!$M$27:$M$56,0),2))","v":4},{"$f":"IF(ISERROR(INDEX(Accueil!$L$27:$M$56,MATCH(VLOOKUP(C31,Accueil!$Q$27:$R$126,2),Accueil!$M$27:$M$56,0),1)),\"\",INDEX(Accueil!$L$27:$M$56,MATCH(VLOOKUP(C31,Accueil!$Q$27:$R$126,2),Accueil!$M$27:$M$56,0),1))","v":10}]
[null,{"$f":"IF(COMS11=\"\",\"\",COMS11)","v":"Calculer mentalement pour évaluer un ordre de grandeur"},18,0,0,0,0,0,0,0,"","",{"$f":"IF(ISERROR(SUMIF($P$4:$P$50,P32,$E$4:$E$50)/SUMIF($P$4:$P$50,P32,$D$4:$D$50)),\"\",ROUND(SUMIF($P$4:$P$50,P32,$E$4:$E$50)/SUMIF($P$4:$P$50,P32,$D$4:$D$50),3))","v":""},null,{"$f":"IF(ISERROR(INDEX(Accueil!$M$27:$N$56,MATCH(VLOOKUP(C32,Accueil!$Q$27:$R$126,2),Accueil!$M$27:$M$56,0),2)),\"\",INDEX(Accueil!$M$27:$N$56,MATCH(VLOOKUP(C32,Accueil!$Q$27:$R$126,2),Accueil!$M$27:$M$56,0),2))","v":4},{"$f":"IF(ISERROR(INDEX(Accueil!$L$27:$M$56,MATCH(VLOOKUP(C32,Accueil!$Q$27:$R$126,2),Accueil!$M$27:$M$56,0),1)),\"\",INDEX(Accueil!$L$27:$M$56,MATCH(VLOOKUP(C32,Accueil!$Q$27:$R$126,2),Accueil!$M$27:$M$56,0),1))","v":11}]
[null,null,19,0,0,0,0,0,0,0,"","",null,null,{"$f":"IF(ISERROR(INDEX(Accueil!$M$27:$N$56,MATCH(VLOOKUP(C33,Accueil!$Q$27:$R$126,2),Accueil!$M$27:$M$56,0),2)),\"\",INDEX(Accueil!$M$27:$N$56,MATCH(VLOOKUP(C33,Accueil!$Q$27:$R$126,2),Accueil!$M$27:$M$56,0),2))","v":4},{"$f":"IF(ISERROR(INDEX(Accueil!$L$27:$M$56,MATCH(VLOOKUP(C33,Accueil!$Q$27:$R$126,2),Accueil!$M$27:$M$56,0),1)),\"\",INDEX(Accueil!$L$27:$M$56,MATCH(VLOOKUP(C33,Accueil!$Q$27:$R$126,2),Accueil!$M$27:$M$56,0),1))","v":11}]
[null,{"$f":"IF(COMS15=\"\",\"\",COMS15)","v":""},null,"","","","","","","","","",{"$f":"IF(ISERROR(SUMIF($P$4:$P$50,P34,$E$4:$E$50)/SUMIF($P$4:$P$50,P34,$D$4:$D$50)),\"\",ROUND(SUMIF($P$4:$P$50,P34,$E$4:$E$50)/SUMIF($P$4:$P$50,P34,$D$4:$D$50),3))","v":""},{"$f":"IF(ISERROR(SUMIF($O$4:$O$50,O34,$E$4:$E$50)/SUMIF($O$4:$O$50,O34,$D$4:$D$50)),\"\",ROUND(SUMIF($O$4:$O$50,O34,$E$4:$E$50)/SUMIF($O$4:$O$50,O34,$D$4:$D$50),3))","v":""},{"$f":"IF(ISERROR(INDEX(Accueil!$M$27:$N$56,MATCH(VLOOKUP(C34,Accueil!$Q$27:$R$126,2),Accueil!$M$27:$M$56,0),2)),\"\",INDEX(Accueil!$M$27:$N$56,MATCH(VLOOKUP(C34,Accueil!$Q$27:$R$126,2),Accueil!$M$27:$M$56,0),2))","v":""},{"$f":"IF(ISERROR(INDEX(Accueil!$L$27:$M$56,MATCH(VLOOKUP(C34,Accueil!$Q$27:$R$126,2),Accueil!$M$27:$M$56,0),1)),\"\",INDEX(Accueil!$L$27:$M$56,MATCH(VLOOKUP(C34,Accueil!$Q$27:$R$126,2),Accueil!$M$27:$M$56,0),1))","v":""}]
[null,{"$f":"IF(COMS16=\"\",\"\",COMS16)","v":""},null,"","","","","","","","","","","",{"$f":"IF(ISERROR(INDEX(Accueil!$M$27:$N$56,MATCH(VLOOKUP(C35,Accueil!$Q$27:$R$126,2),Accueil!$M$27:$M$56,0),2)),\"\",INDEX(Accueil!$M$27:$N$56,MATCH(VLOOKUP(C35,Accueil!$Q$27:$R$126,2),Accueil!$M$27:$M$56,0),2))","v":""},{"$f":"IF(ISERROR(INDEX(Accueil!$L$27:$M$56,MATCH(VLOOKUP(C35,Accueil!$Q$27:$R$126,2),Accueil!$M$27:$M$56,0),1)),\"\",INDEX(Accueil!$L$27:$M$56,MATCH(VLOOKUP(C35,Accueil!$Q$27:$R$126,2),Accueil!$M$27:$M$56,0),1))","v":""}]
[{"$f":"IF(COMP6=\"\",\"\",COMP6)","v":""},{"$f":"IF(COMS17=\"\",\"\",COMS17)","v":""},null,"","","","","","","","","","","",{"$f":"IF(ISERROR(INDEX(Accueil!$M$27:$N$56,MATCH(VLOOKUP(C36,Accueil!$Q$27:$R$126,2),Accueil!$M$27:$M$56,0),2)),\"\",INDEX(Accueil!$M$27:$N$56,MATCH(VLOOKUP(C36,Accueil!$Q$27:$R$126,2),Accueil!$M$27:$M$56,0),2))","v":""},{"$f":"IF(ISERROR(INDEX(Accueil!$L$27:$M$56,MATCH(VLOOKUP(C36,Accueil!$Q$27:$R$126,2),Accueil!$M$27:$M$56,0),1)),\"\",INDEX(Accueil!$L$27:$M$56,MATCH(VLOOKUP(C36,Accueil!$Q$27:$R$126,2),Accueil!$M$27:$M$56,0),1))","v":""}]
[null,{"$f":"IF(COMS18=\"\",\"\",COMS18)","v":""},null,"","","","","","","","","","","",{"$f":"IF(ISERROR(INDEX(Accueil!$M$27:$N$56,MATCH(VLOOKUP(C37,Accueil!$Q$27:$R$126,2),Accueil!$M$27:$M$56,0),2)),\"\",INDEX(Accueil!$M$27:$N$56,MATCH(VLOOKUP(C37,Accueil!$Q$27:$R$126,2),Accueil!$M$27:$M$56,0),2))","v":""},{"$f":"IF(ISERROR(INDEX(Accueil!$L$27:$M$56,MATCH(VLOOKUP(C37,Accueil!$Q$27:$R$126,2),Accueil!$M$27:$M$56,0),1)),\"\",INDEX(Accueil!$L$27:$M$56,MATCH(VLOOKUP(C37,Accueil!$Q$27:$R$126,2),Accueil!$M$27:$M$56,0),1))","v":""}]
[null,null,null,"","","","","","","","","","","",{"$f":"IF(ISERROR(INDEX(Accueil!$M$27:$N$56,MATCH(VLOOKUP(C38,Accueil!$Q$27:$R$126,2),Accueil!$M$27:$M$56,0),2)),\"\",INDEX(Accueil!$M$27:$N$56,MATCH(VLOOKUP(C38,Accueil!$Q$27:$R$126,2),Accueil!$M$27:$M$56,0),2))","v":""},{"$f":"IF(ISERROR(INDEX(Accueil!$L$27:$M$56,MATCH(VLOOKUP(C38,Accueil!$Q$27:$R$126,2),Accueil!$M$27:$M$56,0),1)),\"\",INDEX(Accueil!$L$27:$M$56,MATCH(VLOOKUP(C38,Accueil!$Q$27:$R$126,2),Accueil!$M$27:$M$56,0),1))","v":""}]
[null,null,null,"","","","","","","","","","","",{"$f":"IF(ISERROR(INDEX(Accueil!$M$27:$N$56,MATCH(VLOOKUP(C39,Accueil!$Q$27:$R$126,2),Accueil!$M$27:$M$56,0),2)),\"\",INDEX(Accueil!$M$27:$N$56,MATCH(VLOOKUP(C39,Accueil!$Q$27:$R$126,2),Accueil!$M$27:$M$56,0),2))","v":""},{"$f":"IF(ISERROR(INDEX(Accueil!$L$27:$M$56,MATCH(VLOOKUP(C39,Accueil!$Q$27:$R$126,2),Accueil!$M$27:$M$56,0),1)),\"\",INDEX(Accueil!$L$27:$M$56,MATCH(VLOOKUP(C39,Accueil!$Q$27:$R$126,2),Accueil!$M$27:$M$56,0),1))","v":""}]
[null,{"$f":"IF(COMS19=\"\",\"\",COMS19)","v":""},null,"","","","","","","","","","","",{"$f":"IF(ISERROR(INDEX(Accueil!$M$27:$N$56,MATCH(VLOOKUP(C40,Accueil!$Q$27:$R$126,2),Accueil!$M$27:$M$56,0),2)),\"\",INDEX(Accueil!$M$27:$N$56,MATCH(VLOOKUP(C40,Accueil!$Q$27:$R$126,2),Accueil!$M$27:$M$56,0),2))","v":""},{"$f":"IF(ISERROR(INDEX(Accueil!$L$27:$M$56,MATCH(VLOOKUP(C40,Accueil!$Q$27:$R$126,2),Accueil!$M$27:$M$56,0),1)),\"\",INDEX(Accueil!$L$27:$M$56,MATCH(VLOOKUP(C40,Accueil!$Q$27:$R$126,2),Accueil!$M$27:$M$56,0),1))","v":""}]
[null,null,null,"","","","","","","","","","","",{"$f":"IF(ISERROR(INDEX(Accueil!$M$27:$N$56,MATCH(VLOOKUP(C41,Accueil!$Q$27:$R$126,2),Accueil!$M$27:$M$56,0),2)),\"\",INDEX(Accueil!$M$27:$N$56,MATCH(VLOOKUP(C41,Accueil!$Q$27:$R$126,2),Accueil!$M$27:$M$56,0),2))","v":""},{"$f":"IF(ISERROR(INDEX(Accueil!$L$27:$M$56,MATCH(VLOOKUP(C41,Accueil!$Q$27:$R$126,2),Accueil!$M$27:$M$56,0),1)),\"\",INDEX(Accueil!$L$27:$M$56,MATCH(VLOOKUP(C41,Accueil!$Q$27:$R$126,2),Accueil!$M$27:$M$56,0),1))","v":""}]
[null,null,null,"","","","","","","","","","","",{"$f":"IF(ISERROR(INDEX(Accueil!$M$27:$N$56,MATCH(VLOOKUP(C42,Accueil!$Q$27:$R$126,2),Accueil!$M$27:$M$56,0),2)),\"\",INDEX(Accueil!$M$27:$N$56,MATCH(VLOOKUP(C42,Accueil!$Q$27:$R$126,2),Accueil!$M$27:$M$56,0),2))","v":""},{"$f":"IF(ISERROR(INDEX(Accueil!$L$27:$M$56,MATCH(VLOOKUP(C42,Accueil!$Q$27:$R$126,2),Accueil!$M$27:$M$56,0),1)),\"\",INDEX(Accueil!$L$27:$M$56,MATCH(VLOOKUP(C42,Accueil!$Q$27:$R$126,2),Accueil!$M$27:$M$56,0),1))","v":""}]
[null,null,null,"","","","","","","","","","","",{"$f":"IF(ISERROR(INDEX(Accueil!$M$27:$N$56,MATCH(VLOOKUP(C43,Accueil!$Q$27:$R$126,2),Accueil!$M$27:$M$56,0),2)),\"\",INDEX(Accueil!$M$27:$N$56,MATCH(VLOOKUP(C43,Accueil!$Q$27:$R$126,2),Accueil!$M$27:$M$56,0),2))","v":""},{"$f":"IF(ISERROR(INDEX(Accueil!$L$27:$M$56,MATCH(VLOOKUP(C43,Accueil!$Q$27:$R$126,2),Accueil!$M$27:$M$56,0),1)),\"\",INDEX(Accueil!$L$27:$M$56,MATCH(VLOOKUP(C43,Accueil!$Q$27:$R$126,2),Accueil!$M$27:$M$56,0),1))","v":""}]
[null,null,null,"","","","","","","","","","","",{"$f":"IF(ISERROR(INDEX(Accueil!$M$27:$N$56,MATCH(VLOOKUP(C44,Accueil!$Q$27:$R$126,2),Accueil!$M$27:$M$56,0),2)),\"\",INDEX(Accueil!$M$27:$N$56,MATCH(VLOOKUP(C44,Accueil!$Q$27:$R$126,2),Accueil!$M$27:$M$56,0),2))","v":""},{"$f":"IF(ISERROR(INDEX(Accueil!$L$27:$M$56,MATCH(VLOOKUP(C44,Accueil!$Q$27:$R$126,2),Accueil!$M$27:$M$56,0),1)),\"\",INDEX(Accueil!$L$27:$M$56,MATCH(VLOOKUP(C44,Accueil!$Q$27:$R$126,2),Accueil!$M$27:$M$56,0),1))","v":""}]
[null,null,null,"","","","","","","","","","","",{"$f":"IF(ISERROR(INDEX(Accueil!$M$27:$N$56,MATCH(VLOOKUP(C45,Accueil!$Q$27:$R$126,2),Accueil!$M$27:$M$56,0),2)),\"\",INDEX(Accueil!$M$27:$N$56,MATCH(VLOOKUP(C45,Accueil!$Q$27:$R$126,2),Accueil!$M$27:$M$56,0),2))","v":""},{"$f":"IF(ISERROR(INDEX(Accueil!$L$27:$M$56,MATCH(VLOOKUP(C45,Accueil!$Q$27:$R$126,2),Accueil!$M$27:$M$56,0),1)),\"\",INDEX(Accueil!$L$27:$M$56,MATCH(VLOOKUP(C45,Accueil!$Q$27:$R$126,2),Accueil!$M$27:$M$56,0),1))","v":""}]
[{"$f":"IF(COMP7=\"\",\"\",COMP7)","v":""},{"$f":"IF(COMS20=\"\",\"\",COMS20)","v":""},null,"","","","","","","","","","","",{"$f":"IF(ISERROR(INDEX(Accueil!$M$27:$N$56,MATCH(VLOOKUP(C46,Accueil!$Q$27:$R$126,2),Accueil!$M$27:$M$56,0),2)),\"\",INDEX(Accueil!$M$27:$N$56,MATCH(VLOOKUP(C46,Accueil!$Q$27:$R$126,2),Accueil!$M$27:$M$56,0),2))","v":""},{"$f":"IF(ISERROR(INDEX(Accueil!$L$27:$M$56,MATCH(VLOOKUP(C46,Accueil!$Q$27:$R$126,2),Accueil!$M$27:$M$56,0),1)),\"\",INDEX(Accueil!$L$27:$M$56,MATCH(VLOOKUP(C46,Accueil!$Q$27:$R$126,2),Accueil!$M$27:$M$56,0),1))","v":""}]
[null,null,null,"","","","","","","","","","","",{"$f":"IF(ISERROR(INDEX(Accueil!$M$27:$N$56,MATCH(VLOOKUP(C47,Accueil!$Q$27:$R$126,2),Accueil!$M$27:$M$56,0),2)),\"\",INDEX(Accueil!$M$27:$N$56,MATCH(VLOOKUP(C47,Accueil!$Q$27:$R$126,2),Accueil!$M$27:$M$56,0),2))","v":""},{"$f":"IF(ISERROR(INDEX(Accueil!$L$27:$M$56,MATCH(VLOOKUP(C47,Accueil!$Q$27:$R$126,2),Accueil!$M$27:$M$56,0),1)),\"\",INDEX(Accueil!$L$27:$M$56,MATCH(VLOOKUP(C47,Accueil!$Q$27:$R$126,2),Accueil!$M$27:$M$56,0),1))","v":""}]
[null,null,null,"","","","","","","","","","","",{"$f":"IF(ISERROR(INDEX(Accueil!$M$27:$N$56,MATCH(VLOOKUP(C48,Accueil!$Q$27:$R$126,2),Accueil!$M$27:$M$56,0),2)),\"\",INDEX(Accueil!$M$27:$N$56,MATCH(VLOOKUP(C48,Accueil!$Q$27:$R$126,2),Accueil!$M$27:$M$56,0),2))","v":""},{"$f":"IF(ISERROR(INDEX(Accueil!$L$27:$M$56,MATCH(VLOOKUP(C48,Accueil!$Q$27:$R$126,2),Accueil!$M$27:$M$56,0),1)),\"\",INDEX(Accueil!$L$27:$M$56,MATCH(VLOOKUP(C48,Accueil!$Q$27:$R$126,2),Accueil!$M$27:$M$56,0),1))","v":""}]
[null,{"$f":"IF(COMS21=\"\",\"\",COMS21)","v":""},null,"","","","","","","","","","","",{"$f":"IF(ISERROR(INDEX(Accueil!$M$27:$N$56,MATCH(VLOOKUP(C49,Accueil!$Q$27:$R$126,2),Accueil!$M$27:$M$56,0),2)),\"\",INDEX(Accueil!$M$27:$N$56,MATCH(VLOOKUP(C49,Accueil!$Q$27:$R$126,2),Accueil!$M$27:$M$56,0),2))","v":""},{"$f":"IF(ISERROR(INDEX(Accueil!$L$27:$M$56,MATCH(VLOOKUP(C49,Accueil!$Q$27:$R$126,2),Accueil!$M$27:$M$56,0),1)),\"\",INDEX(Accueil!$L$27:$M$56,MATCH(VLOOKUP(C49,Accueil!$Q$27:$R$126,2),Accueil!$M$27:$M$56,0),1))","v":""}]
[null,null,null,"","","","","","","","","","","",{"$f":"IF(ISERROR(INDEX(Accueil!$M$27:$N$56,MATCH(VLOOKUP(C50,Accueil!$Q$27:$R$126,2),Accueil!$M$27:$M$56,0),2)),\"\",INDEX(Accueil!$M$27:$N$56,MATCH(VLOOKUP(C50,Accueil!$Q$27:$R$126,2),Accueil!$M$27:$M$56,0),2))","v":""},{"$f":"IF(ISERROR(INDEX(Accueil!$L$27:$M$56,MATCH(VLOOKUP(C50,Accueil!$Q$27:$R$126,2),Accueil!$M$27:$M$56,0),1)),\"\",INDEX(Accueil!$L$27:$M$56,MATCH(VLOOKUP(C50,Accueil!$Q$27:$R$126,2),Accueil!$M$27:$M$56,0),1))","v":""}]
[]
[{"$f":"IF(Accueil!A2=\"\",\"\",Accueil!A2)","v":"Évaluations mathématiques CM1"}]
[]
[null,{"$f":"IF(A4=\"\",\"\",COMP1)","v":"CP 1 : Nommer, lire, écrire, représenter des nombres entiers"},null,null,null,null,null,null,null,null,{"$f":"IF(N4=\"\",\"\",N4)","v":""}]
[null,{"$f":"IF(A4=\"\",\"\",COMP2)","v":"CP 2 : Comprendre et utiliser des nombres entiers pour dénombrer, ordonner, repérer, comparer"},null,null,null,null,null,null,null,null,{"$f":"IF(N14=\"\",\"\",N14)","v":""}]
[null,{"$f":"IF(A19=\"\",\"\",COMP3)","v":"CP 3 : Résoudre des problèmes en utilisant des nombres entiers et le calcul"},null,null,null,null,null,null,null,null,{"$f":"IF(N14=\"\",\"\",N14)","v":""}]
[null,{"$f":"IF(A24=\"\",\"\",COMP4)","v":"CP 4 : Calculer avec des nombres entiers"},null,null,null,null,null,null,null,null,{"$f":"IF(N19=\"\",\"\",N19)","v":""}]
[]
[]
[]
[]
[]
[]
[]
[]
[{"$f":"IF(Accueil!A2=\"\",\"\",Accueil!A2)","v":"Évaluations mathématiques CM1"}]

{"sheet":"Synthèse par élève","index":4,"n_rows":69,"n_cols":22,"rows_kept":69,"cut":false,"hidden":false,"merged":[[13,0,17,0],[13,1,15,1],[16,1,17,1],[13,13,17,13],[23,10,25,10],[23,11,25,11],[23,12,25,12],[13,10,15,10],[13,11,15,11],[13,12,15,12],[16,10,17,10],[16,11,17,11],[16,12,17,12],[18,10,19,10],[20,10,22,10],[26,10,29,10],[26,11,29,11],[26,12,29,12],[0,7,2,7],[30,10,31,10],[3,13,12,13],[0,13,2,13],[0,14,2,14],[0,15,2,15],[3,10,5,10],[3,11,5,11],[0,12,2,12],[3,12,5,12],[7,10,9,10],[7,11,9,11],[7,12,9,12],[10,10,12,10],[10,11,12,11],[10,12,12,12],[0,21,2,21],[0,16,2,16],[0,17,2,17],[0,18,2,18],[0,19,2,19],[0,20,2,20],[0,8,2,8],[0,9,2,9],[0,10,2,10],[0,11,2,11],[0,0,2,0],[0,2,2,2],[0,5,2,5],[0,6,2,6],[3,0,12,0],[0,3,2,3],[0,4,2,4],[3,1,5,1],[7,1,9,1],[10,1,12,1],[54,0,54,13],[68,0,68,13],[105,1,105,12],[56,1,56,9],[57,1,57,9],[58,1,58,9],[59,1,59,9],[60,1,60,9],[61,1,61,9],[62,1,62,9],[64,1,64,9],[65,1,65,9],[63,1,63,9],[18,1,19,1],[30,1,31,1],[23,0,31,0],[18,0,22,0],[20,1,22,1],[23,1,25,1],[26,1,29,1],[18,13,22,13],[18,12,19,12],[20,11,22,11],[20,12,22,12],[23,13,31,13],[30,11,31,11],[30,12,31,12],[18,11,19,11]]}
[{"$f":"IF(Nom_etab=\"\",\"\",Nom_etab)","v":""},{"$f":"IF(Accueil!A2=\"\",\"\",Accueil!A2)","v":"Évaluations mathématiques CM1"},"Items","Nombre d'items évalués",{"$f":"IF(Stabilo!$D$50=\"\",\"\",Stabilo!D50)","v":"Réponse(s) attendue(s) (Code 1)"},{"$f":"IF(Stabilo!$D$51=\"\",\"\",Stabilo!D51)","v":"Réussite partielle sans erreur (Code 3)"},{"$f":"IF(Stabilo!$D$52=\"\",\"\",Stabilo!D52)","v":"Réussite partielle avec erreur (Code 4)"},{"$f":"IF(Stabilo!$D$53=\"\",\"\",Stabilo!D53)","v":"Autres réponses (Code 9)"},{"$f":"IF(Stabilo!$D$54=\"\",\"\",Stabilo!D54)","v":"Absence de réponse (Code 0)"},{"$f":"IF(Stabilo!$D$55=\"\",\"\",Stabilo!D55)","v":"Élève absent (Code A)"},"Nombre d'items validés","Nombre total d'items","Taux de réussite\nde la composante","Taux de réussite\nde la compétence","Numéro de compétence","Numéro de composante",{"$f":"\"TOTAL \"&E1","v":"TOTAL Réponse(s) attendue(s) (Code 1)"},"TOTAL Réussite partielle sans erreur (Code 3)","TOTAL Réussite partielle avec erreur (Code 4)","TOTAL Autres réponses (Code 9)","TOTAL Absence de réponse (Code 0)","TOTAL Élève absent (Code A)"]
[null,"Élève :"]
[]
[{"$f":"IF(COMP1=\"\",\"\",COMP1)","v":"CP 1 : Nommer, lire, écrire, représenter des nombres entiers"},{"$f":"IF(COMS1=\"\",\"\",COMS1)","v":"Écrire des nombres entiers jusqu’à 10 000 "},{"$f":"IF('Synthèse classe'!C4=\"\",\"\",'Synthèse classe'!C4)","v":1},{"$f":"IF(J4=\"A\",1000,1)","v":{"$error":"#N/A"}},{"$f":"INDEX(Stabilo!$F$9:$DA$48,MATCH($B$3,Stabilo!$D$9:$D$48,0),C4)","v":{"$error":"#N/A"}},{"$f":"INDEX(Stabilo!$F$9:$DA$48,MATCH($B$3,Stabilo!$D$9:$D$48,0),C4)","v":{"$error":"#N/A"}},{"$f":"INDEX(Stabilo!$F$9:$DA$48,MATCH($B$3,Stabilo!$D$9:$D$48,0),C4)","v":{"$error":"#N/A"}},{"$f":"INDEX(Stabilo!$F$9:$DA$48,MATCH($B$3,Stabilo!$D$9:$D$48,0),C4)","v":{"$error":"#N/A"}},{"$f":"INDEX(Stabilo!$F$9:$DA$48,MATCH($B$3,Stabilo!$D$9:$D$48,0),C4)","v":{"$error":"#N/A"}},{"$f":"INDEX(Stabilo!$F$9:$DA$48,MATCH($B$3,Stabilo!$D$9:$D$48,0),C4)","v":{"$error":"#N/A"}},{"$f":"IF(ISERROR(IF(SUM(D4:D6)>999,\"ABSENT\",SUMIF($P$4:$P$53,P4,$Q$4:$Q$53))),\"\",IF(SUM(D4:D6)>999,\"ABSENT\",SUMIF($P$4:$P$53,P4,$Q$4:$Q$53)))","v":""},{"$f":"IF(ISERROR(IF(SUM(D4:D6)>999,\"ABSENT\",SUMIF($P$4:$P$53,P4,$D$4:$D$53))),\"\",IF(SUM(D4:D6)>999,\"ABSENT\",SUMIF($P$4:$P$53,P4,$D$4:$D$53)))","v":""},{"$f":"IF(ISERROR(IF(SUM(D4:D6)>999,\"ABSENT\",IF(ISERROR(SUMIF($P$4:$P$53,P4,$Q$4:$Q$53)/SUMIF($P$4:$P$53,P4,$D$4:$D$53)),\"\",ROUND(SUMIF($P$4:$P$53,P4,$Q$4:$Q$53)/SUMIF($P$4:$P$53,P4,$D$4:$D$53),3)))),\"\",IF(SUM(D4:D6)>999,\"ABSENT\",IF(ISERROR(SUMIF($P$4:$P$53,P4,$Q$4:$Q$53)/SUMIF($P$4:$P$53,P4,$D$4:$D$53)),\"\",ROUND(SUMIF($P$4:$P$53,P4,$Q$4:$Q$53)/SUMIF($P$4:$P$53,P4,$D$4:$D$53),3))))","v":""},{"$f":"IF(ISERROR(IF(SUM(D4:D13)>999,\"ABSENT\",IF(ISERROR(SUMIF($O$4:$O$53,O4,$Q$4:$Q$53)/SUMIF($O$4:$O$53,O4,$D$4:$D$53)),\"\",ROUND(SUMIF($O$4:$O$53,O4,$Q$4:$Q$53)/SUMIF($O$4:$O$53,O4,$D$4:$D$53),3)))),\"\",IF(SUM(D4:D13)>999,\"ABSENT\",IF(ISERROR(SUMIF($O$4:$O$53,O4,$Q$4:$Q$53)/SUMIF($O$4:$O$53,O4,$D$4:$D$53)),\"\",ROUND(SUMIF($O$4:$O$53,O4,$Q$4:$Q$53)/SUMIF($O$4:$O$53,O4,$D$4:$D$53),3))))","v":""},{"$f":"IF(ISERROR(INDEX(Accueil!$M$27:$N$56,MATCH(VLOOKUP(C4,Accueil!$Q$27:$R$126,2),Accueil!$M$27:$M$56,0),2)),\"\",INDEX(Accueil!$M$27:$N$56,MATCH(VLOOKUP(C4,Accueil!$Q$27:$R$126,2),Accueil!$M$27:$M$56,0),2))","v":1},{"$f":"IF(ISERROR(INDEX(Accueil!$L$27:$M$56,MATCH(VLOOKUP(C4,Accueil!$Q$27:$R$126,2),Accueil!$M$27:$M$56,0),1)),\"\",INDEX(Accueil!$L$27:$M$56,MATCH(VLOOKUP(C4,Accueil!$Q$27:$R$126,2),Accueil!$M$27:$M$56,0),1))","v":1},{"$f":"IF(J4=Accueil!$AA$26,1,0)","v":{"$error":"#N/A"}},{"$f":"IF(J4=Accueil!$AB$26,1,0)","v":{"$error":"#N/A"}},{"$f":"IF(J4=Accueil!$AC$26,1,0)","v":{"$error":"#N/A"}},{"$f":"IF(J4=Accueil!$AD$26,1,0)","v":{"$error":"#N/A"}},{"$f":"IF(J4=Accueil!$AE$26,1,0)","v":{"$error":"#N/A"}},{"$f":"IF(J4=Accueil!$AF$26,1,0)","v":{"$error":"#N/A"}}]
[null,null,{"$f":"IF('Synthèse classe'!C5=\"\",\"\",'Synthèse classe'!C5)","v":2},{"$f":"IF(J5=\"A\",1000,1)","v":{"$error":"#N/A"}},{"$f":"INDEX(Stabilo!$F$9:$DA$48,MATCH($B$3,Stabilo!$D$9:$D$48,0),C5)","v":{"$error":"#N/A"}},{"$f":"INDEX(Stabilo!$F$9:$DA$48,MATCH($B$3,Stabilo!$D$9:$D$48,0),C5)","v":{"$error":"#N/A"}},{"$f":"INDEX(Stabilo!$F$9:$DA$48,MATCH($B$3,Stabilo!$D$9:$D$48,0),C5)","v":{"$error":"#N/A"}},{"$f":"INDEX(Stabilo!$F$9:$DA$48,MATCH($B$3,Stabilo!$D$9:$D$48,0),C5)","v":{"$error":"#N/A"}},{"$f":"INDEX(Stabilo!$F$9:$DA$48,MATCH($B$3,Stabilo!$D$9:$D$48,0),C5)","v":{"$error":"#N/A"}},{"$f":"INDEX(Stabilo!$F$9:$DA$48,MATCH($B$3,Stabilo!$D$9:$D$48,0),C5)","v":{"$error":"#N/A"}},null,null,null,null,{"$f":"IF(ISERROR(INDEX(Accueil!$M$27:$N$56,MATCH(VLOOKUP(C5,Accueil!$Q$27:$R$126,2),Accueil!$M$27:$M$56,0),2)),\"\",INDEX(Accueil!$M$27:$N$56,MATCH(VLOOKUP(C5,Accueil!$Q$27:$R$126,2),Accueil!$M$27:$M$56,0),2))","v":1},{"$f":"IF(ISERROR(INDEX(Accueil!$L$27:$M$56,MATCH(VLOOKUP(C5,Accueil!$Q$27:$R$126,2),Accueil!$M$27:$M$56,0),1)),\"\",INDEX(Accueil!$L$27:$M$56,MATCH(VLOOKUP(C5,Accueil!$Q$27:$R$126,2),Accueil!$M$27:$M$56,0),1))","v":1},{"$f":"IF(J5=Accueil!$AA$26,1,0)","v":{"$error":"#N/A"}},{"$f":"IF(J5=Accueil!$AB$26,1,0)","v":{"$error":"#N/A"}},{"$f":"IF(J5=Accueil!$AC$26,1,0)","v":{"$error":"#N/A"}},{"$f":"IF(J5=Accueil!$AD$26,1,0)","v":{"$error":"#N/A"}},{"$f":"IF(J5=Accueil!$AE$26,1,0)","v":{"$error":"#N/A"}},{"$f":"IF(J5=Accueil!$AF$26,1,0)","v":{"$error":"#N/A"}}]
[null,null,{"$f":"IF('Synthèse classe'!C6=\"\",\"\",'Synthèse classe'!C6)","v":3},{"$error":"#N/A"},{"$f":"INDEX(Stabilo!$F$9:$DA$48,MATCH($B$3,Stabilo!$D$9:$D$48,0),C6)","v":{"$error":"#N/A"}},{"$f":"INDEX(Stabilo!$F$9:$DA$48,MATCH($B$3,Stabilo!$D$9:$D$48,0),C6)","v":{"$error":"#N/A"}},{"$f":"INDEX(Stabilo!$F$9:$DA$48,MATCH($B$3,Stabilo!$D$9:$D$48,0),C6)","v":{"$error":"#N/A"}},{"$f":"INDEX(Stabilo!$F$9:$DA$48,MATCH($B$3,Stabilo!$D$9:$D$48,0),C6)","v":{"$error":"#N/A"}},{"$f":"INDEX(Stabilo!$F$9:$DA$48,MATCH($B$3,Stabilo!$D$9:$D$48,0),C6)","v":{"$error":"#N/A"}},{"$f":"INDEX(Stabilo!$F$9:$DA$48,MATCH($B$3,Stabilo!$D$9:$D$48,0),C6)","v":{"$error":"#N/A"}},null,null,null,null,{"$f":"IF(ISERROR(INDEX(Accueil!$M$27:$N$56,MATCH(VLOOKUP(C6,Accueil!$Q$27:$R$126,2),Accueil!$M$27:$M$56,0),2)),\"\",INDEX(Accueil!$M$27:$N$56,MATCH(VLOOKUP(C6,Accueil!$Q$27:$R$126,2),Accueil!$M$27:$M$56,0),2))","v":1},{"$f":"IF(ISERROR(INDEX(Accueil!$L$27:$M$56,MATCH(VLOOKUP(C6,Accueil!$Q$27:$R$126,2),Accueil!$M$27:$M$56,0),1)),\"\",INDEX(Accueil!$L$27:$M$56,MATCH(VLOOKUP(C6,Accueil!$Q$27:$R$126,2),Accueil!$M$27:$M$56,0),1))","v":1},{"$f":"IF(J6=Accueil!$AA$26,1,0)","v":{"$error":"#N/A"}},{"$f":"IF(J6=Accueil!$AB$26,1,0)","v":{"$error":"#N/A"}},{"$f":"IF(J6=Accueil!$AC$26,1,0)","v":{"$error":"#N/A"}},{"$f":"IF(J6=Accueil!$AD$26,1,0)","v":{"$error":"#N/A"}},{"$f":"IF(J6=Accueil!$AE$26,1,0)","v":{"$error":"#N/A"}},{"$f":"IF(J6=Accueil!$AF$26,1,0)","v":{"$error":"#N/A"}}]
[null,{"$f":"IF(COMS2=\"\",\"\",COMS2)","v":"Associer un nombre entendu à l’oral à son écriture chiffrée "},{"$f":"IF('Synthèse classe'!C7=\"\",\"\",'Synthèse classe'!C7)","v":14},{"$error":"#N/A"},{"$f":"INDEX(Stabilo!$F$9:$DA$48,MATCH($B$3,Stabilo!$D$9:$D$48,0),C7)","v":{"$error":"#N/A"}},{"$f":"INDEX(Stabilo!$F$9:$DA$48,MATCH($B$3,Stabilo!$D$9:$D$48,0),C7)","v":{"$error":"#N/A"}},{"$f":"INDEX(Stabilo!$F$9:$DA$48,MATCH($B$3,Stabilo!$D$9:$D$48,0),C7)","v":{"$error":"#N/A"}},{"$f":"INDEX(Stabilo!$F$9:$DA$48,MATCH($B$3,Stabilo!$D$9:$D$48,0),C7)","v":{"$error":"#N/A"}},{"$f":"INDEX(Stabilo!$F$9:$DA$48,MATCH($B$3,Stabilo!$D$9:$D$48,0),C7)","v":{"$error":"#N/A"}},{"$f":"INDEX(Stabilo!$F$9:$DA$48,MATCH($B$3,Stabilo!$D$9:$D$48,0),C7)","v":{"$error":"#N/A"}},{"$f":"IF(ISERROR(IF(SUM(D7)>999,\"ABSENT\",SUMIF($P$4:$P$53,P7,$Q$4:$Q$53))),\"\",IF(SUM(D7)>999,\"ABSENT\",SUMIF($P$4:$P$53,P7,$Q$4:$Q$53)))","v":""},{"$f":"IF(ISERROR(IF(SUM(D7)>999,\"ABSENT\",SUMIF($P$4:$P$53,P7,$D$4:$D$53))),\"\",IF(SUM(D7)>999,\"ABSENT\",SUMIF($P$4:$P$53,P7,$D$4:$D$53)))","v":""},{"$f":"IF(ISERROR(IF(SUM(D7)>999,\"ABSENT\",IF(ISERROR(SUMIF($P$4:$P$53,P7,$Q$4:$Q$53)/SUMIF($P$4:$P$53,P7,$D$4:$D$53)),\"\",ROUND(SUMIF($P$4:$P$53,P7,$Q$4:$Q$53)/SUMIF($P$4:$P$53,P7,$D$4:$D$53),3)))),\"\",IF(SUM(D7)>999,\"ABSENT\",IF(ISERROR(SUMIF($P$4:$P$53,P7,$Q$4:$Q$53)/SUMIF($P$4:$P$53,P7,$D$4:$D$53)),\"\",ROUND(SUMIF($P$4:$P$53,P7,$Q$4:$Q$53)/SUMIF($P$4:$P$53,P7,$D$4:$D$53),3))))","v":""},null,{"$f":"IF(ISERROR(INDEX(Accueil!$M$27:$N$56,MATCH(VLOOKUP(C7,Accueil!$Q$27:$R$126,2),Accueil!$M$27:$M$56,0),2)),\"\",INDEX(Accueil!$M$27:$N$56,MATCH(VLOOKUP(C7,Accueil!$Q$27:$R$126,2),Accueil!$M$27:$M$56,0),2))","v":1},{"$f":"IF(ISERROR(INDEX(Accueil!$L$27:$M$56,MATCH(VLOOKUP(C7,Accueil!$Q$27:$R$126,2),Accueil!$M$27:$M$56,0),1)),\"\",INDEX(Accueil!$L$27:$M$56,MATCH(VLOOKUP(C7,Accueil!$Q$27:$R$126,2),Accueil!$M$27:$M$56,0),1))","v":2},{"$f":"IF(J7=Accueil!$AA$26,1,0)","v":{"$error":"#N/A"}},{"$f":"IF(J7=Accueil!$AB$26,1,0)","v":{"$error":"#N/A"}},{"$f":"IF(J7=Accueil!$AC$26,1,0)","v":{"$error":"#N/A"}},{"$f":"IF(J7=Accueil!$AD$26,1,0)","v":{"$error":"#N/A"}},{"$f":"IF(J7=Accueil!$AE$26,1,0)","v":{"$error":"#N/A"}},{"$f":"IF(J7=Accueil!$AF$26,1,0)","v":{"$error":"#N/A"}}]
[null,{"$f":"IF(COMS3=\"\",\"\",COMS3)","v":"Associer un nombre écrit en chiffre avec différentes représentations"},{"$f":"IF('Synthèse classe'!C8=\"\",\"\",'Synthèse classe'!C8)","v":26},{"$error":"#N/A"},{"$f":"INDEX(Stabilo!$F$9:$DA$48,MATCH($B$3,Stabilo!$D$9:$D$48,0),C8)","v":{"$error":"#N/A"}},{"$f":"INDEX(Stabilo!$F$9:$DA$48,MATCH($B$3,Stabilo!$D$9:$D$48,0),C8)","v":{"$error":"#N/A"}},{"$f":"INDEX(Stabilo!$F$9:$DA$48,MATCH($B$3,Stabilo!$D$9:$D$48,0),C8)","v":{"$error":"#N/A"}},{"$f":"INDEX(Stabilo!$F$9:$DA$48,MATCH($B$3,Stabilo!$D$9:$D$48,0),C8)","v":{"$error":"#N/A"}},{"$f":"INDEX(Stabilo!$F$9:$DA$48,MATCH($B$3,Stabilo!$D$9:$D$48,0),C8)","v":{"$error":"#N/A"}},{"$f":"INDEX(Stabilo!$F$9:$DA$48,MATCH($B$3,Stabilo!$D$9:$D$48,0),C8)","v":{"$error":"#N/A"}},{"$f":"IF(ISERROR(IF(SUM(D8:D10)>999,\"ABSENT\",SUMIF($P$4:$P$53,P8,$Q$4:$Q$53))),\"\",IF(SUM(D8:D10)>999,\"ABSENT\",SUMIF($P$4:$P$53,P8,$Q$4:$Q$53)))","v":""},{"$f":"IF(ISERROR(IF(SUM(D8:D10)>999,\"ABSENT\",SUMIF($P$4:$P$53,P8,$D$4:$D$53))),\"\",IF(SUM(D8:D10)>999,\"ABSENT\",SUMIF($P$4:$P$53,P8,$D$4:$D$53)))","v":""},{"$f":"IF(ISERROR(IF(SUM(D8:D10)>999,\"ABSENT\",IF(ISERROR(SUMIF($P$4:$P$53,P8,$Q$4:$Q$53)/SUMIF($P$4:$P$53,P8,$D$4:$D$53)),\"\",ROUND(SUMIF($P$4:$P$53,P8,$Q$4:$Q$53)/SUMIF($P$4:$P$53,P8,$D$4:$D$53),3)))),\"\",IF(SUM(D8:D10)>999,\"ABSENT\",IF(ISERROR(SUMIF($P$4:$P$53,P8,$Q$4:$Q$53)/SUMIF($P$4:$P$53,P8,$D$4:$D$53)),\"\",ROUND(SUMIF($P$4:$P$53,P8,$Q$4:$Q$53)/SUMIF($P$4:$P$53,P8,$D$4:$D$53),3))))","v":""},null,{"$f":"IF(ISERROR(INDEX(Accueil!$M$27:$N$56,MATCH(VLOOKUP(C8,Accueil!$Q$27:$R$126,2),Accueil!$M$27:$M$56,0),2)),\"\",INDEX(Accueil!$M$27:$N$56,MATCH(VLOOKUP(C8,Accueil!$Q$27:$R$126,2),Accueil!$M$27:$M$56,0),2))","v":1},{"$f":"IF(ISERROR(INDEX(Accueil!$L$27:$M$56,MATCH(VLOOKUP(C8,Accueil!$Q$27:$R$126,2),Accueil!$M$27:$M$56,0),1)),\"\",INDEX(Accueil!$L$27:$M$56,MATCH(VLOOKUP(C8,Accueil!$Q$27:$R$126,2),Accueil!$M$27:$M$56,0),1))","v":3},{"$f":"IF(J8=Accueil!$AA$26,1,0)","v":{"$error":"#N/A"}},{"$f":"IF(J8=Accueil!$AB$26,1,0)","v":{"$error":"#N/A"}},{"$f":"IF(J8=Accueil!$AC$26,1,0)","v":{"$error":"#N/A"}},{"$f":"IF(J8=Accueil!$AD$26,1,0)","v":{"$error":"#N/A"}},{"$f":"IF(J8=Accueil!$AE$26,1,0)","v":{"$error":"#N/A"}},{"$f":"IF(J8=Accueil!$AF$26,1,0)","v":{"$error":"#N/A"}}]
[null,null,{"$f":"IF('Synthèse classe'!C9=\"\",\"\",'Synthèse classe'!C9)","v":27},{"$error":"#N/A"},{"$f":"INDEX(Stabilo!$F$9:$DA$48,MATCH($B$3,Stabilo!$D$9:$D$48,0),C9)","v":{"$error":"#N/A"}},{"$f":"INDEX(Stabilo!$F$9:$DA$48,MATCH($B$3,Stabilo!$D$9:$D$48,0),C9)","v":{"$error":"#N/A"}},{"$f":"INDEX(Stabilo!$F$9:$DA$48,MATCH($B$3,Stabilo!$D$9:$D$48,0),C9)","v":{"$error":"#N/A"}},{"$f":"INDEX(Stabilo!$F$9:$DA$48,MATCH($B$3,Stabilo!$D$9:$D$48,0),C9)","v":{"$error":"#N/A"}},{"$f":"INDEX(Stabilo!$F$9:$DA$48,MATCH($B$3,Stabilo!$D$9:$D$48,0),C9)","v":{"$error":"#N/A"}},{"$f":"INDEX(Stabilo!$F$9:$DA$48,MATCH($B$3,Stabilo!$D$9:$D$48,0),C9)","v":{"$error":"#N/A"}},null,null,null,null,{"$f":"IF(ISERROR(INDEX(Accueil!$M$27:$N$56,MATCH(VLOOKUP(C9,Accueil!$Q$27:$R$126,2),Accueil!$M$27:$M$56,0),2)),\"\",INDEX(Accueil!$M$27:$N$56,MATCH(VLOOKUP(C9,Accueil!$Q$27:$R$126,2),Accueil!$M$27:$M$56,0),2))","v":1},{"$f":"IF(ISERROR(INDEX(Accueil!$L$27:$M$56,MATCH(VLOOKUP(C9,Accueil!$Q$27:$R$126,2),Accueil!$M$27:$M$56,0),1)),\"\",INDEX(Accueil!$L$27:$M$56,MATCH(VLOOKUP(C9,Accueil!$Q$27:$R$126,2),Accueil!$M$27:$M$56,0),1))","v":3},{"$f":"IF(J9=Accueil!$AA$26,1,0)","v":{"$error":"#N/A"}},{"$f":"IF(J9=Accueil!$AB$26,1,0)","v":{"$error":"#N/A"}},{"$f":"IF(J9=Accueil!$AC$26,1,0)","v":{"$error":"#N/A"}},{"$f":"IF(J9=Accueil!$AD$26,1,0)","v":{"$error":"#N/A"}},{"$f":"IF(J9=Accueil!$AE$26,1,0)","v":{"$error":"#N/A"}},{"$f":"IF(J9=Accueil!$AF$26,1,0)","v":{"$error":"#N/A"}}]
[null,null,{"$f":"IF('Synthèse classe'!C10=\"\",\"\",'Synthèse classe'!C10)","v":28},{"$error":"#N/A"},{"$f":"INDEX(Stabilo!$F$9:$DA$48,MATCH($B$3,Stabilo!$D$9:$D$48,0),C10)","v":{"$error":"#N/A"}},{"$f":"INDEX(Stabilo!$F$9:$DA$48,MATCH($B$3,Stabilo!$D$9:$D$48,0),C10)","v":{"$error":"#N/A"}},{"$f":"INDEX(Stabilo!$F$9:$DA$48,MATCH($B$3,Stabilo!$D$9:$D$48,0),C10)","v":{"$error":"#N/A"}},{"$f":"INDEX(Stabilo!$F$9:$DA$48,MATCH($B$3,Stabilo!$D$9:$D$48,0),C10)","v":{"$error":"#N/A"}},{"$f":"INDEX(Stabilo!$F$9:$DA$48,MATCH($B$3,Stabilo!$D$9:$D$48,0),C10)","v":{"$error":"#N/A"}},{"$f":"INDEX(Stabilo!$F$9:$DA$48,MATCH($B$3,Stabilo!$D$9:$D$48,0),C10)","v":{"$error":"#N/A"}},null,null,null,null,{"$f":"IF(ISERROR(INDEX(Accueil!$M$27:$N$56,MATCH(VLOOKUP(C10,Accueil!$Q$27:$R$126,2),Accueil!$M$27:$M$56,0),2)),\"\",INDEX(Accueil!$M$27:$N$56,MATCH(VLOOKUP(C10,Accueil!$Q$27:$R$126,2),Accueil!$M$27:$M$56,0),2))","v":1},{"$f":"IF(ISERROR(INDEX(Accueil!$L$27:$M$56,MATCH(VLOOKUP(C10,Accueil!$Q$27:$R$126,2),Accueil!$M$27:$M$56,0),1)),\"\",INDEX(Accueil!$L$27:$M$56,MATCH(VLOOKUP(C10,Accueil!$Q$27:$R$126,2),Accueil!$M$27:$M$56,0),1))","v":3},{"$f":"IF(J10=Accueil!$AA$26,1,0)","v":{"$error":"#N/A"}},{"$f":"IF(J10=Accueil!$AB$26,1,0)","v":{"$error":"#N/A"}},{"$f":"IF(J10=Accueil!$AC$26,1,0)","v":{"$error":"#N/A"}},{"$f":"IF(J10=Accueil!$AD$26,1,0)","v":{"$error":"#N/A"}},{"$f":"IF(J10=Accueil!$AE$26,1,0)","v":{"$error":"#N/A"}},{"$f":"IF(J10=Accueil!$AF$26,1,0)","v":{"$error":"#N/A"}}]
[null,{"$f":"IF(COMS4=\"\",\"\",COMS4)","v":"Associer un nombre entier à une position sur une demi-droite graduée "},{"$f":"IF('Synthèse classe'!C11=\"\",\"\",'Synthèse classe'!C11)","v":5},{"$error":"#N/A"},{"$f":"INDEX(Stabilo!$F$9:$DA$48,MATCH($B$3,Stabilo!$D$9:$D$48,0),C11)","v":{"$error":"#N/A"}},{"$f":"INDEX(Stabilo!$F$9:$DA$48,MATCH($B$3,Stabilo!$D$9:$D$48,0),C11)","v":{"$error":"#N/A"}},{"$f":"INDEX(Stabilo!$F$9:$DA$48,MATCH($B$3,Stabilo!$D$9:$D$48,0),C11)","v":{"$error":"#N/A"}},{"$f":"INDEX(Stabilo!$F$9:$DA$48,MATCH($B$3,Stabilo!$D$9:$D$48,0),C11)","v":{"$error":"#N/A"}},{"$f":"INDEX(Stabilo!$F$9:$DA$48,MATCH($B$3,Stabilo!$D$9:$D$48,0),C11)","v":{"$error":"#N/A"}},{"$f":"INDEX(Stabilo!$F$9:$DA$48,MATCH($B$3,Stabilo!$D$9:$D$48,0),C11)","v":{"$error":"#N/A"}},{"$f":"IF(ISERROR(IF(SUM(D11:D13)>999,\"ABSENT\",SUMIF($P$4:$P$53,P11,$Q$4:$Q$53))),\"\",IF(SUM(D11:D13)>999,\"ABSENT\",SUMIF($P$4:$P$53,P11,$Q$4:$Q$53)))","v":""},{"$f":"IF(ISERROR(IF(SUM(D11:D13)>999,\"ABSENT\",SUMIF($P$4:$P$53,P11,$D$4:$D$53))),\"\",IF(SUM(D11:D13)>999,\"ABSENT\",SUMIF($P$4:$P$53,P11,$D$4:$D$53)))","v":""},{"$f":"IF(ISERROR(IF(SUM(D11:D13)>999,\"ABSENT\",IF(ISERROR(SUMIF($P$4:$P$53,P11,$Q$4:$Q$53)/SUMIF($P$4:$P$53,P11,$D$4:$D$53)),\"\",ROUND(SUMIF($P$4:$P$53,P11,$Q$4:$Q$53)/SUMIF($P$4:$P$53,P11,$D$4:$D$53),3)))),\"\",IF(SUM(D11:D13)>999,\"ABSENT\",IF(ISERROR(SUMIF($P$4:$P$53,P11,$Q$4:$Q$53)/SUMIF($P$4:$P$53,P11,$D$4:$D$53)),\"\",ROUND(SUMIF($P$4:$P$53,P11,$Q$4:$Q$53)/SUMIF($P$4:$P$53,P11,$D$4:$D$53),3))))","v":""},null,{"$f":"IF(ISERROR(INDEX(Accueil!$M$27:$N$56,MATCH(VLOOKUP(C11,Accueil!$Q$27:$R$126,2),Accueil!$M$27:$M$56,0),2)),\"\",INDEX(Accueil!$M$27:$N$56,MATCH(VLOOKUP(C11,Accueil!$Q$27:$R$126,2),Accueil!$M$27:$M$56,0),2))","v":1},{"$f":"IF(ISERROR(INDEX(Accueil!$L$27:$M$56,MATCH(VLOOKUP(C11,Accueil!$Q$27:$R$126,2),Accueil!$M$27:$M$56,0),1)),\"\",INDEX(Accueil!$L$27:$M$56,MATCH(VLOOKUP(C11,Accueil!$Q$27:$R$126,2),Accueil!$M$27:$M$56,0),1))","v":4},{"$f":"IF(J11=Accueil!$AA$26,1,0)","v":{"$error":"#N/A"}},{"$f":"IF(J11=Accueil!$AB$26,1,0)","v":{"$error":"#N/A"}},{"$f":"IF(J11=Accueil!$AC$26,1,0)","v":{"$error":"#N/A"}},{"$f":"IF(J11=Accueil!$AD$26,1,0)","v":{"$error":"#N/A"}},{"$f":"IF(J11=Accueil!$AE$26,1,0)","v":{"$error":"#N/A"}},{"$f":"IF(J11=Accueil!$AF$26,1,0)","v":{"$error":"#N/A"}}]
[null,null,{"$f":"IF('Synthèse classe'!C12=\"\",\"\",'Synthèse classe'!C12)","v":6},{"$error":"#N/A"},{"$f":"INDEX(Stabilo!$F$9:$DA$48,MATCH($B$3,Stabilo!$D$9:$D$48,0),C12)","v":{"$error":"#N/A"}},{"$f":"INDEX(Stabilo!$F$9:$DA$48,MATCH($B$3,Stabilo!$D$9:$D$48,0),C12)","v":{"$error":"#N/A"}},{"$f":"INDEX(Stabilo!$F$9:$DA$48,MATCH($B$3,Stabilo!$D$9:$D$48,0),C12)","v":{"$error":"#N/A"}},{"$f":"INDEX(Stabilo!$F$9:$DA$48,MATCH($B$3,Stabilo!$D$9:$D$48,0),C12)","v":{"$error":"#N/A"}},{"$f":"INDEX(Stabilo!$F$9:$DA$48,MATCH($B$3,Stabilo!$D$9:$D$48,0),C12)","v":{"$error":"#N/A"}},{"$f":"INDEX(Stabilo!$F$9:$DA$48,MATCH($B$3,Stabilo!$D$9:$D$48,0),C12)","v":{"$error":"#N/A"}},null,null,null,null,{"$f":"IF(ISERROR(INDEX(Accueil!$M$27:$N$56,MATCH(VLOOKUP(C12,Accueil!$Q$27:$R$126,2),Accueil!$M$27:$M$56,0),2)),\"\",INDEX(Accueil!$M$27:$N$56,MATCH(VLOOKUP(C12,Accueil!$Q$27:$R$126,2),Accueil!$M$27:$M$56,0),2))","v":1},{"$f":"IF(ISERROR(INDEX(Accueil!$L$27:$M$56,MATCH(VLOOKUP(C12,Accueil!$Q$27:$R$126,2),Accueil!$M$27:$M$56,0),1)),\"\",INDEX(Accueil!$L$27:$M$56,MATCH(VLOOKUP(C12,Accueil!$Q$27:$R$126,2),Accueil!$M$27:$M$56,0),1))","v":4},{"$f":"IF(J12=Accueil!$AA$26,1,0)","v":{"$error":"#N/A"}},{"$f":"IF(J12=Accueil!$AB$26,1,0)","v":{"$error":"#N/A"}},{"$f":"IF(J12=Accueil!$AC$26,1,0)","v":{"$error":"#N/A"}},{"$f":"IF(J12=Accueil!$AD$26,1,0)","v":{"$error":"#N/A"}},{"$f":"IF(J12=Accueil!$AE$26,1,0)","v":{"$error":"#N/A"}},{"$f":"IF(J12=Accueil!$AF$26,1,0)","v":{"$error":"#N/A"}}]
[null,null,{"$f":"IF('Synthèse classe'!C13=\"\",\"\",'Synthèse classe'!C13)","v":7},{"$error":"#N/A"},{"$f":"INDEX(Stabilo!$F$9:$DA$48,MATCH($B$3,Stabilo!$D$9:$D$48,0),C13)","v":{"$error":"#N/A"}},{"$f":"INDEX(Stabilo!$F$9:$DA$48,MATCH($B$3,Stabilo!$D$9:$D$48,0),C13)","v":{"$error":"#N/A"}},{"$f":"INDEX(Stabilo!$F$9:$DA$48,MATCH($B$3,Stabilo!$D$9:$D$48,0),C13)","v":{"$error":"#N/A"}},{"$f":"INDEX(Stabilo!$F$9:$DA$48,MATCH($B$3,Stabilo!$D$9:$D$48,0),C13)","v":{"$error":"#N/A"}},{"$f":"INDEX(Stabilo!$F$9:$DA$48,MATCH($B$3,Stabilo!$D$9:$D$48,0),C13)","v":{"$error":"#N/A"}},{"$f":"INDEX(Stabilo!$F$9:$DA$48,MATCH($B$3,Stabilo!$D$9:$D$48,0),C13)","v":{"$error":"#N/A"}},null,null,null,null,{"$f":"IF(ISERROR(INDEX(Accueil!$M$27:$N$56,MATCH(VLOOKUP(C13,Accueil!$Q$27:$R$126,2),Accueil!$M$27:$M$56,0),2)),\"\",INDEX(Accueil!$M$27:$N$56,MATCH(VLOOKUP(C13,Accueil!$Q$27:$R$126,2),Accueil!$M$27:$M$56,0),2))","v":1},{"$f":"IF(ISERROR(INDEX(Accueil!$L$27:$M$56,MATCH(VLOOKUP(C13,Accueil!$Q$27:$R$126,2),Accueil!$M$27:$M$56,0),1)),\"\",INDEX(Accueil!$L$27:$M$56,MATCH(VLOOKUP(C13,Accueil!$Q$27:$R$126,2),Accueil!$M$27:$M$56,0),1))","v":4},{"$f":"IF(J13=Accueil!$AA$26,1,0)","v":{"$error":"#N/A"}},{"$f":"IF(J13=Accueil!$AB$26,1,0)","v":{"$error":"#N/A"}},{"$f":"IF(J13=Accueil!$AC$26,1,0)","v":{"$error":"#N/A"}},{"$f":"IF(J13=Accueil!$AD$26,1,0)","v":{"$error":"#N/A"}},{"$f":"IF(J13=Accueil!$AE$26,1,0)","v":{"$error":"#N/A"}},{"$f":"IF(J13=Accueil!$AF$26,1,0)","v":{"$error":"#N/A"}}]
[{"$f":"IF(COMP2=\"\",\"\",COMP2)","v":"CP 2 : Comprendre et utiliser des nombres entiers pour dénombrer, ordonner, repérer, comparer"},{"$f":"IF(COMS5=\"\",\"\",COMS5)","v":"Comparer, ranger, encadrer, ordonner, intercaler des nombres entiers"},{"$f":"IF('Synthèse classe'!C14=\"\",\"\",'Synthèse classe'!C14)","v":20},{"$error":"#N/A"},{"$f":"INDEX(Stabilo!$F$9:$DA$48,MATCH($B$3,Stabilo!$D$9:$D$48,0),C14)","v":{"$error":"#N/A"}},{"$f":"INDEX(Stabilo!$F$9:$DA$48,MATCH($B$3,Stabilo!$D$9:$D$48,0),C14)","v":{"$error":"#N/A"}},{"$f":"INDEX(Stabilo!$F$9:$DA$48,MATCH($B$3,Stabilo!$D$9:$D$48,0),C14)","v":{"$error":"#N/A"}},{"$f":"INDEX(Stabilo!$F$9:$DA$48,MATCH($B$3,Stabilo!$D$9:$D$48,0),C14)","v":{"$error":"#N/A"}},{"$f":"INDEX(Stabilo!$F$9:$DA$48,MATCH($B$3,Stabilo!$D$9:$D$48,0),C14)","v":{"$error":"#N/A"}},{"$f":"INDEX(Stabilo!$F$9:$DA$48,MATCH($B$3,Stabilo!$D$9:$D$48,0),C14)","v":{"$error":"#N/A"}},{"$f":"IF(ISERROR(IF(SUM(D14:D16)>999,\"ABSENT\",SUMIF($P$4:$P$53,P14,$Q$4:$Q$53))),\"\",IF(SUM(D14:D16)>999,\"ABSENT\",SUMIF($P$4:$P$53,P14,$Q$4:$Q$53)))","v":""},{"$f":"IF(ISERROR(IF(SUM(D14:D16)>999,\"ABSENT\",SUMIF($P$4:$P$53,P14,$D$4:$D$53))),\"\",IF(SUM(D14:D16)>999,\"ABSENT\",SUMIF($P$4:$P$53,P14,$D$4:$D$53)))","v":""},{"$f":"IF(ISERROR(IF(SUM(D14:D16)>999,\"ABSENT\",IF(ISERROR(SUMIF($P$4:$P$53,P14,$Q$4:$Q$53)/SUMIF($P$4:$P$53,P14,$D$4:$D$53)),\"\",ROUND(SUMIF($P$4:$P$53,P14,$Q$4:$Q$53)/SUMIF($P$4:$P$53,P14,$D$4:$D$53),3)))),\"\",IF(SUM(D14:D16)>999,\"ABSENT\",IF(ISERROR(SUMIF($P$4:$P$53,P14,$Q$4:$Q$53)/SUMIF($P$4:$P$53,P14,$D$4:$D$53)),\"\",ROUND(SUMIF($P$4:$P$53,P14,$Q$4:$Q$53)/SUMIF($P$4:$P$53,P14,$D$4:$D$53),3))))","v":""},{"$f":"IF(ISERROR(IF(SUM(D14:D18)>999,\"ABSENT\",IF(ISERROR(SUMIF($O$4:$O$53,O14,$Q$4:$Q$53)/SUMIF($O$4:$O$53,O14,$D$4:$D$53)),\"\",ROUND(SUMIF($O$4:$O$53,O14,$Q$4:$Q$53)/SUMIF($O$4:$O$53,O14,$D$4:$D$53),3)))),\"\",IF(SUM(D14:D18)>999,\"ABSENT\",IF(ISERROR(SUMIF($O$4:$O$53,O14,$Q$4:$Q$53)/SUMIF($O$4:$O$53,O14,$D$4:$D$53)),\"\",ROUND(SUMIF($O$4:$O$53,O14,$Q$4:$Q$53)/SUMIF($O$4:$O$53,O14,$D$4:$D$53),3))))","v":""},{"$f":"IF(ISERROR(INDEX(Accueil!$M$27:$N$56,MATCH(VLOOKUP(C14,Accueil!$Q$27:$R$126,2),Accueil!$M$27:$M$56,0),2)),\"\",INDEX(Accueil!$M$27:$N$56,MATCH(VLOOKUP(C14,Accueil!$Q$27:$R$126,2),Accueil!$M$27:$M$56,0),2))","v":2},{"$f":"IF(ISERROR(INDEX(Accueil!$L$27:$M$56,MATCH(VLOOKUP(C14,Accueil!$Q$27:$R$126,2),Accueil!$M$27:$M$56,0),1)),\"\",INDEX(Accueil!$L$27:$M$56,MATCH(VLOOKUP(C14,Accueil!$Q$27:$R$126,2),Accueil!$M$27:$M$56,0),1))","v":5},{"$f":"IF(J14=Accueil!$AA$26,1,0)","v":{"$error":"#N/A"}},{"$f":"IF(J14=Accueil!$AB$26,1,0)","v":{"$error":"#N/A"}},{"$f":"IF(J14=Accueil!$AC$26,1,0)","v":{"$error":"#N/A"}},{"$f":"IF(J14=Accueil!$AD$26,1,0)","v":{"$error":"#N/A"}},{"$f":"IF(J14=Accueil!$AE$26,1,0)","v":{"$error":"#N/A"}},{"$f":"IF(J14=Accueil!$AF$26,1,0)","v":{"$error":"#N/A"}}]
[null,null,{"$f":"IF('Synthèse classe'!C15=\"\",\"\",'Synthèse classe'!C15)","v":21},{"$error":"#N/A"},{"$f":"INDEX(Stabilo!$F$9:$DA$48,MATCH($B$3,Stabilo!$D$9:$D$48,0),C15)","v":{"$error":"#N/A"}},{"$f":"INDEX(Stabilo!$F$9:$DA$48,MATCH($B$3,Stabilo!$D$9:$D$48,0),C15)","v":{"$error":"#N/A"}},{"$f":"INDEX(Stabilo!$F$9:$DA$48,MATCH($B$3,Stabilo!$D$9:$D$48,0),C15)","v":{"$error":"#N/A"}},{"$f":"INDEX(Stabilo!$F$9:$DA$48,MATCH($B$3,Stabilo!$D$9:$D$48,0),C15)","v":{"$error":"#N/A"}},{"$f":"INDEX(Stabilo!$F$9:$DA$48,MATCH($B$3,Stabilo!$D$9:$D$48,0),C15)","v":{"$error":"#N/A"}},{"$f":"INDEX(Stabilo!$F$9:$DA$48,MATCH($B$3,Stabilo!$D$9:$D$48,0),C15)","v":{"$error":"#N/A"}},null,null,null,null,{"$f":"IF(ISERROR(INDEX(Accueil!$M$27:$N$56,MATCH(VLOOKUP(C15,Accueil!$Q$27:$R$126,2),Accueil!$M$27:$M$56,0),2)),\"\",INDEX(Accueil!$M$27:$N$56,MATCH(VLOOKUP(C15,Accueil!$Q$27:$R$126,2),Accueil!$M$27:$M$56,0),2))","v":2},{"$f":"IF(ISERROR(INDEX(Accueil!$L$27:$M$56,MATCH(VLOOKUP(C15,Accueil!$Q$27:$R$126,2),Accueil!$M$27:$M$56,0),1)),\"\",INDEX(Accueil!$L$27:$M$56,MATCH(VLOOKUP(C15,Accueil!$Q$27:$R$126,2),Accueil!$M$27:$M$56,0),1))","v":5},{"$f":"IF(J15=Accueil!$AA$26,1,0)","v":{"$error":"#N/A"}},{"$f":"IF(J15=Accueil!$AB$26,1,0)","v":{"$error":"#N/A"}},{"$f":"IF(J15=Accueil!$AC$26,1,0)","v":{"$error":"#N/A"}},{"$f":"IF(J15=Accueil!$AD$26,1,0)","v":{"$error":"#N/A"}},{"$f":"IF(J15=Accueil!$AE$26,1,0)","v":{"$error":"#N/A"}},{"$f":"IF(J15=Accueil!$AF$26,1,0)","v":{"$error":"#N/A"}}]
[null,null,{"$f":"IF('Synthèse classe'!C16=\"\",\"\",'Synthèse classe'!C16)","v":22},{"$error":"#N/A"},{"$f":"INDEX(Stabilo!$F$9:$DA$48,MATCH($B$3,Stabilo!$D$9:$D$48,0),C16)","v":{"$error":"#N/A"}},{"$f":"INDEX(Stabilo!$F$9:$DA$48,MATCH($B$3,Stabilo!$D$9:$D$48,0),C16)","v":{"$error":"#N/A"}},{"$f":"INDEX(Stabilo!$F$9:$DA$48,MATCH($B$3,Stabilo!$D$9:$D$48,0),C16)","v":{"$error":"#N/A"}},{"$f":"INDEX(Stabilo!$F$9:$DA$48,MATCH($B$3,Stabilo!$D$9:$D$48,0),C16)","v":{"$error":"#N/A"}},{"$f":"INDEX(Stabilo!$F$9:$DA$48,MATCH($B$3,Stabilo!$D$9:$D$48,0),C16)","v":{"$error":"#N/A"}},{"$f":"INDEX(Stabilo!$F$9:$DA$48,MATCH($B$3,Stabilo!$D$9:$D$48,0),C16)","v":{"$error":"#N/A"}},null,null,null,null,{"$f":"IF(ISERROR(INDEX(Accueil!$M$27:$N$56,MATCH(VLOOKUP(C16,Accueil!$Q$27:$R$126,2),Accueil!$M$27:$M$56,0),2)),\"\",INDEX(Accueil!$M$27:$N$56,MATCH(VLOOKUP(C16,Accueil!$Q$27:$R$126,2),Accueil!$M$27:$M$56,0),2))","v":2},{"$f":"IF(ISERROR(INDEX(Accueil!$L$27:$M$56,MATCH(VLOOKUP(C16,Accueil!$Q$27:$R$126,2),Accueil!$M$27:$M$56,0),1)),\"\",INDEX(Accueil!$L$27:$M$56,MATCH(VLOOKUP(C16,Accueil!$Q$27:$R$126,2),Accueil!$M$27:$M$56,0),1))","v":5},{"$f":"IF(J16=Accueil!$AA$26,1,0)","v":{"$error":"#N/A"}},{"$f":"IF(J16=Accueil!$AB$26,1,0)","v":{"$error":"#N/A"}},{"$f":"IF(J16=Accueil!$AC$26,1,0)","v":{"$error":"#N/A"}},{"$f":"IF(J16=Accueil!$AD$26,1,0)","v":{"$error":"#N/A"}},{"$f":"IF(J16=Accueil!$AE$26,1,0)","v":{"$error":"#N/A"}},{"$f":"IF(J16=Accueil!$AF$26,1,0)","v":{"$error":"#N/A"}}]
[null,{"$f":"IF(COMS6=\"\",\"\",COMS6)","v":"Dénombrer, constituer et comparer des collections en utilisant diverses stratégies de dénombrement"},{"$f":"IF('Synthèse classe'!C17=\"\",\"\",'Synthèse classe'!C17)","v":12},{"$error":"#N/A"},{"$f":"INDEX(Stabilo!$F$9:$DA$48,MATCH($B$3,Stabilo!$D$9:$D$48,0),C17)","v":{"$error":"#N/A"}},{"$f":"INDEX(Stabilo!$F$9:$DA$48,MATCH($B$3,Stabilo!$D$9:$D$48,0),C17)","v":{"$error":"#N/A"}},{"$f":"INDEX(Stabilo!$F$9:$DA$48,MATCH($B$3,Stabilo!$D$9:$D$48,0),C17)","v":{"$error":"#N/A"}},{"$f":"INDEX(Stabilo!$F$9:$DA$48,MATCH($B$3,Stabilo!$D$9:$D$48,0),C17)","v":{"$error":"#N/A"}},{"$f":"INDEX(Stabilo!$F$9:$DA$48,MATCH($B$3,Stabilo!$D$9:$D$48,0),C17)","v":{"$error":"#N/A"}},{"$f":"INDEX(Stabilo!$F$9:$DA$48,MATCH($B$3,Stabilo!$D$9:$D$48,0),C17)","v":{"$error":"#N/A"}},{"$f":"IF(ISERROR(IF(SUM(D17:D18)>999,\"ABSENT\",SUMIF($P$4:$P$53,P17,$Q$4:$Q$53))),\"\",IF(SUM(D17:D18)>999,\"ABSENT\",SUMIF($P$4:$P$53,P17,$Q$4:$Q$53)))","v":""},{"$f":"IF(ISERROR(IF(SUM(D17:D18)>999,\"ABSENT\",SUMIF($P$4:$P$53,P17,$D$4:$D$53))),\"\",IF(SUM(D17:D18)>999,\"ABSENT\",SUMIF($P$4:$P$53,P17,$D$4:$D$53)))","v":""},{"$f":"IF(ISERROR(IF(SUM(D17:D18)>999,\"ABSENT\",IF(ISERROR(SUMIF($P$4:$P$53,P17,$Q$4:$Q$53)/SUMIF($P$4:$P$53,P17,$D$4:$D$53)),\"\",ROUND(SUMIF($P$4:$P$53,P17,$Q$4:$Q$53)/SUMIF($P$4:$P$53,P17,$D$4:$D$53),3)))),\"\",IF(SUM(D17:D18)>999,\"ABSENT\",IF(ISERROR(SUMIF($P$4:$P$53,P17,$Q$4:$Q$53)/SUMIF($P$4:$P$53,P17,$D$4:$D$53)),\"\",ROUND(SUMIF($P$4:$P$53,P17,$Q$4:$Q$53)/SUMIF($P$4:$P$53,P17,$D$4:$D$53),3))))","v":""},null,{"$f":"IF(ISERROR(INDEX(Accueil!$M$27:$N$56,MATCH(VLOOKUP(C17,Accueil!$Q$27:$R$126,2),Accueil!$M$27:$M$56,0),2)),\"\",INDEX(Accueil!$M$27:$N$56,MATCH(VLOOKUP(C17,Accueil!$Q$27:$R$126,2),Accueil!$M$27:$M$56,0),2))","v":2},{"$f":"IF(ISERROR(INDEX(Accueil!$L$27:$M$56,MATCH(VLOOKUP(C17,Accueil!$Q$27:$R$126,2),Accueil!$M$27:$M$56,0),1)),\"\",INDEX(Accueil!$L$27:$M$56,MATCH(VLOOKUP(C17,Accueil!$Q$27:$R$126,2),Accueil!$M$27:$M$56,0),1))","v":6},{"$f":"IF(J17=Accueil!$AA$26,1,0)","v":{"$error":"#N/A"}},{"$f":"IF(J17=Accueil!$AB$26,1,0)","v":{"$error":"#N/A"}},{"$f":"IF(J17=Accueil!$AC$26,1,0)","v":{"$error":"#N/A"}},{"$f":"IF(J17=Accueil!$AD$26,1,0)","v":{"$error":"#N/A"}},{"$f":"IF(J17=Accueil!$AE$26,1,0)","v":{"$error":"#N/A"}},{"$f":"IF(J17=Accueil!$AF$26,1,0)","v":{"$error":"#N/A"}}]
[null,null,{"$f":"IF('Synthèse classe'!C18=\"\",\"\",'Synthèse classe'!C18)","v":13},{"$error":"#N/A"},{"$f":"INDEX(Stabilo!$F$9:$DA$48,MATCH($B$3,Stabilo!$D$9:$D$48,0),C18)","v":{"$error":"#N/A"}},{"$f":"INDEX(Stabilo!$F$9:$DA$48,MATCH($B$3,Stabilo!$D$9:$D$48,0),C18)","v":{"$error":"#N/A"}},{"$f":"INDEX(Stabilo!$F$9:$DA$48,MATCH($B$3,Stabilo!$D$9:$D$48,0),C18)","v":{"$error":"#N/A"}},{"$f":"INDEX(Stabilo!$F$9:$DA$48,MATCH($B$3,Stabilo!$D$9:$D$48,0),C18)","v":{"$error":"#N/A"}},{"$f":"INDEX(Stabilo!$F$9:$DA$48,MATCH($B$3,Stabilo!$D$9:$D$48,0),C18)","v":{"$error":"#N/A"}},{"$f":"INDEX(Stabilo!$F$9:$DA$48,MATCH($B$3,Stabilo!$D$9:$D$48,0),C18)","v":{"$error":"#N/A"}},null,null,null,null,{"$f":"IF(ISERROR(INDEX(Accueil!$M$27:$N$56,MATCH(VLOOKUP(C18,Accueil!$Q$27:$R$126,2),Accueil!$M$27:$M$56,0),2)),\"\",INDEX(Accueil!$M$27:$N$56,MATCH(VLOOKUP(C18,Accueil!$Q$27:$R$126,2),Accueil!$M$27:$M$56,0),2))","v":2},{"$f":"IF(ISERROR(INDEX(Accueil!$L$27:$M$56,MATCH(VLOOKUP(C18,Accueil!$Q$27:$R$126,2),Accueil!$M$27:$M$56,0),1)),\"\",INDEX(Accueil!$L$27:$M$56,MATCH(VLOOKUP(C18,Accueil!$Q$27:$R$126,2),Accueil!$M$27:$M$56,0),1))","v":6},{"$f":"IF(J18=Accueil!$AA$26,1,0)","v":{"$error":"#N/A"}},{"$f":"IF(J18=Accueil!$AB$26,1,0)","v":{"$error":"#N/A"}},{"$f":"IF(J18=Accueil!$AC$26,1,0)","v":{"$error":"#N/A"}},{"$f":"IF(J18=Accueil!$AD$26,1,0)","v":{"$error":"#N/A"}},{"$f":"IF(J18=Accueil!$AE$26,1,0)","v":{"$error":"#N/A"}},{"$f":"IF(J18=Accueil!$AF$26,1,0)","v":{"$error":"#N/A"}}]
[{"$f":"IF(COMP3=\"\",\"\",COMP3)","v":"CP 3 : Résoudre des problèmes en utilisant des nombres entiers et le calcul"},{"$f":"IF(COMS7=\"\",\"\",COMS7)","v":"Résoudre des problèmes issus de situations de la vie quotidienne : problèmes relevant des structures additives"},{"$f":"IF('Synthèse classe'!C19=\"\",\"\",'Synthèse classe'!C19)","v":4},{"$error":"#N/A"},{"$f":"INDEX(Stabilo!$F$9:$DA$48,MATCH($B$3,Stabilo!$D$9:$D$48,0),C19)","v":{"$error":"#N/A"}},{"$f":"INDEX(Stabilo!$F$9:$DA$48,MATCH($B$3,Stabilo!$D$9:$D$48,0),C19)","v":{"$error":"#N/A"}},{"$f":"INDEX(Stabilo!$F$9:$DA$48,MATCH($B$3,Stabilo!$D$9:$D$48,0),C19)","v":{"$error":"#N/A"}},{"$f":"INDEX(Stabilo!$F$9:$DA$48,MATCH($B$3,Stabilo!$D$9:$D$48,0),C19)","v":{"$error":"#N/A"}},{"$f":"INDEX(Stabilo!$F$9:$DA$48,MATCH($B$3,Stabilo!$D$9:$D$48,0),C19)","v":{"$error":"#N/A"}},{"$f":"INDEX(Stabilo!$F$9:$DA$48,MATCH($B$3,Stabilo!$D$9:$D$48,0),C19)","v":{"$error":"#N/A"}},{"$f":"IF(ISERROR(IF(SUM(D19:D20)>999,\"ABSENT\",SUMIF($P$4:$P$53,P19,$Q$4:$Q$53))),\"\",IF(SUM(D19:D20)>999,\"ABSENT\",SUMIF($P$4:$P$53,P19,$Q$4:$Q$53)))","v":""},{"$f":"IF(ISERROR(IF(SUM(D19:D20)>999,\"ABSENT\",SUMIF($P$4:$P$53,P19,$D$4:$D$53))),\"\",IF(SUM(D19:D20)>999,\"ABSENT\",SUMIF($P$4:$P$53,P19,$D$4:$D$53)))","v":""},{"$f":"IF(ISERROR(IF(SUM(D19:D20)>999,\"ABSENT\",IF(ISERROR(SUMIF($P$4:$P$53,P19,$Q$4:$Q$53)/SUMIF($P$4:$P$53,P19,$D$4:$D$53)),\"\",ROUND(SUMIF($P$4:$P$53,P19,$Q$4:$Q$53)/SUMIF($P$4:$P$53,P19,$D$4:$D$53),3)))),\"\",IF(SUM(D19:D21)>999,\"ABSENT\",IF(ISERROR(SUMIF($P$4:$P$53,P19,$Q$4:$Q$53)/SUMIF($P$4:$P$53,P19,$D$4:$D$53)),\"\",ROUND(SUMIF($P$4:$P$53,P19,$Q$4:$Q$53)/SUMIF($P$4:$P$53,P19,$D$4:$D$53),3))))","v":""},{"$f":"IF(ISERROR(IF(SUM(D19:D23)>999,\"ABSENT\",IF(ISERROR(SUMIF($O$4:$O$53,O19,$Q$4:$Q$53)/SUMIF($O$4:$O$53,O19,$D$4:$D$53)),\"\",ROUND(SUMIF($O$4:$O$53,O19,$Q$4:$Q$53)/SUMIF($O$4:$O$53,O19,$D$4:$D$53),3)))),\"\",IF(SUM(D19:D26)>999,\"ABSENT\",IF(ISERROR(SUMIF($O$4:$O$53,O19,$Q$4:$Q$53)/SUMIF($O$4:$O$53,O19,$D$4:$D$53)),\"\",ROUND(SUMIF($O$4:$O$53,O19,$Q$4:$Q$53)/SUMIF($O$4:$O$53,O19,$D$4:$D$53),3))))","v":""},{"$f":"IF(ISERROR(INDEX(Accueil!$M$27:$N$56,MATCH(VLOOKUP(C19,Accueil!$Q$27:$R$126,2),Accueil!$M$27:$M$56,0),2)),\"\",INDEX(Accueil!$M$27:$N$56,MATCH(VLOOKUP(C19,Accueil!$Q$27:$R$126,2),Accueil!$M$27:$M$56,0),2))","v":3},{"$f":"IF(ISERROR(INDEX(Accueil!$L$27:$M$56,MATCH(VLOOKUP(C19,Accueil!$Q$27:$R$126,2),Accueil!$M$27:$M$56,0),1)),\"\",INDEX(Accueil!$L$27:$M$56,MATCH(VLOOKUP(C19,Accueil!$Q$27:$R$126,2),Accueil!$M$27:$M$56,0),1))","v":7},{"$f":"IF(J19=Accueil!$AA$26,1,0)","v":{"$error":"#N/A"}},{"$f":"IF(J19=Accueil!$AB$26,1,0)","v":{"$error":"#N/A"}},{"$f":"IF(J19=Accueil!$AC$26,1,0)","v":{"$error":"#N/A"}},{"$f":"IF(J19=Accueil!$AD$26,1,0)","v":{"$error":"#N/A"}},{"$f":"IF(J19=Accueil!$AE$26,1,0)","v":{"$error":"#N/A"}},{"$f":"IF(J19=Accueil!$AF$26,1,0)","v":{"$error":"#N/A"}}]
[null,null,{"$f":"IF('Synthèse classe'!C20=\"\",\"\",'Synthèse classe'!C20)","v":29},{"$error":"#N/A"},{"$f":"INDEX(Stabilo!$F$9:$DA$48,MATCH($B$3,Stabilo!$D$9:$D$48,0),C20)","v":{"$error":"#N/A"}},{"$f":"INDEX(Stabilo!$F$9:$DA$48,MATCH($B$3,Stabilo!$D$9:$D$48,0),C20)","v":{"$error":"#N/A"}},{"$f":"INDEX(Stabilo!$F$9:$DA$48,MATCH($B$3,Stabilo!$D$9:$D$48,0),C20)","v":{"$error":"#N/A"}},{"$f":"INDEX(Stabilo!$F$9:$DA$48,MATCH($B$3,Stabilo!$D$9:$D$48,0),C20)","v":{"$error":"#N/A"}},{"$f":"INDEX(Stabilo!$F$9:$DA$48,MATCH($B$3,Stabilo!$D$9:$D$48,0),C20)","v":{"$error":"#N/A"}},{"$f":"INDEX(Stabilo!$F$9:$DA$48,MATCH($B$3,Stabilo!$D$9:$D$48,0),C20)","v":{"$error":"#N/A"}},null,null,null,null,{"$f":"IF(ISERROR(INDEX(Accueil!$M$27:$N$56,MATCH(VLOOKUP(C20,Accueil!$Q$27:$R$126,2),Accueil!$M$27:$M$56,0),2)),\"\",INDEX(Accueil!$M$27:$N$56,MATCH(VLOOKUP(C20,Accueil!$Q$27:$R$126,2),Accueil!$M$27:$M$56,0),2))","v":3},{"$f":"IF(ISERROR(INDEX(Accueil!$L$27:$M$56,MATCH(VLOOKUP(C20,Accueil!$Q$27:$R$126,2),Accueil!$M$27:$M$56,0),1)),\"\",INDEX(Accueil!$L$27:$M$56,MATCH(VLOOKUP(C20,Accueil!$Q$27:$R$126,2),Accueil!$M$27:$M$56,0),1))","v":7},{"$f":"IF(J20=Accueil!$AA$26,1,0)","v":{"$error":"#N/A"}},{"$f":"IF(J20=Accueil!$AB$26,1,0)","v":{"$error":"#N/A"}},{"$f":"IF(J20=Accueil!$AC$26,1,0)","v":{"$error":"#N/A"}},{"$f":"IF(J20=Accueil!$AD$26,1,0)","v":{"$error":"#N/A"}},{"$f":"IF(J20=Accueil!$AE$26,1,0)","v":{"$error":"#N/A"}},{"$f":"IF(J20=Accueil!$AF$26,1,0)","v":{"$error":"#N/A"}}]
[null,{"$f":"IF(COMS8=\"\",\"\",COMS8)","v":"Exploiter des données numériques d'un graphique pour répondre à des questions"},{"$f":"IF('Synthèse classe'!C21=\"\",\"\",'Synthèse classe'!C21)","v":23},{"$error":"#N/A"},{"$f":"INDEX(Stabilo!$F$9:$DA$48,MATCH($B$3,Stabilo!$D$9:$D$48,0),C21)","v":{"$error":"#N/A"}},{"$f":"INDEX(Stabilo!$F$9:$DA$48,MATCH($B$3,Stabilo!$D$9:$D$48,0),C21)","v":{"$error":"#N/A"}},{"$f":"INDEX(Stabilo!$F$9:$DA$48,MATCH($B$3,Stabilo!$D$9:$D$48,0),C21)","v":{"$error":"#N/A"}},{"$f":"INDEX(Stabilo!$F$9:$DA$48,MATCH($B$3,Stabilo!$D$9:$D$48,0),C21)","v":{"$error":"#N/A"}},{"$f":"INDEX(Stabilo!$F$9:$DA$48,MATCH($B$3,Stabilo!$D$9:$D$48,0),C21)","v":{"$error":"#N/A"}},{"$f":"INDEX(Stabilo!$F$9:$DA$48,MATCH($B$3,Stabilo!$D$9:$D$48,0),C21)","v":{"$error":"#N/A"}},{"$f":"IF(ISERROR(IF(SUM(D21:D23)>999,\"ABSENT\",SUMIF($P$4:$P$53,P23,$Q$4:$Q$53))),\"\",IF(SUM(D21:D23)>999,\"ABSENT\",SUMIF($P$4:$P$53,P23,$Q$4:$Q$53)))","v":""},{"$f":"IF(ISERROR(IF(SUM(D21:D23)>999,\"ABSENT\",SUMIF($P$4:$P$53,P23,$D$4:$D$53))),\"\",IF(SUM(D21:D23)>999,\"ABSENT\",SUMIF($P$4:$P$53,P23,$D$4:$D$53)))","v":""},{"$f":"IF(ISERROR(IF(SUM(D21:D23)>999,\"ABSENT\",IF(ISERROR(SUMIF($P$4:$P$53,P23,$Q$4:$Q$53)/SUMIF($P$4:$P$53,P23,$D$4:$D$53)),\"\",ROUND(SUMIF($P$4:$P$53,P23,$Q$4:$Q$53)/SUMIF($P$4:$P$53,P23,$D$4:$D$53),3)))),\"\",IF(SUM(D23)>999,\"ABSENT\",IF(ISERROR(SUMIF($P$4:$P$53,P23,$Q$4:$Q$53)/SUMIF($P$4:$P$53,P23,$D$4:$D$53)),\"\",ROUND(SUMIF($P$4:$P$53,P23,$Q$4:$Q$53)/SUMIF($P$4:$P$53,P23,$D$4:$D$53),3))))","v":""},null,{"$f":"IF(ISERROR(INDEX(Accueil!$M$27:$N$56,MATCH(VLOOKUP(C21,Accueil!$Q$27:$R$126,2),Accueil!$M$27:$M$56,0),2)),\"\",INDEX(Accueil!$M$27:$N$56,MATCH(VLOOKUP(C21,Accueil!$Q$27:$R$126,2),Accueil!$M$27:$M$56,0),2))","v":3},{"$f":"IF(ISERROR(INDEX(Accueil!$L$27:$M$56,MATCH(VLOOKUP(C21,Accueil!$Q$27:$R$126,2),Accueil!$M$27:$M$56,0),1)),\"\",INDEX(Accueil!$L$27:$M$56,MATCH(VLOOKUP(C21,Accueil!$Q$27:$R$126,2),Accueil!$M$27:$M$56,0),1))","v":8},{"$f":"IF(J21=Accueil!$AA$26,1,0)","v":{"$error":"#N/A"}},{"$f":"IF(J21=Accueil!$AB$26,1,0)","v":{"$error":"#N/A"}},{"$f":"IF(J21=Accueil!$AC$26,1,0)","v":{"$error":"#N/A"}},{"$f":"IF(J21=Accueil!$AD$26,1,0)","v":{"$error":"#N/A"}},{"$f":"IF(J21=Accueil!$AE$26,1,0)","v":{"$error":"#N/A"}},{"$f":"IF(J21=Accueil!$AF$26,1,0)","v":{"$error":"#N/A"}}]
[null,null,{"$f":"IF('Synthèse classe'!C22=\"\",\"\",'Synthèse classe'!C22)","v":24},{"$error":"#N/A"},{"$f":"INDEX(Stabilo!$F$9:$DA$48,MATCH($B$3,Stabilo!$D$9:$D$48,0),C22)","v":{"$error":"#N/A"}},{"$f":"INDEX(Stabilo!$F$9:$DA$48,MATCH($B$3,Stabilo!$D$9:$D$48,0),C22)","v":{"$error":"#N/A"}},{"$f":"INDEX(Stabilo!$F$9:$DA$48,MATCH($B$3,Stabilo!$D$9:$D$48,0),C22)","v":{"$error":"#N/A"}},{"$f":"INDEX(Stabilo!$F$9:$DA$48,MATCH($B$3,Stabilo!$D$9:$D$48,0),C22)","v":{"$error":"#N/A"}},{"$f":"INDEX(Stabilo!$F$9:$DA$48,MATCH($B$3,Stabilo!$D$9:$D$48,0),C22)","v":{"$error":"#N/A"}},{"$f":"INDEX(Stabilo!$F$9:$DA$48,MATCH($B$3,Stabilo!$D$9:$D$48,0),C22)","v":{"$error":"#N/A"}},null,null,null,null,{"$f":"IF(ISERROR(INDEX(Accueil!$M$27:$N$56,MATCH(VLOOKUP(C22,Accueil!$Q$27:$R$126,2),Accueil!$M$27:$M$56,0),2)),\"\",INDEX(Accueil!$M$27:$N$56,MATCH(VLOOKUP(C22,Accueil!$Q$27:$R$126,2),Accueil!$M$27:$M$56,0),2))","v":3},{"$f":"IF(ISERROR(INDEX(Accueil!$L$27:$M$56,MATCH(VLOOKUP(C22,Accueil!$Q$27:$R$126,2),Accueil!$M$27:$M$56,0),1)),\"\",INDEX(Accueil!$L$27:$M$56,MATCH(VLOOKUP(C22,Accueil!$Q$27:$R$126,2),Accueil!$M$27:$M$56,0),1))","v":8},{"$f":"IF(J22=Accueil!$AA$26,1,0)","v":{"$error":"#N/A"}},{"$f":"IF(J22=Accueil!$AB$26,1,0)","v":{"$error":"#N/A"}},{"$f":"IF(J22=Accueil!$AC$26,1,0)","v":{"$error":"#N/A"}},{"$f":"IF(J22=Accueil!$AD$26,1,0)","v":{"$error":"#N/A"}},{"$f":"IF(J22=Accueil!$AE$26,1,0)","v":{"$error":"#N/A"}},{"$f":"IF(J22=Accueil!$AF$26,1,0)","v":{"$error":"#N/A"}}]
[null,null,{"$f":"IF('Synthèse classe'!C23=\"\",\"\",'Synthèse classe'!C23)","v":25},{"$error":"#N/A"},{"$f":"INDEX(Stabilo!$F$9:$DA$48,MATCH($B$3,Stabilo!$D$9:$D$48,0),C23)","v":{"$error":"#N/A"}},{"$f":"INDEX(Stabilo!$F$9:$DA$48,MATCH($B$3,Stabilo!$D$9:$D$48,0),C23)","v":{"$error":"#N/A"}},{"$f":"INDEX(Stabilo!$F$9:$DA$48,MATCH($B$3,Stabilo!$D$9:$D$48,0),C23)","v":{"$error":"#N/A"}},{"$f":"INDEX(Stabilo!$F$9:$DA$48,MATCH($B$3,Stabilo!$D$9:$D$48,0),C23)","v":{"$error":"#N/A"}},{"$f":"INDEX(Stabilo!$F$9:$DA$48,MATCH($B$3,Stabilo!$D$9:$D$48,0),C23)","v":{"$error":"#N/A"}},{"$f":"INDEX(Stabilo!$F$9:$DA$48,MATCH($B$3,Stabilo!$D$9:$D$48,0),C23)","v":{"$error":"#N/A"}},null,null,null,null,{"$f":"IF(ISERROR(INDEX(Accueil!$M$27:$N$56,MATCH(VLOOKUP(C23,Accueil!$Q$27:$R$126,2),Accueil!$M$27:$M$56,0),2)),\"\",INDEX(Accueil!$M$27:$N$56,MATCH(VLOOKUP(C23,Accueil!$Q$27:$R$126,2),Accueil!$M$27:$M$56,0),2))","v":3},{"$f":"IF(ISERROR(INDEX(Accueil!$L$27:$M$56,MATCH(VLOOKUP(C23,Accueil!$Q$27:$R$126,2),Accueil!$M$27:$M$56,0),1)),\"\",INDEX(Accueil!$L$27:$M$56,MATCH(VLOOKUP(C23,Accueil!$Q$27:$R$126,2),Accueil!$M$27:$M$56,0),1))","v":8},{"$f":"IF(J23=Accueil!$AA$26,1,0)","v":{"$error":"#N/A"}},{"$f":"IF(J23=Accueil!$AB$26,1,0)","v":{"$error":"#N/A"}},{"$f":"IF(J23=Accueil!$AC$26,1,0)","v":{"$error":"#N/A"}},{"$f":"IF(J23=Accueil!$AD$26,1,0)","v":{"$error":"#N/A"}},{"$f":"IF(J23=Accueil!$AE$26,1,0)","v":{"$error":"#N/A"}},{"$f":"IF(J23=Accueil!$AF$26,1,0)","v":{"$error":"#N/A"}}]
[{"$f":"IF(COMP4=\"\",\"\",COMP4)","v":"CP 4 : Calculer avec des nombres entiers"},{"$f":"IF(COMS9=\"\",\"\",COMS9)","v":"Mémoriser des faits numériques"},{"$f":"IF('Synthèse classe'!C25=\"\",\"\",'Synthèse classe'!C25)","v":9},{"$error":"#N/A"},{"$f":"INDEX(Stabilo!$F$9:$DA$48,MATCH($B$3,Stabilo!$D$9:$D$48,0),C24)","v":{"$error":"#N/A"}},{"$f":"INDEX(Stabilo!$F$9:$DA$48,MATCH($B$3,Stabilo!$D$9:$D$48,0),C24)","v":{"$error":"#N/A"}},{"$f":"INDEX(Stabilo!$F$9:$DA$48,MATCH($B$3,Stabilo!$D$9:$D$48,0),C24)","v":{"$error":"#N/A"}},{"$f":"INDEX(Stabilo!$F$9:$DA$48,MATCH($B$3,Stabilo!$D$9:$D$48,0),C24)","v":{"$error":"#N/A"}},{"$f":"INDEX(Stabilo!$F$9:$DA$48,MATCH($B$3,Stabilo!$D$9:$D$48,0),C24)","v":{"$error":"#N/A"}},{"$f":"INDEX(Stabilo!$F$9:$DA$48,MATCH($B$3,Stabilo!$D$9:$D$48,0),C24)","v":{"$error":"#N/A"}},{"$f":"IF(ISERROR(IF(SUM(D24:D26)>999,\"ABSENT\",SUMIF($P$4:$P$53,P24,$Q$4:$Q$53))),\"\",IF(SUM(D24:D26)>999,\"ABSENT\",SUMIF($P$4:$P$53,P24,$Q$4:$Q$53)))","v":""},{"$f":"IF(ISERROR(IF(SUM(D24:D26)>999,\"ABSENT\",SUMIF($P$4:$P$53,P24,$D$4:$D$53))),\"\",IF(SUM(D24:D26)>999,\"ABSENT\",SUMIF($P$4:$P$53,P24,$D$4:$D$53)))","v":""},{"$f":"IF(ISERROR(IF(SUM(D24:D26)>999,\"ABSENT\",IF(ISERROR(SUMIF($P$4:$P$53,P24,$Q$4:$Q$53)/SUMIF($P$4:$P$53,P24,$D$4:$D$53)),\"\",ROUND(SUMIF($P$4:$P$53,P24,$Q$4:$Q$53)/SUMIF($P$4:$P$53,P24,$D$4:$D$53),3)))),\"\",IF(SUM(D24:D26)>999,\"ABSENT\",IF(ISERROR(SUMIF($P$4:$P$53,P24,$Q$4:$Q$53)/SUMIF($P$4:$P$53,P24,$D$4:$D$53)),\"\",ROUND(SUMIF($P$4:$P$53,P24,$Q$4:$Q$53)/SUMIF($P$4:$P$53,P24,$D$4:$D$53),3))))","v":""},{"$f":"IF(ISERROR(IF(SUM(D24:D32)>999,\"ABSENT\",IF(ISERROR(SUMIF($O$4:$O$53,O27,$Q$4:$Q$53)/SUMIF($O$4:$O$53,O27,$D$4:$D$53)),\"\",ROUND(SUMIF($O$4:$O$53,O27,$Q$4:$Q$53)/SUMIF($O$4:$O$53,O27,$D$4:$D$53),3)))),\"\",IF(SUM(D27:D32)>999,\"ABSENT\",IF(ISERROR(SUMIF($O$4:$O$53,O27,$Q$4:$Q$53)/SUMIF($O$4:$O$53,O27,$D$4:$D$53)),\"\",ROUND(SUMIF($O$4:$O$53,O27,$Q$4:$Q$53)/SUMIF($O$4:$O$53,O27,$D$4:$D$53),3))))","v":""},{"$f":"IF(ISERROR(INDEX(Accueil!$M$27:$N$56,MATCH(VLOOKUP(C24,Accueil!$Q$27:$R$126,2),Accueil!$M$27:$M$56,0),2)),\"\",INDEX(Accueil!$M$27:$N$56,MATCH(VLOOKUP(C24,Accueil!$Q$27:$R$126,2),Accueil!$M$27:$M$56,0),2))","v":4},{"$f":"IF(ISERROR(INDEX(Accueil!$L$27:$M$56,MATCH(VLOOKUP(C24,Accueil!$Q$27:$R$126,2),Accueil!$M$27:$M$56,0),1)),\"\",INDEX(Accueil!$L$27:$M$56,MATCH(VLOOKUP(C24,Accueil!$Q$27:$R$126,2),Accueil!$M$27:$M$56,0),1))","v":9},{"$f":"IF(J24=Accueil!$AA$26,1,0)","v":{"$error":"#N/A"}},{"$f":"IF(J24=Accueil!$AB$26,1,0)","v":{"$error":"#N/A"}},{"$f":"IF(J24=Accueil!$AC$26,1,0)","v":{"$error":"#N/A"}},{"$f":"IF(J24=Accueil!$AD$26,1,0)","v":{"$error":"#N/A"}},{"$f":"IF(J24=Accueil!$AE$26,1,0)","v":{"$error":"#N/A"}},{"$f":"IF(J24=Accueil!$AF$26,1,0)","v":{"$error":"#N/A"}}]
[null,null,{"$f":"IF('Synthèse classe'!C26=\"\",\"\",'Synthèse classe'!C26)","v":10},{"$error":"#N/A"},{"$f":"INDEX(Stabilo!$F$9:$DA$48,MATCH($B$3,Stabilo!$D$9:$D$48,0),C25)","v":{"$error":"#N/A"}},{"$f":"INDEX(Stabilo!$F$9:$DA$48,MATCH($B$3,Stabilo!$D$9:$D$48,0),C25)","v":{"$error":"#N/A"}},{"$f":"INDEX(Stabilo!$F$9:$DA$48,MATCH($B$3,Stabilo!$D$9:$D$48,0),C25)","v":{"$error":"#N/A"}},{"$f":"INDEX(Stabilo!$F$9:$DA$48,MATCH($B$3,Stabilo!$D$9:$D$48,0),C25)","v":{"$error":"#N/A"}},{"$f":"INDEX(Stabilo!$F$9:$DA$48,MATCH($B$3,Stabilo!$D$9:$D$48,0),C25)","v":{"$error":"#N/A"}},{"$f":"INDEX(Stabilo!$F$9:$DA$48,MATCH($B$3,Stabilo!$D$9:$D$48,0),C25)","v":{"$error":"#N/A"}},null,null,null,null,{"$f":"IF(ISERROR(INDEX(Accueil!$M$27:$N$56,MATCH(VLOOKUP(C25,Accueil!$Q$27:$R$126,2),Accueil!$M$27:$M$56,0),2)),\"\",INDEX(Accueil!$M$27:$N$56,MATCH(VLOOKUP(C25,Accueil!$Q$27:$R$126,2),Accueil!$M$27:$M$56,0),2))","v":4},{"$f":"IF(ISERROR(INDEX(Accueil!$L$27:$M$56,MATCH(VLOOKUP(C25,Accueil!$Q$27:$R$126,2),Accueil!$M$27:$M$56,0),1)),\"\",INDEX(Accueil!$L$27:$M$56,MATCH(VLOOKUP(C25,Accueil!$Q$27:$R$126,2),Accueil!$M$27:$M$56,0),1))","v":9},{"$f":"IF(J25=Accueil!$AA$26,1,0)","v":{"$error":"#N/A"}},{"$f":"IF(J25=Accueil!$AB$26,1,0)","v":{"$error":"#N/A"}},{"$f":"IF(J25=Accueil!$AC$26,1,0)","v":{"$error":"#N/A"}},{"$f":"IF(J25=Accueil!$AD$26,1,0)","v":{"$error":"#N/A"}},{"$f":"IF(J25=Accueil!$AE$26,1,0)","v":{"$error":"#N/A"}},{"$f":"IF(J25=Accueil!$AF$26,1,0)","v":{"$error":"#N/A"}}]
[null,null,{"$f":"IF('Synthèse classe'!C27=\"\",\"\",'Synthèse classe'!C27)","v":11},{"$error":"#N/A"},{"$f":"INDEX(Stabilo!$F$9:$DA$48,MATCH($B$3,Stabilo!$D$9:$D$48,0),C26)","v":{"$error":"#N/A"}},{"$f":"INDEX(Stabilo!$F$9:$DA$48,MATCH($B$3,Stabilo!$D$9:$D$48,0),C26)","v":{"$error":"#N/A"}},{"$f":"INDEX(Stabilo!$F$9:$DA$48,MATCH($B$3,Stabilo!$D$9:$D$48,0),C26)","v":{"$error":"#N/A"}},{"$f":"INDEX(Stabilo!$F$9:$DA$48,MATCH($B$3,Stabilo!$D$9:$D$48,0),C26)","v":{"$error":"#N/A"}},{"$f":"INDEX(Stabilo!$F$9:$DA$48,MATCH($B$3,Stabilo!$D$9:$D$48,0),C26)","v":{"$error":"#N/A"}},{"$f":"INDEX(Stabilo!$F$9:$DA$48,MATCH($B$3,Stabilo!$D$9:$D$48,0),C26)","v":{"$error":"#N/A"}},null,null,null,null,{"$f":"IF(ISERROR(INDEX(Accueil!$M$27:$N$56,MATCH(VLOOKUP(C26,Accueil!$Q$27:$R$126,2),Accueil!$M$27:$M$56,0),2)),\"\",INDEX(Accueil!$M$27:$N$56,MATCH(VLOOKUP(C26,Accueil!$Q$27:$R$126,2),Accueil!$M$27:$M$56,0),2))","v":4},{"$f":"IF(ISERROR(INDEX(Accueil!$L$27:$M$56,MATCH(VLOOKUP(C26,Accueil!$Q$27:$R$126,2),Accueil!$M$27:$M$56,0),1)),\"\",INDEX(Accueil!$L$27:$M$56,MATCH(VLOOKUP(C26,Accueil!$Q$27:$R$126,2),Accueil!$M$27:$M$56,0),1))","v":9},{"$f":"IF(J26=Accueil!$AA$26,1,0)","v":{"$error":"#N/A"}},{"$f":"IF(J26=Accueil!$AB$26,1,0)","v":{"$error":"#N/A"}},{"$f":"IF(J26=Accueil!$AC$26,1,0)","v":{"$error":"#N/A"}},{"$f":"IF(J26=Accueil!$AD$26,1,0)","v":{"$error":"#N/A"}},{"$f":"IF(J26=Accueil!$AE$26,1,0)","v":{"$error":"#N/A"}},{"$f":"IF(J26=Accueil!$AF$26,1,0)","v":{"$error":"#N/A"}}]
[null,{"$f":"IF(COMS10=\"\",\"\",COMS10)","v":"Calculer en utilisant des écritures en ligne additives, soustractives, multiplicatives, mixtes"},{"$f":"IF('Synthèse classe'!C28=\"\",\"\",'Synthèse classe'!C28)","v":15},{"$error":"#N/A"},{"$f":"INDEX(Stabilo!$F$9:$DA$48,MATCH($B$3,Stabilo!$D$9:$D$48,0),C27)","v":{"$error":"#N/A"}},{"$f":"INDEX(Stabilo!$F$9:$DA$48,MATCH($B$3,Stabilo!$D$9:$D$48,0),C27)","v":{"$error":"#N/A"}},{"$f":"INDEX(Stabilo!$F$9:$DA$48,MATCH($B$3,Stabilo!$D$9:$D$48,0),C27)","v":{"$error":"#N/A"}},{"$f":"INDEX(Stabilo!$F$9:$DA$48,MATCH($B$3,Stabilo!$D$9:$D$48,0),C27)","v":{"$error":"#N/A"}},{"$f":"INDEX(Stabilo!$F$9:$DA$48,MATCH($B$3,Stabilo!$D$9:$D$48,0),C27)","v":{"$error":"#N/A"}},{"$f":"INDEX(Stabilo!$F$9:$DA$48,MATCH($B$3,Stabilo!$D$9:$D$48,0),C27)","v":{"$error":"#N/A"}},{"$f":"IF(ISERROR(IF(SUM(D27:D30)>999,\"ABSENT\",SUMIF($P$4:$P$53,P27,$Q$4:$Q$53))),\"\",IF(SUM(D27:D30)>999,\"ABSENT\",SUMIF($P$4:$P$53,P27,$Q$4:$Q$53)))","v":""},{"$f":"IF(ISERROR(IF(SUM(D27:D30)>999,\"ABSENT\",SUMIF($P$4:$P$53,P27,$D$4:$D$53))),\"\",IF(SUM(D27:D30)>999,\"ABSENT\",SUMIF($P$4:$P$53,P27,$D$4:$D$53)))","v":""},{"$f":"IF(ISERROR(IF(SUM(D27:D30)>999,\"ABSENT\",IF(ISERROR(SUMIF($P$4:$P$53,P27,$Q$4:$Q$53)/SUMIF($P$4:$P$53,P27,$D$4:$D$53)),\"\",ROUND(SUMIF($P$4:$P$53,P27,$Q$4:$Q$53)/SUMIF($P$4:$P$53,P27,$D$4:$D$53),3)))),\"\",IF(SUM(D27:D30)>999,\"ABSENT\",IF(ISERROR(SUMIF($P$4:$P$53,P27,$Q$4:$Q$53)/SUMIF($P$4:$P$53,P27,$D$4:$D$53)),\"\",ROUND(SUMIF($P$4:$P$53,P27,$Q$4:$Q$53)/SUMIF($P$4:$P$53,P27,$D$4:$D$53),3))))","v":""},null,{"$f":"IF(ISERROR(INDEX(Accueil!$M$27:$N$56,MATCH(VLOOKUP(C27,Accueil!$Q$27:$R$126,2),Accueil!$M$27:$M$56,0),2)),\"\",INDEX(Accueil!$M$27:$N$56,MATCH(VLOOKUP(C27,Accueil!$Q$27:$R$126,2),Accueil!$M$27:$M$56,0),2))","v":4},{"$f":"IF(ISERROR(INDEX(Accueil!$L$27:$M$56,MATCH(VLOOKUP(C27,Accueil!$Q$27:$R$126,2),Accueil!$M$27:$M$56,0),1)),\"\",INDEX(Accueil!$L$27:$M$56,MATCH(VLOOKUP(C27,Accueil!$Q$27:$R$126,2),Accueil!$M$27:$M$56,0),1))","v":10},{"$f":"IF(J27=Accueil!$AA$26,1,0)","v":{"$error":"#N/A"}},{"$f":"IF(J27=Accueil!$AB$26,1,0)","v":{"$error":"#N/A"}},{"$f":"IF(J27=Accueil!$AC$26,1,0)","v":{"$error":"#N/A"}},{"$f":"IF(J27=Accueil!$AD$26,1,0)","v":{"$error":"#N/A"}},{"$f":"IF(J27=Accueil!$AE$26,1,0)","v":{"$error":"#N/A"}},{"$f":"IF(J27=Accueil!$AF$26,1,0)","v":{"$error":"#N/A"}}]
[null,null,{"$f":"IF('Synthèse classe'!C29=\"\",\"\",'Synthèse classe'!C29)","v":16},{"$error":"#N/A"},{"$f":"INDEX(Stabilo!$F$9:$DA$48,MATCH($B$3,Stabilo!$D$9:$D$48,0),C28)","v":{"$error":"#N/A"}},{"$f":"INDEX(Stabilo!$F$9:$DA$48,MATCH($B$3,Stabilo!$D$9:$D$48,0),C28)","v":{"$error":"#N/A"}},{"$f":"INDEX(Stabilo!$F$9:$DA$48,MATCH($B$3,Stabilo!$D$9:$D$48,0),C28)","v":{"$error":"#N/A"}},{"$f":"INDEX(Stabilo!$F$9:$DA$48,MATCH($B$3,Stabilo!$D$9:$D$48,0),C28)","v":{"$error":"#N/A"}},{"$f":"INDEX(Stabilo!$F$9:$DA$48,MATCH($B$3,Stabilo!$D$9:$D$48,0),C28)","v":{"$error":"#N/A"}},{"$f":"INDEX(Stabilo!$F$9:$DA$48,MATCH($B$3,Stabilo!$D$9:$D$48,0),C28)","v":{"$error":"#N/A"}},null,null,null,null,{"$f":"IF(ISERROR(INDEX(Accueil!$M$27:$N$56,MATCH(VLOOKUP(C28,Accueil!$Q$27:$R$126,2),Accueil!$M$27:$M$56,0),2)),\"\",INDEX(Accueil!$M$27:$N$56,MATCH(VLOOKUP(C28,Accueil!$Q$27:$R$126,2),Accueil!$M$27:$M$56,0),2))","v":4},{"$f":"IF(ISERROR(INDEX(Accueil!$L$27:$M$56,MATCH(VLOOKUP(C28,Accueil!$Q$27:$R$126,2),Accueil!$M$27:$M$56,0),1)),\"\",INDEX(Accueil!$L$27:$M$56,MATCH(VLOOKUP(C28,Accueil!$Q$27:$R$126,2),Accueil!$M$27:$M$56,0),1))","v":10},{"$f":"IF(J28=Accueil!$AA$26,1,0)","v":{"$error":"#N/A"}},{"$f":"IF(J28=Accueil!$AB$26,1,0)","v":{"$error":"#N/A"}},{"$f":"IF(J28=Accueil!$AC$26,1,0)","v":{"$error":"#N/A"}},{"$f":"IF(J28=Accueil!$AD$26,1,0)","v":{"$error":"#N/A"}},{"$f":"IF(J28=Accueil!$AE$26,1,0)","v":{"$error":"#N/A"}},{"$f":"IF(J28=Accueil!$AF$26,1,0)","v":{"$error":"#N/A"}}]
[null,null,{"$f":"IF('Synthèse classe'!C30=\"\",\"\",'Synthèse classe'!C30)","v":17},{"$error":"#N/A"},{"$f":"INDEX(Stabilo!$F$9:$DA$48,MATCH($B$3,Stabilo!$D$9:$D$48,0),C29)","v":{"$error":"#N/A"}},{"$f":"INDEX(Stabilo!$F$9:$DA$48,MATCH($B$3,Stabilo!$D$9:$D$48,0),C29)","v":{"$error":"#N/A"}},{"$f":"INDEX(Stabilo!$F$9:$DA$48,MATCH($B$3,Stabilo!$D$9:$D$48,0),C29)","v":{"$error":"#N/A"}},{"$f":"INDEX(Stabilo!$F$9:$DA$48,MATCH($B$3,Stabilo!$D$9:$D$48,0),C29)","v":{"$error":"#N/A"}},{"$f":"INDEX(Stabilo!$F$9:$DA$48,MATCH($B$3,Stabilo!$D$9:$D$48,0),C29)","v":{"$error":"#N/A"}},{"$f":"INDEX(Stabilo!$F$9:$DA$48,MATCH($B$3,Stabilo!$D$9:$D$48,0),C29)","v":{"$error":"#N/A"}},null,null,null,null,{"$f":"IF(ISERROR(INDEX(Accueil!$M$27:$N$56,MATCH(VLOOKUP(C29,Accueil!$Q$27:$R$126,2),Accueil!$M$27:$M$56,0),2)),\"\",INDEX(Accueil!$M$27:$N$56,MATCH(VLOOKUP(C29,Accueil!$Q$27:$R$126,2),Accueil!$M$27:$M$56,0),2))","v":4},{"$f":"IF(ISERROR(INDEX(Accueil!$L$27:$M$56,MATCH(VLOOKUP(C29,Accueil!$Q$27:$R$126,2),Accueil!$M$27:$M$56,0),1)),\"\",INDEX(Accueil!$L$27:$M$56,MATCH(VLOOKUP(C29,Accueil!$Q$27:$R$126,2),Accueil!$M$27:$M$56,0),1))","v":10},{"$f":"IF(J29=Accueil!$AA$26,1,0)","v":{"$error":"#N/A"}},{"$f":"IF(J29=Accueil!$AB$26,1,0)","v":{"$error":"#N/A"}},{"$f":"IF(J29=Accueil!$AC$26,1,0)","v":{"$error":"#N/A"}},{"$f":"IF(J29=Accueil!$AD$26,1,0)","v":{"$error":"#N/A"}},{"$f":"IF(J29=Accueil!$AE$26,1,0)","v":{"$error":"#N/A"}},{"$f":"IF(J29=Accueil!$AF$26,1,0)","v":{"$error":"#N/A"}}]
[null,null,{"$f":"IF('Synthèse classe'!C31=\"\",\"\",'Synthèse classe'!C31)","v":30},{"$error":"#N/A"},{"$f":"INDEX(Stabilo!$F$9:$DA$48,MATCH($B$3,Stabilo!$D$9:$D$48,0),C30)","v":{"$error":"#N/A"}},{"$f":"INDEX(Stabilo!$F$9:$DA$48,MATCH($B$3,Stabilo!$D$9:$D$48,0),C30)","v":{"$error":"#N/A"}},{"$f":"INDEX(Stabilo!$F$9:$DA$48,MATCH($B$3,Stabilo!$D$9:$D$48,0),C30)","v":{"$error":"#N/A"}},{"$f":"INDEX(Stabilo!$F$9:$DA$48,MATCH($B$3,Stabilo!$D$9:$D$48,0),C30)","v":{"$error":"#N/A"}},{"$f":"INDEX(Stabilo!$F$9:$DA$48,MATCH($B$3,Stabilo!$D$9:$D$48,0),C30)","v":{"$error":"#N/A"}},{"$f":"INDEX(Stabilo!$F$9:$DA$48,MATCH($B$3,Stabilo!$D$9:$D$48,0),C30)","v":{"$error":"#N/A"}},null,null,null,null,{"$f":"IF(ISERROR(INDEX(Accueil!$M$27:$N$56,MATCH(VLOOKUP(C30,Accueil!$Q$27:$R$126,2),Accueil!$M$27:$M$56,0),2)),\"\",INDEX(Accueil!$M$27:$N$56,MATCH(VLOOKUP(C30,Accueil!$Q$27:$R$126,2),Accueil!$M$27:$M$56,0),2))","v":4},{"$f":"IF(ISERROR(INDEX(Accueil!$L$27:$M$56,MATCH(VLOOKUP(C30,Accueil!$Q$27:$R$126,2),Accueil!$M$27:$M$56,0),1)),\"\",INDEX(Accueil!$L$27:$M$56,MATCH(VLOOKUP(C30,Accueil!$Q$27:$R$126,2),Accueil!$M$27:$M$56,0),1))","v":10},{"$f":"IF(J30=Accueil!$AA$26,1,0)","v":{"$error":"#N/A"}},{"$f":"IF(J30=Accueil!$AB$26,1,0)","v":{"$error":"#N/A"}},{"$f":"IF(J30=Accueil!$AC$26,1,0)","v":{"$error":"#N/A"}},{"$f":"IF(J30=Accueil!$AD$26,1,0)","v":{"$error":"#N/A"}},{"$f":"IF(J30=Accueil!$AE$26,1,0)","v":{"$error":"#N/A"}},{"$f":"IF(J30=Accueil!$AF$26,1,0)","v":{"$error":"#N/A"}}]
[null,{"$f":"IF(COMS11=\"\",\"\",COMS11)","v":"Calculer mentalement pour évaluer un ordre de grandeur"},{"$f":"IF('Synthèse classe'!C32=\"\",\"\",'Synthèse classe'!C32)","v":18},{"$error":"#N/A"},{"$f":"INDEX(Stabilo!$F$9:$DA$48,MATCH($B$3,Stabilo!$D$9:$D$48,0),C31)","v":{"$error":"#N/A"}},{"$f":"INDEX(Stabilo!$F$9:$DA$48,MATCH($B$3,Stabilo!$D$9:$D$48,0),C31)","v":{"$error":"#N/A"}},{"$f":"INDEX(Stabilo!$F$9:$DA$48,MATCH($B$3,Stabilo!$D$9:$D$48,0),C31)","v":{"$error":"#N/A"}},{"$f":"INDEX(Stabilo!$F$9:$DA$48,MATCH($B$3,Stabilo!$D$9:$D$48,0),C31)","v":{"$error":"#N/A"}},{"$f":"INDEX(Stabilo!$F$9:$DA$48,MATCH($B$3,Stabilo!$D$9:$D$48,0),C31)","v":{"$error":"#N/A"}},{"$f":"INDEX(Stabilo!$F$9:$DA$48,MATCH($B$3,Stabilo!$D$9:$D$48,0),C31)","v":{"$error":"#N/A"}},{"$f":"IF(ISERROR(IF(SUM(D31:D32)>999,\"ABSENT\",SUMIF($P$4:$P$53,P31,$Q$4:$Q$53))),\"\",IF(SUM(D31:D32)>999,\"ABSENT\",SUMIF($P$4:$P$53,P31,$Q$4:$Q$53)))","v":""},{"$f":"IF(ISERROR(IF(SUM(D31:D32)>999,\"ABSENT\",SUMIF($P$4:$P$53,P31,$D$4:$D$53))),\"\",IF(SUM(D31:D32)>999,\"ABSENT\",SUMIF($P$4:$P$53,P31,$D$4:$D$53)))","v":""},{"$f":"IF(ISERROR(IF(SUM(D31:D32)>999,\"ABSENT\",IF(ISERROR(SUMIF($P$4:$P$53,P31,$Q$4:$Q$53)/SUMIF($P$4:$P$53,P31,$D$4:$D$53)),\"\",ROUND(SUMIF($P$4:$P$53,P31,$Q$4:$Q$53)/SUMIF($P$4:$P$53,P31,$D$4:$D$53),3)))),\"\",IF(SUM(D31:D32)>999,\"ABSENT\",IF(ISERROR(SUMIF($P$4:$P$53,P31,$Q$4:$Q$53)/SUMIF($P$4:$P$53,P31,$D$4:$D$53)),\"\",ROUND(SUMIF($P$4:$P$53,P31,$Q$4:$Q$53)/SUMIF($P$4:$P$53,P31,$D$4:$D$53),3))))","v":""},null,{"$f":"IF(ISERROR(INDEX(Accueil!$M$27:$N$56,MATCH(VLOOKUP(C31,Accueil!$Q$27:$R$126,2),Accueil!$M$27:$M$56,0),2)),\"\",INDEX(Accueil!$M$27:$N$56,MATCH(VLOOKUP(C31,Accueil!$Q$27:$R$126,2),Accueil!$M$27:$M$56,0),2))","v":4},{"$f":"IF(ISERROR(INDEX(Accueil!$L$27:$M$56,MATCH(VLOOKUP(C31,Accueil!$Q$27:$R$126,2),Accueil!$M$27:$M$56,0),1)),\"\",INDEX(Accueil!$L$27:$M$56,MATCH(VLOOKUP(C31,Accueil!$Q$27:$R$126,2),Accueil!$M$27:$M$56,0),1))","v":11},{"$f":"IF(J31=Accueil!$AA$26,1,0)","v":{"$error":"#N/A"}},{"$f":"IF(J31=Accueil!$AB$26,1,0)","v":{"$error":"#N/A"}},{"$f":"IF(J31=Accueil!$AC$26,1,0)","v":{"$error":"#N/A"}},{"$f":"IF(J31=Accueil!$AD$26,1,0)","v":{"$error":"#N/A"}},{"$f":"IF(J31=Accueil!$AE$26,1,0)","v":{"$error":"#N/A"}},{"$f":"IF(J31=Accueil!$AF$26,1,0)","v":{"$error":"#N/A"}}]
[null,null,{"$f":"IF('Synthèse classe'!C33=\"\",\"\",'Synthèse classe'!C33)","v":19},{"$error":"#N/A"},{"$f":"INDEX(Stabilo!$F$9:$DA$48,MATCH($B$3,Stabilo!$D$9:$D$48,0),C32)","v":{"$error":"#N/A"}},{"$f":"INDEX(Stabilo!$F$9:$DA$48,MATCH($B$3,Stabilo!$D$9:$D$48,0),C32)","v":{"$error":"#N/A"}},{"$f":"INDEX(Stabilo!$F$9:$DA$48,MATCH($B$3,Stabilo!$D$9:$D$48,0),C32)","v":{"$error":"#N/A"}},{"$f":"INDEX(Stabilo!$F$9:$DA$48,MATCH($B$3,Stabilo!$D$9:$D$48,0),C32)","v":{"$error":"#N/A"}},{"$f":"INDEX(Stabilo!$F$9:$DA$48,MATCH($B$3,Stabilo!$D$9:$D$48,0),C32)","v":{"$error":"#N/A"}},{"$f":"INDEX(Stabilo!$F$9:$DA$48,MATCH($B$3,Stabilo!$D$9:$D$48,0),C32)","v":{"$error":"#N/A"}},null,null,null,null,{"$f":"IF(ISERROR(INDEX(Accueil!$M$27:$N$56,MATCH(VLOOKUP(C32,Accueil!$Q$27:$R$126,2),Accueil!$M$27:$M$56,0),2)),\"\",INDEX(Accueil!$M$27:$N$56,MATCH(VLOOKUP(C32,Accueil!$Q$27:$R$126,2),Accueil!$M$27:$M$56,0),2))","v":4},{"$f":"IF(ISERROR(INDEX(Accueil!$L$27:$M$56,MATCH(VLOOKUP(C32,Accueil!$Q$27:$R$126,2),Accueil!$M$27:$M$56,0),1)),\"\",INDEX(Accueil!$L$27:$M$56,MATCH(VLOOKUP(C32,Accueil!$Q$27:$R$126,2),Accueil!$M$27:$M$56,0),1))","v":11},{"$f":"IF(J32=Accueil!$AA$26,1,0)","v":{"$error":"#N/A"}},{"$f":"IF(J32=Accueil!$AB$26,1,0)","v":{"$error":"#N/A"}},{"$f":"IF(J32=Accueil!$AC$26,1,0)","v":{"$error":"#N/A"}},{"$f":"IF(J32=Accueil!$AD$26,1,0)","v":{"$error":"#N/A"}},{"$f":"IF(J32=Accueil!$AE$26,1,0)","v":{"$error":"#N/A"}},{"$f":"IF(J32=Accueil!$AF$26,1,0)","v":{"$error":"#N/A"}}]
[null,null,{"$f":"IF('Synthèse classe'!C34=\"\",\"\",'Synthèse classe'!C34)","v":""},{"$error":"#N/A"},{"$f":"INDEX(Stabilo!$F$9:$DA$48,MATCH($B$3,Stabilo!$D$9:$D$48,0),C33)","v":{"$error":"#N/A"}},{"$f":"INDEX(Stabilo!$F$9:$DA$48,MATCH($B$3,Stabilo!$D$9:$D$48,0),C33)","v":{"$error":"#N/A"}},{"$f":"INDEX(Stabilo!$F$9:$DA$48,MATCH($B$3,Stabilo!$D$9:$D$48,0),C33)","v":{"$error":"#N/A"}},{"$f":"INDEX(Stabilo!$F$9:$DA$48,MATCH($B$3,Stabilo!$D$9:$D$48,0),C33)","v":{"$error":"#N/A"}},{"$f":"INDEX(Stabilo!$F$9:$DA$48,MATCH($B$3,Stabilo!$D$9:$D$48,0),C33)","v":{"$error":"#N/A"}},{"$f":"INDEX(Stabilo!$F$9:$DA$48,MATCH($B$3,Stabilo!$D$9:$D$48,0),C33)","v":{"$error":"#N/A"}},{"$f":"IF(ISERROR(IF(SUM(D33:D34)>999,\"ABSENT\",SUMIF($P$4:$P$53,P33,$Q$4:$Q$53))),\"\",IF(SUM(D33:D34)>999,\"ABSENT\",SUMIF($P$4:$P$53,P33,$Q$4:$Q$53)))","v":""},{"$f":"IF(ISERROR(IF(SUM(D33:D34)>999,\"ABSENT\",SUMIF($P$4:$P$53,P33,$D$4:$D$53))),\"\",IF(SUM(D33:D34)>999,\"ABSENT\",SUMIF($P$4:$P$53,P33,$D$4:$D$53)))","v":""},{"$f":"IF(ISERROR(IF(SUM(D33:D34)>999,\"ABSENT\",IF(ISERROR(SUMIF($P$4:$P$53,P33,$Q$4:$Q$53)/SUMIF($P$4:$P$53,P33,$D$4:$D$53)),\"\",ROUND(SUMIF($P$4:$P$53,P33,$Q$4:$Q$53)/SUMIF($P$4:$P$53,P33,$D$4:$D$53),3)))),\"\",IF(SUM(D33:D34)>999,\"ABSENT\",IF(ISERROR(SUMIF($P$4:$P$53,P33,$Q$4:$Q$53)/SUMIF($P$4:$P$53,P33,$D$4:$D$53)),\"\",ROUND(SUMIF($P$4:$P$53,P33,$Q$4:$Q$53)/SUMIF($P$4:$P$53,P33,$D$4:$D$53),3))))","v":""},{"$f":"IF(ISERROR(IF(SUM(D33:D42)>999,\"ABSENT\",IF(ISERROR(SUMIF($O$4:$O$53,O33,$Q$4:$Q$53)/SUMIF($O$4:$O$53,O33,$D$4:$D$53)),\"\",ROUND(SUMIF($O$4:$O$53,O33,$Q$4:$Q$53)/SUMIF($O$4:$O$53,O33,$D$4:$D$53),3)))),\"\",IF(SUM(D33:D42)>999,\"ABSENT\",IF(ISERROR(SUMIF($O$4:$O$53,O33,$Q$4:$Q$53)/SUMIF($O$4:$O$53,O33,$D$4:$D$53)),\"\",ROUND(SUMIF($O$4:$O$53,O33,$Q$4:$Q$53)/SUMIF($O$4:$O$53,O33,$D$4:$D$53),3))))","v":""},{"$f":"IF(ISERROR(INDEX(Accueil!$M$27:$N$56,MATCH(VLOOKUP(C33,Accueil!$Q$27:$R$126,2),Accueil!$M$27:$M$56,0),2)),\"\",INDEX(Accueil!$M$27:$N$56,MATCH(VLOOKUP(C33,Accueil!$Q$27:$R$126,2),Accueil!$M$27:$M$56,0),2))","v":""},{"$f":"IF(ISERROR(INDEX(Accueil!$L$27:$M$56,MATCH(VLOOKUP(C33,Accueil!$Q$27:$R$126,2),Accueil!$M$27:$M$56,0),1)),\"\",INDEX(Accueil!$L$27:$M$56,MATCH(VLOOKUP(C33,Accueil!$Q$27:$R$126,2),Accueil!$M$27:$M$56,0),1))","v":""},{"$f":"IF(J33=Accueil!$AA$26,1,0)","v":{"$error":"#N/A"}},{"$f":"IF(J33=Accueil!$AB$26,1,0)","v":{"$error":"#N/A"}},{"$f":"IF(J33=Accueil!$AC$26,1,0)","v":{"$error":"#N/A"}},{"$f":"IF(J33=Accueil!$AD$26,1,0)","v":{"$error":"#N/A"}},{"$f":"IF(J33=Accueil!$AE$26,1,0)","v":{"$error":"#N/A"}},{"$f":"IF(J33=Accueil!$AF$26,1,0)","v":{"$error":"#N/A"}}]
[null,null,{"$f":"IF('Synthèse classe'!C35=\"\",\"\",'Synthèse classe'!C35)","v":""},{"$error":"#N/A"},{"$f":"INDEX(Stabilo!$F$9:$DA$48,MATCH($B$3,Stabilo!$D$9:$D$48,0),C34)","v":{"$error":"#N/A"}},{"$f":"INDEX(Stabilo!$F$9:$DA$48,MATCH($B$3,Stabilo!$D$9:$D$48,0),C34)","v":{"$error":"#N/A"}},{"$f":"INDEX(Stabilo!$F$9:$DA$48,MATCH($B$3,Stabilo!$D$9:$D$48,0),C34)","v":{"$error":"#N/A"}},{"$f":"INDEX(Stabilo!$F$9:$DA$48,MATCH($B$3,Stabilo!$D$9:$D$48,0),C34)","v":{"$error":"#N/A"}},{"$f":"INDEX(Stabilo!$F$9:$DA$48,MATCH($B$3,Stabilo!$D$9:$D$48,0),C34)","v":{"$error":"#N/A"}},{"$f":"INDEX(Stabilo!$F$9:$DA$48,MATCH($B$3,Stabilo!$D$9:$D$48,0),C34)","v":{"$error":"#N/A"}},"","","","",{"$f":"IF(ISERROR(INDEX(Accueil!$M$27:$N$56,MATCH(VLOOKUP(C34,Accueil!$Q$27:$R$126,2),Accueil!$M$27:$M$56,0),2)),\"\",INDEX(Accueil!$M$27:$N$56,MATCH(VLOOKUP(C34,Accueil!$Q$27:$R$126,2),Accueil!$M$27:$M$56,0),2))","v":""},{"$f":"IF(ISERROR(INDEX(Accueil!$L$27:$M$56,MATCH(VLOOKUP(C34,Accueil!$Q$27:$R$126,2),Accueil!$M$27:$M$56,0),1)),\"\",INDEX(Accueil!$L$27:$M$56,MATCH(VLOOKUP(C34,Accueil!$Q$27:$R$126,2),Accueil!$M$27:$M$56,0),1))","v":""},{"$f":"IF(J34=Accueil!$AA$26,1,0)","v":{"$error":"#N/A"}},{"$f":"IF(J34=Accueil!$AB$26,1,0)","v":{"$error":"#N/A"}},{"$f":"IF(J34=Accueil!$AC$26,1,0)","v":{"$error":"#N/A"}},{"$f":"IF(J34=Accueil!$AD$26,1,0)","v":{"$error":"#N/A"}},{"$f":"IF(J34=Accueil!$AE$26,1,0)","v":{"$error":"#N/A"}},{"$f":"IF(J34=Accueil!$AF$26,1,0)","v":{"$error":"#N/A"}}]
[null,{"$f":"IF(COMS13=\"\",\"\",COMS13)","v":""},{"$f":"IF('Synthèse classe'!C36=\"\",\"\",'Synthèse classe'!C36)","v":""},{"$error":"#N/A"},{"$f":"INDEX(Stabilo!$F$9:$DA$48,MATCH($B$3,Stabilo!$D$9:$D$48,0),C35)","v":{"$error":"#N/A"}},{"$f":"INDEX(Stabilo!$F$9:$DA$48,MATCH($B$3,Stabilo!$D$9:$D$48,0),C35)","v":{"$error":"#N/A"}},{"$f":"INDEX(Stabilo!$F$9:$DA$48,MATCH($B$3,Stabilo!$D$9:$D$48,0),C35)","v":{"$error":"#N/A"}},{"$f":"INDEX(Stabilo!$F$9:$DA$48,MATCH($B$3,Stabilo!$D$9:$D$48,0),C35)","v":{"$error":"#N/A"}},{"$f":"INDEX(Stabilo!$F$9:$DA$48,MATCH($B$3,Stabilo!$D$9:$D$48,0),C35)","v":{"$error":"#N/A"}},{"$f":"INDEX(Stabilo!$F$9:$DA$48,MATCH($B$3,Stabilo!$D$9:$D$48,0),C35)","v":{"$error":"#N/A"}},"","","","",{"$f":"IF(ISERROR(INDEX(Accueil!$M$27:$N$56,MATCH(VLOOKUP(C35,Accueil!$Q$27:$R$126,2),Accueil!$M$27:$M$56,0),2)),\"\",INDEX(Accueil!$M$27:$N$56,MATCH(VLOOKUP(C35,Accueil!$Q$27:$R$126,2),Accueil!$M$27:$M$56,0),2))","v":""},{"$f":"IF(ISERROR(INDEX(Accueil!$L$27:$M$56,MATCH(VLOOKUP(C35,Accueil!$Q$27:$R$126,2),Accueil!$M$27:$M$56,0),1)),\"\",INDEX(Accueil!$L$27:$M$56,MATCH(VLOOKUP(C35,Accueil!$Q$27:$R$126,2),Accueil!$M$27:$M$56,0),1))","v":""},{"$f":"IF(J35=Accueil!$AA$26,1,0)","v":{"$error":"#N/A"}},{"$f":"IF(J35=Accueil!$AB$26,1,0)","v":{"$error":"#N/A"}},{"$f":"IF(J35=Accueil!$AC$26,1,0)","v":{"$error":"#N/A"}},{"$f":"IF(J35=Accueil!$AD$26,1,0)","v":{"$error":"#N/A"}},{"$f":"IF(J35=Accueil!$AE$26,1,0)","v":{"$error":"#N/A"}},{"$f":"IF(J35=Accueil!$AF$26,1,0)","v":{"$error":"#N/A"}}]
[{"$f":"IF(COMP5=\"\",\"\",COMP5)","v":""},{"$f":"IF(COMS14=\"\",\"\",COMS14)","v":""},{"$f":"IF('Synthèse classe'!C37=\"\",\"\",'Synthèse classe'!C37)","v":""},{"$error":"#N/A"},{"$f":"INDEX(Stabilo!$F$9:$DA$48,MATCH($B$3,Stabilo!$D$9:$D$48,0),C36)","v":{"$error":"#N/A"}},{"$f":"INDEX(Stabilo!$F$9:$DA$48,MATCH($B$3,Stabilo!$D$9:$D$48,0),C36)","v":{"$error":"#N/A"}},{"$f":"INDEX(Stabilo!$F$9:$DA$48,MATCH($B$3,Stabilo!$D$9:$D$48,0),C36)","v":{"$error":"#N/A"}},{"$f":"INDEX(Stabilo!$F$9:$DA$48,MATCH($B$3,Stabilo!$D$9:$D$48,0),C36)","v":{"$error":"#N/A"}},{"$f":"INDEX(Stabilo!$F$9:$DA$48,MATCH($B$3,Stabilo!$D$9:$D$48,0),C36)","v":{"$error":"#N/A"}},{"$f":"INDEX(Stabilo!$F$9:$DA$48,MATCH($B$3,Stabilo!$D$9:$D$48,0),C36)","v":{"$error":"#N/A"}},"","","","",{"$f":"IF(ISERROR(INDEX(Accueil!$M$27:$N$56,MATCH(VLOOKUP(C36,Accueil!$Q$27:$R$126,2),Accueil!$M$27:$M$56,0),2)),\"\",INDEX(Accueil!$M$27:$N$56,MATCH(VLOOKUP(C36,Accueil!$Q$27:$R$126,2),Accueil!$M$27:$M$56,0),2))","v":""},{"$f":"IF(ISERROR(INDEX(Accueil!$L$27:$M$56,MATCH(VLOOKUP(C36,Accueil!$Q$27:$R$126,2),Accueil!$M$27:$M$56,0),1)),\"\",INDEX(Accueil!$L$27:$M$56,MATCH(VLOOKUP(C36,Accueil!$Q$27:$R$126,2),Accueil!$M$27:$M$56,0),1))","v":""},{"$f":"IF(J36=Accueil!$AA$26,1,0)","v":{"$error":"#N/A"}},{"$f":"IF(J36=Accueil!$AB$26,1,0)","v":{"$error":"#N/A"}},{"$f":"IF(J36=Accueil!$AC$26,1,0)","v":{"$error":"#N/A"}},{"$f":"IF(J36=Accueil!$AD$26,1,0)","v":{"$error":"#N/A"}},{"$f":"IF(J36=Accueil!$AE$26,1,0)","v":{"$error":"#N/A"}},{"$f":"IF(J36=Accueil!$AF$26,1,0)","v":{"$error":"#N/A"}}]
[null,{"$f":"IF(COMS15=\"\",\"\",COMS15)","v":""},{"$f":"IF('Synthèse classe'!C38=\"\",\"\",'Synthèse classe'!C38)","v":""},{"$error":"#N/A"},{"$f":"INDEX(Stabilo!$F$9:$DA$48,MATCH($B$3,Stabilo!$D$9:$D$48,0),C37)","v":{"$error":"#N/A"}},{"$f":"INDEX(Stabilo!$F$9:$DA$48,MATCH($B$3,Stabilo!$D$9:$D$48,0),C37)","v":{"$error":"#N/A"}},{"$f":"INDEX(Stabilo!$F$9:$DA$48,MATCH($B$3,Stabilo!$D$9:$D$48,0),C37)","v":{"$error":"#N/A"}},{"$f":"INDEX(Stabilo!$F$9:$DA$48,MATCH($B$3,Stabilo!$D$9:$D$48,0),C37)","v":{"$error":"#N/A"}},{"$f":"INDEX(Stabilo!$F$9:$DA$48,MATCH($B$3,Stabilo!$D$9:$D$48,0),C37)","v":{"$error":"#N/A"}},{"$f":"INDEX(Stabilo!$F$9:$DA$48,MATCH($B$3,Stabilo!$D$9:$D$48,0),C37)","v":{"$error":"#N/A"}},"","","","",{"$f":"IF(ISERROR(INDEX(Accueil!$M$27:$N$56,MATCH(VLOOKUP(C37,Accueil!$Q$27:$R$126,2),Accueil!$M$27:$M$56,0),2)),\"\",INDEX(Accueil!$M$27:$N$56,MATCH(VLOOKUP(C37,Accueil!$Q$27:$R$126,2),Accueil!$M$27:$M$56,0),2))","v":""},{"$f":"IF(ISERROR(INDEX(Accueil!$L$27:$M$56,MATCH(VLOOKUP(C37,Accueil!$Q$27:$R$126,2),Accueil!$M$27:$M$56,0),1)),\"\",INDEX(Accueil!$L$27:$M$56,MATCH(VLOOKUP(C37,Accueil!$Q$27:$R$126,2),Accueil!$M$27:$M$56,0),1))","v":""},{"$f":"IF(J37=Accueil!$AA$26,1,0)","v":{"$error":"#N/A"}},{"$f":"IF(J37=Accueil!$AB$26,1,0)","v":{"$error":"#N/A"}},{"$f":"IF(J37=Accueil!$AC$26,1,0)","v":{"$error":"#N/A"}},{"$f":"IF(J37=Accueil!$AD$26,1,0)","v":{"$error":"#N/A"}},{"$f":"IF(J37=Accueil!$AE$26,1,0)","v":{"$error":"#N/A"}},{"$f":"IF(J37=Accueil!$AF$26,1,0)","v":{"$error":"#N/A"}}]
[null,{"$f":"IF(COMS16=\"\",\"\",COMS16)","v":""},{"$f":"IF('Synthèse classe'!C39=\"\",\"\",'Synthèse classe'!C39)","v":""},{"$error":"#N/A"},{"$f":"INDEX(Stabilo!$F$9:$DA$48,MATCH($B$3,Stabilo!$D$9:$D$48,0),C38)","v":{"$error":"#N/A"}},{"$f":"INDEX(Stabilo!$F$9:$DA$48,MATCH($B$3,Stabilo!$D$9:$D$48,0),C38)","v":{"$error":"#N/A"}},{"$f":"INDEX(Stabilo!$F$9:$DA$48,MATCH($B$3,Stabilo!$D$9:$D$48,0),C38)","v":{"$error":"#N/A"}},{"$f":"INDEX(Stabilo!$F$9:$DA$48,MATCH($B$3,Stabilo!$D$9:$D$48,0),C38)","v":{"$error":"#N/A"}},{"$f":"INDEX(Stabilo!$F$9:$DA$48,MATCH($B$3,Stabilo!$D$9:$D$48,0),C38)","v":{"$error":"#N/A"}},{"$f":"INDEX(Stabilo!$F$9:$DA$48,MATCH($B$3,Stabilo!$D$9:$D$48,0),C38)","v":{"$error":"#N/A"}},"","","","",{"$f":"IF(ISERROR(INDEX(Accueil!$M$27:$N$56,MATCH(VLOOKUP(C38,Accueil!$Q$27:$R$126,2),Accueil!$M$27:$M$56,0),2)),\"\",INDEX(Accueil!$M$27:$N$56,MATCH(VLOOKUP(C38,Accueil!$Q$27:$R$126,2),Accueil!$M$27:$M$56,0),2))","v":""},{"$f":"IF(ISERROR(INDEX(Accueil!$L$27:$M$56,MATCH(VLOOKUP(C38,Accueil!$Q$27:$R$126,2),Accueil!$M$27:$M$56,0),1)),\"\",INDEX(Accueil!$L$27:$M$56,MATCH(VLOOKUP(C38,Accueil!$Q$27:$R$126,2),Accueil!$M$27:$M$56,0),1))","v":""},{"$f":"IF(J38=Accueil!$AA$26,1,0)","v":{"$error":"#N/A"}},{"$f":"IF(J38=Accueil!$AB$26,1,0)","v":{"$error":"#N/A"}},{"$f":"IF(J38=Accueil!$AC$26,1,0)","v":{"$error":"#N/A"}},{"$f":"IF(J38=Accueil!$AD$26,1,0)","v":{"$error":"#N/A"}},{"$f":"IF(J38=Accueil!$AE$26,1,0)","v":{"$error":"#N/A"}},{"$f":"IF(J38=Accueil!$AF$26,1,0)","v":{"$error":"#N/A"}}]
[{"$f":"IF(COMP6=\"\",\"\",COMP6)","v":""},{"$f":"IF(COMS17=\"\",\"\",COMS17)","v":""},{"$f":"IF('Synthèse classe'!C40=\"\",\"\",'Synthèse classe'!C40)","v":""},{"$error":"#N/A"},{"$f":"INDEX(Stabilo!$F$9:$DA$48,MATCH($B$3,Stabilo!$D$9:$D$48,0),C39)","v":{"$error":"#N/A"}},{"$f":"INDEX(Stabilo!$F$9:$DA$48,MATCH($B$3,Stabilo!$D$9:$D$48,0),C39)","v":{"$error":"#N/A"}},{"$f":"INDEX(Stabilo!$F$9:$DA$48,MATCH($B$3,Stabilo!$D$9:$D$48,0),C39)","v":{"$error":"#N/A"}},{"$f":"INDEX(Stabilo!$F$9:$DA$48,MATCH($B$3,Stabilo!$D$9:$D$48,0),C39)","v":{"$error":"#N/A"}},{"$f":"INDEX(Stabilo!$F$9:$DA$48,MATCH($B$3,Stabilo!$D$9:$D$48,0),C39)","v":{"$error":"#N/A"}},{"$f":"INDEX(Stabilo!$F$9:$DA$48,MATCH($B$3,Stabilo!$D$9:$D$48,0),C39)","v":{"$error":"#N/A"}},"","","","",{"$f":"IF(ISERROR(INDEX(Accueil!$M$27:$N$56,MATCH(VLOOKUP(C39,Accueil!$Q$27:$R$126,2),Accueil!$M$27:$M$56,0),2)),\"\",INDEX(Accueil!$M$27:$N$56,MATCH(VLOOKUP(C39,Accueil!$Q$27:$R$126,2),Accueil!$M$27:$M$56,0),2))","v":""},{"$f":"IF(ISERROR(INDEX(Accueil!$L$27:$M$56,MATCH(VLOOKUP(C39,Accueil!$Q$27:$R$126,2),Accueil!$M$27:$M$56,0),1)),\"\",INDEX(Accueil!$L$27:$M$56,MATCH(VLOOKUP(C39,Accueil!$Q$27:$R$126,2),Accueil!$M$27:$M$56,0),1))","v":""},{"$f":"IF(J39=Accueil!$AA$26,1,0)","v":{"$error":"#N/A"}},{"$f":"IF(J39=Accueil!$AB$26,1,0)","v":{"$error":"#N/A"}},{"$f":"IF(J39=Accueil!$AC$26,1,0)","v":{"$error":"#N/A"}},{"$f":"IF(J39=Accueil!$AD$26,1,0)","v":{"$error":"#N/A"}},{"$f":"IF(J39=Accueil!$AE$26,1,0)","v":{"$error":"#N/A"}},{"$f":"IF(J39=Accueil!$AF$26,1,0)","v":{"$error":"#N/A"}}]
[null,{"$f":"IF(COMS18=\"\",\"\",COMS18)","v":""},{"$f":"IF('Synthèse classe'!C41=\"\",\"\",'Synthèse classe'!C41)","v":""},{"$error":"#N/A"},{"$f":"INDEX(Stabilo!$F$9:$DA$48,MATCH($B$3,Stabilo!$D$9:$D$48,0),C40)","v":{"$error":"#N/A"}},{"$f":"INDEX(Stabilo!$F$9:$DA$48,MATCH($B$3,Stabilo!$D$9:$D$48,0),C40)","v":{"$error":"#N/A"}},{"$f":"INDEX(Stabilo!$F$9:$DA$48,MATCH($B$3,Stabilo!$D$9:$D$48,0),C40)","v":{"$error":"#N/A"}},{"$f":"INDEX(Stabilo!$F$9:$DA$48,MATCH($B$3,Stabilo!$D$9:$D$48,0),C40)","v":{"$error":"#N/A"}},{"$f":"INDEX(Stabilo!$F$9:$DA$48,MATCH($B$3,Stabilo!$D$9:$D$48,0),C40)","v":{"$error":"#N/A"}},{"$f":"INDEX(Stabilo!$F$9:$DA$48,MATCH($B$3,Stabilo!$D$9:$D$48,0),C40)","v":{"$error":"#N/A"}},"","","","",{"$f":"IF(ISERROR(INDEX(Accueil!$M$27:$N$56,MATCH(VLOOKUP(C40,Accueil!$Q$27:$R$126,2),Accueil!$M$27:$M$56,0),2)),\"\",INDEX(Accueil!$M$27:$N$56,MATCH(VLOOKUP(C40,Accueil!$Q$27:$R$126,2),Accueil!$M$27:$M$56,0),2))","v":""},{"$f":"IF(ISERROR(INDEX(Accueil!$L$27:$M$56,MATCH(VLOOKUP(C40,Accueil!$Q$27:$R$126,2),Accueil!$M$27:$M$56,0),1)),\"\",INDEX(Accueil!$L$27:$M$56,MATCH(VLOOKUP(C40,Accueil!$Q$27:$R$126,2),Accueil!$M$27:$M$56,0),1))","v":""},{"$f":"IF(J40=Accueil!$AA$26,1,0)","v":{"$error":"#N/A"}},{"$f":"IF(J40=Accueil!$AB$26,1,0)","v":{"$error":"#N/A"}},{"$f":"IF(J40=Accueil!$AC$26,1,0)","v":{"$error":"#N/A"}},{"$f":"IF(J40=Accueil!$AD$26,1,0)","v":{"$error":"#N/A"}},{"$f":"IF(J40=Accueil!$AE$26,1,0)","v":{"$error":"#N/A"}},{"$f":"IF(J40=Accueil!$AF$26,1,0)","v":{"$error":"#N/A"}}]
[null,null,{"$f":"IF('Synthèse classe'!C42=\"\",\"\",'Synthèse classe'!C42)","v":""},{"$error":"#N/A"},{"$f":"INDEX(Stabilo!$F$9:$DA$48,MATCH($B$3,Stabilo!$D$9:$D$48,0),C41)","v":{"$error":"#N/A"}},{"$f":"INDEX(Stabilo!$F$9:$DA$48,MATCH($B$3,Stabilo!$D$9:$D$48,0),C41)","v":{"$error":"#N/A"}},{"$f":"INDEX(Stabilo!$F$9:$DA$48,MATCH($B$3,Stabilo!$D$9:$D$48,0),C41)","v":{"$error":"#N/A"}},{"$f":"INDEX(Stabilo!$F$9:$DA$48,MATCH($B$3,Stabilo!$D$9:$D$48,0),C41)","v":{"$error":"#N/A"}},{"$f":"INDEX(Stabilo!$F$9:$DA$48,MATCH($B$3,Stabilo!$D$9:$D$48,0),C41)","v":{"$error":"#N/A"}},{"$f":"INDEX(Stabilo!$F$9:$DA$48,MATCH($B$3,Stabilo!$D$9:$D$48,0),C41)","v":{"$error":"#N/A"}},"","","","",{"$f":"IF(ISERROR(INDEX(Accueil!$M$27:$N$56,MATCH(VLOOKUP(C41,Accueil!$Q$27:$R$126,2),Accueil!$M$27:$M$56,0),2)),\"\",INDEX(Accueil!$M$27:$N$56,MATCH(VLOOKUP(C41,Accueil!$Q$27:$R$126,2),Accueil!$M$27:$M$56,0),2))","v":""},{"$f":"IF(ISERROR(INDEX(Accueil!$L$27:$M$56,MATCH(VLOOKUP(C41,Accueil!$Q$27:$R$126,2),Accueil!$M$27:$M$56,0),1)),\"\",INDEX(Accueil!$L$27:$M$56,MATCH(VLOOKUP(C41,Accueil!$Q$27:$R$126,2),Accueil!$M$27:$M$56,0),1))","v":""},{"$f":"IF(J41=Accueil!$AA$26,1,0)","v":{"$error":"#N/A"}},{"$f":"IF(J41=Accueil!$AB$26,1,0)","v":{"$error":"#N/A"}},{"$f":"IF(J41=Accueil!$AC$26,1,0)","v":{"$error":"#N/A"}},{"$f":"IF(J41=Accueil!$AD$26,1,0)","v":{"$error":"#N/A"}},{"$f":"IF(J41=Accueil!$AE$26,1,0)","v":{"$error":"#N/A"}},{"$f":"IF(J41=Accueil!$AF$26,1,0)","v":{"$error":"#N/A"}}]
[null,null,{"$f":"IF('Synthèse classe'!C43=\"\",\"\",'Synthèse classe'!C43)","v":""},{"$error":"#N/A"},{"$f":"INDEX(Stabilo!$F$9:$DA$48,MATCH($B$3,Stabilo!$D$9:$D$48,0),C42)","v":{"$error":"#N/A"}},{"$f":"INDEX(Stabilo!$F$9:$DA$48,MATCH($B$3,Stabilo!$D$9:$D$48,0),C42)","v":{"$error":"#N/A"}},{"$f":"INDEX(Stabilo!$F$9:$DA$48,MATCH($B$3,Stabilo!$D$9:$D$48,0),C42)","v":{"$error":"#N/A"}},{"$f":"INDEX(Stabilo!$F$9:$DA$48,MATCH($B$3,Stabilo!$D$9:$D$48,0),C42)","v":{"$error":"#N/A"}},{"$f":"INDEX(Stabilo!$F$9:$DA$48,MATCH($B$3,Stabilo!$D$9:$D$48,0),C42)","v":{"$error":"#N/A"}},{"$f":"INDEX(Stabilo!$F$9:$DA$48,MATCH($B$3,Stabilo!$D$9:$D$48,0),C42)","v":{"$error":"#N/A"}},"","","","",{"$f":"IF(ISERROR(INDEX(Accueil!$M$27:$N$56,MATCH(VLOOKUP(C42,Accueil!$Q$27:$R$126,2),Accueil!$M$27:$M$56,0),2)),\"\",INDEX(Accueil!$M$27:$N$56,MATCH(VLOOKUP(C42,Accueil!$Q$27:$R$126,2),Accueil!$M$27:$M$56,0),2))","v":""},{"$f":"IF(ISERROR(INDEX(Accueil!$L$27:$M$56,MATCH(VLOOKUP(C42,Accueil!$Q$27:$R$126,2),Accueil!$M$27:$M$56,0),1)),\"\",INDEX(Accueil!$L$27:$M$56,MATCH(VLOOKUP(C42,Accueil!$Q$27:$R$126,2),Accueil!$M$27:$M$56,0),1))","v":""},{"$f":"IF(J42=Accueil!$AA$26,1,0)","v":{"$error":"#N/A"}},{"$f":"IF(J42=Accueil!$AB$26,1,0)","v":{"$error":"#N/A"}},{"$f":"IF(J42=Accueil!$AC$26,1,0)","v":{"$error":"#N/A"}},{"$f":"IF(J42=Accueil!$AD$26,1,0)","v":{"$error":"#N/A"}},{"$f":"IF(J42=Accueil!$AE$26,1,0)","v":{"$error":"#N/A"}},{"$f":"IF(J42=Accueil!$AF$26,1,0)","v":{"$error":"#N/A"}}]
[null,{"$f":"IF(COMS19=\"\",\"\",COMS19)","v":""},{"$f":"IF('Synthèse classe'!C44=\"\",\"\",'Synthèse classe'!C44)","v":""},{"$error":"#N/A"},{"$f":"INDEX(Stabilo!$F$9:$DA$48,MATCH($B$3,Stabilo!$D$9:$D$48,0),C43)","v":{"$error":"#N/A"}},{"$f":"INDEX(Stabilo!$F$9:$DA$48,MATCH($B$3,Stabilo!$D$9:$D$48,0),C43)","v":{"$error":"#N/A"}},{"$f":"INDEX(Stabilo!$F$9:$DA$48,MATCH($B$3,Stabilo!$D$9:$D$48,0),C43)","v":{"$error":"#N/A"}},{"$f":"INDEX(Stabilo!$F$9:$DA$48,MATCH($B$3,Stabilo!$D$9:$D$48,0),C43)","v":{"$error":"#N/A"}},{"$f":"INDEX(Stabilo!$F$9:$DA$48,MATCH($B$3,Stabilo!$D$9:$D$48,0),C43)","v":{"$error":"#N/A"}},{"$f":"INDEX(Stabilo!$F$9:$DA$48,MATCH($B$3,Stabilo!$D$9:$D$48,0),C43)","v":{"$error":"#N/A"}},"","","","",{"$f":"IF(ISERROR(INDEX(Accueil!$M$27:$N$56,MATCH(VLOOKUP(C43,Accueil!$Q$27:$R$126,2),Accueil!$M$27:$M$56,0),2)),\"\",INDEX(Accueil!$M$27:$N$56,MATCH(VLOOKUP(C43,Accueil!$Q$27:$R$126,2),Accueil!$M$27:$M$56,0),2))","v":""},{"$f":"IF(ISERROR(INDEX(Accueil!$L$27:$M$56,MATCH(VLOOKUP(C43,Accueil!$Q$27:$R$126,2),Accueil!$M$27:$M$56,0),1)),\"\",INDEX(Accueil!$L$27:$M$56,MATCH(VLOOKUP(C43,Accueil!$Q$27:$R$126,2),Accueil!$M$27:$M$56,0),1))","v":""},{"$f":"IF(J43=Accueil!$AA$26,1,0)","v":{"$error":"#N/A"}},{"$f":"IF(J43=Accueil!$AB$26,1,0)","v":{"$error":"#N/A"}},{"$f":"IF(J43=Accueil!$AC$26,1,0)","v":{"$error":"#N/A"}},{"$f":"IF(J43=Accueil!$AD$26,1,0)","v":{"$error":"#N/A"}},{"$f":"IF(J43=Accueil!$AE$26,1,0)","v":{"$error":"#N/A"}},{"$f":"IF(J43=Accueil!$AF$26,1,0)","v":{"$error":"#N/A"}}]
[null,null,{"$f":"IF('Synthèse classe'!C45=\"\",\"\",'Synthèse classe'!C45)","v":""},{"$error":"#N/A"},{"$f":"INDEX(Stabilo!$F$9:$DA$48,MATCH($B$3,Stabilo!$D$9:$D$48,0),C44)","v":{"$error":"#N/A"}},{"$f":"INDEX(Stabilo!$F$9:$DA$48,MATCH($B$3,Stabilo!$D$9:$D$48,0),C44)","v":{"$error":"#N/A"}},{"$f":"INDEX(Stabilo!$F$9:$DA$48,MATCH($B$3,Stabilo!$D$9:$D$48,0),C44)","v":{"$error":"#N/A"}},{"$f":"INDEX(Stabilo!$F$9:$DA$48,MATCH($B$3,Stabilo!$D$9:$D$48,0),C44)","v":{"$error":"#N/A"}},{"$f":"INDEX(Stabilo!$F$9:$DA$48,MATCH($B$3,Stabilo!$D$9:$D$48,0),C44)","v":{"$error":"#N/A"}},{"$f":"INDEX(Stabilo!$F$9:$DA$48,MATCH($B$3,Stabilo!$D$9:$D$48,0),C44)","v":{"$error":"#N/A"}},"","","","",{"$f":"IF(ISERROR(INDEX(Accueil!$M$27:$N$56,MATCH(VLOOKUP(C44,Accueil!$Q$27:$R$126,2),Accueil!$M$27:$M$56,0),2)),\"\",INDEX(Accueil!$M$27:$N$56,MATCH(VLOOKUP(C44,Accueil!$Q$27:$R$126,2),Accueil!$M$27:$M$56,0),2))","v":""},{"$f":"IF(ISERROR(INDEX(Accueil!$L$27:$M$56,MATCH(VLOOKUP(C44,Accueil!$Q$27:$R$126,2),Accueil!$M$27:$M$56,0),1)),\"\",INDEX(Accueil!$L$27:$M$56,MATCH(VLOOKUP(C44,Accueil!$Q$27:$R$126,2),Accueil!$M$27:$M$56,0),1))","v":""},{"$f":"IF(J44=Accueil!$AA$26,1,0)","v":{"$error":"#N/A"}},{"$f":"IF(J44=Accueil!$AB$26,1,0)","v":{"$error":"#N/A"}},{"$f":"IF(J44=Accueil!$AC$26,1,0)","v":{"$error":"#N/A"}},{"$f":"IF(J44=Accueil!$AD$26,1,0)","v":{"$error":"#N/A"}},{"$f":"IF(J44=Accueil!$AE$26,1,0)","v":{"$error":"#N/A"}},{"$f":"IF(J44=Accueil!$AF$26,1,0)","v":{"$error":"#N/A"}}]
[null,null,{"$f":"IF('Synthèse classe'!C46=\"\",\"\",'Synthèse classe'!C46)","v":""},{"$error":"#N/A"},{"$f":"INDEX(Stabilo!$F$9:$DA$48,MATCH($B$3,Stabilo!$D$9:$D$48,0),C45)","v":{"$error":"#N/A"}},{"$f":"INDEX(Stabilo!$F$9:$DA$48,MATCH($B$3,Stabilo!$D$9:$D$48,0),C45)","v":{"$error":"#N/A"}},{"$f":"INDEX(Stabilo!$F$9:$DA$48,MATCH($B$3,Stabilo!$D$9:$D$48,0),C45)","v":{"$error":"#N/A"}},{"$f":"INDEX(Stabilo!$F$9:$DA$48,MATCH($B$3,Stabilo!$D$9:$D$48,0),C45)","v":{"$error":"#N/A"}},{"$f":"INDEX(Stabilo!$F$9:$DA$48,MATCH($B$3,Stabilo!$D$9:$D$48,0),C45)","v":{"$error":"#N/A"}},{"$f":"INDEX(Stabilo!$F$9:$DA$48,MATCH($B$3,Stabilo!$D$9:$D$48,0),C45)","v":{"$error":"#N/A"}},"","","","",{"$f":"IF(ISERROR(INDEX(Accueil!$M$27:$N$56,MATCH(VLOOKUP(C45,Accueil!$Q$27:$R$126,2),Accueil!$M$27:$M$56,0),2)),\"\",INDEX(Accueil!$M$27:$N$56,MATCH(VLOOKUP(C45,Accueil!$Q$27:$R$126,2),Accueil!$M$27:$M$56,0),2))","v":""},{"$f":"IF(ISERROR(INDEX(Accueil!$L$27:$M$56,MATCH(VLOOKUP(C45,Accueil!$Q$27:$R$126,2),Accueil!$M$27:$M$56,0),1)),\"\",INDEX(Accueil!$L$27:$M$56,MATCH(VLOOKUP(C45,Accueil!$Q$27:$R$126,2),Accueil!$M$27:$M$56,0),1))","v":""},{"$f":"IF(J45=Accueil!$AA$26,1,0)","v":{"$error":"#N/A"}},{"$f":"IF(J45=Accueil!$AB$26,1,0)","v":{"$error":"#N/A"}},{"$f":"IF(J45=Accueil!$AC$26,1,0)","v":{"$error":"#N/A"}},{"$f":"IF(J45=Accueil!$AD$26,1,0)","v":{"$error":"#N/A"}},{"$f":"IF(J45=Accueil!$AE$26,1,0)","v":{"$error":"#N/A"}},{"$f":"IF(J45=Accueil!$AF$26,1,0)","v":{"$error":"#N/A"}}]
[null,null,{"$f":"IF('Synthèse classe'!C47=\"\",\"\",'Synthèse classe'!C47)","v":""},{"$error":"#N/A"},{"$f":"INDEX(Stabilo!$F$9:$DA$48,MATCH($B$3,Stabilo!$D$9:$D$48,0),C46)","v":{"$error":"#N/A"}},{"$f":"INDEX(Stabilo!$F$9:$DA$48,MATCH($B$3,Stabilo!$D$9:$D$48,0),C46)","v":{"$error":"#N/A"}},{"$f":"INDEX(Stabilo!$F$9:$DA$48,MATCH($B$3,Stabilo!$D$9:$D$48,0),C46)","v":{"$error":"#N/A"}},{"$f":"INDEX(Stabilo!$F$9:$DA$48,MATCH($B$3,Stabilo!$D$9:$D$48,0),C46)","v":{"$error":"#N/A"}},{"$f":"INDEX(Stabilo!$F$9:$DA$48,MATCH($B$3,Stabilo!$D$9:$D$48,0),C46)","v":{"$error":"#N/A"}},{"$f":"INDEX(Stabilo!$F$9:$DA$48,MATCH($B$3,Stabilo!$D$9:$D$48,0),C46)","v":{"$error":"#N/A"}},"","","","",{"$f":"IF(ISERROR(INDEX(Accueil!$M$27:$N$56,MATCH(VLOOKUP(C46,Accueil!$Q$27:$R$126,2),Accueil!$M$27:$M$56,0),2)),\"\",INDEX(Accueil!$M$27:$N$56,MATCH(VLOOKUP(C46,Accueil!$Q$27:$R$126,2),Accueil!$M$27:$M$56,0),2))","v":""},{"$f":"IF(ISERROR(INDEX(Accueil!$L$27:$M$56,MATCH(VLOOKUP(C46,Accueil!$Q$27:$R$126,2),Accueil!$M$27:$M$56,0),1)),\"\",INDEX(Accueil!$L$27:$M$56,MATCH(VLOOKUP(C46,Accueil!$Q$27:$R$126,2),Accueil!$M$27:$M$56,0),1))","v":""},{"$f":"IF(J46=Accueil!$AA$26,1,0)","v":{"$error":"#N/A"}},{"$f":"IF(J46=Accueil!$AB$26,1,0)","v":{"$error":"#N/A"}},{"$f":"IF(J46=Accueil!$AC$26,1,0)","v":{"$error":"#N/A"}},{"$f":"IF(J46=Accueil!$AD$26,1,0)","v":{"$error":"#N/A"}},{"$f":"IF(J46=Accueil!$AE$26,1,0)","v":{"$error":"#N/A"}},{"$f":"IF(J46=Accueil!$AF$26,1,0)","v":{"$error":"#N/A"}}]
[null,null,{"$f":"IF('Synthèse classe'!C48=\"\",\"\",'Synthèse classe'!C48)","v":""},{"$error":"#N/A"},{"$f":"INDEX(Stabilo!$F$9:$DA$48,MATCH($B$3,Stabilo!$D$9:$D$48,0),C47)","v":{"$error":"#N/A"}},{"$f":"INDEX(Stabilo!$F$9:$DA$48,MATCH($B$3,Stabilo!$D$9:$D$48,0),C47)","v":{"$error":"#N/A"}},{"$f":"INDEX(Stabilo!$F$9:$DA$48,MATCH($B$3,Stabilo!$D$9:$D$48,0),C47)","v":{"$error":"#N/A"}},{"$f":"INDEX(Stabilo!$F$9:$DA$48,MATCH($B$3,Stabilo!$D$9:$D$48,0),C47)","v":{"$error":"#N/A"}},{"$f":"INDEX(Stabilo!$F$9:$DA$48,MATCH($B$3,Stabilo!$D$9:$D$48,0),C47)","v":{"$error":"#N/A"}},{"$f":"INDEX(Stabilo!$F$9:$DA$48,MATCH($B$3,Stabilo!$D$9:$D$48,0),C47)","v":{"$error":"#N/A"}},"","","","",{"$f":"IF(ISERROR(INDEX(Accueil!$M$27:$N$56,MATCH(VLOOKUP(C47,Accueil!$Q$27:$R$126,2),Accueil!$M$27:$M$56,0),2)),\"\",INDEX(Accueil!$M$27:$N$56,MATCH(VLOOKUP(C47,Accueil!$Q$27:$R$126,2),Accueil!$M$27:$M$56,0),2))","v":""},{"$f":"IF(ISERROR(INDEX(Accueil!$L$27:$M$56,MATCH(VLOOKUP(C47,Accueil!$Q$27:$R$126,2),Accueil!$M$27:$M$56,0),1)),\"\",INDEX(Accueil!$L$27:$M$56,MATCH(VLOOKUP(C47,Accueil!$Q$27:$R$126,2),Accueil!$M$27:$M$56,0),1))","v":""},{"$f":"IF(J47=Accueil!$AA$26,1,0)","v":{"$error":"#N/A"}},{"$f":"IF(J47=Accueil!$AB$26,1,0)","v":{"$error":"#N/A"}},{"$f":"IF(J47=Accueil!$AC$26,1,0)","v":{"$error":"#N/A"}},{"$f":"IF(J47=Accueil!$AD$26,1,0)","v":{"$error":"#N/A"}},{"$f":"IF(J47=Accueil!$AE$26,1,0)","v":{"$error":"#N/A"}},{"$f":"IF(J47=Accueil!$AF$26,1,0)","v":{"$error":"#N/A"}}]
[null,null,{"$f":"IF('Synthèse classe'!C49=\"\",\"\",'Synthèse classe'!C49)","v":""},{"$error":"#N/A"},{"$f":"INDEX(Stabilo!$F$9:$DA$48,MATCH($B$3,Stabilo!$D$9:$D$48,0),C48)","v":{"$error":"#N/A"}},{"$f":"INDEX(Stabilo!$F$9:$DA$48,MATCH($B$3,Stabilo!$D$9:$D$48,0),C48)","v":{"$error":"#N/A"}},{"$f":"INDEX(Stabilo!$F$9:$DA$48,MATCH($B$3,Stabilo!$D$9:$D$48,0),C48)","v":{"$error":"#N/A"}},{"$f":"INDEX(Stabilo!$F$9:$DA$48,MATCH($B$3,Stabilo!$D$9:$D$48,0),C48)","v":{"$error":"#N/A"}},{"$f":"INDEX(Stabilo!$F$9:$DA$48,MATCH($B$3,Stabilo!$D$9:$D$48,0),C48)","v":{"$error":"#N/A"}},{"$f":"INDEX(Stabilo!$F$9:$DA$48,MATCH($B$3,Stabilo!$D$9:$D$48,0),C48)","v":{"$error":"#N/A"}},"","","","",{"$f":"IF(ISERROR(INDEX(Accueil!$M$27:$N$56,MATCH(VLOOKUP(C48,Accueil!$Q$27:$R$126,2),Accueil!$M$27:$M$56,0),2)),\"\",INDEX(Accueil!$M$27:$N$56,MATCH(VLOOKUP(C48,Accueil!$Q$27:$R$126,2),Accueil!$M$27:$M$56,0),2))","v":""},{"$f":"IF(ISERROR(INDEX(Accueil!$L$27:$M$56,MATCH(VLOOKUP(C48,Accueil!$Q$27:$R$126,2),Accueil!$M$27:$M$56,0),1)),\"\",INDEX(Accueil!$L$27:$M$56,MATCH(VLOOKUP(C48,Accueil!$Q$27:$R$126,2),Accueil!$M$27:$M$56,0),1))","v":""},{"$f":"IF(J48=Accueil!$AA$26,1,0)","v":{"$error":"#N/A"}},{"$f":"IF(J48=Accueil!$AB$26,1,0)","v":{"$error":"#N/A"}},{"$f":"IF(J48=Accueil!$AC$26,1,0)","v":{"$error":"#N/A"}},{"$f":"IF(J48=Accueil!$AD$26,1,0)","v":{"$error":"#N/A"}},{"$f":"IF(J48=Accueil!$AE$26,1,0)","v":{"$error":"#N/A"}},{"$f":"IF(J48=Accueil!$AF$26,1,0)","v":{"$error":"#N/A"}}]
[{"$f":"IF(COMP7=\"\",\"\",COMP7)","v":""},{"$f":"IF(COMS20=\"\",\"\",COMS20)","v":""},{"$f":"IF('Synthèse classe'!C50=\"\",\"\",'Synthèse classe'!C50)","v":""},{"$error":"#N/A"},{"$f":"INDEX(Stabilo!$F$9:$DA$48,MATCH($B$3,Stabilo!$D$9:$D$48,0),C49)","v":{"$error":"#N/A"}},{"$f":"INDEX(Stabilo!$F$9:$DA$48,MATCH($B$3,Stabilo!$D$9:$D$48,0),C49)","v":{"$error":"#N/A"}},{"$f":"INDEX(Stabilo!$F$9:$DA$48,MATCH($B$3,Stabilo!$D$9:$D$48,0),C49)","v":{"$error":"#N/A"}},{"$f":"INDEX(Stabilo!$F$9:$DA$48,MATCH($B$3,Stabilo!$D$9:$D$48,0),C49)","v":{"$error":"#N/A"}},{"$f":"INDEX(Stabilo!$F$9:$DA$48,MATCH($B$3,Stabilo!$D$9:$D$48,0),C49)","v":{"$error":"#N/A"}},{"$f":"INDEX(Stabilo!$F$9:$DA$48,MATCH($B$3,Stabilo!$D$9:$D$48,0),C49)","v":{"$error":"#N/A"}},"","","","",{"$f":"IF(ISERROR(INDEX(Accueil!$M$27:$N$56,MATCH(VLOOKUP(C49,Accueil!$Q$27:$R$126,2),Accueil!$M$27:$M$56,0),2)),\"\",INDEX(Accueil!$M$27:$N$56,MATCH(VLOOKUP(C49,Accueil!$Q$27:$R$126,2),Accueil!$M$27:$M$56,0),2))","v":""},{"$f":"IF(ISERROR(INDEX(Accueil!$L$27:$M$56,MATCH(VLOOKUP(C49,Accueil!$Q$27:$R$126,2),Accueil!$M$27:$M$56,0),1)),\"\",INDEX(Accueil!$L$27:$M$56,MATCH(VLOOKUP(C49,Accueil!$Q$27:$R$126,2),Accueil!$M$27:$M$56,0),1))","v":""},{"$f":"IF(J49=Accueil!$AA$26,1,0)","v":{"$error":"#N/A"}},{"$f":"IF(J49=Accueil!$AB$26,1,0)","v":{"$error":"#N/A"}},{"$f":"IF(J49=Accueil!$AC$26,1,0)","v":{"$error":"#N/A"}},{"$f":"IF(J49=Accueil!$AD$26,1,0)","v":{"$error":"#N/A"}},{"$f":"IF(J49=Accueil!$AE$26,1,0)","v":{"$error":"#N/A"}},{"$f":"IF(J49=Accueil!$AF$26,1,0)","v":{"$error":"#N/A"}}]
[null,null,{"$f":"IF('Synthèse classe'!C51=\"\",\"\",'Synthèse classe'!C51)","v":""},{"$error":"#N/A"},{"$f":"INDEX(Stabilo!$F$9:$DA$48,MATCH($B$3,Stabilo!$D$9:$D$48,0),C50)","v":{"$error":"#N/A"}},{"$f":"INDEX(Stabilo!$F$9:$DA$48,MATCH($B$3,Stabilo!$D$9:$D$48,0),C50)","v":{"$error":"#N/A"}},{"$f":"INDEX(Stabilo!$F$9:$DA$48,MATCH($B$3,Stabilo!$D$9:$D$48,0),C50)","v":{"$error":"#N/A"}},{"$f":"INDEX(Stabilo!$F$9:$DA$48,MATCH($B$3,Stabilo!$D$9:$D$48,0),C50)","v":{"$error":"#N/A"}},{"$f":"INDEX(Stabilo!$F$9:$DA$48,MATCH($B$3,Stabilo!$D$9:$D$48,0),C50)","v":{"$error":"#N/A"}},{"$f":"INDEX(Stabilo!$F$9:$DA$48,MATCH($B$3,Stabilo!$D$9:$D$48,0),C50)","v":{"$error":"#N/A"}},"","","","",{"$f":"IF(ISERROR(INDEX(Accueil!$M$27:$N$56,MATCH(VLOOKUP(C50,Accueil!$Q$27:$R$126,2),Accueil!$M$27:$M$56,0),2)),\"\",INDEX(Accueil!$M$27:$N$56,MATCH(VLOOKUP(C50,Accueil!$Q$27:$R$126,2),Accueil!$M$27:$M$56,0),2))","v":""},{"$f":"IF(ISERROR(INDEX(Accueil!$L$27:$M$56,MATCH(VLOOKUP(C50,Accueil!$Q$27:$R$126,2),Accueil!$M$27:$M$56,0),1)),\"\",INDEX(Accueil!$L$27:$M$56,MATCH(VLOOKUP(C50,Accueil!$Q$27:$R$126,2),Accueil!$M$27:$M$56,0),1))","v":""},{"$f":"IF(J50=Accueil!$AA$26,1,0)","v":{"$error":"#N/A"}},{"$f":"IF(J50=Accueil!$AB$26,1,0)","v":{"$error":"#N/A"}},{"$f":"IF(J50=Accueil!$AC$26,1,0)","v":{"$error":"#N/A"}},{"$f":"IF(J50=Accueil!$AD$26,1,0)","v":{"$error":"#N/A"}},{"$f":"IF(J50=Accueil!$AE$26,1,0)","v":{"$error":"#N/A"}},{"$f":"IF(J50=Accueil!$AF$26,1,0)","v":{"$error":"#N/A"}}]
[null,null,{"$f":"IF('Synthèse classe'!C52=\"\",\"\",'Synthèse classe'!C52)","v":""},{"$error":"#N/A"},{"$f":"INDEX(Stabilo!$F$9:$DA$48,MATCH($B$3,Stabilo!$D$9:$D$48,0),C51)","v":{"$error":"#N/A"}},{"$f":"INDEX(Stabilo!$F$9:$DA$48,MATCH($B$3,Stabilo!$D$9:$D$48,0),C51)","v":{"$error":"#N/A"}},{"$f":"INDEX(Stabilo!$F$9:$DA$48,MATCH($B$3,Stabilo!$D$9:$D$48,0),C51)","v":{"$error":"#N/A"}},{"$f":"INDEX(Stabilo!$F$9:$DA$48,MATCH($B$3,Stabilo!$D$9:$D$48,0),C51)","v":{"$error":"#N/A"}},{"$f":"INDEX(Stabilo!$F$9:$DA$48,MATCH($B$3,Stabilo!$D$9:$D$48,0),C51)","v":{"$error":"#N/A"}},{"$f":"INDEX(Stabilo!$F$9:$DA$48,MATCH($B$3,Stabilo!$D$9:$D$48,0),C51)","v":{"$error":"#N/A"}},"","","","",{"$f":"IF(ISERROR(INDEX(Accueil!$M$27:$N$56,MATCH(VLOOKUP(C51,Accueil!$Q$27:$R$126,2),Accueil!$M$27:$M$56,0),2)),\"\",INDEX(Accueil!$M$27:$N$56,MATCH(VLOOKUP(C51,Accueil!$Q$27:$R$126,2),Accueil!$M$27:$M$56,0),2))","v":""},{"$f":"IF(ISERROR(INDEX(Accueil!$L$27:$M$56,MATCH(VLOOKUP(C51,Accueil!$Q$27:$R$126,2),Accueil!$M$27:$M$56,0),1)),\"\",INDEX(Accueil!$L$27:$M$56,MATCH(VLOOKUP(C51,Accueil!$Q$27:$R$126,2),Accueil!$M$27:$M$56,0),1))","v":""},{"$f":"IF(J51=Accueil!$AA$26,1,0)","v":{"$error":"#N/A"}},{"$f":"IF(J51=Accueil!$AB$26,1,0)","v":{"$error":"#N/A"}},{"$f":"IF(J51=Accueil!$AC$26,1,0)","v":{"$error":"#N/A"}},{"$f":"IF(J51=Accueil!$AD$26,1,0)","v":{"$error":"#N/A"}},{"$f":"IF(J51=Accueil!$AE$26,1,0)","v":{"$error":"#N/A"}},{"$f":"IF(J51=Accueil!$AF$26,1,0)","v":{"$error":"#N/A"}}]
[null,{"$f":"IF(COMS21=\"\",\"\",COMS21)","v":""},{"$f":"IF('Synthèse classe'!C53=\"\",\"\",'Synthèse classe'!C53)","v":""},{"$error":"#N/A"},{"$f":"INDEX(Stabilo!$F$9:$DA$48,MATCH($B$3,Stabilo!$D$9:$D$48,0),C52)","v":{"$error":"#N/A"}},{"$f":"INDEX(Stabilo!$F$9:$DA$48,MATCH($B$3,Stabilo!$D$9:$D$48,0),C52)","v":{"$error":"#N/A"}},{"$f":"INDEX(Stabilo!$F$9:$DA$48,MATCH($B$3,Stabilo!$D$9:$D$48,0),C52)","v":{"$error":"#N/A"}},{"$f":"INDEX(Stabilo!$F$9:$DA$48,MATCH($B$3,Stabilo!$D$9:$D$48,0),C52)","v":{"$error":"#N/A"}},{"$f":"INDEX(Stabilo!$F$9:$DA$48,MATCH($B$3,Stabilo!$D$9:$D$48,0),C52)","v":{"$error":"#N/A"}},{"$f":"INDEX(Stabilo!$F$9:$DA$48,MATCH($B$3,Stabilo!$D$9:$D$48,0),C52)","v":{"$error":"#N/A"}},"","","","",{"$f":"IF(ISERROR(INDEX(Accueil!$M$27:$N$56,MATCH(VLOOKUP(C52,Accueil!$Q$27:$R$126,2),Accueil!$M$27:$M$56,0),2)),\"\",INDEX(Accueil!$M$27:$N$56,MATCH(VLOOKUP(C52,Accueil!$Q$27:$R$126,2),Accueil!$M$27:$M$56,0),2))","v":""},{"$f":"IF(ISERROR(INDEX(Accueil!$L$27:$M$56,MATCH(VLOOKUP(C52,Accueil!$Q$27:$R$126,2),Accueil!$M$27:$M$56,0),1)),\"\",INDEX(Accueil!$L$27:$M$56,MATCH(VLOOKUP(C52,Accueil!$Q$27:$R$126,2),Accueil!$M$27:$M$56,0),1))","v":""},{"$f":"IF(J52=Accueil!$AA$26,1,0)","v":{"$error":"#N/A"}},{"$f":"IF(J52=Accueil!$AB$26,1,0)","v":{"$error":"#N/A"}},{"$f":"IF(J52=Accueil!$AC$26,1,0)","v":{"$error":"#N/A"}},{"$f":"IF(J52=Accueil!$AD$26,1,0)","v":{"$error":"#N/A"}},{"$f":"IF(J52=Accueil!$AE$26,1,0)","v":{"$error":"#N/A"}},{"$f":"IF(J52=Accueil!$AF$26,1,0)","v":{"$error":"#N/A"}}]
[null,null,{"$f":"IF('Synthèse classe'!C54=\"\",\"\",'Synthèse classe'!C54)","v":""},{"$error":"#N/A"},{"$f":"INDEX(Stabilo!$F$9:$DA$48,MATCH($B$3,Stabilo!$D$9:$D$48,0),C53)","v":{"$error":"#N/A"}},{"$f":"INDEX(Stabilo!$F$9:$DA$48,MATCH($B$3,Stabilo!$D$9:$D$48,0),C53)","v":{"$error":"#N/A"}},{"$f":"INDEX(Stabilo!$F$9:$DA$48,MATCH($B$3,Stabilo!$D$9:$D$48,0),C53)","v":{"$error":"#N/A"}},{"$f":"INDEX(Stabilo!$F$9:$DA$48,MATCH($B$3,Stabilo!$D$9:$D$48,0),C53)","v":{"$error":"#N/A"}},{"$f":"INDEX(Stabilo!$F$9:$DA$48,MATCH($B$3,Stabilo!$D$9:$D$48,0),C53)","v":{"$error":"#N/A"}},{"$f":"INDEX(Stabilo!$F$9:$DA$48,MATCH($B$3,Stabilo!$D$9:$D$48,0),C53)","v":{"$error":"#N/A"}},"","","","",{"$f":"IF(ISERROR(INDEX(Accueil!$M$27:$N$56,MATCH(VLOOKUP(C53,Accueil!$Q$27:$R$126,2),Accueil!$M$27:$M$56,0),2)),\"\",INDEX(Accueil!$M$27:$N$56,MATCH(VLOOKUP(C53,Accueil!$Q$27:$R$126,2),Accueil!$M$27:$M$56,0),2))","v":""},{"$f":"IF(ISERROR(INDEX(Accueil!$L$27:$M$56,MATCH(VLOOKUP(C53,Accueil!$Q$27:$R$126,2),Accueil!$M$27:$M$56,0),1)),\"\",INDEX(Accueil!$L$27:$M$56,MATCH(VLOOKUP(C53,Accueil!$Q$27:$R$126,2),Accueil!$M$27:$M$56,0),1))","v":""},{"$f":"IF(J53=Accueil!$AA$26,1,0)","v":{"$error":"#N/A"}},{"$f":"IF(J53=Accueil!$AB$26,1,0)","v":{"$error":"#N/A"}},{"$f":"IF(J53=Accueil!$AC$26,1,0)","v":{"$error":"#N/A"}},{"$f":"IF(J53=Accueil!$AD$26,1,0)","v":{"$error":"#N/A"}},{"$f":"IF(J53=Accueil!$AE$26,1,0)","v":{"$error":"#N/A"}},{"$f":"IF(J53=Accueil!$AF$26,1,0)","v":{"$error":"#N/A"}}]
[]
[{"$f":"IF(Accueil!A2=\"\",\"\",Accueil!A2)","v":"Évaluations mathématiques CM1"}]
[]
[null,{"$f":"IF(A4=\"\",\"\",COMP1)","v":"CP 1 : Nommer, lire, écrire, représenter des nombres entiers"},null,null,null,null,null,null,null,null,{"$f":"IF(N4=\"\",\"\",N4)","v":""}]
[null,{"$f":"IF(A14=\"\",\"\",COMP2)","v":"CP 2 : Comprendre et utiliser des nombres entiers pour dénombrer, ordonner, repérer, comparer"},null,null,null,null,null,null,null,null,{"$f":"IF(N14=\"\",\"\",N14)","v":""}]
[null,{"$f":"IF(A19=\"\",\"\",COMP3)","v":"CP 3 : Résoudre des problèmes en utilisant des nombres entiers et le calcul"},null,null,null,null,null,null,null,null,{"$f":"IF(N19=\"\",\"\",N19)","v":""}]
[null,{"$f":"IF(A24=\"\",\"\",COMP4)","v":"CP 4 : Calculer avec des nombres entiers"},null,null,null,null,null,null,null,null,{"$f":"IF(N24=\"\",\"\",N24)","v":""}]
[null,{"$f":"IF(A36=\"\",\"\",COMP5)","v":""}]
[null,{"$f":"IF(A39=\"\",\"\",COMP6)","v":""}]
[null,{"$f":"IF(A49=\"\",\"\",COMP7)","v":""}]
[]
[]
[]
[]
[]
[{"$f":"IF(Accueil!A2=\"\",\"\",Accueil!A2)","v":"Évaluations mathématiques CM1"}]

{"sheet":"Groupes besoin","index":5,"n_rows":51,"n_cols":55,"rows_kept":51,"cut":false,"hidden":false,"merged":[[7,36,7,54],[8,51,8,54],[9,51,9,52],[9,53,9,54],[8,46,8,49],[9,46,9,47],[9,48,9,49],[9,36,9,37],[9,38,9,39],[8,36,8,39],[9,41,9,42],[7,18,7,34],[8,41,8,44],[9,1,9,2],[8,11,8,14],[9,11,9,12],[9,13,9,14],[9,23,9,24],[8,16,8,19],[9,16,9,17],[9,18,9,19],[8,21,8,24],[9,21,9,22],[9,43,9,44],[8,31,8,34],[9,31,9,32],[9,33,9,34],[4,3,4,5],[2,12,2,14],[3,12,3,14],[2,3,2,5],[3,3,3,5],[4,12,4,14],[5,3,5,5],[9,6,9,7],[9,8,9,9],[8,1,8,4],[8,6,8,9],[9,3,9,4],[7,1,7,17],[5,12,5,14]]}
[null,"Paramétrage des groupes de besoins."]
[null,"Modifiez les cellules jaunes ; les autres seront automatiquement recalculées. Ces modifications se répercutent sur l'organisation des groupes de besoins."]
[null,null,null,"1er secteur",null,null,0,null,{"$f":"CONCATENATE(\"Moins de \",ROUND(L3,0),\" %\")","v":"Moins de 15 %"},{"$f":"L3/100","v":0.15},null,{"$f":"G4","v":15},"% items réussis"]
[null,null,null,"2e secteur",null,null,15,null,{"$f":"CONCATENATE(\"De \",ROUND(G4,0),\" % à \",ROUND(L4,0),\" %\")","v":"De 15 % à 33 %"},{"$f":"L4/100","v":0.33},null,{"$f":"G5","v":33},"% items réussis"]
[null,null,null,"3e secteur",null,null,33,null,{"$f":"CONCATENATE(\"De \",ROUND(G5,0),\" % à \",ROUND(L5,0),\" %\")","v":"De 33 % à 90 %"},0.9,null,{"$f":"G6","v":90},"% items réussis"]
[null,null,null,"4e secteur",null,null,90,null,{"$f":"CONCATENATE(\"De \",ROUND(G6,0),\" % à \",ROUND(L6,0),\" %\")","v":"De 90 % à 100 %"},1,null,100,"% items réussis"]
[]
[null,{"$f":"Accueil!$A$2&IF(Accueil!$A$2=\"\",\"\",\" - \")&\"ACQUIS NON SUFFISANTS OU FRAGILES\"","v":"Évaluations mathématiques CM1 - ACQUIS NON SUFFISANTS OU FRAGILES"},null,null,null,null,null,null,null,null,null,null,null,null,null,null,null,null,{"$f":"Accueil!$A$2&IF(Accueil!$A$2=\"\",\"\",\" - \")&\"ACQUIS NON SUFFISANTS OU FRAGILES\"","v":"Évaluations mathématiques CM1 - ACQUIS NON SUFFISANTS OU FRAGILES"},null,null,null,null,null,null,null,null,null,null,null,null,null,null,null,null,null,{"$f":"Accueil!$A$2&IF(Accueil!$A$2=\"\",\"\",\" - \")&\"ACQUIS NON SUFFISANTS OU FRAGILES\"","v":"Évaluations mathématiques CM1 - ACQUIS NON SUFFISANTS OU FRAGILES"}]
[null,{"$f":"COMP1","v":"CP 1 : Nommer, lire, écrire, représenter des nombres entiers"},null,null,null,null,{"$f":"COMP2","v":"CP 2 : Comprendre et utiliser des nombres entiers pour dénombrer, ordonner, repérer, comparer"},null,null,null,null,{"$f":"COMP3","v":"CP 3 : Résoudre des problèmes en utilisant des nombres entiers et le calcul"},null,null,null,null,{"$f":"COMP4","v":"CP 4 : Calculer avec des nombres entiers"},null,null,null,null,{"$f":"COMP5","v":""},null,null,null,null,24,null,null,null,null,{"$f":"COMP6","v":""},null,null,null,null,{"$f":"COMP7","v":""},null,null,null,null,{"$f":"COMP8","v":""},null,null,null,null,{"$f":"COMP9","v":""},null,null,null,null,{"$f":"COMP10","v":""}]
[null,{"$f":"$I$3","v":"Moins de 15 %"},null,{"$f":"$I$4","v":"De 15 % à 33 %"},null,null,{"$f":"$I$3","v":"Moins de 15 %"},null,{"$f":"$I$4","v":"De 15 % à 33 %"},null,null,{"$f":"$I$3","v":"Moins de 15 %"},null,{"$f":"$I$4","v":"De 15 % à 33 %"},null,null,{"$f":"$I$3","v":"Moins de 15 %"},null,{"$f":"$I$4","v":"De 15 % à 33 %"},null,null,{"$f":"$I$3","v":"Moins de 15 %"},null,{"$f":"$I$4","v":"De 15 % à 33 %"},null,null,null,null,null,null,null,{"$f":"$I$3","v":"Moins de 15 %"},null,{"$f":"$I$4","v":"De 15 % à 33 %"},null,null,{"$f":"$I$3","v":"Moins de 15 %"},null,{"$f":"$I$4","v":"De 15 % à 33 %"},null,null,{"$f":"$I$3","v":"Moins de 15 %"},null,{"$f":"$I$4","v":"De 15 % à 33 %"},null,null,{"$f":"$I$3","v":"Moins de 15 %"},null,{"$f":"$I$4","v":"De 15 % à 33 %"},null,null,{"$f":"$I$3","v":"Moins de 15 %"},null,{"$f":"$I$4","v":"De 15 % à 33 %"}]
[null,"TOTAL :",{"$f":"COUNTIF(B12:B51,\">=A\")","v":0},"TOTAL :",{"$f":"COUNTIF(D12:D51,\">=A\")","v":0},null,"TOTAL :",{"$f":"COUNTIF(G12:G51,\">=A\")","v":0},"TOTAL :",{"$f":"COUNTIF(I12:I51,\">=A\")","v":0},null,"TOTAL :",{"$f":"COUNTIF(L12:L51,\">=A\")","v":0},"TOTAL :",{"$f":"COUNTIF(N12:N51,\">=A\")","v":0},null,"TOTAL :",{"$f":"COUNTIF(Q12:Q51,\">=A\")","v":0},"TOTAL :",{"$f":"COUNTIF(S12:S51,\">=A\")","v":0},null,"TOTAL :",{"$f":"COUNTIF(V12:V51,\">=A\")","v":0},"TOTAL :",{"$f":"COUNTIF(X12:X51,\">=A\")","v":0},null,null,null,null,null,null,"TOTAL :",{"$f":"COUNTIF(AF12:AF51,\">=A\")","v":0},"TOTAL :",{"$f":"COUNTIF(AH12:AH51,\">=A\")","v":0},null,"TOTAL :",{"$f":"COUNTIF(AK12:AK51,\">=A\")","v":0},"TOTAL :",{"$f":"COUNTIF(AM12:AM51,\">=A\")","v":0},null,"TOTAL :",{"$f":"COUNTIF(AP12:AP51,\">=A\")","v":0},"TOTAL :",{"$f":"COUNTIF(AR12:AR51,\">=A\")","v":0},null,"TOTAL :",{"$f":"COUNTIF(AU12:AU51,\">=A\")","v":0},"TOTAL :",{"$f":"COUNTIF(AW12:AW51,\">=A\")","v":0},null,"TOTAL :",{"$f":"COUNTIF(AZ12:AZ51,\">=A\")","v":0},"TOTAL :",{"$f":"COUNTIF(BB12:BB51,\">=A\")","v":0}]
[{"$f":"IF(Accueil!F13=\"\",\"\",Accueil!F13)","v":""},{"$f":"IF(OR('Résultats élèves'!D4<$J$3,'Résultats élèves'!D4=\"A\"),'Groupes besoin'!A12,\"\")","v":""},{"$f":"IF(B12=\"\",\"\",'Résultats élèves'!D4)","v":""},{"$f":"IF(OR('Résultats élèves'!D4<$J$4,'Résultats élèves'!D4=\"A\"),'Groupes besoin'!A12,\"\")","v":""},{"$f":"IF(D12=\"\",\"\",'Résultats élèves'!D4)","v":""},null,{"$f":"IF(OR('Résultats élèves'!E4<$J$3,'Résultats élèves'!E4=\"A\"),'Groupes besoin'!A12,\"\")","v":""},{"$f":"IF(G12=\"\",\"\",'Résultats élèves'!E4)","v":""},{"$f":"IF(OR('Résultats élèves'!E4<$J$4,'Résultats élèves'!E4=\"A\"),'Groupes besoin'!A12,\"\")","v":""},{"$f":"IF(I12=\"\",\"\",'Résultats élèves'!E4)","v":""},null,{"$f":"IF(OR('Résultats élèves'!F4<$J$3,'Résultats élèves'!F4=\"A\"),'Groupes besoin'!A12,\"\")","v":""},{"$f":"IF(L12=\"\",\"\",'Résultats élèves'!F4)","v":""},{"$f":"IF(OR('Résultats élèves'!F4<$J$4,'Résultats élèves'!F4=\"A\"),'Groupes besoin'!A12,\"\")","v":""},{"$f":"IF(N12=\"\",\"\",'Résultats élèves'!F4)","v":""},null,{"$f":"IF(OR('Résultats élèves'!G4<$J$3,'Résultats élèves'!G4=\"A\"),'Groupes besoin'!A12,\"\")","v":""},{"$f":"IF(Q12=\"\",\"\",'Résultats élèves'!G4)","v":""},{"$f":"IF(OR('Résultats élèves'!G4<$J$4,'Résultats élèves'!G4=\"A\"),'Groupes besoin'!A12,\"\")","v":""},{"$f":"IF(S12=\"\",\"\",'Résultats élèves'!G4)","v":""},null,{"$f":"IF(OR('Résultats élèves'!H4<$J$3,'Résultats élèves'!H4=\"A\"),'Groupes besoin'!A12,\"\")","v":""},{"$f":"IF(V12=\"\",\"\",'Résultats élèves'!H4)","v":""},{"$f":"IF(OR('Résultats élèves'!H4<$J$4,'Résultats élèves'!H4=\"A\"),'Groupes besoin'!A12,\"\")","v":""},{"$f":"IF(X12=\"\",\"\",'Résultats élèves'!H4)","v":""},null,{"$f":"COUNTIF(B12:Y12,\"\")","v":24},{"$f":"COUNTA(B12:Y12)","v":20},{"$f":"IF(AA12<$AA$9,#REF!,\"\")","v":""},null,null,{"$f":"IF(OR('Résultats élèves'!I4<$J$3,'Résultats élèves'!I4=\"A\"),'Groupes besoin'!A12,\"\")","v":""},{"$f":"IF(AF12=\"\",\"\",'Résultats élèves'!I4)","v":""},{"$f":"IF(OR('Résultats élèves'!I4<$J$4,'Résultats élèves'!I4=\"A\"),'Groupes besoin'!A12,\"\")","v":""},{"$f":"IF(AH12=\"\",\"\",'Résultats élèves'!I4)","v":""},null,{"$f":"IF(OR('Résultats élèves'!J4<$J$3,'Résultats élèves'!J4=\"A\"),'Groupes besoin'!A12,\"\")","v":""},{"$f":"IF(AK12=\"\",\"\",'Résultats élèves'!J4)","v":""},{"$f":"IF(OR('Résultats élèves'!J4<$J$4,'Résultats élèves'!J4=\"A\"),'Groupes besoin'!A12,\"\")","v":""},{"$f":"IF(AM12=\"\",\"\",'Résultats élèves'!J4)","v":""},null,{"$f":"IF(OR('Résultats élèves'!K4<$J$3,'Résultats élèves'!K4=\"A\"),'Groupes besoin'!A12,\"\")","v":""},{"$f":"IF(AP12=\"\",\"\",'Résultats élèves'!K4)","v":""},{"$f":"IF(OR('Résultats élèves'!K4<$J$4,'Résultats élèves'!K4=\"A\"),'Groupes besoin'!A12,\"\")","v":""},{"$f":"IF(AR12=\"\",\"\",'Résultats élèves'!K4)","v":""},null,{"$f":"IF(OR('Résultats élèves'!L4<$J$3,'Résultats élèves'!L4=\"A\"),'Groupes besoin'!A12,\"\")","v":""},{"$f":"IF(AU12=\"\",\"\",'Résultats élèves'!L4)","v":""},{"$f":"IF(OR('Résultats élèves'!L4<$J$4,'Résultats élèves'!L4=\"A\"),'Groupes besoin'!A12,\"\")","v":""},{"$f":"IF(AW12=\"\",\"\",'Résultats élèves'!L4)","v":""},null,{"$f":"IF(OR('Résultats élèves'!M4<$J$3,'Résultats élèves'!M4=\"A\"),'Groupes besoin'!A12,\"\")","v":""},{"$f":"IF(AZ12=\"\",\"\",'Résultats élèves'!M4)","v":""},{"$f":"IF(OR('Résultats élèves'!M4<$J$4,'Résultats élèves'!M4=\"A\"),'Groupes besoin'!A12,\"\")","v":""},{"$f":"IF(BB12=\"\",\"\",'Résultats élèves'!M4)","v":""}]
[{"$f":"IF(Accueil!F14=\"\",\"\",Accueil!F14)","v":""},{"$f":"IF(OR('Résultats élèves'!D5<$J$3,'Résultats élèves'!D5=\"A\"),'Groupes besoin'!A13,\"\")","v":""},{"$f":"IF(B13=\"\",\"\",'Résultats élèves'!D5)","v":""},{"$f":"IF(OR('Résultats élèves'!D5<$J$4,'Résultats élèves'!D5=\"A\"),'Groupes besoin'!A13,\"\")","v":""},{"$f":"IF(D13=\"\",\"\",'Résultats élèves'!D5)","v":""},null,{"$f":"IF(OR('Résultats élèves'!E5<$J$3,'Résultats élèves'!E5=\"A\"),'Groupes besoin'!A13,\"\")","v":""},{"$f":"IF(G13=\"\",\"\",'Résultats élèves'!E5)","v":""},{"$f":"IF(OR('Résultats élèves'!E5<$J$4,'Résultats élèves'!E5=\"A\"),'Groupes besoin'!A13,\"\")","v":""},{"$f":"IF(I13=\"\",\"\",'Résultats élèves'!E5)","v":""},null,{"$f":"IF(OR('Résultats élèves'!F5<$J$3,'Résultats élèves'!F5=\"A\"),'Groupes besoin'!A13,\"\")","v":""},{"$f":"IF(L13=\"\",\"\",'Résultats élèves'!F5)","v":""},{"$f":"IF(OR('Résultats élèves'!F5<$J$4,'Résultats élèves'!F5=\"A\"),'Groupes besoin'!A13,\"\")","v":""},{"$f":"IF(N13=\"\",\"\",'Résultats élèves'!F5)","v":""},null,{"$f":"IF(OR('Résultats élèves'!G5<$J$3,'Résultats élèves'!G5=\"A\"),'Groupes besoin'!A13,\"\")","v":""},{"$f":"IF(Q13=\"\",\"\",'Résultats élèves'!G5)","v":""},{"$f":"IF(OR('Résultats élèves'!G5<$J$4,'Résultats élèves'!G5=\"A\"),'Groupes besoin'!A13,\"\")","v":""},{"$f":"IF(S13=\"\",\"\",'Résultats élèves'!G5)","v":""},null,{"$f":"IF(OR('Résultats élèves'!H5<$J$3,'Résultats élèves'!H5=\"A\"),'Groupes besoin'!A13,\"\")","v":""},{"$f":"IF(V13=\"\",\"\",'Résultats élèves'!H5)","v":""},{"$f":"IF(OR('Résultats élèves'!H5<$J$4,'Résultats élèves'!H5=\"A\"),'Groupes besoin'!A13,\"\")","v":""},{"$f":"IF(X13=\"\",\"\",'Résultats élèves'!H5)","v":""},null,{"$f":"COUNTIF(B13:Y13,\"\")","v":24},{"$f":"COUNTA(B13:Y13)","v":20},{"$f":"IF(AA13<$AA$9,#REF!,\"\")","v":""},null,null,{"$f":"IF(OR('Résultats élèves'!I5<$J$3,'Résultats élèves'!I5=\"A\"),'Groupes besoin'!A13,\"\")","v":""},{"$f":"IF(AF13=\"\",\"\",'Résultats élèves'!I5)","v":""},{"$f":"IF(OR('Résultats élèves'!I5<$J$4,'Résultats élèves'!I5=\"A\"),'Groupes besoin'!A13,\"\")","v":""},{"$f":"IF(AH13=\"\",\"\",'Résultats élèves'!I5)","v":""},null,{"$f":"IF(OR('Résultats élèves'!J5<$J$3,'Résultats élèves'!J5=\"A\"),'Groupes besoin'!A13,\"\")","v":""},{"$f":"IF(AK13=\"\",\"\",'Résultats élèves'!J5)","v":""},{"$f":"IF(OR('Résultats élèves'!J5<$J$4,'Résultats élèves'!J5=\"A\"),'Groupes besoin'!A13,\"\")","v":""},{"$f":"IF(AM13=\"\",\"\",'Résultats élèves'!J5)","v":""},null,{"$f":"IF(OR('Résultats élèves'!K5<$J$3,'Résultats élèves'!K5=\"A\"),'Groupes besoin'!A13,\"\")","v":""},{"$f":"IF(AP13=\"\",\"\",'Résultats élèves'!K5)","v":""},{"$f":"IF(OR('Résultats élèves'!K5<$J$4,'Résultats élèves'!K5=\"A\"),'Groupes besoin'!A13,\"\")","v":""},{"$f":"IF(AR13=\"\",\"\",'Résultats élèves'!K5)","v":""},null,{"$f":"IF(OR('Résultats élèves'!L5<$J$3,'Résultats élèves'!L5=\"A\"),'Groupes besoin'!A13,\"\")","v":""},{"$f":"IF(AU13=\"\",\"\",'Résultats élèves'!L5)","v":""},{"$f":"IF(OR('Résultats élèves'!L5<$J$4,'Résultats élèves'!L5=\"A\"),'Groupes besoin'!A13,\"\")","v":""},{"$f":"IF(AW13=\"\",\"\",'Résultats élèves'!L5)","v":""},null,{"$f":"IF(OR('Résultats élèves'!M5<$J$3,'Résultats élèves'!M5=\"A\"),'Groupes besoin'!A13,\"\")","v":""},{"$f":"IF(AZ13=\"\",\"\",'Résultats élèves'!M5)","v":""},{"$f":"IF(OR('Résultats élèves'!M5<$J$4,'Résultats élèves'!M5=\"A\"),'Groupes besoin'!A13,\"\")","v":""},{"$f":"IF(BB13=\"\",\"\",'Résultats élèves'!M5)","v":""}]
[{"$f":"IF(Accueil!F15=\"\",\"\",Accueil!F15)","v":""},{"$f":"IF(OR('Résultats élèves'!D6<$J$3,'Résultats élèves'!D6=\"A\"),'Groupes besoin'!A14,\"\")","v":""},{"$f":"IF(B14=\"\",\"\",'Résultats élèves'!D6)","v":""},{"$f":"IF(OR('Résultats élèves'!D6<$J$4,'Résultats élèves'!D6=\"A\"),'Groupes besoin'!A14,\"\")","v":""},{"$f":"IF(D14=\"\",\"\",'Résultats élèves'!D6)","v":""},null,{"$f":"IF(OR('Résultats élèves'!E6<$J$3,'Résultats élèves'!E6=\"A\"),'Groupes besoin'!A14,\"\")","v":""},{"$f":"IF(G14=\"\",\"\",'Résultats élèves'!E6)","v":""},{"$f":"IF(OR('Résultats élèves'!E6<$J$4,'Résultats élèves'!E6=\"A\"),'Groupes besoin'!A14,\"\")","v":""},{"$f":"IF(I14=\"\",\"\",'Résultats élèves'!E6)","v":""},null,{"$f":"IF(OR('Résultats élèves'!F6<$J$3,'Résultats élèves'!F6=\"A\"),'Groupes besoin'!A14,\"\")","v":""},{"$f":"IF(L14=\"\",\"\",'Résultats élèves'!F6)","v":""},{"$f":"IF(OR('Résultats élèves'!F6<$J$4,'Résultats élèves'!F6=\"A\"),'Groupes besoin'!A14,\"\")","v":""},{"$f":"IF(N14=\"\",\"\",'Résultats élèves'!F6)","v":""},null,{"$f":"IF(OR('Résultats élèves'!G6<$J$3,'Résultats élèves'!G6=\"A\"),'Groupes besoin'!A14,\"\")","v":""},{"$f":"IF(Q14=\"\",\"\",'Résultats élèves'!G6)","v":""},{"$f":"IF(OR('Résultats élèves'!G6<$J$4,'Résultats élèves'!G6=\"A\"),'Groupes besoin'!A14,\"\")","v":""},{"$f":"IF(S14=\"\",\"\",'Résultats élèves'!G6)","v":""},null,{"$f":"IF(OR('Résultats élèves'!H6<$J$3,'Résultats élèves'!H6=\"A\"),'Groupes besoin'!A14,\"\")","v":""},{"$f":"IF(V14=\"\",\"\",'Résultats élèves'!H6)","v":""},{"$f":"IF(OR('Résultats élèves'!H6<$J$4,'Résultats élèves'!H6=\"A\"),'Groupes besoin'!A14,\"\")","v":""},{"$f":"IF(X14=\"\",\"\",'Résultats élèves'!H6)","v":""},null,24,20,{"$f":"IF(AA14<$AA$9,#REF!,\"\")","v":""},null,null,{"$f":"IF(OR('Résultats élèves'!I6<$J$3,'Résultats élèves'!I6=\"A\"),'Groupes besoin'!A14,\"\")","v":""},{"$f":"IF(AF14=\"\",\"\",'Résultats élèves'!I6)","v":""},{"$f":"IF(OR('Résultats élèves'!I6<$J$4,'Résultats élèves'!I6=\"A\"),'Groupes besoin'!A14,\"\")","v":""},{"$f":"IF(AH14=\"\",\"\",'Résultats élèves'!I6)","v":""},null,{"$f":"IF(OR('Résultats élèves'!J6<$J$3,'Résultats élèves'!J6=\"A\"),'Groupes besoin'!A14,\"\")","v":""},{"$f":"IF(AK14=\"\",\"\",'Résultats élèves'!J6)","v":""},{"$f":"IF(OR('Résultats élèves'!J6<$J$4,'Résultats élèves'!J6=\"A\"),'Groupes besoin'!A14,\"\")","v":""},{"$f":"IF(AM14=\"\",\"\",'Résultats élèves'!J6)","v":""},null,{"$f":"IF(OR('Résultats élèves'!K6<$J$3,'Résultats élèves'!K6=\"A\"),'Groupes besoin'!A14,\"\")","v":""},{"$f":"IF(AP14=\"\",\"\",'Résultats élèves'!K6)","v":""},{"$f":"IF(OR('Résultats élèves'!K6<$J$4,'Résultats élèves'!K6=\"A\"),'Groupes besoin'!A14,\"\")","v":""},{"$f":"IF(AR14=\"\",\"\",'Résultats élèves'!K6)","v":""},null,{"$f":"IF(OR('Résultats élèves'!L6<$J$3,'Résultats élèves'!L6=\"A\"),'Groupes besoin'!A14,\"\")","v":""},{"$f":"IF(AU14=\"\",\"\",'Résultats élèves'!L6)","v":""},{"$f":"IF(OR('Résultats élèves'!L6<$J$4,'Résultats élèves'!L6=\"A\"),'Groupes besoin'!A14,\"\")","v":""},{"$f":"IF(AW14=\"\",\"\",'Résultats élèves'!L6)","v":""},null,{"$f":"IF(OR('Résultats élèves'!M6<$J$3,'Résultats élèves'!M6=\"A\"),'Groupes besoin'!A14,\"\")","v":""},{"$f":"IF(AZ14=\"\",\"\",'Résultats élèves'!M6)","v":""},{"$f":"IF(OR('Résultats élèves'!M6<$J$4,'Résultats élèves'!M6=\"A\"),'Groupes besoin'!A14,\"\")","v":""},{"$f":"IF(BB14=\"\",\"\",'Résultats élèves'!M6)","v":""}]
[{"$f":"IF(Accueil!F16=\"\",\"\",Accueil!F16)","v":""},{"$f":"IF(OR('Résultats élèves'!D7<$J$3,'Résultats élèves'!D7=\"A\"),'Groupes besoin'!A15,\"\")","v":""},{"$f":"IF(B15=\"\",\"\",'Résultats élèves'!D7)","v":""},{"$f":"IF(OR('Résultats élèves'!D7<$J$4,'Résultats élèves'!D7=\"A\"),'Groupes besoin'!A15,\"\")","v":""},{"$f":"IF(D15=\"\",\"\",'Résultats élèves'!D7)","v":""},null,{"$f":"IF(OR('Résultats élèves'!E7<$J$3,'Résultats élèves'!E7=\"A\"),'Groupes besoin'!A15,\"\")","v":""},{"$f":"IF(G15=\"\",\"\",'Résultats élèves'!E7)","v":""},{"$f":"IF(OR('Résultats élèves'!E7<$J$4,'Résultats élèves'!E7=\"A\"),'Groupes besoin'!A15,\"\")","v":""},{"$f":"IF(I15=\"\",\"\",'Résultats élèves'!E7)","v":""},null,{"$f":"IF(OR('Résultats élèves'!F7<$J$3,'Résultats élèves'!F7=\"A\"),'Groupes besoin'!A15,\"\")","v":""},{"$f":"IF(L15=\"\",\"\",'Résultats élèves'!F7)","v":""},{"$f":"IF(OR('Résultats élèves'!F7<$J$4,'Résultats élèves'!F7=\"A\"),'Groupes besoin'!A15,\"\")","v":""},{"$f":"IF(N15=\"\",\"\",'Résultats élèves'!F7)","v":""},null,{"$f":"IF(OR('Résultats élèves'!G7<$J$3,'Résultats élèves'!G7=\"A\"),'Groupes besoin'!A15,\"\")","v":""},{"$f":"IF(Q15=\"\",\"\",'Résultats élèves'!G7)","v":""},{"$f":"IF(OR('Résultats élèves'!G7<$J$4,'Résultats élèves'!G7=\"A\"),'Groupes besoin'!A15,\"\")","v":""},{"$f":"IF(S15=\"\",\"\",'Résultats élèves'!G7)","v":""},null,{"$f":"IF(OR('Résultats élèves'!H7<$J$3,'Résultats élèves'!H7=\"A\"),'Groupes besoin'!A15,\"\")","v":""},{"$f":"IF(V15=\"\",\"\",'Résultats élèves'!H7)","v":""},{"$f":"IF(OR('Résultats élèves'!H7<$J$4,'Résultats élèves'!H7=\"A\"),'Groupes besoin'!A15,\"\")","v":""},{"$f":"IF(X15=\"\",\"\",'Résultats élèves'!H7)","v":""},null,24,20,{"$f":"IF(AA15<$AA$9,#REF!,\"\")","v":""},null,null,{"$f":"IF(OR('Résultats élèves'!I7<$J$3,'Résultats élèves'!I7=\"A\"),'Groupes besoin'!A15,\"\")","v":""},{"$f":"IF(AF15=\"\",\"\",'Résultats élèves'!I7)","v":""},{"$f":"IF(OR('Résultats élèves'!I7<$J$4,'Résultats élèves'!I7=\"A\"),'Groupes besoin'!A15,\"\")","v":""},{"$f":"IF(AH15=\"\",\"\",'Résultats élèves'!I7)","v":""},null,{"$f":"IF(OR('Résultats élèves'!J7<$J$3,'Résultats élèves'!J7=\"A\"),'Groupes besoin'!A15,\"\")","v":""},{"$f":"IF(AK15=\"\",\"\",'Résultats élèves'!J7)","v":""},{"$f":"IF(OR('Résultats élèves'!J7<$J$4,'Résultats élèves'!J7=\"A\"),'Groupes besoin'!A15,\"\")","v":""},{"$f":"IF(AM15=\"\",\"\",'Résultats élèves'!J7)","v":""},null,{"$f":"IF(OR('Résultats élèves'!K7<$J$3,'Résultats élèves'!K7=\"A\"),'Groupes besoin'!A15,\"\")","v":""},{"$f":"IF(AP15=\"\",\"\",'Résultats élèves'!K7)","v":""},{"$f":"IF(OR('Résultats élèves'!K7<$J$4,'Résultats élèves'!K7=\"A\"),'Groupes besoin'!A15,\"\")","v":""},{"$f":"IF(AR15=\"\",\"\",'Résultats élèves'!K7)","v":""},null,{"$f":"IF(OR('Résultats élèves'!L7<$J$3,'Résultats élèves'!L7=\"A\"),'Groupes besoin'!A15,\"\")","v":""},{"$f":"IF(AU15=\"\",\"\",'Résultats élèves'!L7)","v":""},{"$f":"IF(OR('Résultats élèves'!L7<$J$4,'Résultats élèves'!L7=\"A\"),'Groupes besoin'!A15,\"\")","v":""},{"$f":"IF(AW15=\"\",\"\",'Résultats élèves'!L7)","v":""},null,{"$f":"IF(OR('Résultats élèves'!M7<$J$3,'Résultats élèves'!M7=\"A\"),'Groupes besoin'!A15,\"\")","v":""},{"$f":"IF(AZ15=\"\",\"\",'Résultats élèves'!M7)","v":""},{"$f":"IF(OR('Résultats élèves'!M7<$J$4,'Résultats élèves'!M7=\"A\"),'Groupes besoin'!A15,\"\")","v":""},{"$f":"IF(BB15=\"\",\"\",'Résultats élèves'!M7)","v":""}]
[{"$f":"IF(Accueil!F17=\"\",\"\",Accueil!F17)","v":""},{"$f":"IF(OR('Résultats élèves'!D8<$J$3,'Résultats élèves'!D8=\"A\"),'Groupes besoin'!A16,\"\")","v":""},{"$f":"IF(B16=\"\",\"\",'Résultats élèves'!D8)","v":""},{"$f":"IF(OR('Résultats élèves'!D8<$J$4,'Résultats élèves'!D8=\"A\"),'Groupes besoin'!A16,\"\")","v":""},{"$f":"IF(D16=\"\",\"\",'Résultats élèves'!D8)","v":""},null,{"$f":"IF(OR('Résultats élèves'!E8<$J$3,'Résultats élèves'!E8=\"A\"),'Groupes besoin'!A16,\"\")","v":""},{"$f":"IF(G16=\"\",\"\",'Résultats élèves'!E8)","v":""},{"$f":"IF(OR('Résultats élèves'!E8<$J$4,'Résultats élèves'!E8=\"A\"),'Groupes besoin'!A16,\"\")","v":""},{"$f":"IF(I16=\"\",\"\",'Résultats élèves'!E8)","v":""},null,{"$f":"IF(OR('Résultats élèves'!F8<$J$3,'Résultats élèves'!F8=\"A\"),'Groupes besoin'!A16,\"\")","v":""},{"$f":"IF(L16=\"\",\"\",'Résultats élèves'!F8)","v":""},{"$f":"IF(OR('Résultats élèves'!F8<$J$4,'Résultats élèves'!F8=\"A\"),'Groupes besoin'!A16,\"\")","v":""},{"$f":"IF(N16=\"\",\"\",'Résultats élèves'!F8)","v":""},null,{"$f":"IF(OR('Résultats élèves'!G8<$J$3,'Résultats élèves'!G8=\"A\"),'Groupes besoin'!A16,\"\")","v":""},{"$f":"IF(Q16=\"\",\"\",'Résultats élèves'!G8)","v":""},{"$f":"IF(OR('Résultats élèves'!G8<$J$4,'Résultats élèves'!G8=\"A\"),'Groupes besoin'!A16,\"\")","v":""},{"$f":"IF(S16=\"\",\"\",'Résultats élèves'!G8)","v":""},null,{"$f":"IF(OR('Résultats élèves'!H8<$J$3,'Résultats élèves'!H8=\"A\"),'Groupes besoin'!A16,\"\")","v":""},{"$f":"IF(V16=\"\",\"\",'Résultats élèves'!H8)","v":""},{"$f":"IF(OR('Résultats élèves'!H8<$J$4,'Résultats élèves'!H8=\"A\"),'Groupes besoin'!A16,\"\")","v":""},{"$f":"IF(X16=\"\",\"\",'Résultats élèves'!H8)","v":""},null,24,20,{"$f":"IF(AA16<$AA$9,#REF!,\"\")","v":""},null,null,{"$f":"IF(OR('Résultats élèves'!I8<$J$3,'Résultats élèves'!I8=\"A\"),'Groupes besoin'!A16,\"\")","v":""},{"$f":"IF(AF16=\"\",\"\",'Résultats élèves'!I8)","v":""},{"$f":"IF(OR('Résultats élèves'!I8<$J$4,'Résultats élèves'!I8=\"A\"),'Groupes besoin'!A16,\"\")","v":""},{"$f":"IF(AH16=\"\",\"\",'Résultats élèves'!I8)","v":""},null,{"$f":"IF(OR('Résultats élèves'!J8<$J$3,'Résultats élèves'!J8=\"A\"),'Groupes besoin'!A16,\"\")","v":""},{"$f":"IF(AK16=\"\",\"\",'Résultats élèves'!J8)","v":""},{"$f":"IF(OR('Résultats élèves'!J8<$J$4,'Résultats élèves'!J8=\"A\"),'Groupes besoin'!A16,\"\")","v":""},{"$f":"IF(AM16=\"\",\"\",'Résultats élèves'!J8)","v":""},null,{"$f":"IF(OR('Résultats élèves'!K8<$J$3,'Résultats élèves'!K8=\"A\"),'Groupes besoin'!A16,\"\")","v":""},{"$f":"IF(AP16=\"\",\"\",'Résultats élèves'!K8)","v":""},{"$f":"IF(OR('Résultats élèves'!K8<$J$4,'Résultats élèves'!K8=\"A\"),'Groupes besoin'!A16,\"\")","v":""},{"$f":"IF(AR16=\"\",\"\",'Résultats élèves'!K8)","v":""},null,{"$f":"IF(OR('Résultats élèves'!L8<$J$3,'Résultats élèves'!L8=\"A\"),'Groupes besoin'!A16,\"\")","v":""},{"$f":"IF(AU16=\"\",\"\",'Résultats élèves'!L8)","v":""},{"$f":"IF(OR('Résultats élèves'!L8<$J$4,'Résultats élèves'!L8=\"A\"),'Groupes besoin'!A16,\"\")","v":""},{"$f":"IF(AW16=\"\",\"\",'Résultats élèves'!L8)","v":""},null,{"$f":"IF(OR('Résultats élèves'!M8<$J$3,'Résultats élèves'!M8=\"A\"),'Groupes besoin'!A16,\"\")","v":""},{"$f":"IF(AZ16=\"\",\"\",'Résultats élèves'!M8)","v":""},{"$f":"IF(OR('Résultats élèves'!M8<$J$4,'Résultats élèves'!M8=\"A\"),'Groupes besoin'!A16,\"\")","v":""},{"$f":"IF(BB16=\"\",\"\",'Résultats élèves'!M8)","v":""}]
[{"$f":"IF(Accueil!F18=\"\",\"\",Accueil!F18)","v":""},{"$f":"IF(OR('Résultats élèves'!D9<$J$3,'Résultats élèves'!D9=\"A\"),'Groupes besoin'!A17,\"\")","v":""},{"$f":"IF(B17=\"\",\"\",'Résultats élèves'!D9)","v":""},{"$f":"IF(OR('Résultats élèves'!D9<$J$4,'Résultats élèves'!D9=\"A\"),'Groupes besoin'!A17,\"\")","v":""},{"$f":"IF(D17=\"\",\"\",'Résultats élèves'!D9)","v":""},null,{"$f":"IF(OR('Résultats élèves'!E9<$J$3,'Résultats élèves'!E9=\"A\"),'Groupes besoin'!A17,\"\")","v":""},{"$f":"IF(G17=\"\",\"\",'Résultats élèves'!E9)","v":""},{"$f":"IF(OR('Résultats élèves'!E9<$J$4,'Résultats élèves'!E9=\"A\"),'Groupes besoin'!A17,\"\")","v":""},{"$f":"IF(I17=\"\",\"\",'Résultats élèves'!E9)","v":""},null,{"$f":"IF(OR('Résultats élèves'!F9<$J$3,'Résultats élèves'!F9=\"A\"),'Groupes besoin'!A17,\"\")","v":""},{"$f":"IF(L17=\"\",\"\",'Résultats élèves'!F9)","v":""},{"$f":"IF(OR('Résultats élèves'!F9<$J$4,'Résultats élèves'!F9=\"A\"),'Groupes besoin'!A17,\"\")","v":""},{"$f":"IF(N17=\"\",\"\",'Résultats élèves'!F9)","v":""},null,{"$f":"IF(OR('Résultats élèves'!G9<$J$3,'Résultats élèves'!G9=\"A\"),'Groupes besoin'!A17,\"\")","v":""},{"$f":"IF(Q17=\"\",\"\",'Résultats élèves'!G9)","v":""},{"$f":"IF(OR('Résultats élèves'!G9<$J$4,'Résultats élèves'!G9=\"A\"),'Groupes besoin'!A17,\"\")","v":""},{"$f":"IF(S17=\"\",\"\",'Résultats élèves'!G9)","v":""},null,{"$f":"IF(OR('Résultats élèves'!H9<$J$3,'Résultats élèves'!H9=\"A\"),'Groupes besoin'!A17,\"\")","v":""},{"$f":"IF(V17=\"\",\"\",'Résultats élèves'!H9)","v":""},{"$f":"IF(OR('Résultats élèves'!H9<$J$4,'Résultats élèves'!H9=\"A\"),'Groupes besoin'!A17,\"\")","v":""},{"$f":"IF(X17=\"\",\"\",'Résultats élèves'!H9)","v":""},null,24,20,{"$f":"IF(AA17<$AA$9,#REF!,\"\")","v":""},null,null,{"$f":"IF(OR('Résultats élèves'!I9<$J$3,'Résultats élèves'!I9=\"A\"),'Groupes besoin'!A17,\"\")","v":""},{"$f":"IF(AF17=\"\",\"\",'Résultats élèves'!I9)","v":""},{"$f":"IF(OR('Résultats élèves'!I9<$J$4,'Résultats élèves'!I9=\"A\"),'Groupes besoin'!A17,\"\")","v":""},{"$f":"IF(AH17=\"\",\"\",'Résultats élèves'!I9)","v":""},null,{"$f":"IF(OR('Résultats élèves'!J9<$J$3,'Résultats élèves'!J9=\"A\"),'Groupes besoin'!A17,\"\")","v":""},{"$f":"IF(AK17=\"\",\"\",'Résultats élèves'!J9)","v":""},{"$f":"IF(OR('Résultats élèves'!J9<$J$4,'Résultats élèves'!J9=\"A\"),'Groupes besoin'!A17,\"\")","v":""},{"$f":"IF(AM17=\"\",\"\",'Résultats élèves'!J9)","v":""},null,{"$f":"IF(OR('Résultats élèves'!K9<$J$3,'Résultats élèves'!K9=\"A\"),'Groupes besoin'!A17,\"\")","v":""},{"$f":"IF(AP17=\"\",\"\",'Résultats élèves'!K9)","v":""},{"$f":"IF(OR('Résultats élèves'!K9<$J$4,'Résultats élèves'!K9=\"A\"),'Groupes besoin'!A17,\"\")","v":""},{"$f":"IF(AR17=\"\",\"\",'Résultats élèves'!K9)","v":""},null,{"$f":"IF(OR('Résultats élèves'!L9<$J$3,'Résultats élèves'!L9=\"A\"),'Groupes besoin'!A17,\"\")","v":""},{"$f":"IF(AU17=\"\",\"\",'Résultats élèves'!L9)","v":""},{"$f":"IF(OR('Résultats élèves'!L9<$J$4,'Résultats élèves'!L9=\"A\"),'Groupes besoin'!A17,\"\")","v":""},{"$f":"IF(AW17=\"\",\"\",'Résultats élèves'!L9)","v":""},null,{"$f":"IF(OR('Résultats élèves'!M9<$J$3,'Résultats élèves'!M9=\"A\"),'Groupes besoin'!A17,\"\")","v":""},{"$f":"IF(AZ17=\"\",\"\",'Résultats élèves'!M9)","v":""},{"$f":"IF(OR('Résultats élèves'!M9<$J$4,'Résultats élèves'!M9=\"A\"),'Groupes besoin'!A17,\"\")","v":""},{"$f":"IF(BB17=\"\",\"\",'Résultats élèves'!M9)","v":""}]
[{"$f":"IF(Accueil!F19=\"\",\"\",Accueil!F19)","v":""},{"$f":"IF(OR('Résultats élèves'!D10<$J$3,'Résultats élèves'!D10=\"A\"),'Groupes besoin'!A18,\"\")","v":""},{"$f":"IF(B18=\"\",\"\",'Résultats élèves'!D10)","v":""},{"$f":"IF(OR('Résultats élèves'!D10<$J$4,'Résultats élèves'!D10=\"A\"),'Groupes besoin'!A18,\"\")","v":""},{"$f":"IF(D18=\"\",\"\",'Résultats élèves'!D10)","v":""},null,{"$f":"IF(OR('Résultats élèves'!E10<$J$3,'Résultats élèves'!E10=\"A\"),'Groupes besoin'!A18,\"\")","v":""},{"$f":"IF(G18=\"\",\"\",'Résultats élèves'!E10)","v":""},{"$f":"IF(OR('Résultats élèves'!E10<$J$4,'Résultats élèves'!E10=\"A\"),'Groupes besoin'!A18,\"\")","v":""},{"$f":"IF(I18=\"\",\"\",'Résultats élèves'!E10)","v":""},null,{"$f":"IF(OR('Résultats élèves'!F10<$J$3,'Résultats élèves'!F10=\"A\"),'Groupes besoin'!A18,\"\")","v":""},{"$f":"IF(L18=\"\",\"\",'Résultats élèves'!F10)","v":""},{"$f":"IF(OR('Résultats élèves'!F10<$J$4,'Résultats élèves'!F10=\"A\"),'Groupes besoin'!A18,\"\")","v":""},{"$f":"IF(N18=\"\",\"\",'Résultats élèves'!F10)","v":""},null,{"$f":"IF(OR('Résultats élèves'!G10<$J$3,'Résultats élèves'!G10=\"A\"),'Groupes besoin'!A18,\"\")","v":""},{"$f":"IF(Q18=\"\",\"\",'Résultats élèves'!G10)","v":""},{"$f":"IF(OR('Résultats élèves'!G10<$J$4,'Résultats élèves'!G10=\"A\"),'Groupes besoin'!A18,\"\")","v":""},{"$f":"IF(S18=\"\",\"\",'Résultats élèves'!G10)","v":""},null,{"$f":"IF(OR('Résultats élèves'!H10<$J$3,'Résultats élèves'!H10=\"A\"),'Groupes besoin'!A18,\"\")","v":""},{"$f":"IF(V18=\"\",\"\",'Résultats élèves'!H10)","v":""},{"$f":"IF(OR('Résultats élèves'!H10<$J$4,'Résultats élèves'!H10=\"A\"),'Groupes besoin'!A18,\"\")","v":""},{"$f":"IF(X18=\"\",\"\",'Résultats élèves'!H10)","v":""},null,24,20,{"$f":"IF(AA18<$AA$9,#REF!,\"\")","v":""},null,null,{"$f":"IF(OR('Résultats élèves'!I10<$J$3,'Résultats élèves'!I10=\"A\"),'Groupes besoin'!A18,\"\")","v":""},{"$f":"IF(AF18=\"\",\"\",'Résultats élèves'!I10)","v":""},{"$f":"IF(OR('Résultats élèves'!I10<$J$4,'Résultats élèves'!I10=\"A\"),'Groupes besoin'!A18,\"\")","v":""},{"$f":"IF(AH18=\"\",\"\",'Résultats élèves'!I10)","v":""},null,{"$f":"IF(OR('Résultats élèves'!J10<$J$3,'Résultats élèves'!J10=\"A\"),'Groupes besoin'!A18,\"\")","v":""},{"$f":"IF(AK18=\"\",\"\",'Résultats élèves'!J10)","v":""},{"$f":"IF(OR('Résultats élèves'!J10<$J$4,'Résultats élèves'!J10=\"A\"),'Groupes besoin'!A18,\"\")","v":""},{"$f":"IF(AM18=\"\",\"\",'Résultats élèves'!J10)","v":""},null,{"$f":"IF(OR('Résultats élèves'!K10<$J$3,'Résultats élèves'!K10=\"A\"),'Groupes besoin'!A18,\"\")","v":""},{"$f":"IF(AP18=\"\",\"\",'Résultats élèves'!K10)","v":""},{"$f":"IF(OR('Résultats élèves'!K10<$J$4,'Résultats élèves'!K10=\"A\"),'Groupes besoin'!A18,\"\")","v":""},{"$f":"IF(AR18=\"\",\"\",'Résultats élèves'!K10)","v":""},null,{"$f":"IF(OR('Résultats élèves'!L10<$J$3,'Résultats élèves'!L10=\"A\"),'Groupes besoin'!A18,\"\")","v":""},{"$f":"IF(AU18=\"\",\"\",'Résultats élèves'!L10)","v":""},{"$f":"IF(OR('Résultats élèves'!L10<$J$4,'Résultats élèves'!L10=\"A\"),'Groupes besoin'!A18,\"\")","v":""},{"$f":"IF(AW18=\"\",\"\",'Résultats élèves'!L10)","v":""},null,{"$f":"IF(OR('Résultats élèves'!M10<$J$3,'Résultats élèves'!M10=\"A\"),'Groupes besoin'!A18,\"\")","v":""},{"$f":"IF(AZ18=\"\",\"\",'Résultats élèves'!M10)","v":""},{"$f":"IF(OR('Résultats élèves'!M10<$J$4,'Résultats élèves'!M10=\"A\"),'Groupes besoin'!A18,\"\")","v":""},{"$f":"IF(BB18=\"\",\"\",'Résultats élèves'!M10)","v":""}]
[{"$f":"IF(Accueil!F20=\"\",\"\",Accueil!F20)","v":""},{"$f":"IF(OR('Résultats élèves'!D11<$J$3,'Résultats élèves'!D11=\"A\"),'Groupes besoin'!A19,\"\")","v":""},{"$f":"IF(B19=\"\",\"\",'Résultats élèves'!D11)","v":""},{"$f":"IF(OR('Résultats élèves'!D11<$J$4,'Résultats élèves'!D11=\"A\"),'Groupes besoin'!A19,\"\")","v":""},{"$f":"IF(D19=\"\",\"\",'Résultats élèves'!D11)","v":""},null,{"$f":"IF(OR('Résultats élèves'!E11<$J$3,'Résultats élèves'!E11=\"A\"),'Groupes besoin'!A19,\"\")","v":""},{"$f":"IF(G19=\"\",\"\",'Résultats élèves'!E11)","v":""},{"$f":"IF(OR('Résultats élèves'!E11<$J$4,'Résultats élèves'!E11=\"A\"),'Groupes besoin'!A19,\"\")","v":""},{"$f":"IF(I19=\"\",\"\",'Résultats élèves'!E11)","v":""},null,{"$f":"IF(OR('Résultats élèves'!F11<$J$3,'Résultats élèves'!F11=\"A\"),'Groupes besoin'!A19,\"\")","v":""},{"$f":"IF(L19=\"\",\"\",'Résultats élèves'!F11)","v":""},{"$f":"IF(OR('Résultats élèves'!F11<$J$4,'Résultats élèves'!F11=\"A\"),'Groupes besoin'!A19,\"\")","v":""},{"$f":"IF(N19=\"\",\"\",'Résultats élèves'!F11)","v":""},null,{"$f":"IF(OR('Résultats élèves'!G11<$J$3,'Résultats élèves'!G11=\"A\"),'Groupes besoin'!A19,\"\")","v":""},{"$f":"IF(Q19=\"\",\"\",'Résultats élèves'!G11)","v":""},{"$f":"IF(OR('Résultats élèves'!G11<$J$4,'Résultats élèves'!G11=\"A\"),'Groupes besoin'!A19,\"\")","v":""},{"$f":"IF(S19=\"\",\"\",'Résultats élèves'!G11)","v":""},null,{"$f":"IF(OR('Résultats élèves'!H11<$J$3,'Résultats élèves'!H11=\"A\"),'Groupes besoin'!A19,\"\")","v":""},{"$f":"IF(V19=\"\",\"\",'Résultats élèves'!H11)","v":""},{"$f":"IF(OR('Résultats élèves'!H11<$J$4,'Résultats élèves'!H11=\"A\"),'Groupes besoin'!A19,\"\")","v":""},{"$f":"IF(X19=\"\",\"\",'Résultats élèves'!H11)","v":""},null,24,20,{"$f":"IF(AA19<$AA$9,#REF!,\"\")","v":""},null,null,{"$f":"IF(OR('Résultats élèves'!I11<$J$3,'Résultats élèves'!I11=\"A\"),'Groupes besoin'!A19,\"\")","v":""},{"$f":"IF(AF19=\"\",\"\",'Résultats élèves'!I11)","v":""},{"$f":"IF(OR('Résultats élèves'!I11<$J$4,'Résultats élèves'!I11=\"A\"),'Groupes besoin'!A19,\"\")","v":""},{"$f":"IF(AH19=\"\",\"\",'Résultats élèves'!I11)","v":""},null,{"$f":"IF(OR('Résultats élèves'!J11<$J$3,'Résultats élèves'!J11=\"A\"),'Groupes besoin'!A19,\"\")","v":""},{"$f":"IF(AK19=\"\",\"\",'Résultats élèves'!J11)","v":""},{"$f":"IF(OR('Résultats élèves'!J11<$J$4,'Résultats élèves'!J11=\"A\"),'Groupes besoin'!A19,\"\")","v":""},{"$f":"IF(AM19=\"\",\"\",'Résultats élèves'!J11)","v":""},null,{"$f":"IF(OR('Résultats élèves'!K11<$J$3,'Résultats élèves'!K11=\"A\"),'Groupes besoin'!A19,\"\")","v":""},{"$f":"IF(AP19=\"\",\"\",'Résultats élèves'!K11)","v":""},{"$f":"IF(OR('Résultats élèves'!K11<$J$4,'Résultats élèves'!K11=\"A\"),'Groupes besoin'!A19,\"\")","v":""},{"$f":"IF(AR19=\"\",\"\",'Résultats élèves'!K11)","v":""},null,{"$f":"IF(OR('Résultats élèves'!L11<$J$3,'Résultats élèves'!L11=\"A\"),'Groupes besoin'!A19,\"\")","v":""},{"$f":"IF(AU19=\"\",\"\",'Résultats élèves'!L11)","v":""},{"$f":"IF(OR('Résultats élèves'!L11<$J$4,'Résultats élèves'!L11=\"A\"),'Groupes besoin'!A19,\"\")","v":""},{"$f":"IF(AW19=\"\",\"\",'Résultats élèves'!L11)","v":""},null,{"$f":"IF(OR('Résultats élèves'!M11<$J$3,'Résultats élèves'!M11=\"A\"),'Groupes besoin'!A19,\"\")","v":""},{"$f":"IF(AZ19=\"\",\"\",'Résultats élèves'!M11)","v":""},{"$f":"IF(OR('Résultats élèves'!M11<$J$4,'Résultats élèves'!M11=\"A\"),'Groupes besoin'!A19,\"\")","v":""},{"$f":"IF(BB19=\"\",\"\",'Résultats élèves'!M11)","v":""}]
[{"$f":"IF(Accueil!F21=\"\",\"\",Accueil!F21)","v":""},{"$f":"IF(OR('Résultats élèves'!D12<$J$3,'Résultats élèves'!D12=\"A\"),'Groupes besoin'!A20,\"\")","v":""},{"$f":"IF(B20=\"\",\"\",'Résultats élèves'!D12)","v":""},{"$f":"IF(OR('Résultats élèves'!D12<$J$4,'Résultats élèves'!D12=\"A\"),'Groupes besoin'!A20,\"\")","v":""},{"$f":"IF(D20=\"\",\"\",'Résultats élèves'!D12)","v":""},null,{"$f":"IF(OR('Résultats élèves'!E12<$J$3,'Résultats élèves'!E12=\"A\"),'Groupes besoin'!A20,\"\")","v":""},{"$f":"IF(G20=\"\",\"\",'Résultats élèves'!E12)","v":""},{"$f":"IF(OR('Résultats élèves'!E12<$J$4,'Résultats élèves'!E12=\"A\"),'Groupes besoin'!A20,\"\")","v":""},{"$f":"IF(I20=\"\",\"\",'Résultats élèves'!E12)","v":""},null,{"$f":"IF(OR('Résultats élèves'!F12<$J$3,'Résultats élèves'!F12=\"A\"),'Groupes besoin'!A20,\"\")","v":""},{"$f":"IF(L20=\"\",\"\",'Résultats élèves'!F12)","v":""},{"$f":"IF(OR('Résultats élèves'!F12<$J$4,'Résultats élèves'!F12=\"A\"),'Groupes besoin'!A20,\"\")","v":""},{"$f":"IF(N20=\"\",\"\",'Résultats élèves'!F12)","v":""},null,{"$f":"IF(OR('Résultats élèves'!G12<$J$3,'Résultats élèves'!G12=\"A\"),'Groupes besoin'!A20,\"\")","v":""},{"$f":"IF(Q20=\"\",\"\",'Résultats élèves'!G12)","v":""},{"$f":"IF(OR('Résultats élèves'!G12<$J$4,'Résultats élèves'!G12=\"A\"),'Groupes besoin'!A20,\"\")","v":""},{"$f":"IF(S20=\"\",\"\",'Résultats élèves'!G12)","v":""},null,{"$f":"IF(OR('Résultats élèves'!H12<$J$3,'Résultats élèves'!H12=\"A\"),'Groupes besoin'!A20,\"\")","v":""},{"$f":"IF(V20=\"\",\"\",'Résultats élèves'!H12)","v":""},{"$f":"IF(OR('Résultats élèves'!H12<$J$4,'Résultats élèves'!H12=\"A\"),'Groupes besoin'!A20,\"\")","v":""},{"$f":"IF(X20=\"\",\"\",'Résultats élèves'!H12)","v":""},null,24,20,{"$f":"IF(AA20<$AA$9,#REF!,\"\")","v":""},null,null,{"$f":"IF(OR('Résultats élèves'!I12<$J$3,'Résultats élèves'!I12=\"A\"),'Groupes besoin'!A20,\"\")","v":""},{"$f":"IF(AF20=\"\",\"\",'Résultats élèves'!I12)","v":""},{"$f":"IF(OR('Résultats élèves'!I12<$J$4,'Résultats élèves'!I12=\"A\"),'Groupes besoin'!A20,\"\")","v":""},{"$f":"IF(AH20=\"\",\"\",'Résultats élèves'!I12)","v":""},null,{"$f":"IF(OR('Résultats élèves'!J12<$J$3,'Résultats élèves'!J12=\"A\"),'Groupes besoin'!A20,\"\")","v":""},{"$f":"IF(AK20=\"\",\"\",'Résultats élèves'!J12)","v":""},{"$f":"IF(OR('Résultats élèves'!J12<$J$4,'Résultats élèves'!J12=\"A\"),'Groupes besoin'!A20,\"\")","v":""},{"$f":"IF(AM20=\"\",\"\",'Résultats élèves'!J12)","v":""},null,{"$f":"IF(OR('Résultats élèves'!K12<$J$3,'Résultats élèves'!K12=\"A\"),'Groupes besoin'!A20,\"\")","v":""},{"$f":"IF(AP20=\"\",\"\",'Résultats élèves'!K12)","v":""},{"$f":"IF(OR('Résultats élèves'!K12<$J$4,'Résultats élèves'!K12=\"A\"),'Groupes besoin'!A20,\"\")","v":""},{"$f":"IF(AR20=\"\",\"\",'Résultats élèves'!K12)","v":""},null,{"$f":"IF(OR('Résultats élèves'!L12<$J$3,'Résultats élèves'!L12=\"A\"),'Groupes besoin'!A20,\"\")","v":""},{"$f":"IF(AU20=\"\",\"\",'Résultats élèves'!L12)","v":""},{"$f":"IF(OR('Résultats élèves'!L12<$J$4,'Résultats élèves'!L12=\"A\"),'Groupes besoin'!A20,\"\")","v":""},{"$f":"IF(AW20=\"\",\"\",'Résultats élèves'!L12)","v":""},null,{"$f":"IF(OR('Résultats élèves'!M12<$J$3,'Résultats élèves'!M12=\"A\"),'Groupes besoin'!A20,\"\")","v":""},{"$f":"IF(AZ20=\"\",\"\",'Résultats élèves'!M12)","v":""},{"$f":"IF(OR('Résultats élèves'!M12<$J$4,'Résultats élèves'!M12=\"A\"),'Groupes besoin'!A20,\"\")","v":""},{"$f":"IF(BB20=\"\",\"\",'Résultats élèves'!M12)","v":""}]
[{"$f":"IF(Accueil!F22=\"\",\"\",Accueil!F22)","v":""},{"$f":"IF(OR('Résultats élèves'!D13<$J$3,'Résultats élèves'!D13=\"A\"),'Groupes besoin'!A21,\"\")","v":""},{"$f":"IF(B21=\"\",\"\",'Résultats élèves'!D13)","v":""},{"$f":"IF(OR('Résultats élèves'!D13<$J$4,'Résultats élèves'!D13=\"A\"),'Groupes besoin'!A21,\"\")","v":""},{"$f":"IF(D21=\"\",\"\",'Résultats élèves'!D13)","v":""},null,{"$f":"IF(OR('Résultats élèves'!E13<$J$3,'Résultats élèves'!E13=\"A\"),'Groupes besoin'!A21,\"\")","v":""},{"$f":"IF(G21=\"\",\"\",'Résultats élèves'!E13)","v":""},{"$f":"IF(OR('Résultats élèves'!E13<$J$4,'Résultats élèves'!E13=\"A\"),'Groupes besoin'!A21,\"\")","v":""},{"$f":"IF(I21=\"\",\"\",'Résultats élèves'!E13)","v":""},null,{"$f":"IF(OR('Résultats élèves'!F13<$J$3,'Résultats élèves'!F13=\"A\"),'Groupes besoin'!A21,\"\")","v":""},{"$f":"IF(L21=\"\",\"\",'Résultats élèves'!F13)","v":""},{"$f":"IF(OR('Résultats élèves'!F13<$J$4,'Résultats élèves'!F13=\"A\"),'Groupes besoin'!A21,\"\")","v":""},{"$f":"IF(N21=\"\",\"\",'Résultats élèves'!F13)","v":""},null,{"$f":"IF(OR('Résultats élèves'!G13<$J$3,'Résultats élèves'!G13=\"A\"),'Groupes besoin'!A21,\"\")","v":""},{"$f":"IF(Q21=\"\",\"\",'Résultats élèves'!G13)","v":""},{"$f":"IF(OR('Résultats élèves'!G13<$J$4,'Résultats élèves'!G13=\"A\"),'Groupes besoin'!A21,\"\")","v":""},{"$f":"IF(S21=\"\",\"\",'Résultats élèves'!G13)","v":""},null,{"$f":"IF(OR('Résultats élèves'!H13<$J$3,'Résultats élèves'!H13=\"A\"),'Groupes besoin'!A21,\"\")","v":""},{"$f":"IF(V21=\"\",\"\",'Résultats élèves'!H13)","v":""},{"$f":"IF(OR('Résultats élèves'!H13<$J$4,'Résultats élèves'!H13=\"A\"),'Groupes besoin'!A21,\"\")","v":""},{"$f":"IF(X21=\"\",\"\",'Résultats élèves'!H13)","v":""},null,24,20,{"$f":"IF(AA21<$AA$9,#REF!,\"\")","v":""},null,null,{"$f":"IF(OR('Résultats élèves'!I13<$J$3,'Résultats élèves'!I13=\"A\"),'Groupes besoin'!A21,\"\")","v":""},{"$f":"IF(AF21=\"\",\"\",'Résultats élèves'!I13)","v":""},{"$f":"IF(OR('Résultats élèves'!I13<$J$4,'Résultats élèves'!I13=\"A\"),'Groupes besoin'!A21,\"\")","v":""},{"$f":"IF(AH21=\"\",\"\",'Résultats élèves'!I13)","v":""},null,{"$f":"IF(OR('Résultats élèves'!J13<$J$3,'Résultats élèves'!J13=\"A\"),'Groupes besoin'!A21,\"\")","v":""},{"$f":"IF(AK21=\"\",\"\",'Résultats élèves'!J13)","v":""},{"$f":"IF(OR('Résultats élèves'!J13<$J$4,'Résultats élèves'!J13=\"A\"),'Groupes besoin'!A21,\"\")","v":""},{"$f":"IF(AM21=\"\",\"\",'Résultats élèves'!J13)","v":""},null,{"$f":"IF(OR('Résultats élèves'!K13<$J$3,'Résultats élèves'!K13=\"A\"),'Groupes besoin'!A21,\"\")","v":""},{"$f":"IF(AP21=\"\",\"\",'Résultats élèves'!K13)","v":""},{"$f":"IF(OR('Résultats élèves'!K13<$J$4,'Résultats élèves'!K13=\"A\"),'Groupes besoin'!A21,\"\")","v":""},{"$f":"IF(AR21=\"\",\"\",'Résultats élèves'!K13)","v":""},null,{"$f":"IF(OR('Résultats élèves'!L13<$J$3,'Résultats élèves'!L13=\"A\"),'Groupes besoin'!A21,\"\")","v":""},{"$f":"IF(AU21=\"\",\"\",'Résultats élèves'!L13)","v":""},{"$f":"IF(OR('Résultats élèves'!L13<$J$4,'Résultats élèves'!L13=\"A\"),'Groupes besoin'!A21,\"\")","v":""},{"$f":"IF(AW21=\"\",\"\",'Résultats élèves'!L13)","v":""},null,{"$f":"IF(OR('Résultats élèves'!M13<$J$3,'Résultats élèves'!M13=\"A\"),'Groupes besoin'!A21,\"\")","v":""},{"$f":"IF(AZ21=\"\",\"\",'Résultats élèves'!M13)","v":""},{"$f":"IF(OR('Résultats élèves'!M13<$J$4,'Résultats élèves'!M13=\"A\"),'Groupes besoin'!A21,\"\")","v":""},{"$f":"IF(BB21=\"\",\"\",'Résultats élèves'!M13)","v":""}]
[{"$f":"IF(Accueil!F23=\"\",\"\",Accueil!F23)","v":""},{"$f":"IF(OR('Résultats élèves'!D14<$J$3,'Résultats élèves'!D14=\"A\"),'Groupes besoin'!A22,\"\")","v":""},{"$f":"IF(B22=\"\",\"\",'Résultats élèves'!D14)","v":""},{"$f":"IF(OR('Résultats élèves'!D14<$J$4,'Résultats élèves'!D14=\"A\"),'Groupes besoin'!A22,\"\")","v":""},{"$f":"IF(D22=\"\",\"\",'Résultats élèves'!D14)","v":""},null,{"$f":"IF(OR('Résultats élèves'!E14<$J$3,'Résultats élèves'!E14=\"A\"),'Groupes besoin'!A22,\"\")","v":""},{"$f":"IF(G22=\"\",\"\",'Résultats élèves'!E14)","v":""},{"$f":"IF(OR('Résultats élèves'!E14<$J$4,'Résultats élèves'!E14=\"A\"),'Groupes besoin'!A22,\"\")","v":""},{"$f":"IF(I22=\"\",\"\",'Résultats élèves'!E14)","v":""},null,{"$f":"IF(OR('Résultats élèves'!F14<$J$3,'Résultats élèves'!F14=\"A\"),'Groupes besoin'!A22,\"\")","v":""},{"$f":"IF(L22=\"\",\"\",'Résultats élèves'!F14)","v":""},{"$f":"IF(OR('Résultats élèves'!F14<$J$4,'Résultats élèves'!F14=\"A\"),'Groupes besoin'!A22,\"\")","v":""},{"$f":"IF(N22=\"\",\"\",'Résultats élèves'!F14)","v":""},null,{"$f":"IF(OR('Résultats élèves'!G14<$J$3,'Résultats élèves'!G14=\"A\"),'Groupes besoin'!A22,\"\")","v":""},{"$f":"IF(Q22=\"\",\"\",'Résultats élèves'!G14)","v":""},{"$f":"IF(OR('Résultats élèves'!G14<$J$4,'Résultats élèves'!G14=\"A\"),'Groupes besoin'!A22,\"\")","v":""},{"$f":"IF(S22=\"\",\"\",'Résultats élèves'!G14)","v":""},null,{"$f":"IF(OR('Résultats élèves'!H14<$J$3,'Résultats élèves'!H14=\"A\"),'Groupes besoin'!A22,\"\")","v":""},{"$f":"IF(V22=\"\",\"\",'Résultats élèves'!H14)","v":""},{"$f":"IF(OR('Résultats élèves'!H14<$J$4,'Résultats élèves'!H14=\"A\"),'Groupes besoin'!A22,\"\")","v":""},{"$f":"IF(X22=\"\",\"\",'Résultats élèves'!H14)","v":""},null,24,20,{"$f":"IF(AA22<$AA$9,#REF!,\"\")","v":""},null,null,{"$f":"IF(OR('Résultats élèves'!I14<$J$3,'Résultats élèves'!I14=\"A\"),'Groupes besoin'!A22,\"\")","v":""},{"$f":"IF(AF22=\"\",\"\",'Résultats élèves'!I14)","v":""},{"$f":"IF(OR('Résultats élèves'!I14<$J$4,'Résultats élèves'!I14=\"A\"),'Groupes besoin'!A22,\"\")","v":""},{"$f":"IF(AH22=\"\",\"\",'Résultats élèves'!I14)","v":""},null,{"$f":"IF(OR('Résultats élèves'!J14<$J$3,'Résultats élèves'!J14=\"A\"),'Groupes besoin'!A22,\"\")","v":""},{"$f":"IF(AK22=\"\",\"\",'Résultats élèves'!J14)","v":""},{"$f":"IF(OR('Résultats élèves'!J14<$J$4,'Résultats élèves'!J14=\"A\"),'Groupes besoin'!A22,\"\")","v":""},{"$f":"IF(AM22=\"\",\"\",'Résultats élèves'!J14)","v":""},null,{"$f":"IF(OR('Résultats élèves'!K14<$J$3,'Résultats élèves'!K14=\"A\"),'Groupes besoin'!A22,\"\")","v":""},{"$f":"IF(AP22=\"\",\"\",'Résultats élèves'!K14)","v":""},{"$f":"IF(OR('Résultats élèves'!K14<$J$4,'Résultats élèves'!K14=\"A\"),'Groupes besoin'!A22,\"\")","v":""},{"$f":"IF(AR22=\"\",\"\",'Résultats élèves'!K14)","v":""},null,{"$f":"IF(OR('Résultats élèves'!L14<$J$3,'Résultats élèves'!L14=\"A\"),'Groupes besoin'!A22,\"\")","v":""},{"$f":"IF(AU22=\"\",\"\",'Résultats élèves'!L14)","v":""},{"$f":"IF(OR('Résultats élèves'!L14<$J$4,'Résultats élèves'!L14=\"A\"),'Groupes besoin'!A22,\"\")","v":""},{"$f":"IF(AW22=\"\",\"\",'Résultats élèves'!L14)","v":""},null,{"$f":"IF(OR('Résultats élèves'!M14<$J$3,'Résultats élèves'!M14=\"A\"),'Groupes besoin'!A22,\"\")","v":""},{"$f":"IF(AZ22=\"\",\"\",'Résultats élèves'!M14)","v":""},{"$f":"IF(OR('Résultats élèves'!M14<$J$4,'Résultats élèves'!M14=\"A\"),'Groupes besoin'!A22,\"\")","v":""},{"$f":"IF(BB22=\"\",\"\",'Résultats élèves'!M14)","v":""}]
[{"$f":"IF(Accueil!F24=\"\",\"\",Accueil!F24)","v":""},{"$f":"IF(OR('Résultats élèves'!D15<$J$3,'Résultats élèves'!D15=\"A\"),'Groupes besoin'!A23,\"\")","v":""},{"$f":"IF(B23=\"\",\"\",'Résultats élèves'!D15)","v":""},{"$f":"IF(OR('Résultats élèves'!D15<$J$4,'Résultats élèves'!D15=\"A\"),'Groupes besoin'!A23,\"\")","v":""},{"$f":"IF(D23=\"\",\"\",'Résultats élèves'!D15)","v":""},null,{"$f":"IF(OR('Résultats élèves'!E15<$J$3,'Résultats élèves'!E15=\"A\"),'Groupes besoin'!A23,\"\")","v":""},{"$f":"IF(G23=\"\",\"\",'Résultats élèves'!E15)","v":""},{"$f":"IF(OR('Résultats élèves'!E15<$J$4,'Résultats élèves'!E15=\"A\"),'Groupes besoin'!A23,\"\")","v":""},{"$f":"IF(I23=\"\",\"\",'Résultats élèves'!E15)","v":""},null,{"$f":"IF(OR('Résultats élèves'!F15<$J$3,'Résultats élèves'!F15=\"A\"),'Groupes besoin'!A23,\"\")","v":""},{"$f":"IF(L23=\"\",\"\",'Résultats élèves'!F15)","v":""},{"$f":"IF(OR('Résultats élèves'!F15<$J$4,'Résultats élèves'!F15=\"A\"),'Groupes besoin'!A23,\"\")","v":""},{"$f":"IF(N23=\"\",\"\",'Résultats élèves'!F15)","v":""},null,{"$f":"IF(OR('Résultats élèves'!G15<$J$3,'Résultats élèves'!G15=\"A\"),'Groupes besoin'!A23,\"\")","v":""},{"$f":"IF(Q23=\"\",\"\",'Résultats élèves'!G15)","v":""},{"$f":"IF(OR('Résultats élèves'!G15<$J$4,'Résultats élèves'!G15=\"A\"),'Groupes besoin'!A23,\"\")","v":""},{"$f":"IF(S23=\"\",\"\",'Résultats élèves'!G15)","v":""},null,{"$f":"IF(OR('Résultats élèves'!H15<$J$3,'Résultats élèves'!H15=\"A\"),'Groupes besoin'!A23,\"\")","v":""},{"$f":"IF(V23=\"\",\"\",'Résultats élèves'!H15)","v":""},{"$f":"IF(OR('Résultats élèves'!H15<$J$4,'Résultats élèves'!H15=\"A\"),'Groupes besoin'!A23,\"\")","v":""},{"$f":"IF(X23=\"\",\"\",'Résultats élèves'!H15)","v":""},null,24,20,{"$f":"IF(AA23<$AA$9,#REF!,\"\")","v":""},null,null,{"$f":"IF(OR('Résultats élèves'!I15<$J$3,'Résultats élèves'!I15=\"A\"),'Groupes besoin'!A23,\"\")","v":""},{"$f":"IF(AF23=\"\",\"\",'Résultats élèves'!I15)","v":""},{"$f":"IF(OR('Résultats élèves'!I15<$J$4,'Résultats élèves'!I15=\"A\"),'Groupes besoin'!A23,\"\")","v":""},{"$f":"IF(AH23=\"\",\"\",'Résultats élèves'!I15)","v":""},null,{"$f":"IF(OR('Résultats élèves'!J15<$J$3,'Résultats élèves'!J15=\"A\"),'Groupes besoin'!A23,\"\")","v":""},{"$f":"IF(AK23=\"\",\"\",'Résultats élèves'!J15)","v":""},{"$f":"IF(OR('Résultats élèves'!J15<$J$4,'Résultats élèves'!J15=\"A\"),'Groupes besoin'!A23,\"\")","v":""},{"$f":"IF(AM23=\"\",\"\",'Résultats élèves'!J15)","v":""},null,{"$f":"IF(OR('Résultats élèves'!K15<$J$3,'Résultats élèves'!K15=\"A\"),'Groupes besoin'!A23,\"\")","v":""},{"$f":"IF(AP23=\"\",\"\",'Résultats élèves'!K15)","v":""},{"$f":"IF(OR('Résultats élèves'!K15<$J$4,'Résultats élèves'!K15=\"A\"),'Groupes besoin'!A23,\"\")","v":""},{"$f":"IF(AR23=\"\",\"\",'Résultats élèves'!K15)","v":""},null,{"$f":"IF(OR('Résultats élèves'!L15<$J$3,'Résultats élèves'!L15=\"A\"),'Groupes besoin'!A23,\"\")","v":""},{"$f":"IF(AU23=\"\",\"\",'Résultats élèves'!L15)","v":""},{"$f":"IF(OR('Résultats élèves'!L15<$J$4,'Résultats élèves'!L15=\"A\"),'Groupes besoin'!A23,\"\")","v":""},{"$f":"IF(AW23=\"\",\"\",'Résultats élèves'!L15)","v":""},null,{"$f":"IF(OR('Résultats élèves'!M15<$J$3,'Résultats élèves'!M15=\"A\"),'Groupes besoin'!A23,\"\")","v":""},{"$f":"IF(AZ23=\"\",\"\",'Résultats élèves'!M15)","v":""},{"$f":"IF(OR('Résultats élèves'!M15<$J$4,'Résultats élèves'!M15=\"A\"),'Groupes besoin'!A23,\"\")","v":""},{"$f":"IF(BB23=\"\",\"\",'Résultats élèves'!M15)","v":""}]
[{"$f":"IF(Accueil!F25=\"\",\"\",Accueil!F25)","v":""},{"$f":"IF(OR('Résultats élèves'!D16<$J$3,'Résultats élèves'!D16=\"A\"),'Groupes besoin'!A24,\"\")","v":""},{"$f":"IF(B24=\"\",\"\",'Résultats élèves'!D16)","v":""},{"$f":"IF(OR('Résultats élèves'!D16<$J$4,'Résultats élèves'!D16=\"A\"),'Groupes besoin'!A24,\"\")","v":""},{"$f":"IF(D24=\"\",\"\",'Résultats élèves'!D16)","v":""},null,{"$f":"IF(OR('Résultats élèves'!E16<$J$3,'Résultats élèves'!E16=\"A\"),'Groupes besoin'!A24,\"\")","v":""},{"$f":"IF(G24=\"\",\"\",'Résultats élèves'!E16)","v":""},{"$f":"IF(OR('Résultats élèves'!E16<$J$4,'Résultats élèves'!E16=\"A\"),'Groupes besoin'!A24,\"\")","v":""},{"$f":"IF(I24=\"\",\"\",'Résultats élèves'!E16)","v":""},null,{"$f":"IF(OR('Résultats élèves'!F16<$J$3,'Résultats élèves'!F16=\"A\"),'Groupes besoin'!A24,\"\")","v":""},{"$f":"IF(L24=\"\",\"\",'Résultats élèves'!F16)","v":""},{"$f":"IF(OR('Résultats élèves'!F16<$J$4,'Résultats élèves'!F16=\"A\"),'Groupes besoin'!A24,\"\")","v":""},{"$f":"IF(N24=\"\",\"\",'Résultats élèves'!F16)","v":""},null,{"$f":"IF(OR('Résultats élèves'!G16<$J$3,'Résultats élèves'!G16=\"A\"),'Groupes besoin'!A24,\"\")","v":""},{"$f":"IF(Q24=\"\",\"\",'Résultats élèves'!G16)","v":""},{"$f":"IF(OR('Résultats élèves'!G16<$J$4,'Résultats élèves'!G16=\"A\"),'Groupes besoin'!A24,\"\")","v":""},{"$f":"IF(S24=\"\",\"\",'Résultats élèves'!G16)","v":""},null,{"$f":"IF(OR('Résultats élèves'!H16<$J$3,'Résultats élèves'!H16=\"A\"),'Groupes besoin'!A24,\"\")","v":""},{"$f":"IF(V24=\"\",\"\",'Résultats élèves'!H16)","v":""},{"$f":"IF(OR('Résultats élèves'!H16<$J$4,'Résultats élèves'!H16=\"A\"),'Groupes besoin'!A24,\"\")","v":""},{"$f":"IF(X24=\"\",\"\",'Résultats élèves'!H16)","v":""},null,24,20,{"$f":"IF(AA24<$AA$9,#REF!,\"\")","v":""},null,null,{"$f":"IF(OR('Résultats élèves'!I16<$J$3,'Résultats élèves'!I16=\"A\"),'Groupes besoin'!A24,\"\")","v":""},{"$f":"IF(AF24=\"\",\"\",'Résultats élèves'!I16)","v":""},{"$f":"IF(OR('Résultats élèves'!I16<$J$4,'Résultats élèves'!I16=\"A\"),'Groupes besoin'!A24,\"\")","v":""},{"$f":"IF(AH24=\"\",\"\",'Résultats élèves'!I16)","v":""},null,{"$f":"IF(OR('Résultats élèves'!J16<$J$3,'Résultats élèves'!J16=\"A\"),'Groupes besoin'!A24,\"\")","v":""},{"$f":"IF(AK24=\"\",\"\",'Résultats élèves'!J16)","v":""},{"$f":"IF(OR('Résultats élèves'!J16<$J$4,'Résultats élèves'!J16=\"A\"),'Groupes besoin'!A24,\"\")","v":""},{"$f":"IF(AM24=\"\",\"\",'Résultats élèves'!J16)","v":""},null,{"$f":"IF(OR('Résultats élèves'!K16<$J$3,'Résultats élèves'!K16=\"A\"),'Groupes besoin'!A24,\"\")","v":""},{"$f":"IF(AP24=\"\",\"\",'Résultats élèves'!K16)","v":""},{"$f":"IF(OR('Résultats élèves'!K16<$J$4,'Résultats élèves'!K16=\"A\"),'Groupes besoin'!A24,\"\")","v":""},{"$f":"IF(AR24=\"\",\"\",'Résultats élèves'!K16)","v":""},null,{"$f":"IF(OR('Résultats élèves'!L16<$J$3,'Résultats élèves'!L16=\"A\"),'Groupes besoin'!A24,\"\")","v":""},{"$f":"IF(AU24=\"\",\"\",'Résultats élèves'!L16)","v":""},{"$f":"IF(OR('Résultats élèves'!L16<$J$4,'Résultats élèves'!L16=\"A\"),'Groupes besoin'!A24,\"\")","v":""},{"$f":"IF(AW24=\"\",\"\",'Résultats élèves'!L16)","v":""},null,{"$f":"IF(OR('Résultats élèves'!M16<$J$3,'Résultats élèves'!M16=\"A\"),'Groupes besoin'!A24,\"\")","v":""},{"$f":"IF(AZ24=\"\",\"\",'Résultats élèves'!M16)","v":""},{"$f":"IF(OR('Résultats élèves'!M16<$J$4,'Résultats élèves'!M16=\"A\"),'Groupes besoin'!A24,\"\")","v":""},{"$f":"IF(BB24=\"\",\"\",'Résultats élèves'!M16)","v":""}]
[{"$f":"IF(Accueil!F26=\"\",\"\",Accueil!F26)","v":""},{"$f":"IF(OR('Résultats élèves'!D17<$J$3,'Résultats élèves'!D17=\"A\"),'Groupes besoin'!A25,\"\")","v":""},{"$f":"IF(B25=\"\",\"\",'Résultats élèves'!D17)","v":""},{"$f":"IF(OR('Résultats élèves'!D17<$J$4,'Résultats élèves'!D17=\"A\"),'Groupes besoin'!A25,\"\")","v":""},{"$f":"IF(D25=\"\",\"\",'Résultats élèves'!D17)","v":""},null,{"$f":"IF(OR('Résultats élèves'!E17<$J$3,'Résultats élèves'!E17=\"A\"),'Groupes besoin'!A25,\"\")","v":""},{"$f":"IF(G25=\"\",\"\",'Résultats élèves'!E17)","v":""},{"$f":"IF(OR('Résultats élèves'!E17<$J$4,'Résultats élèves'!E17=\"A\"),'Groupes besoin'!A25,\"\")","v":""},{"$f":"IF(I25=\"\",\"\",'Résultats élèves'!E17)","v":""},null,{"$f":"IF(OR('Résultats élèves'!F17<$J$3,'Résultats élèves'!F17=\"A\"),'Groupes besoin'!A25,\"\")","v":""},{"$f":"IF(L25=\"\",\"\",'Résultats élèves'!F17)","v":""},{"$f":"IF(OR('Résultats élèves'!F17<$J$4,'Résultats élèves'!F17=\"A\"),'Groupes besoin'!A25,\"\")","v":""},{"$f":"IF(N25=\"\",\"\",'Résultats élèves'!F17)","v":""},null,{"$f":"IF(OR('Résultats élèves'!G17<$J$3,'Résultats élèves'!G17=\"A\"),'Groupes besoin'!A25,\"\")","v":""},{"$f":"IF(Q25=\"\",\"\",'Résultats élèves'!G17)","v":""},{"$f":"IF(OR('Résultats élèves'!G17<$J$4,'Résultats élèves'!G17=\"A\"),'Groupes besoin'!A25,\"\")","v":""},{"$f":"IF(S25=\"\",\"\",'Résultats élèves'!G17)","v":""},null,{"$f":"IF(OR('Résultats élèves'!H17<$J$3,'Résultats élèves'!H17=\"A\"),'Groupes besoin'!A25,\"\")","v":""},{"$f":"IF(V25=\"\",\"\",'Résultats élèves'!H17)","v":""},{"$f":"IF(OR('Résultats élèves'!H17<$J$4,'Résultats élèves'!H17=\"A\"),'Groupes besoin'!A25,\"\")","v":""},{"$f":"IF(X25=\"\",\"\",'Résultats élèves'!H17)","v":""},null,24,20,{"$f":"IF(AA25<$AA$9,#REF!,\"\")","v":""},null,null,{"$f":"IF(OR('Résultats élèves'!I17<$J$3,'Résultats élèves'!I17=\"A\"),'Groupes besoin'!A25,\"\")","v":""},{"$f":"IF(AF25=\"\",\"\",'Résultats élèves'!I17)","v":""},{"$f":"IF(OR('Résultats élèves'!I17<$J$4,'Résultats élèves'!I17=\"A\"),'Groupes besoin'!A25,\"\")","v":""},{"$f":"IF(AH25=\"\",\"\",'Résultats élèves'!I17)","v":""},null,{"$f":"IF(OR('Résultats élèves'!J17<$J$3,'Résultats élèves'!J17=\"A\"),'Groupes besoin'!A25,\"\")","v":""},{"$f":"IF(AK25=\"\",\"\",'Résultats élèves'!J17)","v":""},{"$f":"IF(OR('Résultats élèves'!J17<$J$4,'Résultats élèves'!J17=\"A\"),'Groupes besoin'!A25,\"\")","v":""},{"$f":"IF(AM25=\"\",\"\",'Résultats élèves'!J17)","v":""},null,{"$f":"IF(OR('Résultats élèves'!K17<$J$3,'Résultats élèves'!K17=\"A\"),'Groupes besoin'!A25,\"\")","v":""},{"$f":"IF(AP25=\"\",\"\",'Résultats élèves'!K17)","v":""},{"$f":"IF(OR('Résultats élèves'!K17<$J$4,'Résultats élèves'!K17=\"A\"),'Groupes besoin'!A25,\"\")","v":""},{"$f":"IF(AR25=\"\",\"\",'Résultats élèves'!K17)","v":""},null,{"$f":"IF(OR('Résultats élèves'!L17<$J$3,'Résultats élèves'!L17=\"A\"),'Groupes besoin'!A25,\"\")","v":""},{"$f":"IF(AU25=\"\",\"\",'Résultats élèves'!L17)","v":""},{"$f":"IF(OR('Résultats élèves'!L17<$J$4,'Résultats élèves'!L17=\"A\"),'Groupes besoin'!A25,\"\")","v":""},{"$f":"IF(AW25=\"\",\"\",'Résultats élèves'!L17)","v":""},null,{"$f":"IF(OR('Résultats élèves'!M17<$J$3,'Résultats élèves'!M17=\"A\"),'Groupes besoin'!A25,\"\")","v":""},{"$f":"IF(AZ25=\"\",\"\",'Résultats élèves'!M17)","v":""},{"$f":"IF(OR('Résultats élèves'!M17<$J$4,'Résultats élèves'!M17=\"A\"),'Groupes besoin'!A25,\"\")","v":""},{"$f":"IF(BB25=\"\",\"\",'Résultats élèves'!M17)","v":""}]
[{"$f":"IF(Accueil!F27=\"\",\"\",Accueil!F27)","v":""},{"$f":"IF(OR('Résultats élèves'!D18<$J$3,'Résultats élèves'!D18=\"A\"),'Groupes besoin'!A26,\"\")","v":""},{"$f":"IF(B26=\"\",\"\",'Résultats élèves'!D18)","v":""},{"$f":"IF(OR('Résultats élèves'!D18<$J$4,'Résultats élèves'!D18=\"A\"),'Groupes besoin'!A26,\"\")","v":""},{"$f":"IF(D26=\"\",\"\",'Résultats élèves'!D18)","v":""},null,{"$f":"IF(OR('Résultats élèves'!E18<$J$3,'Résultats élèves'!E18=\"A\"),'Groupes besoin'!A26,\"\")","v":""},{"$f":"IF(G26=\"\",\"\",'Résultats élèves'!E18)","v":""},{"$f":"IF(OR('Résultats élèves'!E18<$J$4,'Résultats élèves'!E18=\"A\"),'Groupes besoin'!A26,\"\")","v":""},{"$f":"IF(I26=\"\",\"\",'Résultats élèves'!E18)","v":""},null,{"$f":"IF(OR('Résultats élèves'!F18<$J$3,'Résultats élèves'!F18=\"A\"),'Groupes besoin'!A26,\"\")","v":""},{"$f":"IF(L26=\"\",\"\",'Résultats élèves'!F18)","v":""},{"$f":"IF(OR('Résultats élèves'!F18<$J$4,'Résultats élèves'!F18=\"A\"),'Groupes besoin'!A26,\"\")","v":""},{"$f":"IF(N26=\"\",\"\",'Résultats élèves'!F18)","v":""},null,{"$f":"IF(OR('Résultats élèves'!G18<$J$3,'Résultats élèves'!G18=\"A\"),'Groupes besoin'!A26,\"\")","v":""},{"$f":"IF(Q26=\"\",\"\",'Résultats élèves'!G18)","v":""},{"$f":"IF(OR('Résultats élèves'!G18<$J$4,'Résultats élèves'!G18=\"A\"),'Groupes besoin'!A26,\"\")","v":""},{"$f":"IF(S26=\"\",\"\",'Résultats élèves'!G18)","v":""},null,{"$f":"IF(OR('Résultats élèves'!H18<$J$3,'Résultats élèves'!H18=\"A\"),'Groupes besoin'!A26,\"\")","v":""},{"$f":"IF(V26=\"\",\"\",'Résultats élèves'!H18)","v":""},{"$f":"IF(OR('Résultats élèves'!H18<$J$4,'Résultats élèves'!H18=\"A\"),'Groupes besoin'!A26,\"\")","v":""},{"$f":"IF(X26=\"\",\"\",'Résultats élèves'!H18)","v":""},null,24,20,{"$f":"IF(AA26<$AA$9,#REF!,\"\")","v":""},null,null,{"$f":"IF(OR('Résultats élèves'!I18<$J$3,'Résultats élèves'!I18=\"A\"),'Groupes besoin'!A26,\"\")","v":""},{"$f":"IF(AF26=\"\",\"\",'Résultats élèves'!I18)","v":""},{"$f":"IF(OR('Résultats élèves'!I18<$J$4,'Résultats élèves'!I18=\"A\"),'Groupes besoin'!A26,\"\")","v":""},{"$f":"IF(AH26=\"\",\"\",'Résultats élèves'!I18)","v":""},null,{"$f":"IF(OR('Résultats élèves'!J18<$J$3,'Résultats élèves'!J18=\"A\"),'Groupes besoin'!A26,\"\")","v":""},{"$f":"IF(AK26=\"\",\"\",'Résultats élèves'!J18)","v":""},{"$f":"IF(OR('Résultats élèves'!J18<$J$4,'Résultats élèves'!J18=\"A\"),'Groupes besoin'!A26,\"\")","v":""},{"$f":"IF(AM26=\"\",\"\",'Résultats élèves'!J18)","v":""},null,{"$f":"IF(OR('Résultats élèves'!K18<$J$3,'Résultats élèves'!K18=\"A\"),'Groupes besoin'!A26,\"\")","v":""},{"$f":"IF(AP26=\"\",\"\",'Résultats élèves'!K18)","v":""},{"$f":"IF(OR('Résultats élèves'!K18<$J$4,'Résultats élèves'!K18=\"A\"),'Groupes besoin'!A26,\"\")","v":""},{"$f":"IF(AR26=\"\",\"\",'Résultats élèves'!K18)","v":""},null,{"$f":"IF(OR('Résultats élèves'!L18<$J$3,'Résultats élèves'!L18=\"A\"),'Groupes besoin'!A26,\"\")","v":""},{"$f":"IF(AU26=\"\",\"\",'Résultats élèves'!L18)","v":""},{"$f":"IF(OR('Résultats élèves'!L18<$J$4,'Résultats élèves'!L18=\"A\"),'Groupes besoin'!A26,\"\")","v":""},{"$f":"IF(AW26=\"\",\"\",'Résultats élèves'!L18)","v":""},null,{"$f":"IF(OR('Résultats élèves'!M18<$J$3,'Résultats élèves'!M18=\"A\"),'Groupes besoin'!A26,\"\")","v":""},{"$f":"IF(AZ26=\"\",\"\",'Résultats élèves'!M18)","v":""},{"$f":"IF(OR('Résultats élèves'!M18<$J$4,'Résultats élèves'!M18=\"A\"),'Groupes besoin'!A26,\"\")","v":""},{"$f":"IF(BB26=\"\",\"\",'Résultats élèves'!M18)","v":""}]
[{"$f":"IF(Accueil!F28=\"\",\"\",Accueil!F28)","v":""},{"$f":"IF(OR('Résultats élèves'!D19<$J$3,'Résultats élèves'!D19=\"A\"),'Groupes besoin'!A27,\"\")","v":""},{"$f":"IF(B27=\"\",\"\",'Résultats élèves'!D19)","v":""},{"$f":"IF(OR('Résultats élèves'!D19<$J$4,'Résultats élèves'!D19=\"A\"),'Groupes besoin'!A27,\"\")","v":""},{"$f":"IF(D27=\"\",\"\",'Résultats élèves'!D19)","v":""},null,{"$f":"IF(OR('Résultats élèves'!E19<$J$3,'Résultats élèves'!E19=\"A\"),'Groupes besoin'!A27,\"\")","v":""},{"$f":"IF(G27=\"\",\"\",'Résultats élèves'!E19)","v":""},{"$f":"IF(OR('Résultats élèves'!E19<$J$4,'Résultats élèves'!E19=\"A\"),'Groupes besoin'!A27,\"\")","v":""},{"$f":"IF(I27=\"\",\"\",'Résultats élèves'!E19)","v":""},null,{"$f":"IF(OR('Résultats élèves'!F19<$J$3,'Résultats élèves'!F19=\"A\"),'Groupes besoin'!A27,\"\")","v":""},{"$f":"IF(L27=\"\",\"\",'Résultats élèves'!F19)","v":""},{"$f":"IF(OR('Résultats élèves'!F19<$J$4,'Résultats élèves'!F19=\"A\"),'Groupes besoin'!A27,\"\")","v":""},{"$f":"IF(N27=\"\",\"\",'Résultats élèves'!F19)","v":""},null,{"$f":"IF(OR('Résultats élèves'!G19<$J$3,'Résultats élèves'!G19=\"A\"),'Groupes besoin'!A27,\"\")","v":""},{"$f":"IF(Q27=\"\",\"\",'Résultats élèves'!G19)","v":""},{"$f":"IF(OR('Résultats élèves'!G19<$J$4,'Résultats élèves'!G19=\"A\"),'Groupes besoin'!A27,\"\")","v":""},{"$f":"IF(S27=\"\",\"\",'Résultats élèves'!G19)","v":""},null,{"$f":"IF(OR('Résultats élèves'!H19<$J$3,'Résultats élèves'!H19=\"A\"),'Groupes besoin'!A27,\"\")","v":""},{"$f":"IF(V27=\"\",\"\",'Résultats élèves'!H19)","v":""},{"$f":"IF(OR('Résultats élèves'!H19<$J$4,'Résultats élèves'!H19=\"A\"),'Groupes besoin'!A27,\"\")","v":""},{"$f":"IF(X27=\"\",\"\",'Résultats élèves'!H19)","v":""},null,24,20,{"$f":"IF(AA27<$AA$9,#REF!,\"\")","v":""},null,null,{"$f":"IF(OR('Résultats élèves'!I19<$J$3,'Résultats élèves'!I19=\"A\"),'Groupes besoin'!A27,\"\")","v":""},{"$f":"IF(AF27=\"\",\"\",'Résultats élèves'!I19)","v":""},{"$f":"IF(OR('Résultats élèves'!I19<$J$4,'Résultats élèves'!I19=\"A\"),'Groupes besoin'!A27,\"\")","v":""},{"$f":"IF(AH27=\"\",\"\",'Résultats élèves'!I19)","v":""},null,{"$f":"IF(OR('Résultats élèves'!J19<$J$3,'Résultats élèves'!J19=\"A\"),'Groupes besoin'!A27,\"\")","v":""},{"$f":"IF(AK27=\"\",\"\",'Résultats élèves'!J19)","v":""},{"$f":"IF(OR('Résultats élèves'!J19<$J$4,'Résultats élèves'!J19=\"A\"),'Groupes besoin'!A27,\"\")","v":""},{"$f":"IF(AM27=\"\",\"\",'Résultats élèves'!J19)","v":""},null,{"$f":"IF(OR('Résultats élèves'!K19<$J$3,'Résultats élèves'!K19=\"A\"),'Groupes besoin'!A27,\"\")","v":""},{"$f":"IF(AP27=\"\",\"\",'Résultats élèves'!K19)","v":""},{"$f":"IF(OR('Résultats élèves'!K19<$J$4,'Résultats élèves'!K19=\"A\"),'Groupes besoin'!A27,\"\")","v":""},{"$f":"IF(AR27=\"\",\"\",'Résultats élèves'!K19)","v":""},null,{"$f":"IF(OR('Résultats élèves'!L19<$J$3,'Résultats élèves'!L19=\"A\"),'Groupes besoin'!A27,\"\")","v":""},{"$f":"IF(AU27=\"\",\"\",'Résultats élèves'!L19)","v":""},{"$f":"IF(OR('Résultats élèves'!L19<$J$4,'Résultats élèves'!L19=\"A\"),'Groupes besoin'!A27,\"\")","v":""},{"$f":"IF(AW27=\"\",\"\",'Résultats élèves'!L19)","v":""},null,{"$f":"IF(OR('Résultats élèves'!M19<$J$3,'Résultats élèves'!M19=\"A\"),'Groupes besoin'!A27,\"\")","v":""},{"$f":"IF(AZ27=\"\",\"\",'Résultats élèves'!M19)","v":""},{"$f":"IF(OR('Résultats élèves'!M19<$J$4,'Résultats élèves'!M19=\"A\"),'Groupes besoin'!A27,\"\")","v":""},{"$f":"IF(BB27=\"\",\"\",'Résultats élèves'!M19)","v":""}]
[{"$f":"IF(Accueil!F29=\"\",\"\",Accueil!F29)","v":""},{"$f":"IF(OR('Résultats élèves'!D20<$J$3,'Résultats élèves'!D20=\"A\"),'Groupes besoin'!A28,\"\")","v":""},{"$f":"IF(B28=\"\",\"\",'Résultats élèves'!D20)","v":""},{"$f":"IF(OR('Résultats élèves'!D20<$J$4,'Résultats élèves'!D20=\"A\"),'Groupes besoin'!A28,\"\")","v":""},{"$f":"IF(D28=\"\",\"\",'Résultats élèves'!D20)","v":""},null,{"$f":"IF(OR('Résultats élèves'!E20<$J$3,'Résultats élèves'!E20=\"A\"),'Groupes besoin'!A28,\"\")","v":""},{"$f":"IF(G28=\"\",\"\",'Résultats élèves'!E20)","v":""},{"$f":"IF(OR('Résultats élèves'!E20<$J$4,'Résultats élèves'!E20=\"A\"),'Groupes besoin'!A28,\"\")","v":""},{"$f":"IF(I28=\"\",\"\",'Résultats élèves'!E20)","v":""},null,{"$f":"IF(OR('Résultats élèves'!F20<$J$3,'Résultats élèves'!F20=\"A\"),'Groupes besoin'!A28,\"\")","v":""},{"$f":"IF(L28=\"\",\"\",'Résultats élèves'!F20)","v":""},{"$f":"IF(OR('Résultats élèves'!F20<$J$4,'Résultats élèves'!F20=\"A\"),'Groupes besoin'!A28,\"\")","v":""},{"$f":"IF(N28=\"\",\"\",'Résultats élèves'!F20)","v":""},null,{"$f":"IF(OR('Résultats élèves'!G20<$J$3,'Résultats élèves'!G20=\"A\"),'Groupes besoin'!A28,\"\")","v":""},{"$f":"IF(Q28=\"\",\"\",'Résultats élèves'!G20)","v":""},{"$f":"IF(OR('Résultats élèves'!G20<$J$4,'Résultats élèves'!G20=\"A\"),'Groupes besoin'!A28,\"\")","v":""},{"$f":"IF(S28=\"\",\"\",'Résultats élèves'!G20)","v":""},null,{"$f":"IF(OR('Résultats élèves'!H20<$J$3,'Résultats élèves'!H20=\"A\"),'Groupes besoin'!A28,\"\")","v":""},{"$f":"IF(V28=\"\",\"\",'Résultats élèves'!H20)","v":""},{"$f":"IF(OR('Résultats élèves'!H20<$J$4,'Résultats élèves'!H20=\"A\"),'Groupes besoin'!A28,\"\")","v":""},{"$f":"IF(X28=\"\",\"\",'Résultats élèves'!H20)","v":""},null,24,20,{"$f":"IF(AA28<$AA$9,#REF!,\"\")","v":""},null,null,{"$f":"IF(OR('Résultats élèves'!I20<$J$3,'Résultats élèves'!I20=\"A\"),'Groupes besoin'!A28,\"\")","v":""},{"$f":"IF(AF28=\"\",\"\",'Résultats élèves'!I20)","v":""},{"$f":"IF(OR('Résultats élèves'!I20<$J$4,'Résultats élèves'!I20=\"A\"),'Groupes besoin'!A28,\"\")","v":""},{"$f":"IF(AH28=\"\",\"\",'Résultats élèves'!I20)","v":""},null,{"$f":"IF(OR('Résultats élèves'!J20<$J$3,'Résultats élèves'!J20=\"A\"),'Groupes besoin'!A28,\"\")","v":""},{"$f":"IF(AK28=\"\",\"\",'Résultats élèves'!J20)","v":""},{"$f":"IF(OR('Résultats élèves'!J20<$J$4,'Résultats élèves'!J20=\"A\"),'Groupes besoin'!A28,\"\")","v":""},{"$f":"IF(AM28=\"\",\"\",'Résultats élèves'!J20)","v":""},null,{"$f":"IF(OR('Résultats élèves'!K20<$J$3,'Résultats élèves'!K20=\"A\"),'Groupes besoin'!A28,\"\")","v":""},{"$f":"IF(AP28=\"\",\"\",'Résultats élèves'!K20)","v":""},{"$f":"IF(OR('Résultats élèves'!K20<$J$4,'Résultats élèves'!K20=\"A\"),'Groupes besoin'!A28,\"\")","v":""},{"$f":"IF(AR28=\"\",\"\",'Résultats élèves'!K20)","v":""},null,{"$f":"IF(OR('Résultats élèves'!L20<$J$3,'Résultats élèves'!L20=\"A\"),'Groupes besoin'!A28,\"\")","v":""},{"$f":"IF(AU28=\"\",\"\",'Résultats élèves'!L20)","v":""},{"$f":"IF(OR('Résultats élèves'!L20<$J$4,'Résultats élèves'!L20=\"A\"),'Groupes besoin'!A28,\"\")","v":""},{"$f":"IF(AW28=\"\",\"\",'Résultats élèves'!L20)","v":""},null,{"$f":"IF(OR('Résultats élèves'!M20<$J$3,'Résultats élèves'!M20=\"A\"),'Groupes besoin'!A28,\"\")","v":""},{"$f":"IF(AZ28=\"\",\"\",'Résultats élèves'!M20)","v":""},{"$f":"IF(OR('Résultats élèves'!M20<$J$4,'Résultats élèves'!M20=\"A\"),'Groupes besoin'!A28,\"\")","v":""},{"$f":"IF(BB28=\"\",\"\",'Résultats élèves'!M20)","v":""}]
[{"$f":"IF(Accueil!F30=\"\",\"\",Accueil!F30)","v":""},{"$f":"IF(OR('Résultats élèves'!D21<$J$3,'Résultats élèves'!D21=\"A\"),'Groupes besoin'!A29,\"\")","v":""},{"$f":"IF(B29=\"\",\"\",'Résultats élèves'!D21)","v":""},{"$f":"IF(OR('Résultats élèves'!D21<$J$4,'Résultats élèves'!D21=\"A\"),'Groupes besoin'!A29,\"\")","v":""},{"$f":"IF(D29=\"\",\"\",'Résultats élèves'!D21)","v":""},null,{"$f":"IF(OR('Résultats élèves'!E21<$J$3,'Résultats élèves'!E21=\"A\"),'Groupes besoin'!A29,\"\")","v":""},{"$f":"IF(G29=\"\",\"\",'Résultats élèves'!E21)","v":""},{"$f":"IF(OR('Résultats élèves'!E21<$J$4,'Résultats élèves'!E21=\"A\"),'Groupes besoin'!A29,\"\")","v":""},{"$f":"IF(I29=\"\",\"\",'Résultats élèves'!E21)","v":""},null,{"$f":"IF(OR('Résultats élèves'!F21<$J$3,'Résultats élèves'!F21=\"A\"),'Groupes besoin'!A29,\"\")","v":""},{"$f":"IF(L29=\"\",\"\",'Résultats élèves'!F21)","v":""},{"$f":"IF(OR('Résultats élèves'!F21<$J$4,'Résultats élèves'!F21=\"A\"),'Groupes besoin'!A29,\"\")","v":""},{"$f":"IF(N29=\"\",\"\",'Résultats élèves'!F21)","v":""},null,{"$f":"IF(OR('Résultats élèves'!G21<$J$3,'Résultats élèves'!G21=\"A\"),'Groupes besoin'!A29,\"\")","v":""},{"$f":"IF(Q29=\"\",\"\",'Résultats élèves'!G21)","v":""},{"$f":"IF(OR('Résultats élèves'!G21<$J$4,'Résultats élèves'!G21=\"A\"),'Groupes besoin'!A29,\"\")","v":""},{"$f":"IF(S29=\"\",\"\",'Résultats élèves'!G21)","v":""},null,{"$f":"IF(OR('Résultats élèves'!H21<$J$3,'Résultats élèves'!H21=\"A\"),'Groupes besoin'!A29,\"\")","v":""},{"$f":"IF(V29=\"\",\"\",'Résultats élèves'!H21)","v":""},{"$f":"IF(OR('Résultats élèves'!H21<$J$4,'Résultats élèves'!H21=\"A\"),'Groupes besoin'!A29,\"\")","v":""},{"$f":"IF(X29=\"\",\"\",'Résultats élèves'!H21)","v":""},null,24,20,{"$f":"IF(AA29<$AA$9,#REF!,\"\")","v":""},null,null,{"$f":"IF(OR('Résultats élèves'!I21<$J$3,'Résultats élèves'!I21=\"A\"),'Groupes besoin'!A29,\"\")","v":""},{"$f":"IF(AF29=\"\",\"\",'Résultats élèves'!I21)","v":""},{"$f":"IF(OR('Résultats élèves'!I21<$J$4,'Résultats élèves'!I21=\"A\"),'Groupes besoin'!A29,\"\")","v":""},{"$f":"IF(AH29=\"\",\"\",'Résultats élèves'!I21)","v":""},null,{"$f":"IF(OR('Résultats élèves'!J21<$J$3,'Résultats élèves'!J21=\"A\"),'Groupes besoin'!A29,\"\")","v":""},{"$f":"IF(AK29=\"\",\"\",'Résultats élèves'!J21)","v":""},{"$f":"IF(OR('Résultats élèves'!J21<$J$4,'Résultats élèves'!J21=\"A\"),'Groupes besoin'!A29,\"\")","v":""},{"$f":"IF(AM29=\"\",\"\",'Résultats élèves'!J21)","v":""},null,{"$f":"IF(OR('Résultats élèves'!K21<$J$3,'Résultats élèves'!K21=\"A\"),'Groupes besoin'!A29,\"\")","v":""},{"$f":"IF(AP29=\"\",\"\",'Résultats élèves'!K21)","v":""},{"$f":"IF(OR('Résultats élèves'!K21<$J$4,'Résultats élèves'!K21=\"A\"),'Groupes besoin'!A29,\"\")","v":""},{"$f":"IF(AR29=\"\",\"\",'Résultats élèves'!K21)","v":""},null,{"$f":"IF(OR('Résultats élèves'!L21<$J$3,'Résultats élèves'!L21=\"A\"),'Groupes besoin'!A29,\"\")","v":""},{"$f":"IF(AU29=\"\",\"\",'Résultats élèves'!L21)","v":""},{"$f":"IF(OR('Résultats élèves'!L21<$J$4,'Résultats élèves'!L21=\"A\"),'Groupes besoin'!A29,\"\")","v":""},{"$f":"IF(AW29=\"\",\"\",'Résultats élèves'!L21)","v":""},null,{"$f":"IF(OR('Résultats élèves'!M21<$J$3,'Résultats élèves'!M21=\"A\"),'Groupes besoin'!A29,\"\")","v":""},{"$f":"IF(AZ29=\"\",\"\",'Résultats élèves'!M21)","v":""},{"$f":"IF(OR('Résultats élèves'!M21<$J$4,'Résultats élèves'!M21=\"A\"),'Groupes besoin'!A29,\"\")","v":""},{"$f":"IF(BB29=\"\",\"\",'Résultats élèves'!M21)","v":""}]
[{"$f":"IF(Accueil!F31=\"\",\"\",Accueil!F31)","v":""},{"$f":"IF(OR('Résultats élèves'!D22<$J$3,'Résultats élèves'!D22=\"A\"),'Groupes besoin'!A30,\"\")","v":""},{"$f":"IF(B30=\"\",\"\",'Résultats élèves'!D22)","v":""},{"$f":"IF(OR('Résultats élèves'!D22<$J$4,'Résultats élèves'!D22=\"A\"),'Groupes besoin'!A30,\"\")","v":""},{"$f":"IF(D30=\"\",\"\",'Résultats élèves'!D22)","v":""},null,{"$f":"IF(OR('Résultats élèves'!E22<$J$3,'Résultats élèves'!E22=\"A\"),'Groupes besoin'!A30,\"\")","v":""},{"$f":"IF(G30=\"\",\"\",'Résultats élèves'!E22)","v":""},{"$f":"IF(OR('Résultats élèves'!E22<$J$4,'Résultats élèves'!E22=\"A\"),'Groupes besoin'!A30,\"\")","v":""},{"$f":"IF(I30=\"\",\"\",'Résultats élèves'!E22)","v":""},null,{"$f":"IF(OR('Résultats élèves'!F22<$J$3,'Résultats élèves'!F22=\"A\"),'Groupes besoin'!A30,\"\")","v":""},{"$f":"IF(L30=\"\",\"\",'Résultats élèves'!F22)","v":""},{"$f":"IF(OR('Résultats élèves'!F22<$J$4,'Résultats élèves'!F22=\"A\"),'Groupes besoin'!A30,\"\")","v":""},{"$f":"IF(N30=\"\",\"\",'Résultats élèves'!F22)","v":""},null,{"$f":"IF(OR('Résultats élèves'!G22<$J$3,'Résultats élèves'!G22=\"A\"),'Groupes besoin'!A30,\"\")","v":""},{"$f":"IF(Q30=\"\",\"\",'Résultats élèves'!G22)","v":""},{"$f":"IF(OR('Résultats élèves'!G22<$J$4,'Résultats élèves'!G22=\"A\"),'Groupes besoin'!A30,\"\")","v":""},{"$f":"IF(S30=\"\",\"\",'Résultats élèves'!G22)","v":""},null,{"$f":"IF(OR('Résultats élèves'!H22<$J$3,'Résultats élèves'!H22=\"A\"),'Groupes besoin'!A30,\"\")","v":""},{"$f":"IF(V30=\"\",\"\",'Résultats élèves'!H22)","v":""},{"$f":"IF(OR('Résultats élèves'!H22<$J$4,'Résultats élèves'!H22=\"A\"),'Groupes besoin'!A30,\"\")","v":""},{"$f":"IF(X30=\"\",\"\",'Résultats élèves'!H22)","v":""},null,24,20,{"$f":"IF(AA30<$AA$9,#REF!,\"\")","v":""},null,null,{"$f":"IF(OR('Résultats élèves'!I22<$J$3,'Résultats élèves'!I22=\"A\"),'Groupes besoin'!A30,\"\")","v":""},{"$f":"IF(AF30=\"\",\"\",'Résultats élèves'!I22)","v":""},{"$f":"IF(OR('Résultats élèves'!I22<$J$4,'Résultats élèves'!I22=\"A\"),'Groupes besoin'!A30,\"\")","v":""},{"$f":"IF(AH30=\"\",\"\",'Résultats élèves'!I22)","v":""},null,{"$f":"IF(OR('Résultats élèves'!J22<$J$3,'Résultats élèves'!J22=\"A\"),'Groupes besoin'!A30,\"\")","v":""},{"$f":"IF(AK30=\"\",\"\",'Résultats élèves'!J22)","v":""},{"$f":"IF(OR('Résultats élèves'!J22<$J$4,'Résultats élèves'!J22=\"A\"),'Groupes besoin'!A30,\"\")","v":""},{"$f":"IF(AM30=\"\",\"\",'Résultats élèves'!J22)","v":""},null,{"$f":"IF(OR('Résultats élèves'!K22<$J$3,'Résultats élèves'!K22=\"A\"),'Groupes besoin'!A30,\"\")","v":""},{"$f":"IF(AP30=\"\",\"\",'Résultats élèves'!K22)","v":""},{"$f":"IF(OR('Résultats élèves'!K22<$J$4,'Résultats élèves'!K22=\"A\"),'Groupes besoin'!A30,\"\")","v":""},{"$f":"IF(AR30=\"\",\"\",'Résultats élèves'!K22)","v":""},null,{"$f":"IF(OR('Résultats élèves'!L22<$J$3,'Résultats élèves'!L22=\"A\"),'Groupes besoin'!A30,\"\")","v":""},{"$f":"IF(AU30=\"\",\"\",'Résultats élèves'!L22)","v":""},{"$f":"IF(OR('Résultats élèves'!L22<$J$4,'Résultats élèves'!L22=\"A\"),'Groupes besoin'!A30,\"\")","v":""},{"$f":"IF(AW30=\"\",\"\",'Résultats élèves'!L22)","v":""},null,{"$f":"IF(OR('Résultats élèves'!M22<$J$3,'Résultats élèves'!M22=\"A\"),'Groupes besoin'!A30,\"\")","v":""},{"$f":"IF(AZ30=\"\",\"\",'Résultats élèves'!M22)","v":""},{"$f":"IF(OR('Résultats élèves'!M22<$J$4,'Résultats élèves'!M22=\"A\"),'Groupes besoin'!A30,\"\")","v":""},{"$f":"IF(BB30=\"\",\"\",'Résultats élèves'!M22)","v":""}]
[{"$f":"IF(Accueil!F32=\"\",\"\",Accueil!F32)","v":""},{"$f":"IF(OR('Résultats élèves'!D23<$J$3,'Résultats élèves'!D23=\"A\"),'Groupes besoin'!A31,\"\")","v":""},{"$f":"IF(B31=\"\",\"\",'Résultats élèves'!D23)","v":""},{"$f":"IF(OR('Résultats élèves'!D23<$J$4,'Résultats élèves'!D23=\"A\"),'Groupes besoin'!A31,\"\")","v":""},{"$f":"IF(D31=\"\",\"\",'Résultats élèves'!D23)","v":""},null,{"$f":"IF(OR('Résultats élèves'!E23<$J$3,'Résultats élèves'!E23=\"A\"),'Groupes besoin'!A31,\"\")","v":""},{"$f":"IF(G31=\"\",\"\",'Résultats élèves'!E23)","v":""},{"$f":"IF(OR('Résultats élèves'!E23<$J$4,'Résultats élèves'!E23=\"A\"),'Groupes besoin'!A31,\"\")","v":""},{"$f":"IF(I31=\"\",\"\",'Résultats élèves'!E23)","v":""},null,{"$f":"IF(OR('Résultats élèves'!F23<$J$3,'Résultats élèves'!F23=\"A\"),'Groupes besoin'!A31,\"\")","v":""},{"$f":"IF(L31=\"\",\"\",'Résultats élèves'!F23)","v":""},{"$f":"IF(OR('Résultats élèves'!F23<$J$4,'Résultats élèves'!F23=\"A\"),'Groupes besoin'!A31,\"\")","v":""},{"$f":"IF(N31=\"\",\"\",'Résultats élèves'!F23)","v":""},null,{"$f":"IF(OR('Résultats élèves'!G23<$J$3,'Résultats élèves'!G23=\"A\"),'Groupes besoin'!A31,\"\")","v":""},{"$f":"IF(Q31=\"\",\"\",'Résultats élèves'!G23)","v":""},{"$f":"IF(OR('Résultats élèves'!G23<$J$4,'Résultats élèves'!G23=\"A\"),'Groupes besoin'!A31,\"\")","v":""},{"$f":"IF(S31=\"\",\"\",'Résultats élèves'!G23)","v":""},null,{"$f":"IF(OR('Résultats élèves'!H23<$J$3,'Résultats élèves'!H23=\"A\"),'Groupes besoin'!A31,\"\")","v":""},{"$f":"IF(V31=\"\",\"\",'Résultats élèves'!H23)","v":""},{"$f":"IF(OR('Résultats élèves'!H23<$J$4,'Résultats élèves'!H23=\"A\"),'Groupes besoin'!A31,\"\")","v":""},{"$f":"IF(X31=\"\",\"\",'Résultats élèves'!H23)","v":""},null,24,20,{"$f":"IF(AA31<$AA$9,#REF!,\"\")","v":""},null,null,{"$f":"IF(OR('Résultats élèves'!I23<$J$3,'Résultats élèves'!I23=\"A\"),'Groupes besoin'!A31,\"\")","v":""},{"$f":"IF(AF31=\"\",\"\",'Résultats élèves'!I23)","v":""},{"$f":"IF(OR('Résultats élèves'!I23<$J$4,'Résultats élèves'!I23=\"A\"),'Groupes besoin'!A31,\"\")","v":""},{"$f":"IF(AH31=\"\",\"\",'Résultats élèves'!I23)","v":""},null,{"$f":"IF(OR('Résultats élèves'!J23<$J$3,'Résultats élèves'!J23=\"A\"),'Groupes besoin'!A31,\"\")","v":""},{"$f":"IF(AK31=\"\",\"\",'Résultats élèves'!J23)","v":""},{"$f":"IF(OR('Résultats élèves'!J23<$J$4,'Résultats élèves'!J23=\"A\"),'Groupes besoin'!A31,\"\")","v":""},{"$f":"IF(AM31=\"\",\"\",'Résultats élèves'!J23)","v":""},null,{"$f":"IF(OR('Résultats élèves'!K23<$J$3,'Résultats élèves'!K23=\"A\"),'Groupes besoin'!A31,\"\")","v":""},{"$f":"IF(AP31=\"\",\"\",'Résultats élèves'!K23)","v":""},{"$f":"IF(OR('Résultats élèves'!K23<$J$4,'Résultats élèves'!K23=\"A\"),'Groupes besoin'!A31,\"\")","v":""},{"$f":"IF(AR31=\"\",\"\",'Résultats élèves'!K23)","v":""},null,{"$f":"IF(OR('Résultats élèves'!L23<$J$3,'Résultats élèves'!L23=\"A\"),'Groupes besoin'!A31,\"\")","v":""},{"$f":"IF(AU31=\"\",\"\",'Résultats élèves'!L23)","v":""},{"$f":"IF(OR('Résultats élèves'!L23<$J$4,'Résultats élèves'!L23=\"A\"),'Groupes besoin'!A31,\"\")","v":""},{"$f":"IF(AW31=\"\",\"\",'Résultats élèves'!L23)","v":""},null,{"$f":"IF(OR('Résultats élèves'!M23<$J$3,'Résultats élèves'!M23=\"A\"),'Groupes besoin'!A31,\"\")","v":""},{"$f":"IF(AZ31=\"\",\"\",'Résultats élèves'!M23)","v":""},{"$f":"IF(OR('Résultats élèves'!M23<$J$4,'Résultats élèves'!M23=\"A\"),'Groupes besoin'!A31,\"\")","v":""},{"$f":"IF(BB31=\"\",\"\",'Résultats élèves'!M23)","v":""}]
[{"$f":"IF(Accueil!F33=\"\",\"\",Accueil!F33)","v":""},{"$f":"IF(OR('Résultats élèves'!D24<$J$3,'Résultats élèves'!D24=\"A\"),'Groupes besoin'!A32,\"\")","v":""},{"$f":"IF(B32=\"\",\"\",'Résultats élèves'!D24)","v":""},{"$f":"IF(OR('Résultats élèves'!D24<$J$4,'Résultats élèves'!D24=\"A\"),'Groupes besoin'!A32,\"\")","v":""},{"$f":"IF(D32=\"\",\"\",'Résultats élèves'!D24)","v":""},null,{"$f":"IF(OR('Résultats élèves'!E24<$J$3,'Résultats élèves'!E24=\"A\"),'Groupes besoin'!A32,\"\")","v":""},{"$f":"IF(G32=\"\",\"\",'Résultats élèves'!E24)","v":""},{"$f":"IF(OR('Résultats élèves'!E24<$J$4,'Résultats élèves'!E24=\"A\"),'Groupes besoin'!A32,\"\")","v":""},{"$f":"IF(I32=\"\",\"\",'Résultats élèves'!E24)","v":""},null,{"$f":"IF(OR('Résultats élèves'!F24<$J$3,'Résultats élèves'!F24=\"A\"),'Groupes besoin'!A32,\"\")","v":""},{"$f":"IF(L32=\"\",\"\",'Résultats élèves'!F24)","v":""},{"$f":"IF(OR('Résultats élèves'!F24<$J$4,'Résultats élèves'!F24=\"A\"),'Groupes besoin'!A32,\"\")","v":""},{"$f":"IF(N32=\"\",\"\",'Résultats élèves'!F24)","v":""},null,{"$f":"IF(OR('Résultats élèves'!G24<$J$3,'Résultats élèves'!G24=\"A\"),'Groupes besoin'!A32,\"\")","v":""},{"$f":"IF(Q32=\"\",\"\",'Résultats élèves'!G24)","v":""},{"$f":"IF(OR('Résultats élèves'!G24<$J$4,'Résultats élèves'!G24=\"A\"),'Groupes besoin'!A32,\"\")","v":""},{"$f":"IF(S32=\"\",\"\",'Résultats élèves'!G24)","v":""},null,{"$f":"IF(OR('Résultats élèves'!H24<$J$3,'Résultats élèves'!H24=\"A\"),'Groupes besoin'!A32,\"\")","v":""},{"$f":"IF(V32=\"\",\"\",'Résultats élèves'!H24)","v":""},{"$f":"IF(OR('Résultats élèves'!H24<$J$4,'Résultats élèves'!H24=\"A\"),'Groupes besoin'!A32,\"\")","v":""},{"$f":"IF(X32=\"\",\"\",'Résultats élèves'!H24)","v":""},null,24,20,{"$f":"IF(AA32<$AA$9,#REF!,\"\")","v":""},null,null,{"$f":"IF(OR('Résultats élèves'!I24<$J$3,'Résultats élèves'!I24=\"A\"),'Groupes besoin'!A32,\"\")","v":""},{"$f":"IF(AF32=\"\",\"\",'Résultats élèves'!I24)","v":""},{"$f":"IF(OR('Résultats élèves'!I24<$J$4,'Résultats élèves'!I24=\"A\"),'Groupes besoin'!A32,\"\")","v":""},{"$f":"IF(AH32=\"\",\"\",'Résultats élèves'!I24)","v":""},null,{"$f":"IF(OR('Résultats élèves'!J24<$J$3,'Résultats élèves'!J24=\"A\"),'Groupes besoin'!A32,\"\")","v":""},{"$f":"IF(AK32=\"\",\"\",'Résultats élèves'!J24)","v":""},{"$f":"IF(OR('Résultats élèves'!J24<$J$4,'Résultats élèves'!J24=\"A\"),'Groupes besoin'!A32,\"\")","v":""},{"$f":"IF(AM32=\"\",\"\",'Résultats élèves'!J24)","v":""},null,{"$f":"IF(OR('Résultats élèves'!K24<$J$3,'Résultats élèves'!K24=\"A\"),'Groupes besoin'!A32,\"\")","v":""},{"$f":"IF(AP32=\"\",\"\",'Résultats élèves'!K24)","v":""},{"$f":"IF(OR('Résultats élèves'!K24<$J$4,'Résultats élèves'!K24=\"A\"),'Groupes besoin'!A32,\"\")","v":""},{"$f":"IF(AR32=\"\",\"\",'Résultats élèves'!K24)","v":""},null,{"$f":"IF(OR('Résultats élèves'!L24<$J$3,'Résultats élèves'!L24=\"A\"),'Groupes besoin'!A32,\"\")","v":""},{"$f":"IF(AU32=\"\",\"\",'Résultats élèves'!L24)","v":""},{"$f":"IF(OR('Résultats élèves'!L24<$J$4,'Résultats élèves'!L24=\"A\"),'Groupes besoin'!A32,\"\")","v":""},{"$f":"IF(AW32=\"\",\"\",'Résultats élèves'!L24)","v":""},null,{"$f":"IF(OR('Résultats élèves'!M24<$J$3,'Résultats élèves'!M24=\"A\"),'Groupes besoin'!A32,\"\")","v":""},{"$f":"IF(AZ32=\"\",\"\",'Résultats élèves'!M24)","v":""},{"$f":"IF(OR('Résultats élèves'!M24<$J$4,'Résultats élèves'!M24=\"A\"),'Groupes besoin'!A32,\"\")","v":""},{"$f":"IF(BB32=\"\",\"\",'Résultats élèves'!M24)","v":""}]
[{"$f":"IF(Accueil!F34=\"\",\"\",Accueil!F34)","v":""},{"$f":"IF(OR('Résultats élèves'!D25<$J$3,'Résultats élèves'!D25=\"A\"),'Groupes besoin'!A33,\"\")","v":""},{"$f":"IF(B33=\"\",\"\",'Résultats élèves'!D25)","v":""},{"$f":"IF(OR('Résultats élèves'!D25<$J$4,'Résultats élèves'!D25=\"A\"),'Groupes besoin'!A33,\"\")","v":""},{"$f":"IF(D33=\"\",\"\",'Résultats élèves'!D25)","v":""},null,{"$f":"IF(OR('Résultats élèves'!E25<$J$3,'Résultats élèves'!E25=\"A\"),'Groupes besoin'!A33,\"\")","v":""},{"$f":"IF(G33=\"\",\"\",'Résultats élèves'!E25)","v":""},{"$f":"IF(OR('Résultats élèves'!E25<$J$4,'Résultats élèves'!E25=\"A\"),'Groupes besoin'!A33,\"\")","v":""},{"$f":"IF(I33=\"\",\"\",'Résultats élèves'!E25)","v":""},null,{"$f":"IF(OR('Résultats élèves'!F25<$J$3,'Résultats élèves'!F25=\"A\"),'Groupes besoin'!A33,\"\")","v":""},{"$f":"IF(L33=\"\",\"\",'Résultats élèves'!F25)","v":""},{"$f":"IF(OR('Résultats élèves'!F25<$J$4,'Résultats élèves'!F25=\"A\"),'Groupes besoin'!A33,\"\")","v":""},{"$f":"IF(N33=\"\",\"\",'Résultats élèves'!F25)","v":""},null,{"$f":"IF(OR('Résultats élèves'!G25<$J$3,'Résultats élèves'!G25=\"A\"),'Groupes besoin'!A33,\"\")","v":""},{"$f":"IF(Q33=\"\",\"\",'Résultats élèves'!G25)","v":""},{"$f":"IF(OR('Résultats élèves'!G25<$J$4,'Résultats élèves'!G25=\"A\"),'Groupes besoin'!A33,\"\")","v":""},{"$f":"IF(S33=\"\",\"\",'Résultats élèves'!G25)","v":""},null,{"$f":"IF(OR('Résultats élèves'!H25<$J$3,'Résultats élèves'!H25=\"A\"),'Groupes besoin'!A33,\"\")","v":""},{"$f":"IF(V33=\"\",\"\",'Résultats élèves'!H25)","v":""},{"$f":"IF(OR('Résultats élèves'!H25<$J$4,'Résultats élèves'!H25=\"A\"),'Groupes besoin'!A33,\"\")","v":""},{"$f":"IF(X33=\"\",\"\",'Résultats élèves'!H25)","v":""},null,24,20,{"$f":"IF(AA33<$AA$9,#REF!,\"\")","v":""},null,null,{"$f":"IF(OR('Résultats élèves'!I25<$J$3,'Résultats élèves'!I25=\"A\"),'Groupes besoin'!A33,\"\")","v":""},{"$f":"IF(AF33=\"\",\"\",'Résultats élèves'!I25)","v":""},{"$f":"IF(OR('Résultats élèves'!I25<$J$4,'Résultats élèves'!I25=\"A\"),'Groupes besoin'!A33,\"\")","v":""},{"$f":"IF(AH33=\"\",\"\",'Résultats élèves'!I25)","v":""},null,{"$f":"IF(OR('Résultats élèves'!J25<$J$3,'Résultats élèves'!J25=\"A\"),'Groupes besoin'!A33,\"\")","v":""},{"$f":"IF(AK33=\"\",\"\",'Résultats élèves'!J25)","v":""},{"$f":"IF(OR('Résultats élèves'!J25<$J$4,'Résultats élèves'!J25=\"A\"),'Groupes besoin'!A33,\"\")","v":""},{"$f":"IF(AM33=\"\",\"\",'Résultats élèves'!J25)","v":""},null,{"$f":"IF(OR('Résultats élèves'!K25<$J$3,'Résultats élèves'!K25=\"A\"),'Groupes besoin'!A33,\"\")","v":""},{"$f":"IF(AP33=\"\",\"\",'Résultats élèves'!K25)","v":""},{"$f":"IF(OR('Résultats élèves'!K25<$J$4,'Résultats élèves'!K25=\"A\"),'Groupes besoin'!A33,\"\")","v":""},{"$f":"IF(AR33=\"\",\"\",'Résultats élèves'!K25)","v":""},null,{"$f":"IF(OR('Résultats élèves'!L25<$J$3,'Résultats élèves'!L25=\"A\"),'Groupes besoin'!A33,\"\")","v":""},{"$f":"IF(AU33=\"\",\"\",'Résultats élèves'!L25)","v":""},{"$f":"IF(OR('Résultats élèves'!L25<$J$4,'Résultats élèves'!L25=\"A\"),'Groupes besoin'!A33,\"\")","v":""},{"$f":"IF(AW33=\"\",\"\",'Résultats élèves'!L25)","v":""},null,{"$f":"IF(OR('Résultats élèves'!M25<$J$3,'Résultats élèves'!M25=\"A\"),'Groupes besoin'!A33,\"\")","v":""},{"$f":"IF(AZ33=\"\",\"\",'Résultats élèves'!M25)","v":""},{"$f":"IF(OR('Résultats élèves'!M25<$J$4,'Résultats élèves'!M25=\"A\"),'Groupes besoin'!A33,\"\")","v":""},{"$f":"IF(BB33=\"\",\"\",'Résultats élèves'!M25)","v":""}]
[{"$f":"IF(Accueil!F35=\"\",\"\",Accueil!F35)","v":""},{"$f":"IF(OR('Résultats élèves'!D26<$J$3,'Résultats élèves'!D26=\"A\"),'Groupes besoin'!A34,\"\")","v":""},{"$f":"IF(B34=\"\",\"\",'Résultats élèves'!D26)","v":""},{"$f":"IF(OR('Résultats élèves'!D26<$J$4,'Résultats élèves'!D26=\"A\"),'Groupes besoin'!A34,\"\")","v":""},{"$f":"IF(D34=\"\",\"\",'Résultats élèves'!D26)","v":""},null,{"$f":"IF(OR('Résultats élèves'!E26<$J$3,'Résultats élèves'!E26=\"A\"),'Groupes besoin'!A34,\"\")","v":""},{"$f":"IF(G34=\"\",\"\",'Résultats élèves'!E26)","v":""},{"$f":"IF(OR('Résultats élèves'!E26<$J$4,'Résultats élèves'!E26=\"A\"),'Groupes besoin'!A34,\"\")","v":""},{"$f":"IF(I34=\"\",\"\",'Résultats élèves'!E26)","v":""},null,{"$f":"IF(OR('Résultats élèves'!F26<$J$3,'Résultats élèves'!F26=\"A\"),'Groupes besoin'!A34,\"\")","v":""},{"$f":"IF(L34=\"\",\"\",'Résultats élèves'!F26)","v":""},{"$f":"IF(OR('Résultats élèves'!F26<$J$4,'Résultats élèves'!F26=\"A\"),'Groupes besoin'!A34,\"\")","v":""},{"$f":"IF(N34=\"\",\"\",'Résultats élèves'!F26)","v":""},null,{"$f":"IF(OR('Résultats élèves'!G26<$J$3,'Résultats élèves'!G26=\"A\"),'Groupes besoin'!A34,\"\")","v":""},{"$f":"IF(Q34=\"\",\"\",'Résultats élèves'!G26)","v":""},{"$f":"IF(OR('Résultats élèves'!G26<$J$4,'Résultats élèves'!G26=\"A\"),'Groupes besoin'!A34,\"\")","v":""},{"$f":"IF(S34=\"\",\"\",'Résultats élèves'!G26)","v":""},null,{"$f":"IF(OR('Résultats élèves'!H26<$J$3,'Résultats élèves'!H26=\"A\"),'Groupes besoin'!A34,\"\")","v":""},{"$f":"IF(V34=\"\",\"\",'Résultats élèves'!H26)","v":""},{"$f":"IF(OR('Résultats élèves'!H26<$J$4,'Résultats élèves'!H26=\"A\"),'Groupes besoin'!A34,\"\")","v":""},{"$f":"IF(X34=\"\",\"\",'Résultats élèves'!H26)","v":""},null,24,20,{"$f":"IF(AA34<$AA$9,#REF!,\"\")","v":""},null,null,{"$f":"IF(OR('Résultats élèves'!I26<$J$3,'Résultats élèves'!I26=\"A\"),'Groupes besoin'!A34,\"\")","v":""},{"$f":"IF(AF34=\"\",\"\",'Résultats élèves'!I26)","v":""},{"$f":"IF(OR('Résultats élèves'!I26<$J$4,'Résultats élèves'!I26=\"A\"),'Groupes besoin'!A34,\"\")","v":""},{"$f":"IF(AH34=\"\",\"\",'Résultats élèves'!I26)","v":""},null,{"$f":"IF(OR('Résultats élèves'!J26<$J$3,'Résultats élèves'!J26=\"A\"),'Groupes besoin'!A34,\"\")","v":""},{"$f":"IF(AK34=\"\",\"\",'Résultats élèves'!J26)","v":""},{"$f":"IF(OR('Résultats élèves'!J26<$J$4,'Résultats élèves'!J26=\"A\"),'Groupes besoin'!A34,\"\")","v":""},{"$f":"IF(AM34=\"\",\"\",'Résultats élèves'!J26)","v":""},null,{"$f":"IF(OR('Résultats élèves'!K26<$J$3,'Résultats élèves'!K26=\"A\"),'Groupes besoin'!A34,\"\")","v":""},{"$f":"IF(AP34=\"\",\"\",'Résultats élèves'!K26)","v":""},{"$f":"IF(OR('Résultats élèves'!K26<$J$4,'Résultats élèves'!K26=\"A\"),'Groupes besoin'!A34,\"\")","v":""},{"$f":"IF(AR34=\"\",\"\",'Résultats élèves'!K26)","v":""},null,{"$f":"IF(OR('Résultats élèves'!L26<$J$3,'Résultats élèves'!L26=\"A\"),'Groupes besoin'!A34,\"\")","v":""},{"$f":"IF(AU34=\"\",\"\",'Résultats élèves'!L26)","v":""},{"$f":"IF(OR('Résultats élèves'!L26<$J$4,'Résultats élèves'!L26=\"A\"),'Groupes besoin'!A34,\"\")","v":""},{"$f":"IF(AW34=\"\",\"\",'Résultats élèves'!L26)","v":""},null,{"$f":"IF(OR('Résultats élèves'!M26<$J$3,'Résultats élèves'!M26=\"A\"),'Groupes besoin'!A34,\"\")","v":""},{"$f":"IF(AZ34=\"\",\"\",'Résultats élèves'!M26)","v":""},{"$f":"IF(OR('Résultats élèves'!M26<$J$4,'Résultats élèves'!M26=\"A\"),'Groupes besoin'!A34,\"\")","v":""},{"$f":"IF(BB34=\"\",\"\",'Résultats élèves'!M26)","v":""}]
[{"$f":"IF(Accueil!F36=\"\",\"\",Accueil!F36)","v":""},{"$f":"IF(OR('Résultats élèves'!D27<$J$3,'Résultats élèves'!D27=\"A\"),'Groupes besoin'!A35,\"\")","v":""},{"$f":"IF(B35=\"\",\"\",'Résultats élèves'!D27)","v":""},{"$f":"IF(OR('Résultats élèves'!D27<$J$4,'Résultats élèves'!D27=\"A\"),'Groupes besoin'!A35,\"\")","v":""},{"$f":"IF(D35=\"\",\"\",'Résultats élèves'!D27)","v":""},null,{"$f":"IF(OR('Résultats élèves'!E27<$J$3,'Résultats élèves'!E27=\"A\"),'Groupes besoin'!A35,\"\")","v":""},{"$f":"IF(G35=\"\",\"\",'Résultats élèves'!E27)","v":""},{"$f":"IF(OR('Résultats élèves'!E27<$J$4,'Résultats élèves'!E27=\"A\"),'Groupes besoin'!A35,\"\")","v":""},{"$f":"IF(I35=\"\",\"\",'Résultats élèves'!E27)","v":""},null,{"$f":"IF(OR('Résultats élèves'!F27<$J$3,'Résultats élèves'!F27=\"A\"),'Groupes besoin'!A35,\"\")","v":""},{"$f":"IF(L35=\"\",\"\",'Résultats élèves'!F27)","v":""},{"$f":"IF(OR('Résultats élèves'!F27<$J$4,'Résultats élèves'!F27=\"A\"),'Groupes besoin'!A35,\"\")","v":""},{"$f":"IF(N35=\"\",\"\",'Résultats élèves'!F27)","v":""},null,{"$f":"IF(OR('Résultats élèves'!G27<$J$3,'Résultats élèves'!G27=\"A\"),'Groupes besoin'!A35,\"\")","v":""},{"$f":"IF(Q35=\"\",\"\",'Résultats élèves'!G27)","v":""},{"$f":"IF(OR('Résultats élèves'!G27<$J$4,'Résultats élèves'!G27=\"A\"),'Groupes besoin'!A35,\"\")","v":""},{"$f":"IF(S35=\"\",\"\",'Résultats élèves'!G27)","v":""},null,{"$f":"IF(OR('Résultats élèves'!H27<$J$3,'Résultats élèves'!H27=\"A\"),'Groupes besoin'!A35,\"\")","v":""},{"$f":"IF(V35=\"\",\"\",'Résultats élèves'!H27)","v":""},{"$f":"IF(OR('Résultats élèves'!H27<$J$4,'Résultats élèves'!H27=\"A\"),'Groupes besoin'!A35,\"\")","v":""},{"$f":"IF(X35=\"\",\"\",'Résultats élèves'!H27)","v":""},null,24,20,{"$f":"IF(AA35<$AA$9,#REF!,\"\")","v":""},null,null,{"$f":"IF(OR('Résultats élèves'!I27<$J$3,'Résultats élèves'!I27=\"A\"),'Groupes besoin'!A35,\"\")","v":""},{"$f":"IF(AF35=\"\",\"\",'Résultats élèves'!I27)","v":""},{"$f":"IF(OR('Résultats élèves'!I27<$J$4,'Résultats élèves'!I27=\"A\"),'Groupes besoin'!A35,\"\")","v":""},{"$f":"IF(AH35=\"\",\"\",'Résultats élèves'!I27)","v":""},null,{"$f":"IF(OR('Résultats élèves'!J27<$J$3,'Résultats élèves'!J27=\"A\"),'Groupes besoin'!A35,\"\")","v":""},{"$f":"IF(AK35=\"\",\"\",'Résultats élèves'!J27)","v":""},{"$f":"IF(OR('Résultats élèves'!J27<$J$4,'Résultats élèves'!J27=\"A\"),'Groupes besoin'!A35,\"\")","v":""},{"$f":"IF(AM35=\"\",\"\",'Résultats élèves'!J27)","v":""},null,{"$f":"IF(OR('Résultats élèves'!K27<$J$3,'Résultats élèves'!K27=\"A\"),'Groupes besoin'!A35,\"\")","v":""},{"$f":"IF(AP35=\"\",\"\",'Résultats élèves'!K27)","v":""},{"$f":"IF(OR('Résultats élèves'!K27<$J$4,'Résultats élèves'!K27=\"A\"),'Groupes besoin'!A35,\"\")","v":""},{"$f":"IF(AR35=\"\",\"\",'Résultats élèves'!K27)","v":""},null,{"$f":"IF(OR('Résultats élèves'!L27<$J$3,'Résultats élèves'!L27=\"A\"),'Groupes besoin'!A35,\"\")","v":""},{"$f":"IF(AU35=\"\",\"\",'Résultats élèves'!L27)","v":""},{"$f":"IF(OR('Résultats élèves'!L27<$J$4,'Résultats élèves'!L27=\"A\"),'Groupes besoin'!A35,\"\")","v":""},{"$f":"IF(AW35=\"\",\"\",'Résultats élèves'!L27)","v":""},null,{"$f":"IF(OR('Résultats élèves'!M27<$J$3,'Résultats élèves'!M27=\"A\"),'Groupes besoin'!A35,\"\")","v":""},{"$f":"IF(AZ35=\"\",\"\",'Résultats élèves'!M27)","v":""},{"$f":"IF(OR('Résultats élèves'!M27<$J$4,'Résultats élèves'!M27=\"A\"),'Groupes besoin'!A35,\"\")","v":""},{"$f":"IF(BB35=\"\",\"\",'Résultats élèves'!M27)","v":""}]
[{"$f":"IF(Accueil!F37=\"\",\"\",Accueil!F37)","v":""},{"$f":"IF(OR('Résultats élèves'!D28<$J$3,'Résultats élèves'!D28=\"A\"),'Groupes besoin'!A36,\"\")","v":""},{"$f":"IF(B36=\"\",\"\",'Résultats élèves'!D28)","v":""},{"$f":"IF(OR('Résultats élèves'!D28<$J$4,'Résultats élèves'!D28=\"A\"),'Groupes besoin'!A36,\"\")","v":""},{"$f":"IF(D36=\"\",\"\",'Résultats élèves'!D28)","v":""},null,{"$f":"IF(OR('Résultats élèves'!E28<$J$3,'Résultats élèves'!E28=\"A\"),'Groupes besoin'!A36,\"\")","v":""},{"$f":"IF(G36=\"\",\"\",'Résultats élèves'!E28)","v":""},{"$f":"IF(OR('Résultats élèves'!E28<$J$4,'Résultats élèves'!E28=\"A\"),'Groupes besoin'!A36,\"\")","v":""},{"$f":"IF(I36=\"\",\"\",'Résultats élèves'!E28)","v":""},null,{"$f":"IF(OR('Résultats élèves'!F28<$J$3,'Résultats élèves'!F28=\"A\"),'Groupes besoin'!A36,\"\")","v":""},{"$f":"IF(L36=\"\",\"\",'Résultats élèves'!F28)","v":""},{"$f":"IF(OR('Résultats élèves'!F28<$J$4,'Résultats élèves'!F28=\"A\"),'Groupes besoin'!A36,\"\")","v":""},{"$f":"IF(N36=\"\",\"\",'Résultats élèves'!F28)","v":""},null,{"$f":"IF(OR('Résultats élèves'!G28<$J$3,'Résultats élèves'!G28=\"A\"),'Groupes besoin'!A36,\"\")","v":""},{"$f":"IF(Q36=\"\",\"\",'Résultats élèves'!G28)","v":""},{"$f":"IF(OR('Résultats élèves'!G28<$J$4,'Résultats élèves'!G28=\"A\"),'Groupes besoin'!A36,\"\")","v":""},{"$f":"IF(S36=\"\",\"\",'Résultats élèves'!G28)","v":""},null,{"$f":"IF(OR('Résultats élèves'!H28<$J$3,'Résultats élèves'!H28=\"A\"),'Groupes besoin'!A36,\"\")","v":""},{"$f":"IF(V36=\"\",\"\",'Résultats élèves'!H28)","v":""},{"$f":"IF(OR('Résultats élèves'!H28<$J$4,'Résultats élèves'!H28=\"A\"),'Groupes besoin'!A36,\"\")","v":""},{"$f":"IF(X36=\"\",\"\",'Résultats élèves'!H28)","v":""},null,24,20,{"$f":"IF(AA36<$AA$9,#REF!,\"\")","v":""},null,null,{"$f":"IF(OR('Résultats élèves'!I28<$J$3,'Résultats élèves'!I28=\"A\"),'Groupes besoin'!A36,\"\")","v":""},{"$f":"IF(AF36=\"\",\"\",'Résultats élèves'!I28)","v":""},{"$f":"IF(OR('Résultats élèves'!I28<$J$4,'Résultats élèves'!I28=\"A\"),'Groupes besoin'!A36,\"\")","v":""},{"$f":"IF(AH36=\"\",\"\",'Résultats élèves'!I28)","v":""},null,{"$f":"IF(OR('Résultats élèves'!J28<$J$3,'Résultats élèves'!J28=\"A\"),'Groupes besoin'!A36,\"\")","v":""},{"$f":"IF(AK36=\"\",\"\",'Résultats élèves'!J28)","v":""},{"$f":"IF(OR('Résultats élèves'!J28<$J$4,'Résultats élèves'!J28=\"A\"),'Groupes besoin'!A36,\"\")","v":""},{"$f":"IF(AM36=\"\",\"\",'Résultats élèves'!J28)","v":""},null,{"$f":"IF(OR('Résultats élèves'!K28<$J$3,'Résultats élèves'!K28=\"A\"),'Groupes besoin'!A36,\"\")","v":""},{"$f":"IF(AP36=\"\",\"\",'Résultats élèves'!K28)","v":""},{"$f":"IF(OR('Résultats élèves'!K28<$J$4,'Résultats élèves'!K28=\"A\"),'Groupes besoin'!A36,\"\")","v":""},{"$f":"IF(AR36=\"\",\"\",'Résultats élèves'!K28)","v":""},null,{"$f":"IF(OR('Résultats élèves'!L28<$J$3,'Résultats élèves'!L28=\"A\"),'Groupes besoin'!A36,\"\")","v":""},{"$f":"IF(AU36=\"\",\"\",'Résultats élèves'!L28)","v":""},{"$f":"IF(OR('Résultats élèves'!L28<$J$4,'Résultats élèves'!L28=\"A\"),'Groupes besoin'!A36,\"\")","v":""},{"$f":"IF(AW36=\"\",\"\",'Résultats élèves'!L28)","v":""},null,{"$f":"IF(OR('Résultats élèves'!M28<$J$3,'Résultats élèves'!M28=\"A\"),'Groupes besoin'!A36,\"\")","v":""},{"$f":"IF(AZ36=\"\",\"\",'Résultats élèves'!M28)","v":""},{"$f":"IF(OR('Résultats élèves'!M28<$J$4,'Résultats élèves'!M28=\"A\"),'Groupes besoin'!A36,\"\")","v":""},{"$f":"IF(BB36=\"\",\"\",'Résultats élèves'!M28)","v":""}]
[{"$f":"IF(Accueil!F38=\"\",\"\",Accueil!F38)","v":""},{"$f":"IF(OR('Résultats élèves'!D29<$J$3,'Résultats élèves'!D29=\"A\"),'Groupes besoin'!A37,\"\")","v":""},{"$f":"IF(B37=\"\",\"\",'Résultats élèves'!D29)","v":""},{"$f":"IF(OR('Résultats élèves'!D29<$J$4,'Résultats élèves'!D29=\"A\"),'Groupes besoin'!A37,\"\")","v":""},{"$f":"IF(D37=\"\",\"\",'Résultats élèves'!D29)","v":""},null,{"$f":"IF(OR('Résultats élèves'!E29<$J$3,'Résultats élèves'!E29=\"A\"),'Groupes besoin'!A37,\"\")","v":""},{"$f":"IF(G37=\"\",\"\",'Résultats élèves'!E29)","v":""},{"$f":"IF(OR('Résultats élèves'!E29<$J$4,'Résultats élèves'!E29=\"A\"),'Groupes besoin'!A37,\"\")","v":""},{"$f":"IF(I37=\"\",\"\",'Résultats élèves'!E29)","v":""},null,{"$f":"IF(OR('Résultats élèves'!F29<$J$3,'Résultats élèves'!F29=\"A\"),'Groupes besoin'!A37,\"\")","v":""},{"$f":"IF(L37=\"\",\"\",'Résultats élèves'!F29)","v":""},{"$f":"IF(OR('Résultats élèves'!F29<$J$4,'Résultats élèves'!F29=\"A\"),'Groupes besoin'!A37,\"\")","v":""},{"$f":"IF(N37=\"\",\"\",'Résultats élèves'!F29)","v":""},null,{"$f":"IF(OR('Résultats élèves'!G29<$J$3,'Résultats élèves'!G29=\"A\"),'Groupes besoin'!A37,\"\")","v":""},{"$f":"IF(Q37=\"\",\"\",'Résultats élèves'!G29)","v":""},{"$f":"IF(OR('Résultats élèves'!G29<$J$4,'Résultats élèves'!G29=\"A\"),'Groupes besoin'!A37,\"\")","v":""},{"$f":"IF(S37=\"\",\"\",'Résultats élèves'!G29)","v":""},null,{"$f":"IF(OR('Résultats élèves'!H29<$J$3,'Résultats élèves'!H29=\"A\"),'Groupes besoin'!A37,\"\")","v":""},{"$f":"IF(V37=\"\",\"\",'Résultats élèves'!H29)","v":""},{"$f":"IF(OR('Résultats élèves'!H29<$J$4,'Résultats élèves'!H29=\"A\"),'Groupes besoin'!A37,\"\")","v":""},{"$f":"IF(X37=\"\",\"\",'Résultats élèves'!H29)","v":""},null,24,20,{"$f":"IF(AA37<$AA$9,#REF!,\"\")","v":""},null,null,{"$f":"IF(OR('Résultats élèves'!I29<$J$3,'Résultats élèves'!I29=\"A\"),'Groupes besoin'!A37,\"\")","v":""},{"$f":"IF(AF37=\"\",\"\",'Résultats élèves'!I29)","v":""},{"$f":"IF(OR('Résultats élèves'!I29<$J$4,'Résultats élèves'!I29=\"A\"),'Groupes besoin'!A37,\"\")","v":""},{"$f":"IF(AH37=\"\",\"\",'Résultats élèves'!I29)","v":""},null,{"$f":"IF(OR('Résultats élèves'!J29<$J$3,'Résultats élèves'!J29=\"A\"),'Groupes besoin'!A37,\"\")","v":""},{"$f":"IF(AK37=\"\",\"\",'Résultats élèves'!J29)","v":""},{"$f":"IF(OR('Résultats élèves'!J29<$J$4,'Résultats élèves'!J29=\"A\"),'Groupes besoin'!A37,\"\")","v":""},{"$f":"IF(AM37=\"\",\"\",'Résultats élèves'!J29)","v":""},null,{"$f":"IF(OR('Résultats élèves'!K29<$J$3,'Résultats élèves'!K29=\"A\"),'Groupes besoin'!A37,\"\")","v":""},{"$f":"IF(AP37=\"\",\"\",'Résultats élèves'!K29)","v":""},{"$f":"IF(OR('Résultats élèves'!K29<$J$4,'Résultats élèves'!K29=\"A\"),'Groupes besoin'!A37,\"\")","v":""},{"$f":"IF(AR37=\"\",\"\",'Résultats élèves'!K29)","v":""},null,{"$f":"IF(OR('Résultats élèves'!L29<$J$3,'Résultats élèves'!L29=\"A\"),'Groupes besoin'!A37,\"\")","v":""},{"$f":"IF(AU37=\"\",\"\",'Résultats élèves'!L29)","v":""},{"$f":"IF(OR('Résultats élèves'!L29<$J$4,'Résultats élèves'!L29=\"A\"),'Groupes besoin'!A37,\"\")","v":""},{"$f":"IF(AW37=\"\",\"\",'Résultats élèves'!L29)","v":""},null,{"$f":"IF(OR('Résultats élèves'!M29<$J$3,'Résultats élèves'!M29=\"A\"),'Groupes besoin'!A37,\"\")","v":""},{"$f":"IF(AZ37=\"\",\"\",'Résultats élèves'!M29)","v":""},{"$f":"IF(OR('Résultats élèves'!M29<$J$4,'Résultats élèves'!M29=\"A\"),'Groupes besoin'!A37,\"\")","v":""},{"$f":"IF(BB37=\"\",\"\",'Résultats élèves'!M29)","v":""}]
[{"$f":"IF(Accueil!F39=\"\",\"\",Accueil!F39)","v":""},{"$f":"IF(OR('Résultats élèves'!D30<$J$3,'Résultats élèves'!D30=\"A\"),'Groupes besoin'!A38,\"\")","v":""},{"$f":"IF(B38=\"\",\"\",'Résultats élèves'!D30)","v":""},{"$f":"IF(OR('Résultats élèves'!D30<$J$4,'Résultats élèves'!D30=\"A\"),'Groupes besoin'!A38,\"\")","v":""},{"$f":"IF(D38=\"\",\"\",'Résultats élèves'!D30)","v":""},null,{"$f":"IF(OR('Résultats élèves'!E30<$J$3,'Résultats élèves'!E30=\"A\"),'Groupes besoin'!A38,\"\")","v":""},{"$f":"IF(G38=\"\",\"\",'Résultats élèves'!E30)","v":""},{"$f":"IF(OR('Résultats élèves'!E30<$J$4,'Résultats élèves'!E30=\"A\"),'Groupes besoin'!A38,\"\")","v":""},{"$f":"IF(I38=\"\",\"\",'Résultats élèves'!E30)","v":""},null,{"$f":"IF(OR('Résultats élèves'!F30<$J$3,'Résultats élèves'!F30=\"A\"),'Groupes besoin'!A38,\"\")","v":""},{"$f":"IF(L38=\"\",\"\",'Résultats élèves'!F30)","v":""},{"$f":"IF(OR('Résultats élèves'!F30<$J$4,'Résultats élèves'!F30=\"A\"),'Groupes besoin'!A38,\"\")","v":""},{"$f":"IF(N38=\"\",\"\",'Résultats élèves'!F30)","v":""},null,{"$f":"IF(OR('Résultats élèves'!G30<$J$3,'Résultats élèves'!G30=\"A\"),'Groupes besoin'!A38,\"\")","v":""},{"$f":"IF(Q38=\"\",\"\",'Résultats élèves'!G30)","v":""},{"$f":"IF(OR('Résultats élèves'!G30<$J$4,'Résultats élèves'!G30=\"A\"),'Groupes besoin'!A38,\"\")","v":""},{"$f":"IF(S38=\"\",\"\",'Résultats élèves'!G30)","v":""},null,{"$f":"IF(OR('Résultats élèves'!H30<$J$3,'Résultats élèves'!H30=\"A\"),'Groupes besoin'!A38,\"\")","v":""},{"$f":"IF(V38=\"\",\"\",'Résultats élèves'!H30)","v":""},{"$f":"IF(OR('Résultats élèves'!H30<$J$4,'Résultats élèves'!H30=\"A\"),'Groupes besoin'!A38,\"\")","v":""},{"$f":"IF(X38=\"\",\"\",'Résultats élèves'!H30)","v":""},null,24,20,{"$f":"IF(AA38<$AA$9,#REF!,\"\")","v":""},null,null,{"$f":"IF(OR('Résultats élèves'!I30<$J$3,'Résultats élèves'!I30=\"A\"),'Groupes besoin'!A38,\"\")","v":""},{"$f":"IF(AF38=\"\",\"\",'Résultats élèves'!I30)","v":""},{"$f":"IF(OR('Résultats élèves'!I30<$J$4,'Résultats élèves'!I30=\"A\"),'Groupes besoin'!A38,\"\")","v":""},{"$f":"IF(AH38=\"\",\"\",'Résultats élèves'!I30)","v":""},null,{"$f":"IF(OR('Résultats élèves'!J30<$J$3,'Résultats élèves'!J30=\"A\"),'Groupes besoin'!A38,\"\")","v":""},{"$f":"IF(AK38=\"\",\"\",'Résultats élèves'!J30)","v":""},{"$f":"IF(OR('Résultats élèves'!J30<$J$4,'Résultats élèves'!J30=\"A\"),'Groupes besoin'!A38,\"\")","v":""},{"$f":"IF(AM38=\"\",\"\",'Résultats élèves'!J30)","v":""},null,{"$f":"IF(OR('Résultats élèves'!K30<$J$3,'Résultats élèves'!K30=\"A\"),'Groupes besoin'!A38,\"\")","v":""},{"$f":"IF(AP38=\"\",\"\",'Résultats élèves'!K30)","v":""},{"$f":"IF(OR('Résultats élèves'!K30<$J$4,'Résultats élèves'!K30=\"A\"),'Groupes besoin'!A38,\"\")","v":""},{"$f":"IF(AR38=\"\",\"\",'Résultats élèves'!K30)","v":""},null,{"$f":"IF(OR('Résultats élèves'!L30<$J$3,'Résultats élèves'!L30=\"A\"),'Groupes besoin'!A38,\"\")","v":""},{"$f":"IF(AU38=\"\",\"\",'Résultats élèves'!L30)","v":""},{"$f":"IF(OR('Résultats élèves'!L30<$J$4,'Résultats élèves'!L30=\"A\"),'Groupes besoin'!A38,\"\")","v":""},{"$f":"IF(AW38=\"\",\"\",'Résultats élèves'!L30)","v":""},null,{"$f":"IF(OR('Résultats élèves'!M30<$J$3,'Résultats élèves'!M30=\"A\"),'Groupes besoin'!A38,\"\")","v":""},{"$f":"IF(AZ38=\"\",\"\",'Résultats élèves'!M30)","v":""},{"$f":"IF(OR('Résultats élèves'!M30<$J$4,'Résultats élèves'!M30=\"A\"),'Groupes besoin'!A38,\"\")","v":""},{"$f":"IF(BB38=\"\",\"\",'Résultats élèves'!M30)","v":""}]
[{"$f":"IF(Accueil!F40=\"\",\"\",Accueil!F40)","v":""},{"$f":"IF(OR('Résultats élèves'!D31<$J$3,'Résultats élèves'!D31=\"A\"),'Groupes besoin'!A39,\"\")","v":""},{"$f":"IF(B39=\"\",\"\",'Résultats élèves'!D31)","v":""},{"$f":"IF(OR('Résultats élèves'!D31<$J$4,'Résultats élèves'!D31=\"A\"),'Groupes besoin'!A39,\"\")","v":""},{"$f":"IF(D39=\"\",\"\",'Résultats élèves'!D31)","v":""},null,{"$f":"IF(OR('Résultats élèves'!E31<$J$3,'Résultats élèves'!E31=\"A\"),'Groupes besoin'!A39,\"\")","v":""},{"$f":"IF(G39=\"\",\"\",'Résultats élèves'!E31)","v":""},{"$f":"IF(OR('Résultats élèves'!E31<$J$4,'Résultats élèves'!E31=\"A\"),'Groupes besoin'!A39,\"\")","v":""},{"$f":"IF(I39=\"\",\"\",'Résultats élèves'!E31)","v":""},null,{"$f":"IF(OR('Résultats élèves'!F31<$J$3,'Résultats élèves'!F31=\"A\"),'Groupes besoin'!A39,\"\")","v":""},{"$f":"IF(L39=\"\",\"\",'Résultats élèves'!F31)","v":""},{"$f":"IF(OR('Résultats élèves'!F31<$J$4,'Résultats élèves'!F31=\"A\"),'Groupes besoin'!A39,\"\")","v":""},{"$f":"IF(N39=\"\",\"\",'Résultats élèves'!F31)","v":""},null,{"$f":"IF(OR('Résultats élèves'!G31<$J$3,'Résultats élèves'!G31=\"A\"),'Groupes besoin'!A39,\"\")","v":""},{"$f":"IF(Q39=\"\",\"\",'Résultats élèves'!G31)","v":""},{"$f":"IF(OR('Résultats élèves'!G31<$J$4,'Résultats élèves'!G31=\"A\"),'Groupes besoin'!A39,\"\")","v":""},{"$f":"IF(S39=\"\",\"\",'Résultats élèves'!G31)","v":""},null,{"$f":"IF(OR('Résultats élèves'!H31<$J$3,'Résultats élèves'!H31=\"A\"),'Groupes besoin'!A39,\"\")","v":""},{"$f":"IF(V39=\"\",\"\",'Résultats élèves'!H31)","v":""},{"$f":"IF(OR('Résultats élèves'!H31<$J$4,'Résultats élèves'!H31=\"A\"),'Groupes besoin'!A39,\"\")","v":""},{"$f":"IF(X39=\"\",\"\",'Résultats élèves'!H31)","v":""},null,24,20,{"$f":"IF(AA39<$AA$9,#REF!,\"\")","v":""},null,null,{"$f":"IF(OR('Résultats élèves'!I31<$J$3,'Résultats élèves'!I31=\"A\"),'Groupes besoin'!A39,\"\")","v":""},{"$f":"IF(AF39=\"\",\"\",'Résultats élèves'!I31)","v":""},{"$f":"IF(OR('Résultats élèves'!I31<$J$4,'Résultats élèves'!I31=\"A\"),'Groupes besoin'!A39,\"\")","v":""},{"$f":"IF(AH39=\"\",\"\",'Résultats élèves'!I31)","v":""},null,{"$f":"IF(OR('Résultats élèves'!J31<$J$3,'Résultats élèves'!J31=\"A\"),'Groupes besoin'!A39,\"\")","v":""},{"$f":"IF(AK39=\"\",\"\",'Résultats élèves'!J31)","v":""},{"$f":"IF(OR('Résultats élèves'!J31<$J$4,'Résultats élèves'!J31=\"A\"),'Groupes besoin'!A39,\"\")","v":""},{"$f":"IF(AM39=\"\",\"\",'Résultats élèves'!J31)","v":""},null,{"$f":"IF(OR('Résultats élèves'!K31<$J$3,'Résultats élèves'!K31=\"A\"),'Groupes besoin'!A39,\"\")","v":""},{"$f":"IF(AP39=\"\",\"\",'Résultats élèves'!K31)","v":""},{"$f":"IF(OR('Résultats élèves'!K31<$J$4,'Résultats élèves'!K31=\"A\"),'Groupes besoin'!A39,\"\")","v":""},{"$f":"IF(AR39=\"\",\"\",'Résultats élèves'!K31)","v":""},null,{"$f":"IF(OR('Résultats élèves'!L31<$J$3,'Résultats élèves'!L31=\"A\"),'Groupes besoin'!A39,\"\")","v":""},{"$f":"IF(AU39=\"\",\"\",'Résultats élèves'!L31)","v":""},{"$f":"IF(OR('Résultats élèves'!L31<$J$4,'Résultats élèves'!L31=\"A\"),'Groupes besoin'!A39,\"\")","v":""},{"$f":"IF(AW39=\"\",\"\",'Résultats élèves'!L31)","v":""},null,{"$f":"IF(OR('Résultats élèves'!M31<$J$3,'Résultats élèves'!M31=\"A\"),'Groupes besoin'!A39,\"\")","v":""},{"$f":"IF(AZ39=\"\",\"\",'Résultats élèves'!M31)","v":""},{"$f":"IF(OR('Résultats élèves'!M31<$J$4,'Résultats élèves'!M31=\"A\"),'Groupes besoin'!A39,\"\")","v":""},{"$f":"IF(BB39=\"\",\"\",'Résultats élèves'!M31)","v":""}]
[{"$f":"IF(Accueil!F41=\"\",\"\",Accueil!F41)","v":""},{"$f":"IF(OR('Résultats élèves'!D32<$J$3,'Résultats élèves'!D32=\"A\"),'Groupes besoin'!A40,\"\")","v":""},{"$f":"IF(B40=\"\",\"\",'Résultats élèves'!D32)","v":""},{"$f":"IF(OR('Résultats élèves'!D32<$J$4,'Résultats élèves'!D32=\"A\"),'Groupes besoin'!A40,\"\")","v":""},{"$f":"IF(D40=\"\",\"\",'Résultats élèves'!D32)","v":""},null,{"$f":"IF(OR('Résultats élèves'!E32<$J$3,'Résultats élèves'!E32=\"A\"),'Groupes besoin'!A40,\"\")","v":""},{"$f":"IF(G40=\"\",\"\",'Résultats élèves'!E32)","v":""},{"$f":"IF(OR('Résultats élèves'!E32<$J$4,'Résultats élèves'!E32=\"A\"),'Groupes besoin'!A40,\"\")","v":""},{"$f":"IF(I40=\"\",\"\",'Résultats élèves'!E32)","v":""},null,{"$f":"IF(OR('Résultats élèves'!F32<$J$3,'Résultats élèves'!F32=\"A\"),'Groupes besoin'!A40,\"\")","v":""},{"$f":"IF(L40=\"\",\"\",'Résultats élèves'!F32)","v":""},{"$f":"IF(OR('Résultats élèves'!F32<$J$4,'Résultats élèves'!F32=\"A\"),'Groupes besoin'!A40,\"\")","v":""},{"$f":"IF(N40=\"\",\"\",'Résultats élèves'!F32)","v":""},null,{"$f":"IF(OR('Résultats élèves'!G32<$J$3,'Résultats élèves'!G32=\"A\"),'Groupes besoin'!A40,\"\")","v":""},{"$f":"IF(Q40=\"\",\"\",'Résultats élèves'!G32)","v":""},{"$f":"IF(OR('Résultats élèves'!G32<$J$4,'Résultats élèves'!G32=\"A\"),'Groupes besoin'!A40,\"\")","v":""},{"$f":"IF(S40=\"\",\"\",'Résultats élèves'!G32)","v":""},null,{"$f":"IF(OR('Résultats élèves'!H32<$J$3,'Résultats élèves'!H32=\"A\"),'Groupes besoin'!A40,\"\")","v":""},{"$f":"IF(V40=\"\",\"\",'Résultats élèves'!H32)","v":""},{"$f":"IF(OR('Résultats élèves'!H32<$J$4,'Résultats élèves'!H32=\"A\"),'Groupes besoin'!A40,\"\")","v":""},{"$f":"IF(X40=\"\",\"\",'Résultats élèves'!H32)","v":""},null,24,20,{"$f":"IF(AA40<$AA$9,#REF!,\"\")","v":""},null,null,{"$f":"IF(OR('Résultats élèves'!I32<$J$3,'Résultats élèves'!I32=\"A\"),'Groupes besoin'!A40,\"\")","v":""},{"$f":"IF(AF40=\"\",\"\",'Résultats élèves'!I32)","v":""},{"$f":"IF(OR('Résultats élèves'!I32<$J$4,'Résultats élèves'!I32=\"A\"),'Groupes besoin'!A40,\"\")","v":""},{"$f":"IF(AH40=\"\",\"\",'Résultats élèves'!I32)","v":""},null,{"$f":"IF(OR('Résultats élèves'!J32<$J$3,'Résultats élèves'!J32=\"A\"),'Groupes besoin'!A40,\"\")","v":""},{"$f":"IF(AK40=\"\",\"\",'Résultats élèves'!J32)","v":""},{"$f":"IF(OR('Résultats élèves'!J32<$J$4,'Résultats élèves'!J32=\"A\"),'Groupes besoin'!A40,\"\")","v":""},{"$f":"IF(AM40=\"\",\"\",'Résultats élèves'!J32)","v":""},null,{"$f":"IF(OR('Résultats élèves'!K32<$J$3,'Résultats élèves'!K32=\"A\"),'Groupes besoin'!A40,\"\")","v":""},{"$f":"IF(AP40=\"\",\"\",'Résultats élèves'!K32)","v":""},{"$f":"IF(OR('Résultats élèves'!K32<$J$4,'Résultats élèves'!K32=\"A\"),'Groupes besoin'!A40,\"\")","v":""},{"$f":"IF(AR40=\"\",\"\",'Résultats élèves'!K32)","v":""},null,{"$f":"IF(OR('Résultats élèves'!L32<$J$3,'Résultats élèves'!L32=\"A\"),'Groupes besoin'!A40,\"\")","v":""},{"$f":"IF(AU40=\"\",\"\",'Résultats élèves'!L32)","v":""},{"$f":"IF(OR('Résultats élèves'!L32<$J$4,'Résultats élèves'!L32=\"A\"),'Groupes besoin'!A40,\"\")","v":""},{"$f":"IF(AW40=\"\",\"\",'Résultats élèves'!L32)","v":""},null,{"$f":"IF(OR('Résultats élèves'!M32<$J$3,'Résultats élèves'!M32=\"A\"),'Groupes besoin'!A40,\"\")","v":""},{"$f":"IF(AZ40=\"\",\"\",'Résultats élèves'!M32)","v":""},{"$f":"IF(OR('Résultats élèves'!M32<$J$4,'Résultats élèves'!M32=\"A\"),'Groupes besoin'!A40,\"\")","v":""},{"$f":"IF(BB40=\"\",\"\",'Résultats élèves'!M32)","v":""}]
[{"$f":"IF(Accueil!F42=\"\",\"\",Accueil!F42)","v":""},{"$f":"IF(OR('Résultats élèves'!D33<$J$3,'Résultats élèves'!D33=\"A\"),'Groupes besoin'!A41,\"\")","v":""},{"$f":"IF(B41=\"\",\"\",'Résultats élèves'!D33)","v":""},{"$f":"IF(OR('Résultats élèves'!D33<$J$4,'Résultats élèves'!D33=\"A\"),'Groupes besoin'!A41,\"\")","v":""},{"$f":"IF(D41=\"\",\"\",'Résultats élèves'!D33)","v":""},null,{"$f":"IF(OR('Résultats élèves'!E33<$J$3,'Résultats élèves'!E33=\"A\"),'Groupes besoin'!A41,\"\")","v":""},{"$f":"IF(G41=\"\",\"\",'Résultats élèves'!E33)","v":""},{"$f":"IF(OR('Résultats élèves'!E33<$J$4,'Résultats élèves'!E33=\"A\"),'Groupes besoin'!A41,\"\")","v":""},{"$f":"IF(I41=\"\",\"\",'Résultats élèves'!E33)","v":""},null,{"$f":"IF(OR('Résultats élèves'!F33<$J$3,'Résultats élèves'!F33=\"A\"),'Groupes besoin'!A41,\"\")","v":""},{"$f":"IF(L41=\"\",\"\",'Résultats élèves'!F33)","v":""},{"$f":"IF(OR('Résultats élèves'!F33<$J$4,'Résultats élèves'!F33=\"A\"),'Groupes besoin'!A41,\"\")","v":""},{"$f":"IF(N41=\"\",\"\",'Résultats élèves'!F33)","v":""},null,{"$f":"IF(OR('Résultats élèves'!G33<$J$3,'Résultats élèves'!G33=\"A\"),'Groupes besoin'!A41,\"\")","v":""},{"$f":"IF(Q41=\"\",\"\",'Résultats élèves'!G33)","v":""},{"$f":"IF(OR('Résultats élèves'!G33<$J$4,'Résultats élèves'!G33=\"A\"),'Groupes besoin'!A41,\"\")","v":""},{"$f":"IF(S41=\"\",\"\",'Résultats élèves'!G33)","v":""},null,{"$f":"IF(OR('Résultats élèves'!H33<$J$3,'Résultats élèves'!H33=\"A\"),'Groupes besoin'!A41,\"\")","v":""},{"$f":"IF(V41=\"\",\"\",'Résultats élèves'!H33)","v":""},{"$f":"IF(OR('Résultats élèves'!H33<$J$4,'Résultats élèves'!H33=\"A\"),'Groupes besoin'!A41,\"\")","v":""},{"$f":"IF(X41=\"\",\"\",'Résultats élèves'!H33)","v":""},null,24,20,{"$f":"IF(AA41<$AA$9,#REF!,\"\")","v":""},null,null,{"$f":"IF(OR('Résultats élèves'!I33<$J$3,'Résultats élèves'!I33=\"A\"),'Groupes besoin'!A41,\"\")","v":""},{"$f":"IF(AF41=\"\",\"\",'Résultats élèves'!I33)","v":""},{"$f":"IF(OR('Résultats élèves'!I33<$J$4,'Résultats élèves'!I33=\"A\"),'Groupes besoin'!A41,\"\")","v":""},{"$f":"IF(AH41=\"\",\"\",'Résultats élèves'!I33)","v":""},null,{"$f":"IF(OR('Résultats élèves'!J33<$J$3,'Résultats élèves'!J33=\"A\"),'Groupes besoin'!A41,\"\")","v":""},{"$f":"IF(AK41=\"\",\"\",'Résultats élèves'!J33)","v":""},{"$f":"IF(OR('Résultats élèves'!J33<$J$4,'Résultats élèves'!J33=\"A\"),'Groupes besoin'!A41,\"\")","v":""},{"$f":"IF(AM41=\"\",\"\",'Résultats élèves'!J33)","v":""},null,{"$f":"IF(OR('Résultats élèves'!K33<$J$3,'Résultats élèves'!K33=\"A\"),'Groupes besoin'!A41,\"\")","v":""},{"$f":"IF(AP41=\"\",\"\",'Résultats élèves'!K33)","v":""},{"$f":"IF(OR('Résultats élèves'!K33<$J$4,'Résultats élèves'!K33=\"A\"),'Groupes besoin'!A41,\"\")","v":""},{"$f":"IF(AR41=\"\",\"\",'Résultats élèves'!K33)","v":""},null,{"$f":"IF(OR('Résultats élèves'!L33<$J$3,'Résultats élèves'!L33=\"A\"),'Groupes besoin'!A41,\"\")","v":""},{"$f":"IF(AU41=\"\",\"\",'Résultats élèves'!L33)","v":""},{"$f":"IF(OR('Résultats élèves'!L33<$J$4,'Résultats élèves'!L33=\"A\"),'Groupes besoin'!A41,\"\")","v":""},{"$f":"IF(AW41=\"\",\"\",'Résultats élèves'!L33)","v":""},null,{"$f":"IF(OR('Résultats élèves'!M33<$J$3,'Résultats élèves'!M33=\"A\"),'Groupes besoin'!A41,\"\")","v":""},{"$f":"IF(AZ41=\"\",\"\",'Résultats élèves'!M33)","v":""},{"$f":"IF(OR('Résultats élèves'!M33<$J$4,'Résultats élèves'!M33=\"A\"),'Groupes besoin'!A41,\"\")","v":""},{"$f":"IF(BB41=\"\",\"\",'Résultats élèves'!M33)","v":""}]
[{"$f":"IF(Accueil!F43=\"\",\"\",Accueil!F43)","v":""},{"$f":"IF(OR('Résultats élèves'!D34<$J$3,'Résultats élèves'!D34=\"A\"),'Groupes besoin'!A42,\"\")","v":""},{"$f":"IF(B42=\"\",\"\",'Résultats élèves'!D34)","v":""},{"$f":"IF(OR('Résultats élèves'!D34<$J$4,'Résultats élèves'!D34=\"A\"),'Groupes besoin'!A42,\"\")","v":""},{"$f":"IF(D42=\"\",\"\",'Résultats élèves'!D34)","v":""},null,{"$f":"IF(OR('Résultats élèves'!E34<$J$3,'Résultats élèves'!E34=\"A\"),'Groupes besoin'!A42,\"\")","v":""},{"$f":"IF(G42=\"\",\"\",'Résultats élèves'!E34)","v":""},{"$f":"IF(OR('Résultats élèves'!E34<$J$4,'Résultats élèves'!E34=\"A\"),'Groupes besoin'!A42,\"\")","v":""},{"$f":"IF(I42=\"\",\"\",'Résultats élèves'!E34)","v":""},null,{"$f":"IF(OR('Résultats élèves'!F34<$J$3,'Résultats élèves'!F34=\"A\"),'Groupes besoin'!A42,\"\")","v":""},{"$f":"IF(L42=\"\",\"\",'Résultats élèves'!F34)","v":""},{"$f":"IF(OR('Résultats élèves'!F34<$J$4,'Résultats élèves'!F34=\"A\"),'Groupes besoin'!A42,\"\")","v":""},{"$f":"IF(N42=\"\",\"\",'Résultats élèves'!F34)","v":""},null,{"$f":"IF(OR('Résultats élèves'!G34<$J$3,'Résultats élèves'!G34=\"A\"),'Groupes besoin'!A42,\"\")","v":""},{"$f":"IF(Q42=\"\",\"\",'Résultats élèves'!G34)","v":""},{"$f":"IF(OR('Résultats élèves'!G34<$J$4,'Résultats élèves'!G34=\"A\"),'Groupes besoin'!A42,\"\")","v":""},{"$f":"IF(S42=\"\",\"\",'Résultats élèves'!G34)","v":""},null,{"$f":"IF(OR('Résultats élèves'!H34<$J$3,'Résultats élèves'!H34=\"A\"),'Groupes besoin'!A42,\"\")","v":""},{"$f":"IF(V42=\"\",\"\",'Résultats élèves'!H34)","v":""},{"$f":"IF(OR('Résultats élèves'!H34<$J$4,'Résultats élèves'!H34=\"A\"),'Groupes besoin'!A42,\"\")","v":""},{"$f":"IF(X42=\"\",\"\",'Résultats élèves'!H34)","v":""},null,24,20,{"$f":"IF(AA42<$AA$9,#REF!,\"\")","v":""},null,null,{"$f":"IF(OR('Résultats élèves'!I34<$J$3,'Résultats élèves'!I34=\"A\"),'Groupes besoin'!A42,\"\")","v":""},{"$f":"IF(AF42=\"\",\"\",'Résultats élèves'!I34)","v":""},{"$f":"IF(OR('Résultats élèves'!I34<$J$4,'Résultats élèves'!I34=\"A\"),'Groupes besoin'!A42,\"\")","v":""},{"$f":"IF(AH42=\"\",\"\",'Résultats élèves'!I34)","v":""},null,{"$f":"IF(OR('Résultats élèves'!J34<$J$3,'Résultats élèves'!J34=\"A\"),'Groupes besoin'!A42,\"\")","v":""},{"$f":"IF(AK42=\"\",\"\",'Résultats élèves'!J34)","v":""},{"$f":"IF(OR('Résultats élèves'!J34<$J$4,'Résultats élèves'!J34=\"A\"),'Groupes besoin'!A42,\"\")","v":""},{"$f":"IF(AM42=\"\",\"\",'Résultats élèves'!J34)","v":""},null,{"$f":"IF(OR('Résultats élèves'!K34<$J$3,'Résultats élèves'!K34=\"A\"),'Groupes besoin'!A42,\"\")","v":""},{"$f":"IF(AP42=\"\",\"\",'Résultats élèves'!K34)","v":""},{"$f":"IF(OR('Résultats élèves'!K34<$J$4,'Résultats élèves'!K34=\"A\"),'Groupes besoin'!A42,\"\")","v":""},{"$f":"IF(AR42=\"\",\"\",'Résultats élèves'!K34)","v":""},null,{"$f":"IF(OR('Résultats élèves'!L34<$J$3,'Résultats élèves'!L34=\"A\"),'Groupes besoin'!A42,\"\")","v":""},{"$f":"IF(AU42=\"\",\"\",'Résultats élèves'!L34)","v":""},{"$f":"IF(OR('Résultats élèves'!L34<$J$4,'Résultats élèves'!L34=\"A\"),'Groupes besoin'!A42,\"\")","v":""},{"$f":"IF(AW42=\"\",\"\",'Résultats élèves'!L34)","v":""},null,{"$f":"IF(OR('Résultats élèves'!M34<$J$3,'Résultats élèves'!M34=\"A\"),'Groupes besoin'!A42,\"\")","v":""},{"$f":"IF(AZ42=\"\",\"\",'Résultats élèves'!M34)","v":""},{"$f":"IF(OR('Résultats élèves'!M34<$J$4,'Résultats élèves'!M34=\"A\"),'Groupes besoin'!A42,\"\")","v":""},{"$f":"IF(BB42=\"\",\"\",'Résultats élèves'!M34)","v":""}]
[{"$f":"IF(Accueil!F44=\"\",\"\",Accueil!F44)","v":""},{"$f":"IF(OR('Résultats élèves'!D35<$J$3,'Résultats élèves'!D35=\"A\"),'Groupes besoin'!A43,\"\")","v":""},{"$f":"IF(B43=\"\",\"\",'Résultats élèves'!D35)","v":""},{"$f":"IF(OR('Résultats élèves'!D35<$J$4,'Résultats élèves'!D35=\"A\"),'Groupes besoin'!A43,\"\")","v":""},{"$f":"IF(D43=\"\",\"\",'Résultats élèves'!D35)","v":""},null,{"$f":"IF(OR('Résultats élèves'!E35<$J$3,'Résultats élèves'!E35=\"A\"),'Groupes besoin'!A43,\"\")","v":""},{"$f":"IF(G43=\"\",\"\",'Résultats élèves'!E35)","v":""},{"$f":"IF(OR('Résultats élèves'!E35<$J$4,'Résultats élèves'!E35=\"A\"),'Groupes besoin'!A43,\"\")","v":""},{"$f":"IF(I43=\"\",\"\",'Résultats élèves'!E35)","v":""},null,{"$f":"IF(OR('Résultats élèves'!F35<$J$3,'Résultats élèves'!F35=\"A\"),'Groupes besoin'!A43,\"\")","v":""},{"$f":"IF(L43=\"\",\"\",'Résultats élèves'!F35)","v":""},{"$f":"IF(OR('Résultats élèves'!F35<$J$4,'Résultats élèves'!F35=\"A\"),'Groupes besoin'!A43,\"\")","v":""},{"$f":"IF(N43=\"\",\"\",'Résultats élèves'!F35)","v":""},null,{"$f":"IF(OR('Résultats élèves'!G35<$J$3,'Résultats élèves'!G35=\"A\"),'Groupes besoin'!A43,\"\")","v":""},{"$f":"IF(Q43=\"\",\"\",'Résultats élèves'!G35)","v":""},{"$f":"IF(OR('Résultats élèves'!G35<$J$4,'Résultats élèves'!G35=\"A\"),'Groupes besoin'!A43,\"\")","v":""},{"$f":"IF(S43=\"\",\"\",'Résultats élèves'!G35)","v":""},null,{"$f":"IF(OR('Résultats élèves'!H35<$J$3,'Résultats élèves'!H35=\"A\"),'Groupes besoin'!A43,\"\")","v":""},{"$f":"IF(V43=\"\",\"\",'Résultats élèves'!H35)","v":""},{"$f":"IF(OR('Résultats élèves'!H35<$J$4,'Résultats élèves'!H35=\"A\"),'Groupes besoin'!A43,\"\")","v":""},{"$f":"IF(X43=\"\",\"\",'Résultats élèves'!H35)","v":""},null,24,20,{"$f":"IF(AA43<$AA$9,#REF!,\"\")","v":""},null,null,{"$f":"IF(OR('Résultats élèves'!I35<$J$3,'Résultats élèves'!I35=\"A\"),'Groupes besoin'!A43,\"\")","v":""},{"$f":"IF(AF43=\"\",\"\",'Résultats élèves'!I35)","v":""},{"$f":"IF(OR('Résultats élèves'!I35<$J$4,'Résultats élèves'!I35=\"A\"),'Groupes besoin'!A43,\"\")","v":""},{"$f":"IF(AH43=\"\",\"\",'Résultats élèves'!I35)","v":""},null,{"$f":"IF(OR('Résultats élèves'!J35<$J$3,'Résultats élèves'!J35=\"A\"),'Groupes besoin'!A43,\"\")","v":""},{"$f":"IF(AK43=\"\",\"\",'Résultats élèves'!J35)","v":""},{"$f":"IF(OR('Résultats élèves'!J35<$J$4,'Résultats élèves'!J35=\"A\"),'Groupes besoin'!A43,\"\")","v":""},{"$f":"IF(AM43=\"\",\"\",'Résultats élèves'!J35)","v":""},null,{"$f":"IF(OR('Résultats élèves'!K35<$J$3,'Résultats élèves'!K35=\"A\"),'Groupes besoin'!A43,\"\")","v":""},{"$f":"IF(AP43=\"\",\"\",'Résultats élèves'!K35)","v":""},{"$f":"IF(OR('Résultats élèves'!K35<$J$4,'Résultats élèves'!K35=\"A\"),'Groupes besoin'!A43,\"\")","v":""},{"$f":"IF(AR43=\"\",\"\",'Résultats élèves'!K35)","v":""},null,{"$f":"IF(OR('Résultats élèves'!L35<$J$3,'Résultats élèves'!L35=\"A\"),'Groupes besoin'!A43,\"\")","v":""},{"$f":"IF(AU43=\"\",\"\",'Résultats élèves'!L35)","v":""},{"$f":"IF(OR('Résultats élèves'!L35<$J$4,'Résultats élèves'!L35=\"A\"),'Groupes besoin'!A43,\"\")","v":""},{"$f":"IF(AW43=\"\",\"\",'Résultats élèves'!L35)","v":""},null,{"$f":"IF(OR('Résultats élèves'!M35<$J$3,'Résultats élèves'!M35=\"A\"),'Groupes besoin'!A43,\"\")","v":""},{"$f":"IF(AZ43=\"\",\"\",'Résultats élèves'!M35)","v":""},{"$f":"IF(OR('Résultats élèves'!M35<$J$4,'Résultats élèves'!M35=\"A\"),'Groupes besoin'!A43,\"\")","v":""},{"$f":"IF(BB43=\"\",\"\",'Résultats élèves'!M35)","v":""}]
[{"$f":"IF(Accueil!F45=\"\",\"\",Accueil!F45)","v":""},{"$f":"IF(OR('Résultats élèves'!D36<$J$3,'Résultats élèves'!D36=\"A\"),'Groupes besoin'!A44,\"\")","v":""},{"$f":"IF(B44=\"\",\"\",'Résultats élèves'!D36)","v":""},{"$f":"IF(OR('Résultats élèves'!D36<$J$4,'Résultats élèves'!D36=\"A\"),'Groupes besoin'!A44,\"\")","v":""},{"$f":"IF(D44=\"\",\"\",'Résultats élèves'!D36)","v":""},null,{"$f":"IF(OR('Résultats élèves'!E36<$J$3,'Résultats élèves'!E36=\"A\"),'Groupes besoin'!A44,\"\")","v":""},{"$f":"IF(G44=\"\",\"\",'Résultats élèves'!E36)","v":""},{"$f":"IF(OR('Résultats élèves'!E36<$J$4,'Résultats élèves'!E36=\"A\"),'Groupes besoin'!A44,\"\")","v":""},{"$f":"IF(I44=\"\",\"\",'Résultats élèves'!E36)","v":""},null,{"$f":"IF(OR('Résultats élèves'!F36<$J$3,'Résultats élèves'!F36=\"A\"),'Groupes besoin'!A44,\"\")","v":""},{"$f":"IF(L44=\"\",\"\",'Résultats élèves'!F36)","v":""},{"$f":"IF(OR('Résultats élèves'!F36<$J$4,'Résultats élèves'!F36=\"A\"),'Groupes besoin'!A44,\"\")","v":""},{"$f":"IF(N44=\"\",\"\",'Résultats élèves'!F36)","v":""},null,{"$f":"IF(OR('Résultats élèves'!G36<$J$3,'Résultats élèves'!G36=\"A\"),'Groupes besoin'!A44,\"\")","v":""},{"$f":"IF(Q44=\"\",\"\",'Résultats élèves'!G36)","v":""},{"$f":"IF(OR('Résultats élèves'!G36<$J$4,'Résultats élèves'!G36=\"A\"),'Groupes besoin'!A44,\"\")","v":""},{"$f":"IF(S44=\"\",\"\",'Résultats élèves'!G36)","v":""},null,{"$f":"IF(OR('Résultats élèves'!H36<$J$3,'Résultats élèves'!H36=\"A\"),'Groupes besoin'!A44,\"\")","v":""},{"$f":"IF(V44=\"\",\"\",'Résultats élèves'!H36)","v":""},{"$f":"IF(OR('Résultats élèves'!H36<$J$4,'Résultats élèves'!H36=\"A\"),'Groupes besoin'!A44,\"\")","v":""},{"$f":"IF(X44=\"\",\"\",'Résultats élèves'!H36)","v":""},null,24,20,{"$f":"IF(AA44<$AA$9,#REF!,\"\")","v":""},null,null,{"$f":"IF(OR('Résultats élèves'!I36<$J$3,'Résultats élèves'!I36=\"A\"),'Groupes besoin'!A44,\"\")","v":""},{"$f":"IF(AF44=\"\",\"\",'Résultats élèves'!I36)","v":""},{"$f":"IF(OR('Résultats élèves'!I36<$J$4,'Résultats élèves'!I36=\"A\"),'Groupes besoin'!A44,\"\")","v":""},{"$f":"IF(AH44=\"\",\"\",'Résultats élèves'!I36)","v":""},null,{"$f":"IF(OR('Résultats élèves'!J36<$J$3,'Résultats élèves'!J36=\"A\"),'Groupes besoin'!A44,\"\")","v":""},{"$f":"IF(AK44=\"\",\"\",'Résultats élèves'!J36)","v":""},{"$f":"IF(OR('Résultats élèves'!J36<$J$4,'Résultats élèves'!J36=\"A\"),'Groupes besoin'!A44,\"\")","v":""},{"$f":"IF(AM44=\"\",\"\",'Résultats élèves'!J36)","v":""},null,{"$f":"IF(OR('Résultats élèves'!K36<$J$3,'Résultats élèves'!K36=\"A\"),'Groupes besoin'!A44,\"\")","v":""},{"$f":"IF(AP44=\"\",\"\",'Résultats élèves'!K36)","v":""},{"$f":"IF(OR('Résultats élèves'!K36<$J$4,'Résultats élèves'!K36=\"A\"),'Groupes besoin'!A44,\"\")","v":""},{"$f":"IF(AR44=\"\",\"\",'Résultats élèves'!K36)","v":""},null,{"$f":"IF(OR('Résultats élèves'!L36<$J$3,'Résultats élèves'!L36=\"A\"),'Groupes besoin'!A44,\"\")","v":""},{"$f":"IF(AU44=\"\",\"\",'Résultats élèves'!L36)","v":""},{"$f":"IF(OR('Résultats élèves'!L36<$J$4,'Résultats élèves'!L36=\"A\"),'Groupes besoin'!A44,\"\")","v":""},{"$f":"IF(AW44=\"\",\"\",'Résultats élèves'!L36)","v":""},null,{"$f":"IF(OR('Résultats élèves'!M36<$J$3,'Résultats élèves'!M36=\"A\"),'Groupes besoin'!A44,\"\")","v":""},{"$f":"IF(AZ44=\"\",\"\",'Résultats élèves'!M36)","v":""},{"$f":"IF(OR('Résultats élèves'!M36<$J$4,'Résultats élèves'!M36=\"A\"),'Groupes besoin'!A44,\"\")","v":""},{"$f":"IF(BB44=\"\",\"\",'Résultats élèves'!M36)","v":""}]
[{"$f":"IF(Accueil!F46=\"\",\"\",Accueil!F46)","v":""},{"$f":"IF(OR('Résultats élèves'!D37<$J$3,'Résultats élèves'!D37=\"A\"),'Groupes besoin'!A45,\"\")","v":""},{"$f":"IF(B45=\"\",\"\",'Résultats élèves'!D37)","v":""},{"$f":"IF(OR('Résultats élèves'!D37<$J$4,'Résultats élèves'!D37=\"A\"),'Groupes besoin'!A45,\"\")","v":""},{"$f":"IF(D45=\"\",\"\",'Résultats élèves'!D37)","v":""},null,{"$f":"IF(OR('Résultats élèves'!E37<$J$3,'Résultats élèves'!E37=\"A\"),'Groupes besoin'!A45,\"\")","v":""},{"$f":"IF(G45=\"\",\"\",'Résultats élèves'!E37)","v":""},{"$f":"IF(OR('Résultats élèves'!E37<$J$4,'Résultats élèves'!E37=\"A\"),'Groupes besoin'!A45,\"\")","v":""},{"$f":"IF(I45=\"\",\"\",'Résultats élèves'!E37)","v":""},null,{"$f":"IF(OR('Résultats élèves'!F37<$J$3,'Résultats élèves'!F37=\"A\"),'Groupes besoin'!A45,\"\")","v":""},{"$f":"IF(L45=\"\",\"\",'Résultats élèves'!F37)","v":""},{"$f":"IF(OR('Résultats élèves'!F37<$J$4,'Résultats élèves'!F37=\"A\"),'Groupes besoin'!A45,\"\")","v":""},{"$f":"IF(N45=\"\",\"\",'Résultats élèves'!F37)","v":""},null,{"$f":"IF(OR('Résultats élèves'!G37<$J$3,'Résultats élèves'!G37=\"A\"),'Groupes besoin'!A45,\"\")","v":""},{"$f":"IF(Q45=\"\",\"\",'Résultats élèves'!G37)","v":""},{"$f":"IF(OR('Résultats élèves'!G37<$J$4,'Résultats élèves'!G37=\"A\"),'Groupes besoin'!A45,\"\")","v":""},{"$f":"IF(S45=\"\",\"\",'Résultats élèves'!G37)","v":""},null,{"$f":"IF(OR('Résultats élèves'!H37<$J$3,'Résultats élèves'!H37=\"A\"),'Groupes besoin'!A45,\"\")","v":""},{"$f":"IF(V45=\"\",\"\",'Résultats élèves'!H37)","v":""},{"$f":"IF(OR('Résultats élèves'!H37<$J$4,'Résultats élèves'!H37=\"A\"),'Groupes besoin'!A45,\"\")","v":""},{"$f":"IF(X45=\"\",\"\",'Résultats élèves'!H37)","v":""},null,24,20,{"$f":"IF(AA45<$AA$9,#REF!,\"\")","v":""},null,null,{"$f":"IF(OR('Résultats élèves'!I37<$J$3,'Résultats élèves'!I37=\"A\"),'Groupes besoin'!A45,\"\")","v":""},{"$f":"IF(AF45=\"\",\"\",'Résultats élèves'!I37)","v":""},{"$f":"IF(OR('Résultats élèves'!I37<$J$4,'Résultats élèves'!I37=\"A\"),'Groupes besoin'!A45,\"\")","v":""},{"$f":"IF(AH45=\"\",\"\",'Résultats élèves'!I37)","v":""},null,{"$f":"IF(OR('Résultats élèves'!J37<$J$3,'Résultats élèves'!J37=\"A\"),'Groupes besoin'!A45,\"\")","v":""},{"$f":"IF(AK45=\"\",\"\",'Résultats élèves'!J37)","v":""},{"$f":"IF(OR('Résultats élèves'!J37<$J$4,'Résultats élèves'!J37=\"A\"),'Groupes besoin'!A45,\"\")","v":""},{"$f":"IF(AM45=\"\",\"\",'Résultats élèves'!J37)","v":""},null,{"$f":"IF(OR('Résultats élèves'!K37<$J$3,'Résultats élèves'!K37=\"A\"),'Groupes besoin'!A45,\"\")","v":""},{"$f":"IF(AP45=\"\",\"\",'Résultats élèves'!K37)","v":""},{"$f":"IF(OR('Résultats élèves'!K37<$J$4,'Résultats élèves'!K37=\"A\"),'Groupes besoin'!A45,\"\")","v":""},{"$f":"IF(AR45=\"\",\"\",'Résultats élèves'!K37)","v":""},null,{"$f":"IF(OR('Résultats élèves'!L37<$J$3,'Résultats élèves'!L37=\"A\"),'Groupes besoin'!A45,\"\")","v":""},{"$f":"IF(AU45=\"\",\"\",'Résultats élèves'!L37)","v":""},{"$f":"IF(OR('Résultats élèves'!L37<$J$4,'Résultats élèves'!L37=\"A\"),'Groupes besoin'!A45,\"\")","v":""},{"$f":"IF(AW45=\"\",\"\",'Résultats élèves'!L37)","v":""},null,{"$f":"IF(OR('Résultats élèves'!M37<$J$3,'Résultats élèves'!M37=\"A\"),'Groupes besoin'!A45,\"\")","v":""},{"$f":"IF(AZ45=\"\",\"\",'Résultats élèves'!M37)","v":""},{"$f":"IF(OR('Résultats élèves'!M37<$J$4,'Résultats élèves'!M37=\"A\"),'Groupes besoin'!A45,\"\")","v":""},{"$f":"IF(BB45=\"\",\"\",'Résultats élèves'!M37)","v":""}]
[{"$f":"IF(Accueil!F47=\"\",\"\",Accueil!F47)","v":""},{"$f":"IF(OR('Résultats élèves'!D38<$J$3,'Résultats élèves'!D38=\"A\"),'Groupes besoin'!A46,\"\")","v":""},{"$f":"IF(B46=\"\",\"\",'Résultats élèves'!D38)","v":""},{"$f":"IF(OR('Résultats élèves'!D38<$J$4,'Résultats élèves'!D38=\"A\"),'Groupes besoin'!A46,\"\")","v":""},{"$f":"IF(D46=\"\",\"\",'Résultats élèves'!D38)","v":""},null,{"$f":"IF(OR('Résultats élèves'!E38<$J$3,'Résultats élèves'!E38=\"A\"),'Groupes besoin'!A46,\"\")","v":""},{"$f":"IF(G46=\"\",\"\",'Résultats élèves'!E38)","v":""},{"$f":"IF(OR('Résultats élèves'!E38<$J$4,'Résultats élèves'!E38=\"A\"),'Groupes besoin'!A46,\"\")","v":""},{"$f":"IF(I46=\"\",\"\",'Résultats élèves'!E38)","v":""},null,{"$f":"IF(OR('Résultats élèves'!F38<$J$3,'Résultats élèves'!F38=\"A\"),'Groupes besoin'!A46,\"\")","v":""},{"$f":"IF(L46=\"\",\"\",'Résultats élèves'!F38)","v":""},{"$f":"IF(OR('Résultats élèves'!F38<$J$4,'Résultats élèves'!F38=\"A\"),'Groupes besoin'!A46,\"\")","v":""},{"$f":"IF(N46=\"\",\"\",'Résultats élèves'!F38)","v":""},null,{"$f":"IF(OR('Résultats élèves'!G38<$J$3,'Résultats élèves'!G38=\"A\"),'Groupes besoin'!A46,\"\")","v":""},{"$f":"IF(Q46=\"\",\"\",'Résultats élèves'!G38)","v":""},{"$f":"IF(OR('Résultats élèves'!G38<$J$4,'Résultats élèves'!G38=\"A\"),'Groupes besoin'!A46,\"\")","v":""},{"$f":"IF(S46=\"\",\"\",'Résultats élèves'!G38)","v":""},null,{"$f":"IF(OR('Résultats élèves'!H38<$J$3,'Résultats élèves'!H38=\"A\"),'Groupes besoin'!A46,\"\")","v":""},{"$f":"IF(V46=\"\",\"\",'Résultats élèves'!H38)","v":""},{"$f":"IF(OR('Résultats élèves'!H38<$J$4,'Résultats élèves'!H38=\"A\"),'Groupes besoin'!A46,\"\")","v":""},{"$f":"IF(X46=\"\",\"\",'Résultats élèves'!H38)","v":""},null,24,20,{"$f":"IF(AA46<$AA$9,#REF!,\"\")","v":""},null,null,{"$f":"IF(OR('Résultats élèves'!I38<$J$3,'Résultats élèves'!I38=\"A\"),'Groupes besoin'!A46,\"\")","v":""},{"$f":"IF(AF46=\"\",\"\",'Résultats élèves'!I38)","v":""},{"$f":"IF(OR('Résultats élèves'!I38<$J$4,'Résultats élèves'!I38=\"A\"),'Groupes besoin'!A46,\"\")","v":""},{"$f":"IF(AH46=\"\",\"\",'Résultats élèves'!I38)","v":""},null,{"$f":"IF(OR('Résultats élèves'!J38<$J$3,'Résultats élèves'!J38=\"A\"),'Groupes besoin'!A46,\"\")","v":""},{"$f":"IF(AK46=\"\",\"\",'Résultats élèves'!J38)","v":""},{"$f":"IF(OR('Résultats élèves'!J38<$J$4,'Résultats élèves'!J38=\"A\"),'Groupes besoin'!A46,\"\")","v":""},{"$f":"IF(AM46=\"\",\"\",'Résultats élèves'!J38)","v":""},null,{"$f":"IF(OR('Résultats élèves'!K38<$J$3,'Résultats élèves'!K38=\"A\"),'Groupes besoin'!A46,\"\")","v":""},{"$f":"IF(AP46=\"\",\"\",'Résultats élèves'!K38)","v":""},{"$f":"IF(OR('Résultats élèves'!K38<$J$4,'Résultats élèves'!K38=\"A\"),'Groupes besoin'!A46,\"\")","v":""},{"$f":"IF(AR46=\"\",\"\",'Résultats élèves'!K38)","v":""},null,{"$f":"IF(OR('Résultats élèves'!L38<$J$3,'Résultats élèves'!L38=\"A\"),'Groupes besoin'!A46,\"\")","v":""},{"$f":"IF(AU46=\"\",\"\",'Résultats élèves'!L38)","v":""},{"$f":"IF(OR('Résultats élèves'!L38<$J$4,'Résultats élèves'!L38=\"A\"),'Groupes besoin'!A46,\"\")","v":""},{"$f":"IF(AW46=\"\",\"\",'Résultats élèves'!L38)","v":""},null,{"$f":"IF(OR('Résultats élèves'!M38<$J$3,'Résultats élèves'!M38=\"A\"),'Groupes besoin'!A46,\"\")","v":""},{"$f":"IF(AZ46=\"\",\"\",'Résultats élèves'!M38)","v":""},{"$f":"IF(OR('Résultats élèves'!M38<$J$4,'Résultats élèves'!M38=\"A\"),'Groupes besoin'!A46,\"\")","v":""},{"$f":"IF(BB46=\"\",\"\",'Résultats élèves'!M38)","v":""}]
[{"$f":"IF(Accueil!F48=\"\",\"\",Accueil!F48)","v":""},{"$f":"IF(OR('Résultats élèves'!D39<$J$3,'Résultats élèves'!D39=\"A\"),'Groupes besoin'!A47,\"\")","v":""},{"$f":"IF(B47=\"\",\"\",'Résultats élèves'!D39)","v":""},{"$f":"IF(OR('Résultats élèves'!D39<$J$4,'Résultats élèves'!D39=\"A\"),'Groupes besoin'!A47,\"\")","v":""},{"$f":"IF(D47=\"\",\"\",'Résultats élèves'!D39)","v":""},null,{"$f":"IF(OR('Résultats élèves'!E39<$J$3,'Résultats élèves'!E39=\"A\"),'Groupes besoin'!A47,\"\")","v":""},{"$f":"IF(G47=\"\",\"\",'Résultats élèves'!E39)","v":""},{"$f":"IF(OR('Résultats élèves'!E39<$J$4,'Résultats élèves'!E39=\"A\"),'Groupes besoin'!A47,\"\")","v":""},{"$f":"IF(I47=\"\",\"\",'Résultats élèves'!E39)","v":""},null,{"$f":"IF(OR('Résultats élèves'!F39<$J$3,'Résultats élèves'!F39=\"A\"),'Groupes besoin'!A47,\"\")","v":""},{"$f":"IF(L47=\"\",\"\",'Résultats élèves'!F39)","v":""},{"$f":"IF(OR('Résultats élèves'!F39<$J$4,'Résultats élèves'!F39=\"A\"),'Groupes besoin'!A47,\"\")","v":""},{"$f":"IF(N47=\"\",\"\",'Résultats élèves'!F39)","v":""},null,{"$f":"IF(OR('Résultats élèves'!G39<$J$3,'Résultats élèves'!G39=\"A\"),'Groupes besoin'!A47,\"\")","v":""},{"$f":"IF(Q47=\"\",\"\",'Résultats élèves'!G39)","v":""},{"$f":"IF(OR('Résultats élèves'!G39<$J$4,'Résultats élèves'!G39=\"A\"),'Groupes besoin'!A47,\"\")","v":""},{"$f":"IF(S47=\"\",\"\",'Résultats élèves'!G39)","v":""},null,{"$f":"IF(OR('Résultats élèves'!H39<$J$3,'Résultats élèves'!H39=\"A\"),'Groupes besoin'!A47,\"\")","v":""},{"$f":"IF(V47=\"\",\"\",'Résultats élèves'!H39)","v":""},{"$f":"IF(OR('Résultats élèves'!H39<$J$4,'Résultats élèves'!H39=\"A\"),'Groupes besoin'!A47,\"\")","v":""},{"$f":"IF(X47=\"\",\"\",'Résultats élèves'!H39)","v":""},null,24,20,{"$f":"IF(AA47<$AA$9,#REF!,\"\")","v":""},null,null,{"$f":"IF(OR('Résultats élèves'!I39<$J$3,'Résultats élèves'!I39=\"A\"),'Groupes besoin'!A47,\"\")","v":""},{"$f":"IF(AF47=\"\",\"\",'Résultats élèves'!I39)","v":""},{"$f":"IF(OR('Résultats élèves'!I39<$J$4,'Résultats élèves'!I39=\"A\"),'Groupes besoin'!A47,\"\")","v":""},{"$f":"IF(AH47=\"\",\"\",'Résultats élèves'!I39)","v":""},null,{"$f":"IF(OR('Résultats élèves'!J39<$J$3,'Résultats élèves'!J39=\"A\"),'Groupes besoin'!A47,\"\")","v":""},{"$f":"IF(AK47=\"\",\"\",'Résultats élèves'!J39)","v":""},{"$f":"IF(OR('Résultats élèves'!J39<$J$4,'Résultats élèves'!J39=\"A\"),'Groupes besoin'!A47,\"\")","v":""},{"$f":"IF(AM47=\"\",\"\",'Résultats élèves'!J39)","v":""},null,{"$f":"IF(OR('Résultats élèves'!K39<$J$3,'Résultats élèves'!K39=\"A\"),'Groupes besoin'!A47,\"\")","v":""},{"$f":"IF(AP47=\"\",\"\",'Résultats élèves'!K39)","v":""},{"$f":"IF(OR('Résultats élèves'!K39<$J$4,'Résultats élèves'!K39=\"A\"),'Groupes besoin'!A47,\"\")","v":""},{"$f":"IF(AR47=\"\",\"\",'Résultats élèves'!K39)","v":""},null,{"$f":"IF(OR('Résultats élèves'!L39<$J$3,'Résultats élèves'!L39=\"A\"),'Groupes besoin'!A47,\"\")","v":""},{"$f":"IF(AU47=\"\",\"\",'Résultats élèves'!L39)","v":""},{"$f":"IF(OR('Résultats élèves'!L39<$J$4,'Résultats élèves'!L39=\"A\"),'Groupes besoin'!A47,\"\")","v":""},{"$f":"IF(AW47=\"\",\"\",'Résultats élèves'!L39)","v":""},null,{"$f":"IF(OR('Résultats élèves'!M39<$J$3,'Résultats élèves'!M39=\"A\"),'Groupes besoin'!A47,\"\")","v":""},{"$f":"IF(AZ47=\"\",\"\",'Résultats élèves'!M39)","v":""},{"$f":"IF(OR('Résultats élèves'!M39<$J$4,'Résultats élèves'!M39=\"A\"),'Groupes besoin'!A47,\"\")","v":""},{"$f":"IF(BB47=\"\",\"\",'Résultats élèves'!M39)","v":""}]
[{"$f":"IF(Accueil!F49=\"\",\"\",Accueil!F49)","v":""},{"$f":"IF(OR('Résultats élèves'!D40<$J$3,'Résultats élèves'!D40=\"A\"),'Groupes besoin'!A48,\"\")","v":""},{"$f":"IF(B48=\"\",\"\",'Résultats élèves'!D40)","v":""},{"$f":"IF(OR('Résultats élèves'!D40<$J$4,'Résultats élèves'!D40=\"A\"),'Groupes besoin'!A48,\"\")","v":""},{"$f":"IF(D48=\"\",\"\",'Résultats élèves'!D40)","v":""},null,{"$f":"IF(OR('Résultats élèves'!E40<$J$3,'Résultats élèves'!E40=\"A\"),'Groupes besoin'!A48,\"\")","v":""},{"$f":"IF(G48=\"\",\"\",'Résultats élèves'!E40)","v":""},{"$f":"IF(OR('Résultats élèves'!E40<$J$4,'Résultats élèves'!E40=\"A\"),'Groupes besoin'!A48,\"\")","v":""},{"$f":"IF(I48=\"\",\"\",'Résultats élèves'!E40)","v":""},null,{"$f":"IF(OR('Résultats élèves'!F40<$J$3,'Résultats élèves'!F40=\"A\"),'Groupes besoin'!A48,\"\")","v":""},{"$f":"IF(L48=\"\",\"\",'Résultats élèves'!F40)","v":""},{"$f":"IF(OR('Résultats élèves'!F40<$J$4,'Résultats élèves'!F40=\"A\"),'Groupes besoin'!A48,\"\")","v":""},{"$f":"IF(N48=\"\",\"\",'Résultats élèves'!F40)","v":""},null,{"$f":"IF(OR('Résultats élèves'!G40<$J$3,'Résultats élèves'!G40=\"A\"),'Groupes besoin'!A48,\"\")","v":""},{"$f":"IF(Q48=\"\",\"\",'Résultats élèves'!G40)","v":""},{"$f":"IF(OR('Résultats élèves'!G40<$J$4,'Résultats élèves'!G40=\"A\"),'Groupes besoin'!A48,\"\")","v":""},{"$f":"IF(S48=\"\",\"\",'Résultats élèves'!G40)","v":""},null,{"$f":"IF(OR('Résultats élèves'!H40<$J$3,'Résultats élèves'!H40=\"A\"),'Groupes besoin'!A48,\"\")","v":""},{"$f":"IF(V48=\"\",\"\",'Résultats élèves'!H40)","v":""},{"$f":"IF(OR('Résultats élèves'!H40<$J$4,'Résultats élèves'!H40=\"A\"),'Groupes besoin'!A48,\"\")","v":""},{"$f":"IF(X48=\"\",\"\",'Résultats élèves'!H40)","v":""},null,24,20,{"$f":"IF(AA48<$AA$9,#REF!,\"\")","v":""},null,null,{"$f":"IF(OR('Résultats élèves'!I40<$J$3,'Résultats élèves'!I40=\"A\"),'Groupes besoin'!A48,\"\")","v":""},{"$f":"IF(AF48=\"\",\"\",'Résultats élèves'!I40)","v":""},{"$f":"IF(OR('Résultats élèves'!I40<$J$4,'Résultats élèves'!I40=\"A\"),'Groupes besoin'!A48,\"\")","v":""},{"$f":"IF(AH48=\"\",\"\",'Résultats élèves'!I40)","v":""},null,{"$f":"IF(OR('Résultats élèves'!J40<$J$3,'Résultats élèves'!J40=\"A\"),'Groupes besoin'!A48,\"\")","v":""},{"$f":"IF(AK48=\"\",\"\",'Résultats élèves'!J40)","v":""},{"$f":"IF(OR('Résultats élèves'!J40<$J$4,'Résultats élèves'!J40=\"A\"),'Groupes besoin'!A48,\"\")","v":""},{"$f":"IF(AM48=\"\",\"\",'Résultats élèves'!J40)","v":""},null,{"$f":"IF(OR('Résultats élèves'!K40<$J$3,'Résultats élèves'!K40=\"A\"),'Groupes besoin'!A48,\"\")","v":""},{"$f":"IF(AP48=\"\",\"\",'Résultats élèves'!K40)","v":""},{"$f":"IF(OR('Résultats élèves'!K40<$J$4,'Résultats élèves'!K40=\"A\"),'Groupes besoin'!A48,\"\")","v":""},{"$f":"IF(AR48=\"\",\"\",'Résultats élèves'!K40)","v":""},null,{"$f":"IF(OR('Résultats élèves'!L40<$J$3,'Résultats élèves'!L40=\"A\"),'Groupes besoin'!A48,\"\")","v":""},{"$f":"IF(AU48=\"\",\"\",'Résultats élèves'!L40)","v":""},{"$f":"IF(OR('Résultats élèves'!L40<$J$4,'Résultats élèves'!L40=\"A\"),'Groupes besoin'!A48,\"\")","v":""},{"$f":"IF(AW48=\"\",\"\",'Résultats élèves'!L40)","v":""},null,{"$f":"IF(OR('Résultats élèves'!M40<$J$3,'Résultats élèves'!M40=\"A\"),'Groupes besoin'!A48,\"\")","v":""},{"$f":"IF(AZ48=\"\",\"\",'Résultats élèves'!M40)","v":""},{"$f":"IF(OR('Résultats élèves'!M40<$J$4,'Résultats élèves'!M40=\"A\"),'Groupes besoin'!A48,\"\")","v":""},{"$f":"IF(BB48=\"\",\"\",'Résultats élèves'!M40)","v":""}]
[{"$f":"IF(Accueil!F50=\"\",\"\",Accueil!F50)","v":""},{"$f":"IF(OR('Résultats élèves'!D41<$J$3,'Résultats élèves'!D41=\"A\"),'Groupes besoin'!A49,\"\")","v":""},{"$f":"IF(B49=\"\",\"\",'Résultats élèves'!D41)","v":""},{"$f":"IF(OR('Résultats élèves'!D41<$J$4,'Résultats élèves'!D41=\"A\"),'Groupes besoin'!A49,\"\")","v":""},{"$f":"IF(D49=\"\",\"\",'Résultats élèves'!D41)","v":""},null,{"$f":"IF(OR('Résultats élèves'!E41<$J$3,'Résultats élèves'!E41=\"A\"),'Groupes besoin'!A49,\"\")","v":""},{"$f":"IF(G49=\"\",\"\",'Résultats élèves'!E41)","v":""},{"$f":"IF(OR('Résultats élèves'!E41<$J$4,'Résultats élèves'!E41=\"A\"),'Groupes besoin'!A49,\"\")","v":""},{"$f":"IF(I49=\"\",\"\",'Résultats élèves'!E41)","v":""},null,{"$f":"IF(OR('Résultats élèves'!F41<$J$3,'Résultats élèves'!F41=\"A\"),'Groupes besoin'!A49,\"\")","v":""},{"$f":"IF(L49=\"\",\"\",'Résultats élèves'!F41)","v":""},{"$f":"IF(OR('Résultats élèves'!F41<$J$4,'Résultats élèves'!F41=\"A\"),'Groupes besoin'!A49,\"\")","v":""},{"$f":"IF(N49=\"\",\"\",'Résultats élèves'!F41)","v":""},null,{"$f":"IF(OR('Résultats élèves'!G41<$J$3,'Résultats élèves'!G41=\"A\"),'Groupes besoin'!A49,\"\")","v":""},{"$f":"IF(Q49=\"\",\"\",'Résultats élèves'!G41)","v":""},{"$f":"IF(OR('Résultats élèves'!G41<$J$4,'Résultats élèves'!G41=\"A\"),'Groupes besoin'!A49,\"\")","v":""},{"$f":"IF(S49=\"\",\"\",'Résultats élèves'!G41)","v":""},null,{"$f":"IF(OR('Résultats élèves'!H41<$J$3,'Résultats élèves'!H41=\"A\"),'Groupes besoin'!A49,\"\")","v":""},{"$f":"IF(V49=\"\",\"\",'Résultats élèves'!H41)","v":""},{"$f":"IF(OR('Résultats élèves'!H41<$J$4,'Résultats élèves'!H41=\"A\"),'Groupes besoin'!A49,\"\")","v":""},{"$f":"IF(X49=\"\",\"\",'Résultats élèves'!H41)","v":""},null,24,20,{"$f":"IF(AA49<$AA$9,#REF!,\"\")","v":""},null,null,{"$f":"IF(OR('Résultats élèves'!I41<$J$3,'Résultats élèves'!I41=\"A\"),'Groupes besoin'!A49,\"\")","v":""},{"$f":"IF(AF49=\"\",\"\",'Résultats élèves'!I41)","v":""},{"$f":"IF(OR('Résultats élèves'!I41<$J$4,'Résultats élèves'!I41=\"A\"),'Groupes besoin'!A49,\"\")","v":""},{"$f":"IF(AH49=\"\",\"\",'Résultats élèves'!I41)","v":""},null,{"$f":"IF(OR('Résultats élèves'!J41<$J$3,'Résultats élèves'!J41=\"A\"),'Groupes besoin'!A49,\"\")","v":""},{"$f":"IF(AK49=\"\",\"\",'Résultats élèves'!J41)","v":""},{"$f":"IF(OR('Résultats élèves'!J41<$J$4,'Résultats élèves'!J41=\"A\"),'Groupes besoin'!A49,\"\")","v":""},{"$f":"IF(AM49=\"\",\"\",'Résultats élèves'!J41)","v":""},null,{"$f":"IF(OR('Résultats élèves'!K41<$J$3,'Résultats élèves'!K41=\"A\"),'Groupes besoin'!A49,\"\")","v":""},{"$f":"IF(AP49=\"\",\"\",'Résultats élèves'!K41)","v":""},{"$f":"IF(OR('Résultats élèves'!K41<$J$4,'Résultats élèves'!K41=\"A\"),'Groupes besoin'!A49,\"\")","v":""},{"$f":"IF(AR49=\"\",\"\",'Résultats élèves'!K41)","v":""},null,{"$f":"IF(OR('Résultats élèves'!L41<$J$3,'Résultats élèves'!L41=\"A\"),'Groupes besoin'!A49,\"\")","v":""},{"$f":"IF(AU49=\"\",\"\",'Résultats élèves'!L41)","v":""},{"$f":"IF(OR('Résultats élèves'!L41<$J$4,'Résultats élèves'!L41=\"A\"),'Groupes besoin'!A49,\"\")","v":""},{"$f":"IF(AW49=\"\",\"\",'Résultats élèves'!L41)","v":""},null,{"$f":"IF(OR('Résultats élèves'!M41<$J$3,'Résultats élèves'!M41=\"A\"),'Groupes besoin'!A49,\"\")","v":""},{"$f":"IF(AZ49=\"\",\"\",'Résultats élèves'!M41)","v":""},{"$f":"IF(OR('Résultats élèves'!M41<$J$4,'Résultats élèves'!M41=\"A\"),'Groupes besoin'!A49,\"\")","v":""},{"$f":"IF(BB49=\"\",\"\",'Résultats élèves'!M41)","v":""}]
[{"$f":"IF(Accueil!F51=\"\",\"\",Accueil!F51)","v":""},{"$f":"IF(OR('Résultats élèves'!D42<$J$3,'Résultats élèves'!D42=\"A\"),'Groupes besoin'!A50,\"\")","v":""},{"$f":"IF(B50=\"\",\"\",'Résultats élèves'!D42)","v":""},{"$f":"IF(OR('Résultats élèves'!D42<$J$4,'Résultats élèves'!D42=\"A\"),'Groupes besoin'!A50,\"\")","v":""},{"$f":"IF(D50=\"\",\"\",'Résultats élèves'!D42)","v":""},null,{"$f":"IF(OR('Résultats élèves'!E42<$J$3,'Résultats élèves'!E42=\"A\"),'Groupes besoin'!A50,\"\")","v":""},{"$f":"IF(G50=\"\",\"\",'Résultats élèves'!E42)","v":""},{"$f":"IF(OR('Résultats élèves'!E42<$J$4,'Résultats élèves'!E42=\"A\"),'Groupes besoin'!A50,\"\")","v":""},{"$f":"IF(I50=\"\",\"\",'Résultats élèves'!E42)","v":""},null,{"$f":"IF(OR('Résultats élèves'!F42<$J$3,'Résultats élèves'!F42=\"A\"),'Groupes besoin'!A50,\"\")","v":""},{"$f":"IF(L50=\"\",\"\",'Résultats élèves'!F42)","v":""},{"$f":"IF(OR('Résultats élèves'!F42<$J$4,'Résultats élèves'!F42=\"A\"),'Groupes besoin'!A50,\"\")","v":""},{"$f":"IF(N50=\"\",\"\",'Résultats élèves'!F42)","v":""},null,{"$f":"IF(OR('Résultats élèves'!G42<$J$3,'Résultats élèves'!G42=\"A\"),'Groupes besoin'!A50,\"\")","v":""},{"$f":"IF(Q50=\"\",\"\",'Résultats élèves'!G42)","v":""},{"$f":"IF(OR('Résultats élèves'!G42<$J$4,'Résultats élèves'!G42=\"A\"),'Groupes besoin'!A50,\"\")","v":""},{"$f":"IF(S50=\"\",\"\",'Résultats élèves'!G42)","v":""},null,{"$f":"IF(OR('Résultats élèves'!H42<$J$3,'Résultats élèves'!H42=\"A\"),'Groupes besoin'!A50,\"\")","v":""},{"$f":"IF(V50=\"\",\"\",'Résultats élèves'!H42)","v":""},{"$f":"IF(OR('Résultats élèves'!H42<$J$4,'Résultats élèves'!H42=\"A\"),'Groupes besoin'!A50,\"\")","v":""},{"$f":"IF(X50=\"\",\"\",'Résultats élèves'!H42)","v":""},null,24,20,{"$f":"IF(AA50<$AA$9,#REF!,\"\")","v":""},null,null,{"$f":"IF(OR('Résultats élèves'!I42<$J$3,'Résultats élèves'!I42=\"A\"),'Groupes besoin'!A50,\"\")","v":""},{"$f":"IF(AF50=\"\",\"\",'Résultats élèves'!I42)","v":""},{"$f":"IF(OR('Résultats élèves'!I42<$J$4,'Résultats élèves'!I42=\"A\"),'Groupes besoin'!A50,\"\")","v":""},{"$f":"IF(AH50=\"\",\"\",'Résultats élèves'!I42)","v":""},null,{"$f":"IF(OR('Résultats élèves'!J42<$J$3,'Résultats élèves'!J42=\"A\"),'Groupes besoin'!A50,\"\")","v":""},{"$f":"IF(AK50=\"\",\"\",'Résultats élèves'!J42)","v":""},{"$f":"IF(OR('Résultats élèves'!J42<$J$4,'Résultats élèves'!J42=\"A\"),'Groupes besoin'!A50,\"\")","v":""},{"$f":"IF(AM50=\"\",\"\",'Résultats élèves'!J42)","v":""},null,{"$f":"IF(OR('Résultats élèves'!K42<$J$3,'Résultats élèves'!K42=\"A\"),'Groupes besoin'!A50,\"\")","v":""},{"$f":"IF(AP50=\"\",\"\",'Résultats élèves'!K42)","v":""},{"$f":"IF(OR('Résultats élèves'!K42<$J$4,'Résultats élèves'!K42=\"A\"),'Groupes besoin'!A50,\"\")","v":""},{"$f":"IF(AR50=\"\",\"\",'Résultats élèves'!K42)","v":""},null,{"$f":"IF(OR('Résultats élèves'!L42<$J$3,'Résultats élèves'!L42=\"A\"),'Groupes besoin'!A50,\"\")","v":""},{"$f":"IF(AU50=\"\",\"\",'Résultats élèves'!L42)","v":""},{"$f":"IF(OR('Résultats élèves'!L42<$J$4,'Résultats élèves'!L42=\"A\"),'Groupes besoin'!A50,\"\")","v":""},{"$f":"IF(AW50=\"\",\"\",'Résultats élèves'!L42)","v":""},null,{"$f":"IF(OR('Résultats élèves'!M42<$J$3,'Résultats élèves'!M42=\"A\"),'Groupes besoin'!A50,\"\")","v":""},{"$f":"IF(AZ50=\"\",\"\",'Résultats élèves'!M42)","v":""},{"$f":"IF(OR('Résultats élèves'!M42<$J$4,'Résultats élèves'!M42=\"A\"),'Groupes besoin'!A50,\"\")","v":""},{"$f":"IF(BB50=\"\",\"\",'Résultats élèves'!M42)","v":""}]
[{"$f":"IF(Accueil!F52=\"\",\"\",Accueil!F52)","v":""},{"$f":"IF(OR('Résultats élèves'!D43<$J$3,'Résultats élèves'!D43=\"A\"),'Groupes besoin'!A51,\"\")","v":""},{"$f":"IF(B51=\"\",\"\",'Résultats élèves'!D43)","v":""},{"$f":"IF(OR('Résultats élèves'!D43<$J$4,'Résultats élèves'!D43=\"A\"),'Groupes besoin'!A51,\"\")","v":""},{"$f":"IF(D51=\"\",\"\",'Résultats élèves'!D43)","v":""},null,{"$f":"IF(OR('Résultats élèves'!E43<$J$3,'Résultats élèves'!E43=\"A\"),'Groupes besoin'!A51,\"\")","v":""},{"$f":"IF(G51=\"\",\"\",'Résultats élèves'!E43)","v":""},{"$f":"IF(OR('Résultats élèves'!E43<$J$4,'Résultats élèves'!E43=\"A\"),'Groupes besoin'!A51,\"\")","v":""},{"$f":"IF(I51=\"\",\"\",'Résultats élèves'!E43)","v":""},null,{"$f":"IF(OR('Résultats élèves'!F43<$J$3,'Résultats élèves'!F43=\"A\"),'Groupes besoin'!A51,\"\")","v":""},{"$f":"IF(L51=\"\",\"\",'Résultats élèves'!F43)","v":""},{"$f":"IF(OR('Résultats élèves'!F43<$J$4,'Résultats élèves'!F43=\"A\"),'Groupes besoin'!A51,\"\")","v":""},{"$f":"IF(N51=\"\",\"\",'Résultats élèves'!F43)","v":""},null,{"$f":"IF(OR('Résultats élèves'!G43<$J$3,'Résultats élèves'!G43=\"A\"),'Groupes besoin'!A51,\"\")","v":""},{"$f":"IF(Q51=\"\",\"\",'Résultats élèves'!G43)","v":""},{"$f":"IF(OR('Résultats élèves'!G43<$J$4,'Résultats élèves'!G43=\"A\"),'Groupes besoin'!A51,\"\")","v":""},{"$f":"IF(S51=\"\",\"\",'Résultats élèves'!G43)","v":""},null,{"$f":"IF(OR('Résultats élèves'!H43<$J$3,'Résultats élèves'!H43=\"A\"),'Groupes besoin'!A51,\"\")","v":""},{"$f":"IF(V51=\"\",\"\",'Résultats élèves'!H43)","v":""},{"$f":"IF(OR('Résultats élèves'!H43<$J$4,'Résultats élèves'!H43=\"A\"),'Groupes besoin'!A51,\"\")","v":""},{"$f":"IF(X51=\"\",\"\",'Résultats élèves'!H43)","v":""},null,24,20,{"$f":"IF(AA51<$AA$9,#REF!,\"\")","v":""},null,null,{"$f":"IF(OR('Résultats élèves'!I43<$J$3,'Résultats élèves'!I43=\"A\"),'Groupes besoin'!A51,\"\")","v":""},{"$f":"IF(AF51=\"\",\"\",'Résultats élèves'!I43)","v":""},{"$f":"IF(OR('Résultats élèves'!I43<$J$4,'Résultats élèves'!I43=\"A\"),'Groupes besoin'!A51,\"\")","v":""},{"$f":"IF(AH51=\"\",\"\",'Résultats élèves'!I43)","v":""},null,{"$f":"IF(OR('Résultats élèves'!J43<$J$3,'Résultats élèves'!J43=\"A\"),'Groupes besoin'!A51,\"\")","v":""},{"$f":"IF(AK51=\"\",\"\",'Résultats élèves'!J43)","v":""},{"$f":"IF(OR('Résultats élèves'!J43<$J$4,'Résultats élèves'!J43=\"A\"),'Groupes besoin'!A51,\"\")","v":""},{"$f":"IF(AM51=\"\",\"\",'Résultats élèves'!J43)","v":""},null,{"$f":"IF(OR('Résultats élèves'!K43<$J$3,'Résultats élèves'!K43=\"A\"),'Groupes besoin'!A51,\"\")","v":""},{"$f":"IF(AP51=\"\",\"\",'Résultats élèves'!K43)","v":""},{"$f":"IF(OR('Résultats élèves'!K43<$J$4,'Résultats élèves'!K43=\"A\"),'Groupes besoin'!A51,\"\")","v":""},{"$f":"IF(AR51=\"\",\"\",'Résultats élèves'!K43)","v":""},null,{"$f":"IF(OR('Résultats élèves'!L43<$J$3,'Résultats élèves'!L43=\"A\"),'Groupes besoin'!A51,\"\")","v":""},{"$f":"IF(AU51=\"\",\"\",'Résultats élèves'!L43)","v":""},{"$f":"IF(OR('Résultats élèves'!L43<$J$4,'Résultats élèves'!L43=\"A\"),'Groupes besoin'!A51,\"\")","v":""},{"$f":"IF(AW51=\"\",\"\",'Résultats élèves'!L43)","v":""},null,{"$f":"IF(OR('Résultats élèves'!M43<$J$3,'Résultats élèves'!M43=\"A\"),'Groupes besoin'!A51,\"\")","v":""},{"$f":"IF(AZ51=\"\",\"\",'Résultats élèves'!M43)","v":""},{"$f":"IF(OR('Résultats élèves'!M43<$J$4,'Résultats élèves'!M43=\"A\"),'Groupes besoin'!A51,\"\")","v":""},{"$f":"IF(BB51=\"\",\"\",'Résultats élèves'!M43)","v":""}]

{"sheet":"Tri items","index":6,"n_rows":103,"n_cols":3,"rows_kept":103,"cut":false,"hidden":false,"merged":[[0,0,0,2],[2,0,2,2]]}
["Tri des items\n(remarque : pour pouvoir utiliser cette fiche et les boutons vous devez autoriser les macros)"]
[]
[{"$f":"IF(Accueil!A2=\"\",\"\",Accueil!A2)","v":"Évaluations mathématiques CM1"}]
["%","N° item","Détail item"]
[{"$f":"IF(C5=\"\",\"\",IF(ISERROR(VLOOKUP(B5,'Synthèse classe'!$C$4:$K$33,9,0)),\"\",VLOOKUP(B5,'Synthèse classe'!$C$4:$K$33,9,0)))","v":""},1,{"$f":"IF(VLOOKUP(B5,Accueil!$Q$27:$R$126,2)=0,\"\",VLOOKUP(B5,Accueil!$Q$27:$R$126,2))","v":"Écrire des nombres entiers jusqu’à 10 000 "}]
[{"$f":"IF(C6=\"\",\"\",IF(ISERROR(VLOOKUP(B6,'Synthèse classe'!$C$4:$K$33,9,0)),\"\",VLOOKUP(B6,'Synthèse classe'!$C$4:$K$33,9,0)))","v":""},2,{"$f":"IF(VLOOKUP(B6,Accueil!$Q$27:$R$126,2)=0,\"\",VLOOKUP(B6,Accueil!$Q$27:$R$126,2))","v":"Écrire des nombres entiers jusqu’à 10 000 "}]
[{"$f":"IF(C7=\"\",\"\",IF(ISERROR(VLOOKUP(B7,'Synthèse classe'!$C$4:$K$33,9,0)),\"\",VLOOKUP(B7,'Synthèse classe'!$C$4:$K$33,9,0)))","v":""},3,{"$f":"IF(VLOOKUP(B7,Accueil!$Q$27:$R$126,2)=0,\"\",VLOOKUP(B7,Accueil!$Q$27:$R$126,2))","v":"Écrire des nombres entiers jusqu’à 10 000 "}]
[{"$f":"IF(C8=\"\",\"\",IF(ISERROR(VLOOKUP(B8,'Synthèse classe'!$C$4:$K$33,9,0)),\"\",VLOOKUP(B8,'Synthèse classe'!$C$4:$K$33,9,0)))","v":""},4,{"$f":"IF(VLOOKUP(B8,Accueil!$Q$27:$R$126,2)=0,\"\",VLOOKUP(B8,Accueil!$Q$27:$R$126,2))","v":"Résoudre des problèmes issus de situations de la vie quotidienne : problèmes relevant des structures additives"}]
[{"$f":"IF(C9=\"\",\"\",IF(ISERROR(VLOOKUP(B9,'Synthèse classe'!$C$4:$K$33,9,0)),\"\",VLOOKUP(B9,'Synthèse classe'!$C$4:$K$33,9,0)))","v":""},5,{"$f":"IF(VLOOKUP(B9,Accueil!$Q$27:$R$126,2)=0,\"\",VLOOKUP(B9,Accueil!$Q$27:$R$126,2))","v":"Associer un nombre entier à une position sur une demi-droite graduée "}]
[{"$f":"IF(C10=\"\",\"\",IF(ISERROR(VLOOKUP(B10,'Synthèse classe'!$C$4:$K$33,9,0)),\"\",VLOOKUP(B10,'Synthèse classe'!$C$4:$K$33,9,0)))","v":""},6,{"$f":"IF(VLOOKUP(B10,Accueil!$Q$27:$R$126,2)=0,\"\",VLOOKUP(B10,Accueil!$Q$27:$R$126,2))","v":"Associer un nombre entier à une position sur une demi-droite graduée "}]
[{"$f":"IF(C11=\"\",\"\",IF(ISERROR(VLOOKUP(B11,'Synthèse classe'!$C$4:$K$33,9,0)),\"\",VLOOKUP(B11,'Synthèse classe'!$C$4:$K$33,9,0)))","v":""},7,{"$f":"IF(VLOOKUP(B11,Accueil!$Q$27:$R$126,2)=0,\"\",VLOOKUP(B11,Accueil!$Q$27:$R$126,2))","v":"Associer un nombre entier à une position sur une demi-droite graduée "}]
[{"$f":"IF(C12=\"\",\"\",IF(ISERROR(VLOOKUP(B12,'Synthèse classe'!$C$4:$K$33,9,0)),\"\",VLOOKUP(B12,'Synthèse classe'!$C$4:$K$33,9,0)))","v":""},8,{"$f":"IF(VLOOKUP(B12,Accueil!$Q$27:$R$126,2)=0,\"\",VLOOKUP(B12,Accueil!$Q$27:$R$126,2))","v":"Mémoriser des faits numériques"}]
[{"$f":"IF(C13=\"\",\"\",IF(ISERROR(VLOOKUP(B13,'Synthèse classe'!$C$4:$K$33,9,0)),\"\",VLOOKUP(B13,'Synthèse classe'!$C$4:$K$33,9,0)))","v":""},9,{"$f":"IF(VLOOKUP(B13,Accueil!$Q$27:$R$126,2)=0,\"\",VLOOKUP(B13,Accueil!$Q$27:$R$126,2))","v":"Mémoriser des faits numériques"}]
[{"$f":"IF(C14=\"\",\"\",IF(ISERROR(VLOOKUP(B14,'Synthèse classe'!$C$4:$K$33,9,0)),\"\",VLOOKUP(B14,'Synthèse classe'!$C$4:$K$33,9,0)))","v":""},10,{"$f":"IF(VLOOKUP(B14,Accueil!$Q$27:$R$126,2)=0,\"\",VLOOKUP(B14,Accueil!$Q$27:$R$126,2))","v":"Mémoriser des faits numériques"}]
[{"$f":"IF(C15=\"\",\"\",IF(ISERROR(VLOOKUP(B15,'Synthèse classe'!$C$4:$K$33,9,0)),\"\",VLOOKUP(B15,'Synthèse classe'!$C$4:$K$33,9,0)))","v":""},11,{"$f":"IF(VLOOKUP(B15,Accueil!$Q$27:$R$126,2)=0,\"\",VLOOKUP(B15,Accueil!$Q$27:$R$126,2))","v":"Mémoriser des faits numériques"}]
[{"$f":"IF(C16=\"\",\"\",IF(ISERROR(VLOOKUP(B16,'Synthèse classe'!$C$4:$K$33,9,0)),\"\",VLOOKUP(B16,'Synthèse classe'!$C$4:$K$33,9,0)))","v":""},11,{"$f":"IF(VLOOKUP(B16,Accueil!$Q$27:$R$126,2)=0,\"\",VLOOKUP(B16,Accueil!$Q$27:$R$126,2))","v":"Mémoriser des faits numériques"}]
[{"$f":"IF(C17=\"\",\"\",IF(ISERROR(VLOOKUP(B17,'Synthèse classe'!$C$4:$K$33,9,0)),\"\",VLOOKUP(B17,'Synthèse classe'!$C$4:$K$33,9,0)))","v":""},12,{"$f":"IF(VLOOKUP(B17,Accueil!$Q$27:$R$126,2)=0,\"\",VLOOKUP(B17,Accueil!$Q$27:$R$126,2))","v":"Dénombrer, constituer et comparer des collections en utilisant diverses stratégies de dénombrement"}]
[{"$f":"IF(C18=\"\",\"\",IF(ISERROR(VLOOKUP(B18,'Synthèse classe'!$C$4:$K$33,9,0)),\"\",VLOOKUP(B18,'Synthèse classe'!$C$4:$K$33,9,0)))","v":""},13,{"$f":"IF(VLOOKUP(B18,Accueil!$Q$27:$R$126,2)=0,\"\",VLOOKUP(B18,Accueil!$Q$27:$R$126,2))","v":"Dénombrer, constituer et comparer des collections en utilisant diverses stratégies de dénombrement"}]
[{"$f":"IF(C19=\"\",\"\",IF(ISERROR(VLOOKUP(B19,'Synthèse classe'!$C$4:$K$33,9,0)),\"\",VLOOKUP(B19,'Synthèse classe'!$C$4:$K$33,9,0)))","v":""},14,{"$f":"IF(VLOOKUP(B19,Accueil!$Q$27:$R$126,2)=0,\"\",VLOOKUP(B19,Accueil!$Q$27:$R$126,2))","v":"Associer un nombre entendu à l’oral à son écriture chiffrée "}]
[{"$f":"IF(C20=\"\",\"\",IF(ISERROR(VLOOKUP(B20,'Synthèse classe'!$C$4:$K$33,9,0)),\"\",VLOOKUP(B20,'Synthèse classe'!$C$4:$K$33,9,0)))","v":""},15,{"$f":"IF(VLOOKUP(B20,Accueil!$Q$27:$R$126,2)=0,\"\",VLOOKUP(B20,Accueil!$Q$27:$R$126,2))","v":"Calculer en utilisant des écritures en ligne additives, soustractives, multiplicatives, mixtes"}]
[{"$f":"IF(C21=\"\",\"\",IF(ISERROR(VLOOKUP(B21,'Synthèse classe'!$C$4:$K$33,9,0)),\"\",VLOOKUP(B21,'Synthèse classe'!$C$4:$K$33,9,0)))","v":""},16,{"$f":"IF(VLOOKUP(B21,Accueil!$Q$27:$R$126,2)=0,\"\",VLOOKUP(B21,Accueil!$Q$27:$R$126,2))","v":"Calculer en utilisant des écritures en ligne additives, soustractives, multiplicatives, mixtes"}]
[{"$f":"IF(C22=\"\",\"\",IF(ISERROR(VLOOKUP(B22,'Synthèse classe'!$C$4:$K$33,9,0)),\"\",VLOOKUP(B22,'Synthèse classe'!$C$4:$K$33,9,0)))","v":""},17,{"$f":"IF(VLOOKUP(B22,Accueil!$Q$27:$R$126,2)=0,\"\",VLOOKUP(B22,Accueil!$Q$27:$R$126,2))","v":"Calculer en utilisant des écritures en ligne additives, soustractives, multiplicatives, mixtes"}]
[{"$f":"IF(C23=\"\",\"\",IF(ISERROR(VLOOKUP(B23,'Synthèse classe'!$C$4:$K$33,9,0)),\"\",VLOOKUP(B23,'Synthèse classe'!$C$4:$K$33,9,0)))","v":""},18,{"$f":"IF(VLOOKUP(B23,Accueil!$Q$27:$R$126,2)=0,\"\",VLOOKUP(B23,Accueil!$Q$27:$R$126,2))","v":"Calculer mentalement pour évaluer un ordre de grandeur"}]
[{"$f":"IF(C24=\"\",\"\",IF(ISERROR(VLOOKUP(B24,'Synthèse classe'!$C$4:$K$33,9,0)),\"\",VLOOKUP(B24,'Synthèse classe'!$C$4:$K$33,9,0)))","v":""},19,{"$f":"IF(VLOOKUP(B24,Accueil!$Q$27:$R$126,2)=0,\"\",VLOOKUP(B24,Accueil!$Q$27:$R$126,2))","v":"Calculer mentalement pour évaluer un ordre de grandeur"}]
[{"$f":"IF(C25=\"\",\"\",IF(ISERROR(VLOOKUP(B25,'Synthèse classe'!$C$4:$K$33,9,0)),\"\",VLOOKUP(B25,'Synthèse classe'!$C$4:$K$33,9,0)))","v":""},21,{"$f":"IF(VLOOKUP(B25,Accueil!$Q$27:$R$126,2)=0,\"\",VLOOKUP(B25,Accueil!$Q$27:$R$126,2))","v":"Comparer, ranger, encadrer, ordonner, intercaler des nombres entiers"}]
[{"$f":"IF(C26=\"\",\"\",IF(ISERROR(VLOOKUP(B26,'Synthèse classe'!$C$4:$K$33,9,0)),\"\",VLOOKUP(B26,'Synthèse classe'!$C$4:$K$33,9,0)))","v":""},22,{"$f":"IF(VLOOKUP(B26,Accueil!$Q$27:$R$126,2)=0,\"\",VLOOKUP(B26,Accueil!$Q$27:$R$126,2))","v":"Comparer, ranger, encadrer, ordonner, intercaler des nombres entiers"}]
[{"$f":"IF(C27=\"\",\"\",IF(ISERROR(VLOOKUP(B27,'Synthèse classe'!$C$4:$K$33,9,0)),\"\",VLOOKUP(B27,'Synthèse classe'!$C$4:$K$33,9,0)))","v":""},23,{"$f":"IF(VLOOKUP(B27,Accueil!$Q$27:$R$126,2)=0,\"\",VLOOKUP(B27,Accueil!$Q$27:$R$126,2))","v":"Exploiter des données numériques d'un graphique pour répondre à des questions"}]
[{"$f":"IF(C28=\"\",\"\",IF(ISERROR(VLOOKUP(B28,'Synthèse classe'!$C$4:$K$33,9,0)),\"\",VLOOKUP(B28,'Synthèse classe'!$C$4:$K$33,9,0)))","v":""},24,{"$f":"IF(VLOOKUP(B28,Accueil!$Q$27:$R$126,2)=0,\"\",VLOOKUP(B28,Accueil!$Q$27:$R$126,2))","v":"Exploiter des données numériques d'un graphique pour répondre à des questions"}]
[{"$f":"IF(C29=\"\",\"\",IF(ISERROR(VLOOKUP(B29,'Synthèse classe'!$C$4:$K$33,9,0)),\"\",VLOOKUP(B29,'Synthèse classe'!$C$4:$K$33,9,0)))","v":""},25,{"$f":"IF(VLOOKUP(B29,Accueil!$Q$27:$R$126,2)=0,\"\",VLOOKUP(B29,Accueil!$Q$27:$R$126,2))","v":"Exploiter des données numériques d'un graphique pour répondre à des questions"}]
[{"$f":"IF(C30=\"\",\"\",IF(ISERROR(VLOOKUP(B30,'Synthèse classe'!$C$4:$K$33,9,0)),\"\",VLOOKUP(B30,'Synthèse classe'!$C$4:$K$33,9,0)))","v":""},26,{"$f":"IF(VLOOKUP(B30,Accueil!$Q$27:$R$126,2)=0,\"\",VLOOKUP(B30,Accueil!$Q$27:$R$126,2))","v":"Associer un nombre écrit en chiffre avec différentes représentations"}]
[{"$f":"IF(C31=\"\",\"\",IF(ISERROR(VLOOKUP(B31,'Synthèse classe'!$C$4:$K$33,9,0)),\"\",VLOOKUP(B31,'Synthèse classe'!$C$4:$K$33,9,0)))","v":""},28,{"$f":"IF(VLOOKUP(B31,Accueil!$Q$27:$R$126,2)=0,\"\",VLOOKUP(B31,Accueil!$Q$27:$R$126,2))","v":"Associer un nombre écrit en chiffre avec différentes représentations"}]
[{"$f":"IF(C32=\"\",\"\",IF(ISERROR(VLOOKUP(B32,'Synthèse classe'!$C$4:$K$33,9,0)),\"\",VLOOKUP(B32,'Synthèse classe'!$C$4:$K$33,9,0)))","v":""},29,{"$f":"IF(VLOOKUP(B32,Accueil!$Q$27:$R$126,2)=0,\"\",VLOOKUP(B32,Accueil!$Q$27:$R$126,2))","v":"Résoudre des problèmes issus de situations de la vie quotidienne : problèmes relevant des structures additives"}]
[{"$f":"IF(C33=\"\",\"\",IF(ISERROR(VLOOKUP(B33,'Synthèse classe'!$C$4:$K$33,9,0)),\"\",VLOOKUP(B33,'Synthèse classe'!$C$4:$K$33,9,0)))","v":""},30,{"$f":"IF(VLOOKUP(B33,Accueil!$Q$27:$R$126,2)=0,\"\",VLOOKUP(B33,Accueil!$Q$27:$R$126,2))","v":"Calculer en utilisant des écritures en ligne additives, soustractives, multiplicatives, mixtes"}]
[{"$f":"IF(C34=\"\",\"\",IF(ISERROR(VLOOKUP(B34,'Synthèse classe'!$C$4:$K$33,9,0)),\"\",VLOOKUP(B34,'Synthèse classe'!$C$4:$K$33,9,0)))","v":""},31,{"$f":"IF(VLOOKUP(B34,Accueil!$Q$27:$R$126,2)=0,\"\",VLOOKUP(B34,Accueil!$Q$27:$R$126,2))","v":""}]
[{"$f":"IF(C35=\"\",\"\",IF(ISERROR(VLOOKUP(B35,'Synthèse classe'!$C$4:$K$33,9,0)),\"\",VLOOKUP(B35,'Synthèse classe'!$C$4:$K$33,9,0)))","v":""},32,{"$f":"IF(VLOOKUP(B35,Accueil!$Q$27:$R$126,2)=0,\"\",VLOOKUP(B35,Accueil!$Q$27:$R$126,2))","v":""}]
[{"$f":"IF(C36=\"\",\"\",IF(ISERROR(VLOOKUP(B36,'Synthèse classe'!$C$4:$K$33,9,0)),\"\",VLOOKUP(B36,'Synthèse classe'!$C$4:$K$33,9,0)))","v":""},33,{"$f":"IF(VLOOKUP(B36,Accueil!$Q$27:$R$126,2)=0,\"\",VLOOKUP(B36,Accueil!$Q$27:$R$126,2))","v":""}]
[{"$f":"IF(C37=\"\",\"\",IF(ISERROR(VLOOKUP(B37,'Synthèse classe'!$C$4:$K$33,9,0)),\"\",VLOOKUP(B37,'Synthèse classe'!$C$4:$K$33,9,0)))","v":""},34,{"$f":"IF(VLOOKUP(B37,Accueil!$Q$27:$R$126,2)=0,\"\",VLOOKUP(B37,Accueil!$Q$27:$R$126,2))","v":""}]
[{"$f":"IF(C38=\"\",\"\",IF(ISERROR(VLOOKUP(B38,'Synthèse classe'!$C$4:$K$33,9,0)),\"\",VLOOKUP(B38,'Synthèse classe'!$C$4:$K$33,9,0)))","v":""},35,{"$f":"IF(VLOOKUP(B38,Accueil!$Q$27:$R$126,2)=0,\"\",VLOOKUP(B38,Accueil!$Q$27:$R$126,2))","v":""}]
[{"$f":"IF(C39=\"\",\"\",IF(ISERROR(VLOOKUP(B39,'Synthèse classe'!$C$4:$K$33,9,0)),\"\",VLOOKUP(B39,'Synthèse classe'!$C$4:$K$33,9,0)))","v":""},36,{"$f":"IF(VLOOKUP(B39,Accueil!$Q$27:$R$126,2)=0,\"\",VLOOKUP(B39,Accueil!$Q$27:$R$126,2))","v":""}]
[{"$f":"IF(C40=\"\",\"\",IF(ISERROR(VLOOKUP(B40,'Synthèse classe'!$C$4:$K$33,9,0)),\"\",VLOOKUP(B40,'Synthèse classe'!$C$4:$K$33,9,0)))","v":""},37,{"$f":"IF(VLOOKUP(B40,Accueil!$Q$27:$R$126,2)=0,\"\",VLOOKUP(B40,Accueil!$Q$27:$R$126,2))","v":""}]
[{"$f":"IF(C41=\"\",\"\",IF(ISERROR(VLOOKUP(B41,'Synthèse classe'!$C$4:$K$33,9,0)),\"\",VLOOKUP(B41,'Synthèse classe'!$C$4:$K$33,9,0)))","v":""},38,{"$f":"IF(VLOOKUP(B41,Accueil!$Q$27:$R$126,2)=0,\"\",VLOOKUP(B41,Accueil!$Q$27:$R$126,2))","v":""}]
[{"$f":"IF(C42=\"\",\"\",IF(ISERROR(VLOOKUP(B42,'Synthèse classe'!$C$4:$K$33,9,0)),\"\",VLOOKUP(B42,'Synthèse classe'!$C$4:$K$33,9,0)))","v":""},39,{"$f":"IF(VLOOKUP(B42,Accueil!$Q$27:$R$126,2)=0,\"\",VLOOKUP(B42,Accueil!$Q$27:$R$126,2))","v":""}]
[{"$f":"IF(C43=\"\",\"\",IF(ISERROR(VLOOKUP(B43,'Synthèse classe'!$C$4:$K$33,9,0)),\"\",VLOOKUP(B43,'Synthèse classe'!$C$4:$K$33,9,0)))","v":""},40,{"$f":"IF(VLOOKUP(B43,Accueil!$Q$27:$R$126,2)=0,\"\",VLOOKUP(B43,Accueil!$Q$27:$R$126,2))","v":""}]
[{"$f":"IF(C44=\"\",\"\",IF(ISERROR(VLOOKUP(B44,'Synthèse classe'!$C$4:$K$33,9,0)),\"\",VLOOKUP(B44,'Synthèse classe'!$C$4:$K$33,9,0)))","v":""},41,{"$f":"IF(VLOOKUP(B44,Accueil!$Q$27:$R$126,2)=0,\"\",VLOOKUP(B44,Accueil!$Q$27:$R$126,2))","v":""}]
[{"$f":"IF(C45=\"\",\"\",IF(ISERROR(VLOOKUP(B45,'Synthèse classe'!$C$4:$K$33,9,0)),\"\",VLOOKUP(B45,'Synthèse classe'!$C$4:$K$33,9,0)))","v":""},42,{"$f":"IF(VLOOKUP(B45,Accueil!$Q$27:$R$126,2)=0,\"\",VLOOKUP(B45,Accueil!$Q$27:$R$126,2))","v":""}]
[{"$f":"IF(C46=\"\",\"\",IF(ISERROR(VLOOKUP(B46,'Synthèse classe'!$C$4:$K$33,9,0)),\"\",VLOOKUP(B46,'Synthèse classe'!$C$4:$K$33,9,0)))","v":""},43,{"$f":"IF(VLOOKUP(B46,Accueil!$Q$27:$R$126,2)=0,\"\",VLOOKUP(B46,Accueil!$Q$27:$R$126,2))","v":""}]
[{"$f":"IF(C47=\"\",\"\",IF(ISERROR(VLOOKUP(B47,'Synthèse classe'!$C$4:$K$33,9,0)),\"\",VLOOKUP(B47,'Synthèse classe'!$C$4:$K$33,9,0)))","v":""},44,{"$f":"IF(VLOOKUP(B47,Accueil!$Q$27:$R$126,2)=0,\"\",VLOOKUP(B47,Accueil!$Q$27:$R$126,2))","v":""}]
[{"$f":"IF(C48=\"\",\"\",IF(ISERROR(VLOOKUP(B48,'Synthèse classe'!$C$4:$K$33,9,0)),\"\",VLOOKUP(B48,'Synthèse classe'!$C$4:$K$33,9,0)))","v":""},45,{"$f":"IF(VLOOKUP(B48,Accueil!$Q$27:$R$126,2)=0,\"\",VLOOKUP(B48,Accueil!$Q$27:$R$126,2))","v":""}]
[{"$f":"IF(C49=\"\",\"\",IF(ISERROR(VLOOKUP(B49,'Synthèse classe'!$C$4:$K$33,9,0)),\"\",VLOOKUP(B49,'Synthèse classe'!$C$4:$K$33,9,0)))","v":""},46,{"$f":"IF(VLOOKUP(B49,Accueil!$Q$27:$R$126,2)=0,\"\",VLOOKUP(B49,Accueil!$Q$27:$R$126,2))","v":""}]
[{"$f":"IF(C50=\"\",\"\",IF(ISERROR(VLOOKUP(B50,'Synthèse classe'!$C$4:$K$33,9,0)),\"\",VLOOKUP(B50,'Synthèse classe'!$C$4:$K$33,9,0)))","v":""},47,{"$f":"IF(VLOOKUP(B50,Accueil!$Q$27:$R$126,2)=0,\"\",VLOOKUP(B50,Accueil!$Q$27:$R$126,2))","v":""}]
[{"$f":"IF(C51=\"\",\"\",IF(ISERROR(VLOOKUP(B51,'Synthèse classe'!$C$4:$K$33,9,0)),\"\",VLOOKUP(B51,'Synthèse classe'!$C$4:$K$33,9,0)))","v":""},48,{"$f":"IF(VLOOKUP(B51,Accueil!$Q$27:$R$126,2)=0,\"\",VLOOKUP(B51,Accueil!$Q$27:$R$126,2))","v":""}]
[{"$f":"IF(C52=\"\",\"\",IF(ISERROR(VLOOKUP(B52,'Synthèse classe'!$C$4:$K$33,9,0)),\"\",VLOOKUP(B52,'Synthèse classe'!$C$4:$K$33,9,0)))","v":""},49,{"$f":"IF(VLOOKUP(B52,Accueil!$Q$27:$R$126,2)=0,\"\",VLOOKUP(B52,Accueil!$Q$27:$R$126,2))","v":""}]
[{"$f":"IF(C53=\"\",\"\",IF(ISERROR(VLOOKUP(B53,'Synthèse classe'!$C$4:$K$33,9,0)),\"\",VLOOKUP(B53,'Synthèse classe'!$C$4:$K$33,9,0)))","v":""},50,{"$f":"IF(VLOOKUP(B53,Accueil!$Q$27:$R$126,2)=0,\"\",VLOOKUP(B53,Accueil!$Q$27:$R$126,2))","v":""}]
[{"$f":"IF(C54=\"\",\"\",IF(ISERROR(VLOOKUP(B54,'Synthèse classe'!$C$4:$K$33,9,0)),\"\",VLOOKUP(B54,'Synthèse classe'!$C$4:$K$33,9,0)))","v":""},51,{"$f":"IF(VLOOKUP(B54,Accueil!$Q$27:$R$126,2)=0,\"\",VLOOKUP(B54,Accueil!$Q$27:$R$126,2))","v":""}]
[{"$f":"IF(C55=\"\",\"\",IF(ISERROR(VLOOKUP(B55,'Synthèse classe'!$C$4:$K$33,9,0)),\"\",VLOOKUP(B55,'Synthèse classe'!$C$4:$K$33,9,0)))","v":""},52,{"$f":"IF(VLOOKUP(B55,Accueil!$Q$27:$R$126,2)=0,\"\",VLOOKUP(B55,Accueil!$Q$27:$R$126,2))","v":""}]
[{"$f":"IF(C56=\"\",\"\",IF(ISERROR(VLOOKUP(B56,'Synthèse classe'!$C$4:$K$33,9,0)),\"\",VLOOKUP(B56,'Synthèse classe'!$C$4:$K$33,9,0)))","v":""},53,{"$f":"IF(VLOOKUP(B56,Accueil!$Q$27:$R$126,2)=0,\"\",VLOOKUP(B56,Accueil!$Q$27:$R$126,2))","v":""}]
[{"$f":"IF(C57=\"\",\"\",IF(ISERROR(VLOOKUP(B57,'Synthèse classe'!$C$4:$K$33,9,0)),\"\",VLOOKUP(B57,'Synthèse classe'!$C$4:$K$33,9,0)))","v":""},54,{"$f":"IF(VLOOKUP(B57,Accueil!$Q$27:$R$126,2)=0,\"\",VLOOKUP(B57,Accueil!$Q$27:$R$126,2))","v":""}]
[{"$f":"IF(C58=\"\",\"\",IF(ISERROR(VLOOKUP(B58,'Synthèse classe'!$C$4:$K$33,9,0)),\"\",VLOOKUP(B58,'Synthèse classe'!$C$4:$K$33,9,0)))","v":""},55,{"$f":"IF(VLOOKUP(B58,Accueil!$Q$27:$R$126,2)=0,\"\",VLOOKUP(B58,Accueil!$Q$27:$R$126,2))","v":""}]
[{"$f":"IF(C59=\"\",\"\",IF(ISERROR(VLOOKUP(B59,'Synthèse classe'!$C$4:$K$33,9,0)),\"\",VLOOKUP(B59,'Synthèse classe'!$C$4:$K$33,9,0)))","v":""},56,{"$f":"IF(VLOOKUP(B59,Accueil!$Q$27:$R$126,2)=0,\"\",VLOOKUP(B59,Accueil!$Q$27:$R$126,2))","v":""}]
[{"$f":"IF(C60=\"\",\"\",IF(ISERROR(VLOOKUP(B60,'Synthèse classe'!$C$4:$K$33,9,0)),\"\",VLOOKUP(B60,'Synthèse classe'!$C$4:$K$33,9,0)))","v":""},57,{"$f":"IF(VLOOKUP(B60,Accueil!$Q$27:$R$126,2)=0,\"\",VLOOKUP(B60,Accueil!$Q$27:$R$126,2))","v":""}]
[{"$f":"IF(C61=\"\",\"\",IF(ISERROR(VLOOKUP(B61,'Synthèse classe'!$C$4:$K$33,9,0)),\"\",VLOOKUP(B61,'Synthèse classe'!$C$4:$K$33,9,0)))","v":""},58,{"$f":"IF(VLOOKUP(B61,Accueil!$Q$27:$R$126,2)=0,\"\",VLOOKUP(B61,Accueil!$Q$27:$R$126,2))","v":""}]
[{"$f":"IF(C62=\"\",\"\",IF(ISERROR(VLOOKUP(B62,'Synthèse classe'!$C$4:$K$33,9,0)),\"\",VLOOKUP(B62,'Synthèse classe'!$C$4:$K$33,9,0)))","v":""},59,{"$f":"IF(VLOOKUP(B62,Accueil!$Q$27:$R$126,2)=0,\"\",VLOOKUP(B62,Accueil!$Q$27:$R$126,2))","v":""}]
[{"$f":"IF(C63=\"\",\"\",IF(ISERROR(VLOOKUP(B63,'Synthèse classe'!$C$4:$K$33,9,0)),\"\",VLOOKUP(B63,'Synthèse classe'!$C$4:$K$33,9,0)))","v":""},60,{"$f":"IF(VLOOKUP(B63,Accueil!$Q$27:$R$126,2)=0,\"\",VLOOKUP(B63,Accueil!$Q$27:$R$126,2))","v":""}]
[{"$f":"IF(C64=\"\",\"\",IF(ISERROR(VLOOKUP(B64,'Synthèse classe'!$C$4:$K$33,9,0)),\"\",VLOOKUP(B64,'Synthèse classe'!$C$4:$K$33,9,0)))","v":""},61,{"$f":"IF(VLOOKUP(B64,Accueil!$Q$27:$R$126,2)=0,\"\",VLOOKUP(B64,Accueil!$Q$27:$R$126,2))","v":""}]
[{"$f":"IF(C65=\"\",\"\",IF(ISERROR(VLOOKUP(B65,'Synthèse classe'!$C$4:$K$33,9,0)),\"\",VLOOKUP(B65,'Synthèse classe'!$C$4:$K$33,9,0)))","v":""},62,{"$f":"IF(VLOOKUP(B65,Accueil!$Q$27:$R$126,2)=0,\"\",VLOOKUP(B65,Accueil!$Q$27:$R$126,2))","v":""}]
[{"$f":"IF(C66=\"\",\"\",IF(ISERROR(VLOOKUP(B66,'Synthèse classe'!$C$4:$K$33,9,0)),\"\",VLOOKUP(B66,'Synthèse classe'!$C$4:$K$33,9,0)))","v":""},63,{"$f":"IF(VLOOKUP(B66,Accueil!$Q$27:$R$126,2)=0,\"\",VLOOKUP(B66,Accueil!$Q$27:$R$126,2))","v":""}]
[{"$f":"IF(C67=\"\",\"\",IF(ISERROR(VLOOKUP(B67,'Synthèse classe'!$C$4:$K$33,9,0)),\"\",VLOOKUP(B67,'Synthèse classe'!$C$4:$K$33,9,0)))","v":""},64,{"$f":"IF(VLOOKUP(B67,Accueil!$Q$27:$R$126,2)=0,\"\",VLOOKUP(B67,Accueil!$Q$27:$R$126,2))","v":""}]
[{"$f":"IF(C68=\"\",\"\",IF(ISERROR(VLOOKUP(B68,'Synthèse classe'!$C$4:$K$33,9,0)),\"\",VLOOKUP(B68,'Synthèse classe'!$C$4:$K$33,9,0)))","v":""},65,{"$f":"IF(VLOOKUP(B68,Accueil!$Q$27:$R$126,2)=0,\"\",VLOOKUP(B68,Accueil!$Q$27:$R$126,2))","v":""}]
[{"$f":"IF(C69=\"\",\"\",IF(ISERROR(VLOOKUP(B69,'Synthèse classe'!$C$4:$K$33,9,0)),\"\",VLOOKUP(B69,'Synthèse classe'!$C$4:$K$33,9,0)))","v":""},66,{"$f":"IF(VLOOKUP(B69,Accueil!$Q$27:$R$126,2)=0,\"\",VLOOKUP(B69,Accueil!$Q$27:$R$126,2))","v":""}]
[{"$f":"IF(C70=\"\",\"\",IF(ISERROR(VLOOKUP(B70,'Synthèse classe'!$C$4:$K$33,9,0)),\"\",VLOOKUP(B70,'Synthèse classe'!$C$4:$K$33,9,0)))","v":""},67,{"$f":"IF(VLOOKUP(B70,Accueil!$Q$27:$R$126,2)=0,\"\",VLOOKUP(B70,Accueil!$Q$27:$R$126,2))","v":""}]
[{"$f":"IF(C71=\"\",\"\",IF(ISERROR(VLOOKUP(B71,'Synthèse classe'!$C$4:$K$33,9,0)),\"\",VLOOKUP(B71,'Synthèse classe'!$C$4:$K$33,9,0)))","v":""},68,{"$f":"IF(VLOOKUP(B71,Accueil!$Q$27:$R$126,2)=0,\"\",VLOOKUP(B71,Accueil!$Q$27:$R$126,2))","v":""}]
[{"$f":"IF(C72=\"\",\"\",IF(ISERROR(VLOOKUP(B72,'Synthèse classe'!$C$4:$K$33,9,0)),\"\",VLOOKUP(B72,'Synthèse classe'!$C$4:$K$33,9,0)))","v":""},69,{"$f":"IF(VLOOKUP(B72,Accueil!$Q$27:$R$126,2)=0,\"\",VLOOKUP(B72,Accueil!$Q$27:$R$126,2))","v":""}]
[{"$f":"IF(C73=\"\",\"\",IF(ISERROR(VLOOKUP(B73,'Synthèse classe'!$C$4:$K$33,9,0)),\"\",VLOOKUP(B73,'Synthèse classe'!$C$4:$K$33,9,0)))","v":""},70,{"$f":"IF(VLOOKUP(B73,Accueil!$Q$27:$R$126,2)=0,\"\",VLOOKUP(B73,Accueil!$Q$27:$R$126,2))","v":""}]
[{"$f":"IF(C74=\"\",\"\",IF(ISERROR(VLOOKUP(B74,'Synthèse classe'!$C$4:$K$33,9,0)),\"\",VLOOKUP(B74,'Synthèse classe'!$C$4:$K$33,9,0)))","v":""},71,{"$f":"IF(VLOOKUP(B74,Accueil!$Q$27:$R$126,2)=0,\"\",VLOOKUP(B74,Accueil!$Q$27:$R$126,2))","v":""}]
[{"$f":"IF(C75=\"\",\"\",IF(ISERROR(VLOOKUP(B75,'Synthèse classe'!$C$4:$K$33,9,0)),\"\",VLOOKUP(B75,'Synthèse classe'!$C$4:$K$33,9,0)))","v":""},72,{"$f":"IF(VLOOKUP(B75,Accueil!$Q$27:$R$126,2)=0,\"\",VLOOKUP(B75,Accueil!$Q$27:$R$126,2))","v":""}]
[{"$f":"IF(C76=\"\",\"\",IF(ISERROR(VLOOKUP(B76,'Synthèse classe'!$C$4:$K$33,9,0)),\"\",VLOOKUP(B76,'Synthèse classe'!$C$4:$K$33,9,0)))","v":""},73,{"$f":"IF(VLOOKUP(B76,Accueil!$Q$27:$R$126,2)=0,\"\",VLOOKUP(B76,Accueil!$Q$27:$R$126,2))","v":""}]
[{"$f":"IF(C77=\"\",\"\",IF(ISERROR(VLOOKUP(B77,'Synthèse classe'!$C$4:$K$33,9,0)),\"\",VLOOKUP(B77,'Synthèse classe'!$C$4:$K$33,9,0)))","v":""},74,{"$f":"IF(VLOOKUP(B77,Accueil!$Q$27:$R$126,2)=0,\"\",VLOOKUP(B77,Accueil!$Q$27:$R$126,2))","v":""}]
[{"$f":"IF(C78=\"\",\"\",IF(ISERROR(VLOOKUP(B78,'Synthèse classe'!$C$4:$K$33,9,0)),\"\",VLOOKUP(B78,'Synthèse classe'!$C$4:$K$33,9,0)))","v":""},75,{"$f":"IF(VLOOKUP(B78,Accueil!$Q$27:$R$126,2)=0,\"\",VLOOKUP(B78,Accueil!$Q$27:$R$126,2))","v":""}]
[{"$f":"IF(C79=\"\",\"\",IF(ISERROR(VLOOKUP(B79,'Synthèse classe'!$C$4:$K$33,9,0)),\"\",VLOOKUP(B79,'Synthèse classe'!$C$4:$K$33,9,0)))","v":""},76,{"$f":"IF(VLOOKUP(B79,Accueil!$Q$27:$R$126,2)=0,\"\",VLOOKUP(B79,Accueil!$Q$27:$R$126,2))","v":""}]
[{"$f":"IF(C80=\"\",\"\",IF(ISERROR(VLOOKUP(B80,'Synthèse classe'!$C$4:$K$33,9,0)),\"\",VLOOKUP(B80,'Synthèse classe'!$C$4:$K$33,9,0)))","v":""},77,{"$f":"IF(VLOOKUP(B80,Accueil!$Q$27:$R$126,2)=0,\"\",VLOOKUP(B80,Accueil!$Q$27:$R$126,2))","v":""}]
[{"$f":"IF(C81=\"\",\"\",IF(ISERROR(VLOOKUP(B81,'Synthèse classe'!$C$4:$K$33,9,0)),\"\",VLOOKUP(B81,'Synthèse classe'!$C$4:$K$33,9,0)))","v":""},78,{"$f":"IF(VLOOKUP(B81,Accueil!$Q$27:$R$126,2)=0,\"\",VLOOKUP(B81,Accueil!$Q$27:$R$126,2))","v":""}]
[{"$f":"IF(C82=\"\",\"\",IF(ISERROR(VLOOKUP(B82,'Synthèse classe'!$C$4:$K$33,9,0)),\"\",VLOOKUP(B82,'Synthèse classe'!$C$4:$K$33,9,0)))","v":""},79,{"$f":"IF(VLOOKUP(B82,Accueil!$Q$27:$R$126,2)=0,\"\",VLOOKUP(B82,Accueil!$Q$27:$R$126,2))","v":""}]
[{"$f":"IF(C83=\"\",\"\",IF(ISERROR(VLOOKUP(B83,'Synthèse classe'!$C$4:$K$33,9,0)),\"\",VLOOKUP(B83,'Synthèse classe'!$C$4:$K$33,9,0)))","v":""},80,{"$f":"IF(VLOOKUP(B83,Accueil!$Q$27:$R$126,2)=0,\"\",VLOOKUP(B83,Accueil!$Q$27:$R$126,2))","v":""}]
[{"$f":"IF(C84=\"\",\"\",IF(ISERROR(VLOOKUP(B84,'Synthèse classe'!$C$4:$K$33,9,0)),\"\",VLOOKUP(B84,'Synthèse classe'!$C$4:$K$33,9,0)))","v":""},81,{"$f":"IF(VLOOKUP(B84,Accueil!$Q$27:$R$126,2)=0,\"\",VLOOKUP(B84,Accueil!$Q$27:$R$126,2))","v":""}]
[{"$f":"IF(C85=\"\",\"\",IF(ISERROR(VLOOKUP(B85,'Synthèse classe'!$C$4:$K$33,9,0)),\"\",VLOOKUP(B85,'Synthèse classe'!$C$4:$K$33,9,0)))","v":""},82,{"$f":"IF(VLOOKUP(B85,Accueil!$Q$27:$R$126,2)=0,\"\",VLOOKUP(B85,Accueil!$Q$27:$R$126,2))","v":""}]
[{"$f":"IF(C86=\"\",\"\",IF(ISERROR(VLOOKUP(B86,'Synthèse classe'!$C$4:$K$33,9,0)),\"\",VLOOKUP(B86,'Synthèse classe'!$C$4:$K$33,9,0)))","v":""},83,{"$f":"IF(VLOOKUP(B86,Accueil!$Q$27:$R$126,2)=0,\"\",VLOOKUP(B86,Accueil!$Q$27:$R$126,2))","v":""}]
[{"$f":"IF(C87=\"\",\"\",IF(ISERROR(VLOOKUP(B87,'Synthèse classe'!$C$4:$K$33,9,0)),\"\",VLOOKUP(B87,'Synthèse classe'!$C$4:$K$33,9,0)))","v":""},84,{"$f":"IF(VLOOKUP(B87,Accueil!$Q$27:$R$126,2)=0,\"\",VLOOKUP(B87,Accueil!$Q$27:$R$126,2))","v":""}]
[{"$f":"IF(C88=\"\",\"\",IF(ISERROR(VLOOKUP(B88,'Synthèse classe'!$C$4:$K$33,9,0)),\"\",VLOOKUP(B88,'Synthèse classe'!$C$4:$K$33,9,0)))","v":""},85,{"$f":"IF(VLOOKUP(B88,Accueil!$Q$27:$R$126,2)=0,\"\",VLOOKUP(B88,Accueil!$Q$27:$R$126,2))","v":""}]
[{"$f":"IF(C89=\"\",\"\",IF(ISERROR(VLOOKUP(B89,'Synthèse classe'!$C$4:$K$33,9,0)),\"\",VLOOKUP(B89,'Synthèse classe'!$C$4:$K$33,9,0)))","v":""},86,{"$f":"IF(VLOOKUP(B89,Accueil!$Q$27:$R$126,2)=0,\"\",VLOOKUP(B89,Accueil!$Q$27:$R$126,2))","v":""}]
[{"$f":"IF(C90=\"\",\"\",IF(ISERROR(VLOOKUP(B90,'Synthèse classe'!$C$4:$K$33,9,0)),\"\",VLOOKUP(B90,'Synthèse classe'!$C$4:$K$33,9,0)))","v":""},87,{"$f":"IF(VLOOKUP(B90,Accueil!$Q$27:$R$126,2)=0,\"\",VLOOKUP(B90,Accueil!$Q$27:$R$126,2))","v":""}]
[{"$f":"IF(C91=\"\",\"\",IF(ISERROR(VLOOKUP(B91,'Synthèse classe'!$C$4:$K$33,9,0)),\"\",VLOOKUP(B91,'Synthèse classe'!$C$4:$K$33,9,0)))","v":""},88,{"$f":"IF(VLOOKUP(B91,Accueil!$Q$27:$R$126,2)=0,\"\",VLOOKUP(B91,Accueil!$Q$27:$R$126,2))","v":""}]
[{"$f":"IF(C92=\"\",\"\",IF(ISERROR(VLOOKUP(B92,'Synthèse classe'!$C$4:$K$33,9,0)),\"\",VLOOKUP(B92,'Synthèse classe'!$C$4:$K$33,9,0)))","v":""},89,{"$f":"IF(VLOOKUP(B92,Accueil!$Q$27:$R$126,2)=0,\"\",VLOOKUP(B92,Accueil!$Q$27:$R$126,2))","v":""}]
[{"$f":"IF(C93=\"\",\"\",IF(ISERROR(VLOOKUP(B93,'Synthèse classe'!$C$4:$K$33,9,0)),\"\",VLOOKUP(B93,'Synthèse classe'!$C$4:$K$33,9,0)))","v":""},90,{"$f":"IF(VLOOKUP(B93,Accueil!$Q$27:$R$126,2)=0,\"\",VLOOKUP(B93,Accueil!$Q$27:$R$126,2))","v":""}]
[{"$f":"IF(C94=\"\",\"\",IF(ISERROR(VLOOKUP(B94,'Synthèse classe'!$C$4:$K$33,9,0)),\"\",VLOOKUP(B94,'Synthèse classe'!$C$4:$K$33,9,0)))","v":""},91,{"$f":"IF(VLOOKUP(B94,Accueil!$Q$27:$R$126,2)=0,\"\",VLOOKUP(B94,Accueil!$Q$27:$R$126,2))","v":""}]
[{"$f":"IF(C95=\"\",\"\",IF(ISERROR(VLOOKUP(B95,'Synthèse classe'!$C$4:$K$33,9,0)),\"\",VLOOKUP(B95,'Synthèse classe'!$C$4:$K$33,9,0)))","v":""},92,{"$f":"IF(VLOOKUP(B95,Accueil!$Q$27:$R$126,2)=0,\"\",VLOOKUP(B95,Accueil!$Q$27:$R$126,2))","v":""}]
[{"$f":"IF(C96=\"\",\"\",IF(ISERROR(VLOOKUP(B96,'Synthèse classe'!$C$4:$K$33,9,0)),\"\",VLOOKUP(B96,'Synthèse classe'!$C$4:$K$33,9,0)))","v":""},93,{"$f":"IF(VLOOKUP(B96,Accueil!$Q$27:$R$126,2)=0,\"\",VLOOKUP(B96,Accueil!$Q$27:$R$126,2))","v":""}]
[{"$f":"IF(C97=\"\",\"\",IF(ISERROR(VLOOKUP(B97,'Synthèse classe'!$C$4:$K$33,9,0)),\"\",VLOOKUP(B97,'Synthèse classe'!$C$4:$K$33,9,0)))","v":""},94,{"$f":"IF(VLOOKUP(B97,Accueil!$Q$27:$R$126,2)=0,\"\",VLOOKUP(B97,Accueil!$Q$27:$R$126,2))","v":""}]
[{"$f":"IF(C98=\"\",\"\",IF(ISERROR(VLOOKUP(B98,'Synthèse classe'!$C$4:$K$33,9,0)),\"\",VLOOKUP(B98,'Synthèse classe'!$C$4:$K$33,9,0)))","v":""},95,{"$f":"IF(VLOOKUP(B98,Accueil!$Q$27:$R$126,2)=0,\"\",VLOOKUP(B98,Accueil!$Q$27:$R$126,2))","v":""}]
[{"$f":"IF(C99=\"\",\"\",IF(ISERROR(VLOOKUP(B99,'Synthèse classe'!$C$4:$K$33,9,0)),\"\",VLOOKUP(B99,'Synthèse classe'!$C$4:$K$33,9,0)))","v":""},96,{"$f":"IF(VLOOKUP(B99,Accueil!$Q$27:$R$126,2)=0,\"\",VLOOKUP(B99,Accueil!$Q$27:$R$126,2))","v":""}]
[{"$f":"IF(C100=\"\",\"\",IF(ISERROR(VLOOKUP(B100,'Synthèse classe'!$C$4:$K$33,9,0)),\"\",VLOOKUP(B100,'Synthèse classe'!$C$4:$K$33,9,0)))","v":""},97,{"$f":"IF(VLOOKUP(B100,Accueil!$Q$27:$R$126,2)=0,\"\",VLOOKUP(B100,Accueil!$Q$27:$R$126,2))","v":""}]
[{"$f":"IF(C101=\"\",\"\",IF(ISERROR(VLOOKUP(B101,'Synthèse classe'!$C$4:$K$33,9,0)),\"\",VLOOKUP(B101,'Synthèse classe'!$C$4:$K$33,9,0)))","v":""},98,{"$f":"IF(VLOOKUP(B101,Accueil!$Q$27:$R$126,2)=0,\"\",VLOOKUP(B101,Accueil!$Q$27:$R$126,2))","v":""}]
[{"$f":"IF(C102=\"\",\"\",IF(ISERROR(VLOOKUP(B102,'Synthèse classe'!$C$4:$K$33,9,0)),\"\",VLOOKUP(B102,'Synthèse classe'!$C$4:$K$33,9,0)))","v":""},99,{"$f":"IF(VLOOKUP(B102,Accueil!$Q$27:$R$126,2)=0,\"\",VLOOKUP(B102,Accueil!$Q$27:$R$126,2))","v":""}]
[{"$f":"IF(C103=\"\",\"\",IF(ISERROR(VLOOKUP(B103,'Synthèse classe'!$C$4:$K$33,9,0)),\"\",VLOOKUP(B103,'Synthèse classe'!$C$4:$K$33,9,0)))","v":""},100,{"$f":"IF(VLOOKUP(B103,Accueil!$Q$27:$R$126,2)=0,\"\",VLOOKUP(B103,Accueil!$Q$27:$R$126,2))","v":""}]